{"text_format":"1","workbook":"xlsx","n_sheets":19,"sheets":["Q (8)","Vejledning","Foraeldreorlov","Nylonstillaeg","LonspecAndreAarBarsel","LonspecAndreAar","LonspecAndreAlle","LonspecAndre","Q","R","S","T","U","V","W","X","Y","Z","Grundlon12"],"not_rendered":{"charts":0,"images":0,"macros":1,"external_links":4,"defined_names":65,"comments":22,"pivot_tables":0},"unopened":[],"bounds":{"document_bytes":16777216,"sheet_cells":100000,"rows_first":2000,"rows_last":500,"rows_between":2000,"halvings":0,"cell_chars":16384,"cell_head_chars":4096},"cells_cut":0,"cells_raw":0,"read":"whole","date_system":"1904"}

{"sheet":"Q (8)","index":0,"n_rows":195,"n_cols":20,"rows_kept":195,"cut":false,"hidden":true,"merged":[[0,2,2,2],[0,3,2,3],[0,4,2,4],[3,0,26,0],[27,0,28,0],[28,2,30,2],[43,2,45,4],[94,6,94,10]]}
["2017/2018",1,"Pensionsg.","BG-afh.","Regu-leret","Lønberegning for: (navn eller initialer)\n - variable løndele i lin. 30-43.","Q",{"$f":"G1","v":"Q"},{"$f":"H1","v":"Q"},"Q","Q","Q","Q","Q","Q","Q","Q","Q","Udfyld gule felter (alle forudfyldte tal i gule felter er eksempler)"]
[2018,{"$f":"B1+1","v":2},null,null,null,"Stillingsbetegnelse","Stilling",{"$f":"G2","v":"Stilling"},"Stilling","Stilling","Stilling","Stilling","Stilling","Stilling","Stilling","Stilling","Stilling","Stilling"]
["jan-juli",{"$f":"B2+1","v":3},null,null,null,"Måned",{"$f":"\"AUG \"&RIGHT(A1,2)+0","v":"AUG 18"},{"$f":"\"SEP\"&RIGHT(A1,2)+0","v":"SEP18"},{"$f":"\"OKT \"&RIGHT(A1,2)+0","v":"OKT 18"},{"$f":"\"NOV \"&RIGHT(A1,2)+0","v":"NOV 18"},{"$f":"\"DEC \"&RIGHT(A1,2)+0","v":"DEC 18"},{"$f":"\"JAN \"&RIGHT(A1,2)+1","v":"JAN 19"},{"$f":"\"FEB \"&RIGHT(A1,2)+1","v":"FEB 19"},{"$f":"\"MAR \"&RIGHT(A1,2)+1","v":"MAR 19"},{"$f":"\"APR \"&RIGHT(A1,2)+1","v":"APR 19"},{"$f":"\"MAJ \"&RIGHT(A1,2)+1","v":"MAJ 19"},{"$f":"\"JUN \"&RIGHT(A1,2)+1","v":"JUN 19"},{"$f":"\"JUL \"&RIGHT(A1,2)+1","v":"JUL 19"},"ansat d. "]
["\nFor at beregne det særlige ferietillæg samt feriepengeberegningsgurndlaget, skal arket kende oplysninger vedr. Jan-juli mdr. Start med at udfylde linie 85 og 94 i denne kolonne!\nHar betydning for beregning af ferietillæg og feriepenge.",{"$f":"B3+1","v":4},"sæt 'x'","sæt 'x'","sæt 'x'","Del af måned \nantal kalenderdage/månedens kalenderdage",1,{"$f":"G4","v":1},{"$f":"H4","v":1},1,1,1,1,1,1,1,1,1,"Hvis ansat 10 oktober: 21/31\nHvis fratrådt 15. april: 15/30",2]
[null,{"$f":"B4+1","v":5},null,null,null,"Pensionsprocent",14.7,{"$f":"$G5","v":14.7},14.7,14.7,14.7,14.7,14.7,14.7,14.7,14.7,14.7,14.7,"Skriv ikke procenttegnet, fx 14,7% - skriv 14,70",3]
[null,{"$f":"B5+1","v":6},null,null,null,"Betales hele pensionen af skolen? JA/NEJ","Ja",{"$f":"G6","v":"Ja"},"Ja","Ja","Ja","Ja","Ja","Ja","Ja","Ja","Ja","Ja","Se ansættelsesbrev",4]
[null,7,null,null,null,"Beregnes feriedifferende mv. efter Ferieaftalen i staten JA, eller efter Ferieloven NEJ","Ja","Ja","Ja","Ja","Ja","Ja","Ja","Ja","Ja","Ja","Ja","Ja","Ferieloven: mindst 20% differende, Ferieaftalen: enhver differende",5]
[null,{"$f":"B7+1","v":8},null,null,null,"Procentregulering +1",1.0696829999999999,1.0696829999999999,null,0,{"$f":"J8","v":0},0,0,0,null,{"$f":"O8","v":0},{"$f":"P8","v":0},{"$f":"Q8","v":0},null,6]
[null,9,null,null,null,"Skolens stedtillægsområde",2,{"$f":"G9","v":2},2,2,2,2,2,2,2,2,2,2]
[null,10,null,null,null,"Beskæftigelsesgrad, aktuel",1,{"$f":"G10","v":1},1,1,1,1,1,1,1,0.9,0.9,0.9]
[null,11,"x","x","x","Skalatrin eller HK-løntrin (HKx)",14,{"$f":"G11","v":14},14,14,14,14,14,14,14,14,14,14,"Statens løntabel eller HK-overenskomst-løntrin"]
[null,12,"x","x","x",{"$f":"\"Fast aftalt årlig løn \"&IF(E12<>\"\",\"i grundbeløb pr. 31.03.2012\",\"(ikke reguleret)\")","v":"Fast aftalt årlig løn i grundbeløb pr. 31.03.2012"},null,0,0,0,0,0,0,0,{"$f":"N12","v":0},0,0,0]
[null,13,"x",null,"x","Årligt sousdheftillæg eller lign. i grundbeløb",null,{"$f":"G13","v":0},0,0,0,0,0,0,0,0,0,0]
[null,14,"x",null,"x","Årligt funktionsstillæg i grundbeløb 1",null,{"$f":"G14","v":0},0,0,0,0,0,0,0,0,0,0]
[null,15,"x",null,"x","Årligt funktionsstillæg i grundbeløb 2",null,{"$f":"G15","v":0},0,0,0,0,0,0,0,0,0,0]
[null,16,"x",null,"x","Årligt funktionsstillæg i grundbeløb 3",null,{"$f":"G16","v":0},0,0,0,0,0,0,0,0,0,0]
[null,17,"x","x","x","Årligt kvalifikationsstillæg i grundbeløb 1",null,0,0,0,0,0,0,0,0,0,0,0]
[null,18,"x","x","x","Årligt kvalifikationsstillæg i grundbeløb 2",null,0,0,0,0,0,0,0,0,0,0,0]
[null,19,"x","x","x","Årligt kvalifikationsstillæg i grundbeløb 3",null,0,0,0,0,0,0,0,0,0,0,0]
[null,20,"x","x","x","Udligningstillæg i årligt grundbeløb v. 100% BG",null,0,0,0,0,0,0,0,0,0,0,0]
[null,21,null,null,null,"Gruppelivsordning betalt af af skolen som et løntillæg. Skriv det månedlige beløb!",null,0,0,0,0,0,0,0,0,0,0,0,"Spedielt ved virksomhedsoverdragelse"]
[null,22,null,null,"x","Lokalaftalt fast ulempegodtgørelse pr. måned.",null,{"$f":"G22","v":0},0,0,0,0,0,0,{"$f":"N22","v":0},0,0,0,"I stedet for variable arbejdstidsbestemte tillæg, iflg lokalaftale"]
[null,23,null,null,null,"Planlagte feriedage",null,null,5,null,null,null,5,null,null,0,null,15,"Normalt 15 dage i sommerhalvåret og 10 dage i vinterhalvåret"]
[null,24,null,null,null,".. heraf antal feriedage,\nhvortil der ikke er optjent ferieret",null,null,null,null,null,null,null,null,null,null,null,0,"Ferieloven: fradrag 4,8% pr. dag, Ferieaftalen: 4,62% pr. dag"]
[null,25,null,null,null,{"$f":"\"Gennemsnitlig BG i \"&Aar-1","v":"Gennemsnitlig BG i 2017"},null,{"$f":"G25","v":0},0,0,0,0,0.85,0.85,0.85,null,null,null,"Benyttes ved beregning af feriedifferende."]
[null,26,null,null,null,{"$f":"\"Gennemsnitlig BG i \"&Aar","v":"Gennemsnitlig BG i 2018"},"Kalenderårets gennemsnit benyttes ved beregning af feriedifferende",null,null,null,null,null,null,null,null,null,{"$f":"P26","v":0},{"$f":"Q26","v":0},"Benyttes ved beregning af feriedifferende."]
[null,27,null,null,null,"Egenbetalte fridage",null,null,null,null,null,null,null,null,null,null,null,null,"Løn- og pensionsfradrag beregnes i lin 60 og 75"]
["Skatteop-lysninger",28,null,null,null,"Skatteprocent",40,{"$f":"G28","v":40},40,40,40,40,40,40,40,40,40,40,"Skriv ikke procenttegnet, fx 42% - skriv 42"]
[null,29,"km-\ntak-ster",{"$f":"LEFT($A$1,4)+1","v":2018},{"$f":"LEFT($A$1,4)+2","v":2019},"Månedligt skattefradrag",4000,4000,4000,4000,4000,4000,4000,4000,4000,4000,4000,4000]
[null,30,null,1.94,null,"Km.godtgørelse, lav sats (skattefri), antal km:"]
[null,31,null,3.54,null,"Km.godtgørelse, høj sats (skattefri), antal km:"]
[null,32,null,null,null,"Timedagpenge (skattefri) - Beregn selv",null,null,null,null,null,null,null,null,null,null,null,null,"Se løntabel"]
[null,33,null,null,null,"Jubilæumsgratiale (skattefri op til 8.000 kr.)",9000,null,null,null,null,null,null,null,null,null,null,null,"Se løntabel"]
[null,34,null,null,null,"Arbejds- og arbejdstidsbestemte tillæg. Beregn selv",null,null,null,null,null,null,null,null,null,null,null,null,"”Natpenge” iflg skema, hvis ikke der er lokalaftalt godtgørelse"]
[null,35,"x",null,null,"Merarbejdsbetaling. Beregn selv",null,null,null,null,null,null,null,null,null,null,null,null,"Efter årsopgørelse eller ved fratræden"]
[null,36,null,null,null,"Overtidsbetaling. Beregn selv",null,null,null,null,null,null,null,null,null,null,null,null,"Efter årsopgørelse eller ved fratræden"]
[null,37,null,null,null,"Særlige feriedage til udbetaling. Beregn selv",null,null,null,null,null,null,null,null,null,null,null,null,"Efter årsafslutning eller ved fratræden. Se pjeden \"Ferievejledning\""]
[null,38,null,null,null,{"$f":"\"Særlig ferietillæg \"&IF(G7=\"ja\",\"1,5%\",\"1,0%\"&\"\")","v":"Særlig ferietillæg 1,5%"},{"$f":"IF(G7=\"ja\",\"1,5%\",\"1%\")","v":"1,5%"},{"$f":"\"Af den ferieberettigede løn for \" &Aar+1&\"\"","v":"Af den ferieberettigede løn for 2019"},null,null,null,null,null,null,null,{"$f":"IF(P23>=0,ROUND((1%+0.5%*(P7=\"JA\"))*S85,2),0)","v":633.09},{"$f":"IF(AND(Q23>0,P38=0),ROUND((1%+0.5%*(P7=\"JA\"))*S85,2),0)","v":0},{"$f":"IF(AND(R23>0,SUM(P38:Q38)=0),ROUND((1%+0.5%*(P7=\"JA\"))*S85,2),0)","v":0},"Udbetales forud for den måned, hvor hovedferien begynder"]
[null,39,null,null,null,"Resultatlønstillæg"]
[null,40,null,null,null,"Engangs nylønstillæg"]
[null,41,null,null,null,"Praktiklærervederlag",null,null,null,null,null,null,null,null,null,null,null,null,{"$f":"45*5*7.4","v":1665}]
[null,42,null,null,null,"andet"]
[null,43,null,null,null,"andet"]
[null,44,"Disse tre linjer fradrages i den disponible løn",null,null,"gavekasse",null,{"$f":"G44","v":0},{"$f":"H44","v":0},0,0,0,0,0,0,0,0,0,"Fx: 'Kaffekasse'"]
[null,45,null,null,null,"kaffekasse",null,{"$f":"G45","v":0},0,0,0,0,0,0,0,0,0,0,"Fx: 'Gavekasse'"]
[null,46,null,null,null,"Fagforenings-kontingent",null,{"$f":"G46","v":0},0,0,0,0,0,0,0,0,0,0,"FX: 'Fagforeningskontingent'"]
[{"$f":"A3","v":"jan-juli"},{"$f":"B46+1","v":47},null,null,null,"Måned",{"$f":"G3","v":"AUG 18"},"SEP18","OKT 18","NOV 18","DEC 18","JAN 19","FEB 19","MAR 19","APR 19","MAJ 19","JUN 19","JUL 19","SUM"]
[null,48,{"$f":"(C11<>\"\")*1","v":1},1,1,{"$f":"IF(ISNUMBER(G11),\"Skalatrinsløn\",\"HK-løn\")","v":"Skalatrinsløn"},{"$f":"ROUND(IF(AND(G$10>0,G11>0),ROUND((ROUND(VLOOKUP(G11,Skalalontabel12,G9,0)*G8,0))/12,2),0)*G10*G4,2)","v":20289.330000000002},20289.330000000002,0,0,0,0,0,0,0,0,0,0,{"$f":"SUM(G48:R48)","v":40578.660000000003}]
[null,49,1,1,1,"Fast løn",{"$f":"ROUND(IF(G12>0,G12/12)*IF($D12<>\"\",G$10,1)*IF($E12<>\"\",G$8,1)*G4,2)","v":0},0,0,0,0,0,0,0,0,0,0,0,0]
[null,50,1,0,1,"Souscheftillæg ell. lign.",{"$f":"ROUND(IF(AND(G$10>0,G13>0),G13/12)*IF($D13<>\"\",G$10,1)*IF($E13<>\"\",G$8,1)*G4,2)","v":0},0,0,0,0,0,0,0,0,0,0,0,0]
[null,51,1,0,1,"Funktionstillæg 1",{"$f":"ROUND(IF(AND(G$10>0,G14>0),G14/12)*IF($D14<>\"\",G$10,1)*IF($E14<>\"\",G$8,1)*G4,2)","v":0},0,0,0,0,0,0,0,0,0,0,0,0]
[null,52,1,0,1,"Funktionstillæg 2",{"$f":"ROUND(IF(AND(G$10>0,G15>0),G15/12)*IF($D15<>\"\",G$10,1)*IF($E15<>\"\",G$8,1)*G4,2)","v":0},0,0,0,0,0,0,0,0,0,0,0,0]
[null,53,1,0,1,"Funktionstillæg 3",{"$f":"ROUND(IF(AND(G$10>0,G16>0),G16/12)*IF($D16<>\"\",G$10,1)*IF($E16<>\"\",G$8,1)*G4,2)","v":0},0,0,0,0,0,0,0,0,0,0,0,0]
[null,54,1,1,1,"Kvalifikationstillæg 1",{"$f":"ROUND(IF(AND(G$10>0,G17>0),G17/12)*IF($D17<>\"\",G$10,1)*IF($E17<>\"\",G$8,1)*G4,2)","v":0},0,0,0,0,0,0,0,0,0,0,0,0]
[null,55,1,1,1,"Kvalifikationstillæg 2",{"$f":"ROUND(IF(AND(G$10>0,G18>0),G18/12)*IF($D18<>\"\",G$10,1)*IF($E18<>\"\",G$8,1)*G4,2)","v":0},0,0,0,0,0,0,0,0,0,0,0,0]
[null,56,1,1,1,"Kvalifikationstillæg 3",{"$f":"ROUND(IF(AND(G$10>0,G19>0),G19/12)*IF($D19<>\"\",G$10,1)*IF($E19<>\"\",G$8,1)*G$4,2)","v":0},0,0,0,0,0,0,0,0,0,0,0,0]
[null,57,1,1,1,"Udligningstillæg",0,0,0,0,0,0,0,0,0,0,0,0,0]
[null,58,null,null,null,"Gruppelivstillæg",{"$f":"ROUND(IF(AND(G$10>0,G21>0),G21)*IF($D21<>\"\",G$10,1)*IF($E21<>\"\",G$8,1)*G$4,2)","v":0},0,0,0,0,0,0,0,0,0,0,0,0]
[null,59,null,{"$f":"(D22<>\"\")*1","v":0},{"$f":"(E22<>\"\")*1","v":1},"Lokalaftalt ulempegodtgørelse",0,0,0,0,0,0,0,0,0,0,0,0,0]
[null,60,1,null,null,"Lønfradrag for ikke optjent ferie mv.",{"$f":"-ROUND((MAX(0,MIN(G23,G24*1))+G27)*IF(G7=\"JA\",4.62%,4.8%)*SUM(G48:G59)*G$4,2)","v":0},0,0,0,0,0,0,0,0,0,0,0,0]
[null,61,1,null,null,"Feriedifferende (af BG-afh. løndele)",{"$f":"ROUND(IF(LEFT(G7)=\"N\",(G25-G10)*4.8%*G96/G10*MAX((G23-G24),0)*G97,(G25-G10)*4.62%*G96/G10*MAX((G23-G24),0))*G$4,0)","v":0},{"$f":"ROUND(IF(LEFT(H7)=\"N\",(H25-H10)*4.8%*H96/H10*MAX((H23-H24),0)*H97,(H25-H10)*4.62%*H96/H10*MAX((H23-H24),0))*H$4,0)","v":0},0,0,0,0,0,0,0,{"$f":"ROUND(IF(LEFT(P7)=\"N\",(P26-P10)*4.8%*P96/P10*MAX((P23-P24),0)*P97,(P26-P10)*4.62%*P96/P10*MAX((P23-P24),0))*P$4,2)","v":0},{"$f":"ROUND(IF(LEFT(Q7)=\"N\",(Q26-Q10)*4.8%*Q96/Q10*MAX((Q23-Q24),0)*Q97,(Q26-Q10)*4.62%*Q96/Q10*MAX((Q23-Q24),0))*Q$4,2)","v":0},0,0]
[null,62,null,null,null,"Engangsudbetalinger iflg. specifikation",{"$f":"SUM(G34:G43)+MAX(G33*G8-8000,0)","v":1627.146999999999},{"$f":"SUM(H34:H43)+MAX(H33*H8-8000,0)","v":0},0,0,0,0,0,0,0,{"$f":"SUM(P34:P43)+MAX(P33*P8-8000,0)","v":633.09},0,0,2260.2369999999992]
[null,63,null,null,null,"Skattefri engangsudbetalinger iflg. spec.",{"$f":"G30*$D30+G31*$D31+G32+IF(G33>0,MIN(G33*G8,8000),0)","v":8000},{"$f":"H30*$D30+H31*$D31+H32+IF(H33>0,MIN(H33*H8,8000),0)","v":0},0,0,0,{"$f":"L30*$E30+L31*$E31+L32+IF(L33>0,MIN(L33*L8,8000),0)","v":0},{"$f":"M30*$E30+M31*$E31+M32+IF(M33>0,MIN(M33*M8,8000),0)","v":0},0,0,0,0,0,8000]
[null,64,null,null,null,"Bruttoløn (ekskl. pensionstillæg og ATP)",{"$f":"SUM(G48:G63)","v":29916.476999999999},20289.330000000002,0,0,0,0,0,0,0,633.09,0,0,50838.896999999997]
[null,65,null,null,null,{"$f":"\"Pensionstillæg af pensionsg. \"&IF(ISNUMBER(G11),\"Skalatrinsløn\",\"HK-løn\")","v":"Pensionstillæg af pensionsg. Skalatrinsløn"},{"$f":"ROUND(IF(AND(G$10>0,G11>0),ROUND((ROUND(VLOOKUP(G11,Skalalontabel12,7,0)*G8,0))/12,2),0)*G10*G4*G5/100/3,2)","v":929.52},929.52,0,0,0,0,0,0,0,0,0,0,1859.04]
[null,66,null,null,null,"Pensionstillæg fast løn",{"$f":"ROUND(G49*$C49*G$5/100/3,2)","v":0},0,0,0,0,0,0,0,0,0,0,0,0]
[null,67,null,null,null,"Pensionstillæg souscheftillæg",0,0,0,0,0,0,0,0,0,0,0,0,0]
[null,68,null,null,null,"Pensionstillæg Funktionstillæg 1",0,0,0,0,0,0,0,0,0,0,0,0,0]
[null,69,null,null,null,"Pensionstillæg Funktionstillæg 2",0,0,0,0,0,0,0,0,0,0,0,0,0]
[null,{"$f":"B69+1","v":70},null,null,null,"Pensionstillæg Funktionstillæg 3",0,0,0,0,0,0,0,0,0,0,0,0,0]
[null,71,null,null,null,"Pensionstillæg Kvalifikationstillæg 1",0,0,0,0,0,0,0,0,0,0,0,0,0]
[null,72,null,null,null,"Pensionstillæg Kvalifikationstillæg 2",0,0,0,0,0,0,0,0,0,0,0,0,0]
[null,73,null,null,null,"Pensionstillæg Kvalifikationstillæg 3",0,0,0,0,0,0,0,0,0,0,0,0,0]
[null,74,null,null,null,"Pensionstillæg af udligningstillæg",0,0,0,0,0,0,0,0,0,0,0,0,0]
[null,75,null,null,null,"Fradrag i pensionstillæg for ikke optjent ferie mv.",{"$f":"ROUND(G60*$C60*G$5/100/3,2)","v":0},{"$f":"ROUND(H60*$C60*H$5/100/3,2)","v":0},0,0,0,0,0,0,0,0,0,0,0]
[null,76,null,null,null,"Pensionstillæg af feriedifference",{"$f":"ROUND(G61*$C61*G$5/100/3,2)","v":0},0,0,0,0,0,0,0,0,0,0,0,0]
[null,77,null,null,null,"Pensionstillæg af pensiong. engangstillæg",{"$f":"ROUND(G35*G5/100/3+G39*($C39<>\"\")*G5/100/3+G40*($C40<>\"\")*G5/100/3+G41*($C41<>\"\")*G5/100/3+G42*($C42<>\"\")*G5/100/3+G43*($C43<>\"\")*G5/100/3,2)","v":0},0,0,0,0,0,0,0,0,0,0,0,0]
[null,78,null,null,null,"Pensionstillæg i alt",{"$f":"SUM(G65:G77)","v":929.52},{"$f":"SUM(H65:H77)","v":929.52},0,0,0,0,0,0,0,0,0,0,1859.04]
[null,79,null,null,null,"Egetbidrag til ATP",{"$f":"ROUND(G91/3,2)","v":94.67},{"$f":"ROUND(H91/3,2)","v":94.67},94.67,94.67,94.67,94.67,94.67,94.67,94.67,94.67,94.67,94.67,{"$f":"SUM(G79:R79)","v":1136.04}]
[null,80,null,null,null,"AMB-grundlag",{"$f":"IF(G6=\"nej\",G78*-1)+SUM(G48:G62)-G79","v":21821.807000000001},20194.660000000003,-94.67,-94.67,-94.67,-94.67,-94.67,-94.67,-94.67,538.42000000000007,-94.67,-94.67,{"$f":"SUM(G80:R80)","v":41702.857000000018}]
[null,81,null,null,null,"AM-bidrag",{"$f":"ROUND(G80*8%,0)","v":1746},{"$f":"ROUND(H80*8%,0)","v":1616},-8,-8,-8,-8,-8,-8,-8,43,-8,-8,3333]
[null,82,null,null,null,"A-indkomst",{"$f":"G80-G81","v":20075.807000000001},{"$f":"H80-H81","v":18578.660000000003},-86.67,-86.67,-86.67,-86.67,-86.67,-86.67,-86.67,495.42000000000007,-86.67,-86.67,38369.857000000018]
[null,83,null,null,null,"Skattegrundlag",{"$f":"FLOOR(G82-G29,10)","v":16070},{"$f":"FLOOR(H82-H29,10)","v":14570},-4090,-4090,-4090,-4090,-4090,-4090,-4090,-3510,-4090,-4090]
[null,84,null,null,null,"Skat",{"$f":"ROUND(G83*G28/100,0)","v":6428},5828,-1636,-1636,-1636,-1636,-1636,-1636,-1636,-1404,-1636,-1636,-3872]
[null,85,null,null,null,{"$f":"\"Feriegodtgørelsesgrundlag, aug-dec \"&Aar","v":"Feriegodtgørelsesgrundlag, aug-dec 2018"},{"$f":"SUM(G48:G62)","v":21916.476999999999},{"$f":"SUM(H48:H62)","v":20289.330000000002},{"$f":"SUM(I48:I62)","v":0},{"$f":"SUM(J48:J62)","v":0},{"$f":"SUM(K48:K62)","v":0},{"$f":"\"Kalenderåret \"&Aar+1&\" sum benyttes ved beregning af ferietillæg til udb.  \"&Aar+2&\"\"","v":"Kalenderåret 2019 sum benyttes ved beregning af ferietillæg til udb.  2020"},null,null,null,null,null,null,{"$f":"A85+SUM(G85:K85)","v":42205.807000000001}]
[null,86,null,null,null,{"$f":"\"Feriegodtgørelsesgrundlag, jan-juli \"&Aar+1","v":"Feriegodtgørelsesgrundlag, jan-juli 2019"},{"$f":"\"Kalenderåret \"&Aar+2&\"  - 7 første mdr. benyttes ved beregning af ferietillæg til udb.  \"&Aar+3&\"\"","v":"Kalenderåret 2020  - 7 første mdr. benyttes ved beregning af ferietillæg til udb.  2021"},null,null,null,null,{"$f":"SUM(L48:L62)","v":0},{"$f":"SUM(M48:M62)","v":0},{"$f":"SUM(N48:N62)","v":0},{"$f":"SUM(O48:O62)","v":0},{"$f":"SUM(P48:P62)-P38","v":0},{"$f":"SUM(Q48:Q62)-Q38","v":0},{"$f":"SUM(R48:R62)-R38","v":0},0]
[null,87,null,null,null,"Egetbidrag til pensionskasse",{"$f":"G78","v":929.52},{"$f":"H78","v":929.52},0,0,0,0,0,0,0,0,0,0,1859.04]
[null,88,null,null,null,"Arbejdsgiverbidrag til pensionskasse",{"$f":"G87*2","v":1859.04},{"$f":"H87*2","v":1859.04},0,0,0,0,0,0,0,0,0,0,3718.08]
[null,89,null,null,null,"Arbejdsgiverbidrag til ATP",{"$f":"G91*2/3","v":189.33333333333334},{"$f":"H91*2/3","v":189.33333333333334},189.33333333333334,189.33333333333334,189.33333333333334,189.33333333333334,189.33333333333334,189.33333333333334,189.33333333333334,189.33333333333334,189.33333333333334,189.33333333333334,2272]
[null,90,null,null,null,"Skolens samlede indbetaling til pensionskasse",{"$f":"G87+G88","v":2788.56},{"$f":"H87+H88","v":2788.56},0,0,0,0,0,0,0,0,0,0,5577.12]
[null,{"$f":"B90+1","v":91},null,null,null,"Skolens samlede indbetaling til ATP",{"$f":"284/3*(((G10*G4)>=9/37)+((G10*G4)>=18/37)+((G10*G4)>=27/37))","v":284},284,284,284,284,284,284,284,284,284,284,284,3408]
[null,92,null,null,null,"Indbetaling til Gruppeliv",{"$f":"G21","v":0},{"$f":"H21","v":0},0,0,0,0,0,0,0,0,0,0,0]
[null,93,null,null,null,"Løn til den ansattes disposition",{"$f":"IF(G6=\"nej\",G78*-1)+G64-(G84+G79+G81+G92)-G44-G45-G46","v":21647.807000000001},{"$f":"IF(H6=\"nej\",H78*-1)+H64-(H84+H79+H81+H92)-H44-H45-H46","v":12750.660000000002},1549.33,1549.33,1549.33,1549.33,1549.33,1549.33,1549.33,1899.42,1549.33,1549.33,{"$f":"SUM(G93:R93)","v":50241.857000000018}]
[null,94,null,null,null,{"$f":"\"Feriepengeberegningsgrundlag, jan-dec \"&Aar","v":"Feriepengeberegningsgrundlag, jan-dec 2018"},{"$f":"(SUM(G48:G62)+G78+G79)*(1-12/260*G23)","v":22940.666999999998},{"$f":"(SUM(H48:H62)+H78+H79)*(1-12/260*H23)","v":21313.52},{"$f":"(SUM(I48:I62)+I78+I79)*(1-12/260*I23)","v":72.823076923076911},{"$f":"(SUM(J48:J62)+J78+J79)*(1-12/260*J23)","v":94.67},{"$f":"(SUM(K48:K62)+K78+K79)*(1-12/260*K23)","v":94.67},"Kalenderårets sum benyttes ved fratræden og særlige feriedage",null,null,null,null,null,null,{"$f":"A94+SUM(G94:K94)","v":44516.350076923074}]
[null,{"$f":"B94+1","v":95},null,null,null,{"$f":"\"Feriepengeberegningsgrundlag, jan-jul \"&Aar+1","v":"Feriepengeberegningsgrundlag, jan-jul 2019"},"Kalenderårets sum benyttes ved fratræden og særlige feriedage",null,null,null,null,{"$f":"(SUM(L$48:L$62)+L$78+L79)*(1-12/260*L$23)","v":94.67},{"$f":"(SUM(M$48:M$62)+M$78+M79)*(1-12/260*M$23)","v":72.823076923076911},94.67,94.67,727.76,94.67,29.129230769230773,1208.3923076923079]
[null,{"$f":"B95+1","v":96},null,null,null,"BG-afhængige løndele",{"$f":"G48*$D48+G49*$D49+G50*$D50+G51*$D51+G52*$D52+G53*$D53+G54*$D54+G55*$D55+G56*$D56+G57*$D57+G59*$D59","v":20289.330000000002},20289.330000000002,0,0,0,0,0,0,0,0,0,0]
[null,{"$f":"B96+1","v":97},null,null,null,"BG-difference >=20%",{"$f":"IF(G10>0,IF(G10>G25,(G10-G25)/G25>=20%,(G10-G25)/G25<=-20%),\"\")","v":{"$error":"#DIV/0!"}},{"$f":"IF(H10>0,IF(H10>H25,(H10-H25)/H25>=20%,(H10-H25)/H25<=-20%),\"\")","v":{"$error":"#DIV/0!"}},{"$error":"#DIV/0!"},{"$error":"#DIV/0!"},{"$error":"#DIV/0!"},{"$error":"#DIV/0!"},false,false,false,{"$f":"IF(P10>0,IF(P10>P26,(P10-P26)/P26>=20%,(P10-P26)/P26<=-20%),\"\")","v":{"$error":"#DIV/0!"}},{"$f":"IF(Q10>0,IF(Q10>Q26,(Q10-Q26)/Q26>=20%,(Q10-Q26)/Q26<=-20%),\"\")","v":{"$error":"#DIV/0!"}},{"$f":"IF(R10>0,IF(R10>R26,(R10-R26)/R26>=20%,(R10-R26)/R26<=-20%),\"\")","v":{"$error":"#DIV/0!"}}]
[]
[]
[]
[]
[]
[]
[]
[]
[]
[]
[]
[]
[]
[]
[]
[]
[]
[]
[]
[]
[]
[]
[]
[]
[]
[]
[]
[]
[]
[]
[]
[]
[]
[]
[]
[]
[]
[]
[]
[]
[]
[]
[]
[]
[]
[]
[]
[]
[]
[null,{"$f":"B146+1","v":1}]
[null,2,null,null,null,{"$f":"IF(ISNUMBER(G1),\"Skalatrinsløn\",\"HK-løn\")","v":"HK-løn"},{"$f":"\"= \"&TEXT(ROUND(VLOOKUP(G11,Skalalontabel12,G9,0)*G8,0),\"#.000\")&\" / 12 * \"&TEXT(G10,\"0,0000\")&\" * \"&TEXT(G$4,\"#0/#0\")&\" =\"","v":"= 243.472 / 12 * 1,0000 * 1/1 ="},"= 243.472 / 12 * 1,0000 * 1/1 =","= 000 / 12 * 1,0000 * 1/1 =","= 000 / 12 * 1,0000 * 1/1 =","= 000 / 12 * 1,0000 * 1/1 =","= 000 / 12 * 1,0000 * 1/1 =","= 000 / 12 * 1,0000 * 1/1 =","= 000 / 12 * 1,0000 * 1/1 =","= 000 / 12 * 1,0000 * 1/1 =","= 000 / 12 * 0,9000 * 1/1 =","= 000 / 12 * 0,9000 * 1/1 =","= 000 / 12 * 0,9000 * 1/1 ="]
[null,3,null,null,null,"Fast løn",{"$f":"\"= \"&TEXT(G12,\"#.000,00\")&\" / 12 \"&IF($D49>0,\" * \"&TEXT(G$10,\"0,0000\"),\"\")&IF($E49>0,\" * \"&G$8,\"\")&\" * \"&TEXT(G$4,\"#0/#0\")&\" =\"","v":"= 000,00 / 12  * 1,0000 * 1,069683 * 1/1 ="},"= 000,00 / 12  * 1,0000 * 1,069683 * 1/1 =","= 000,00 / 12  * 1,0000 *  * 1/1 =","= 000,00 / 12  * 1,0000 * 0 * 1/1 =","= 000,00 / 12  * 1,0000 * 0 * 1/1 =","= 000,00 / 12  * 1,0000 * 0 * 1/1 =","= 000,00 / 12  * 1,0000 * 0 * 1/1 =","= 000,00 / 12  * 1,0000 * 0 * 1/1 =","= 000,00 / 12  * 1,0000 *  * 1/1 =","= 000,00 / 12  * 0,9000 * 0 * 1/1 =","= 000,00 / 12  * 0,9000 * 0 * 1/1 =","= 000,00 / 12  * 0,9000 * 0 * 1/1 ="]
[null,4,null,null,null,"Sousdheftillæg","= 000,00 / 12  * 1,069683 * 1/1 =","= 000,00 / 12  * 1,069683 * 1/1 =","= 000,00 / 12  *  * 1/1 =","= 000,00 / 12  * 0 * 1/1 =","= 000,00 / 12  * 0 * 1/1 =","= 000,00 / 12  * 0 * 1/1 =","= 000,00 / 12  * 0 * 1/1 =","= 000,00 / 12  * 0 * 1/1 =","= 000,00 / 12  *  * 1/1 =","= 000,00 / 12  * 0 * 1/1 =","= 000,00 / 12  * 0 * 1/1 =","= 000,00 / 12  * 0 * 1/1 ="]
[null,5,null,null,null,"Funktionstillæg 1",{"$f":"\"= \"&TEXT(G14,\"#.000,00\")&\" / 12 \"&IF($D51>0,\" * \"&TEXT(G$10,\"0,0000\"),\"\")&IF($E151>0,\" * \"&G$8,\"\")&\" * \"&TEXT(G$4,\"#0/#0\")&\" =\"","v":"= 000,00 / 12  * 1/1 ="},"= 000,00 / 12  * 1/1 =","= 000,00 / 12  * 1/1 =","= 000,00 / 12  * 1/1 =","= 000,00 / 12  * 1/1 =","= 000,00 / 12  * 1/1 =","= 000,00 / 12  * 1/1 =","= 000,00 / 12  * 1/1 =","= 000,00 / 12  * 1/1 =","= 000,00 / 12  * 1/1 =","= 000,00 / 12  * 1/1 =","= 000,00 / 12  * 1/1 ="]
[null,6,null,null,null,"Funktionstillæg 2",{"$f":"\"= \"&TEXT(G15,\"#.000,00\")&\" / 12 \"&IF($D52>0,\" * \"&TEXT(G$10,\"0,0000\"),\"\")&IF($E52>0,\" * \"&G$8,\"\")&\" * \"&TEXT(G$4,\"#0/#0\")&\" =\"","v":"= 000,00 / 12  * 1,069683 * 1/1 ="},"= 000,00 / 12  * 1,069683 * 1/1 =","= 000,00 / 12  *  * 1/1 =","= 000,00 / 12  * 0 * 1/1 =","= 000,00 / 12  * 0 * 1/1 =","= 000,00 / 12  * 0 * 1/1 =","= 000,00 / 12  * 0 * 1/1 =","= 000,00 / 12  * 0 * 1/1 =","= 000,00 / 12  *  * 1/1 =","= 000,00 / 12  * 0 * 1/1 =","= 000,00 / 12  * 0 * 1/1 =","= 000,00 / 12  * 0 * 1/1 ="]
[null,7,null,null,null,"Funktionstillæg 3","= 000,00 / 12  * 1,069683 * 1/1 =","= 000,00 / 12  * 1,069683 * 1/1 =","= 000,00 / 12  *  * 1/1 =","= 000,00 / 12  * 0 * 1/1 =","= 000,00 / 12  * 0 * 1/1 =","= 000,00 / 12  * 0 * 1/1 =","= 000,00 / 12  * 0 * 1/1 =","= 000,00 / 12  * 0 * 1/1 =","= 000,00 / 12  *  * 1/1 =","= 000,00 / 12  * 0 * 1/1 =","= 000,00 / 12  * 0 * 1/1 =","= 000,00 / 12  * 0 * 1/1 ="]
[null,8,null,null,null,"Kvalifikationstillæg 1","= 000,00 / 12  * 1,0000 * 1,069683 * 1/1 =","= 000,00 / 12  * 1,0000 * 1,069683 * 1/1 =","= 000,00 / 12  * 1,0000 *  * 1/1 =","= 000,00 / 12  * 1,0000 * 0 * 1/1 =","= 000,00 / 12  * 1,0000 * 0 * 1/1 =","= 000,00 / 12  * 1,0000 * 0 * 1/1 =","= 000,00 / 12  * 1,0000 * 0 * 1/1 =","= 000,00 / 12  * 1,0000 * 0 * 1/1 =","= 000,00 / 12  * 1,0000 *  * 1/1 =","= 000,00 / 12  * 0,9000 * 0 * 1/1 =","= 000,00 / 12  * 0,9000 * 0 * 1/1 =","= 000,00 / 12  * 0,9000 * 0 * 1/1 ="]
[null,9,null,null,null,"Kvalifikationstillæg 2","= 000,00 / 12  * 1,0000 * 1,069683 * 1/1 =","= 000,00 / 12  * 1,0000 * 1,069683 * 1/1 =","= 000,00 / 12  * 1,0000 *  * 1/1 =","= 000,00 / 12  * 1,0000 * 0 * 1/1 =","= 000,00 / 12  * 1,0000 * 0 * 1/1 =","= 000,00 / 12  * 1,0000 * 0 * 1/1 =","= 000,00 / 12  * 1,0000 * 0 * 1/1 =","= 000,00 / 12  * 1,0000 * 0 * 1/1 =","= 000,00 / 12  * 1,0000 *  * 1/1 =","= 000,00 / 12  * 0,9000 * 0 * 1/1 =","= 000,00 / 12  * 0,9000 * 0 * 1/1 =","= 000,00 / 12  * 0,9000 * 0 * 1/1 ="]
[null,10,null,null,null,"Kvalifikationstillæg 3","= 000,00 / 12  * 1,0000 * 1,069683 * 1/1 =","= 000,00 / 12  * 1,0000 * 1,069683 * 1/1 =","= 000,00 / 12  * 1,0000 *  * 1/1 =","= 000,00 / 12  * 1,0000 * 0 * 1/1 =","= 000,00 / 12  * 1,0000 * 0 * 1/1 =","= 000,00 / 12  * 1,0000 * 0 * 1/1 =","= 000,00 / 12  * 1,0000 * 0 * 1/1 =","= 000,00 / 12  * 1,0000 * 0 * 1/1 =","= 000,00 / 12  * 1,0000 *  * 1/1 =","= 000,00 / 12  * 0,9000 * 0 * 1/1 =","= 000,00 / 12  * 0,9000 * 0 * 1/1 =","= 000,00 / 12  * 0,9000 * 0 * 1/1 ="]
[null,11,null,null,null,"Udligningstillæg","= 000,00 / 12  * 1,0000 * 1,069683 * 1/1 =","= 000,00 / 12  * 1,0000 * 1,069683 * 1/1 =","= 000,00 / 12  * 1,0000 *  * 1/1 =","= 000,00 / 12  * 1,0000 * 0 * 1/1 =","= 000,00 / 12  * 1,0000 * 0 * 1/1 =","= 000,00 / 12  * 1,0000 * 0 * 1/1 =","= 000,00 / 12  * 1,0000 * 0 * 1/1 =","= 000,00 / 12  * 1,0000 * 0 * 1/1 =","= 000,00 / 12  * 1,0000 *  * 1/1 =","= 000,00 / 12  * 0,9000 * 0 * 1/1 =","= 000,00 / 12  * 0,9000 * 0 * 1/1 =","= 000,00 / 12  * 0,9000 * 0 * 1/1 ="]
[null,12,null,null,null,"Gruppelivstillæg",{"$f":"\"= \"&TEXT(G21,\"#.##0,00\")&\" * \"&TEXT(G$4,\"#0/#0\")&\" =\"","v":"= 0,00 * 1/1 ="},{"$f":"\"= \"&TEXT(H21,\"#.##0,00\")&\" * \"&TEXT(H$4,\"#0/#0\")&\" =\"","v":"= 0,00 * 1/1 ="},"= 0,00 * 1/1 =","= 0,00 * 1/1 =","= 0,00 * 1/1 =","= 0,00 * 1/1 =","= 0,00 * 1/1 =","= 0,00 * 1/1 =","= 0,00 * 1/1 =","= 0,00 * 1/1 =","= 0,00 * 1/1 =","= 0,00 * 1/1 ="]
[null,13,null,null,null,"Lokalaftalt ulempegodtgørelse",{"$f":"\"= \"&TEXT(G22,\"#,00\")&IF($D59>0,\" * \"&TEXT(G$10,\"0,0000\"),\"\")&IF($E59>0,\" * \"&G$8,\"\")&\" * \"&TEXT(G$4,\"#0/#0\")&\" =\"","v":"= ,00 * 1,069683 * 1/1 ="},"= ,00 * 1,069683 * 1/1 =","= ,00 *  * 1/1 =","= ,00 * 0 * 1/1 =","= ,00 * 0 * 1/1 =","= ,00 * 0 * 1/1 =","= ,00 * 0 * 1/1 =","= ,00 * 0 * 1/1 =","= ,00 *  * 1/1 =","= ,00 * 0 * 1/1 =","= ,00 * 0 * 1/1 =","= ,00 * 0 * 1/1 ="]
[null,14,null,null,null,"Lønfradrag for ikke optjent ferie mv.",{"$f":"\"= - \"&MAX(0,MIN(G23,G24*1))+G27&\" * \"&IF(G7=\"JA\",\"4,62%\",\"4,8%\")&\" * SUM(Lin. 1 - Lin 12)\"&\" * \"&TEXT(G$4,\"#0/#0\")&\" =\"","v":"= - 0 * 4,62% * SUM(Lin. 1 - Lin 12) * 1/1 ="},{"$f":"\"= - \"&MAX(0,MIN(H23,H24*1))+H27&\" * \"&IF(H7=\"JA\",\"4,62%\",\"4,8%\")&\" * SUM(Lin. 1 - Lin 12) =\"","v":"= - 0 * 4,62% * SUM(Lin. 1 - Lin 12) ="},"= - 0 * 4,62% * SUM(Lin. 1 - Lin 12) =","= - 0 * 4,62% * SUM(Lin. 1 - Lin 12) =","= - 0 * 4,62% * SUM(Lin. 1 - Lin 12) =","= - 0 * 4,62% * SUM(Lin. 1 - Lin 12) =","= - 0 * 4,62% * SUM(Lin. 1 - Lin 12) =","= - 0 * 4,62% * SUM(Lin. 1 - Lin 12) =","= - 0 * 4,62% * SUM(Lin. 1 - Lin 12) =","= - 0 * 4,62% * SUM(Lin. 1 - Lin 12) =","= - 0 * 4,62% * SUM(Lin. 1 - Lin 12) =","= - 0 * 4,62% * SUM(Lin. 1 - Lin 12) ="]
[null,15,null,null,null,"Feriedifferende",{"$f":"\"= \"&IF(LEFT(G7)=\"N\",\"( \"&G25&\" - \"&G10&\") * 4,8% * \"&G96&\" * \"&MAX((G23-G24),0)*G97,\"( \"&G25&\" - \"&G10&\") * 4,62% * \"&G96&\" * \"&MAX((G23-G24),0))&\" =\"","v":"= (  - 1) * 4,62% * 20289,33 * 0 ="},"= ( 0 - 1) * 4,62% * 20289,33 * 0 =","= ( 0 - 1) * 4,62% * 0 * 5 =","= ( 0 - 1) * 4,62% * 0 * 0 =","= ( 0 - 1) * 4,62% * 0 * 0 =","= ( 0 - 1) * 4,62% * 0 * 0 =","= ( 0,85 - 1) * 4,62% * 0 * 5 =","= ( 0,85 - 1) * 4,62% * 0 * 0 =","= ( 0,85 - 1) * 4,62% * 0 * 0 =",{"$f":"\"= \"&IF(LEFT(P7)=\"N\",\"( \"&ROUND(P26,4)&\" - \"&P10&\") * 4,8% * \"&P96&\" * \"&MAX((P23-P24),0)*P97,\"( \"&ROUND(P26,4)&\" - \"&P10&\") * 4,62% * \"&P96&\" * \"&MAX((P23-P24),0))&\" =\"","v":"= ( 0 - 0,9) * 4,62% * 0 * 0 ="},{"$f":"\"= \"&IF(LEFT(Q7)=\"N\",\"( \"&ROUND(Q26,4)&\" - \"&Q10&\") * 4,8% * \"&Q96&\" * \"&MAX((Q23-Q24),0)*Q97,\"( \"&ROUND(Q26,4)&\" - \"&Q10&\") * 4,62% * \"&Q96&\" * \"&MAX((Q23-Q24),0))&\" =\"","v":"= ( 0 - 0,9) * 4,62% * 0 * 0 ="},{"$f":"\"= \"&IF(LEFT(R7)=\"N\",\"( \"&ROUND(R26,4)&\" - \"&R10&\") * 4,8% * \"&R96&\" * \"&MAX((R23-R24),0)*R97,\"( \"&ROUND(R26,4)&\" - \"&R10&\") * 4,62% * \"&R96&\" * \"&MAX((R23-R24),0))&\" =\"","v":"= ( 0 - 0,9) * 4,62% * 0 * 15 ="}]
[null,16,null,null,null,"Engangsudbetalinger iflg. specifikation",{"$f":"SUBSTITUTE(TRIM(\"=SUM(\"&MAX(G33-8000,0)&\" \"&G34&\" \"&G35&\" \"&G36&\" \"&G37&\" \"&G39&\" \"&G40&\" \"&G41&\" \"&G42&\" \"&G43&\")\"),\" \",\"; \")&\" =\"","v":"=SUM(1000; ) ="},{"$f":"SUBSTITUTE(TRIM(\"=SUM(\"&MAX(H33-8000,0)&\" \"&H34&\" \"&H35&\" \"&H36&\" \"&H37&\" \"&H39&\" \"&H40&\" \"&H41&\" \"&H42&\" \"&H43&\")\"),\" \",\"; \")&\" =\"","v":"=SUM(0; ) ="},"=SUM(0; ) =","=SUM(0; ) =","=SUM(0; ) =","=SUM(0; ) =","=SUM(0; ) =","=SUM(0; ) =","=SUM(0; ) =","=SUM(0; ) =","=SUM(0; ) =","=SUM(0; ) ="]
[null,17,null,null,null,"Skattefri engangsudbetalinger iflg. spec.",{"$f":"SUBSTITUTE(TRIM(\"=SUM(\"&G30&\" * \"&$D30&\" \"&G31&\" * \"&$D31&\" \"&G32&\" \"&MIN(G33,8000)&\")\"),\" \",\"; \")&\" =\"","v":"=SUM(; *; 1,94; *; 3,54; 8000) ="},{"$f":"SUBSTITUTE(TRIM(\"=SUM(\"&H30&\" * \"&$D30&\" \"&H31&\" * \"&$D31&\" \"&H32&\" \"&MIN(H33,8000)&\")\"),\" \",\"; \")&\" =\"","v":"=SUM(; *; 1,94; *; 3,54; 8000) ="},{"$f":"SUBSTITUTE(TRIM(\"=SUM(\"&I30&\" * \"&$D30&\" \"&I31&\" * \"&$D31&\" \"&I32&\" \"&MIN(I33,8000)&\")\"),\" \",\"; \")&\" =\"","v":"=SUM(; *; 1,94; *; 3,54; 8000) ="},{"$f":"SUBSTITUTE(TRIM(\"=SUM(\"&J30&\" * \"&$D30&\" \"&J31&\" * \"&$D31&\" \"&J32&\" \"&MIN(J33,8000)&\")\"),\" \",\"; \")&\" =\"","v":"=SUM(; *; 1,94; *; 3,54; 8000) ="},{"$f":"SUBSTITUTE(TRIM(\"=SUM(\"&K30&\" * \"&$D30&\" \"&K31&\" * \"&$D31&\" \"&K32&\" \"&MIN(K33,8000)&\")\"),\" \",\"; \")&\" =\"","v":"=SUM(; *; 1,94; *; 3,54; 8000) ="},{"$f":"SUBSTITUTE(TRIM(\"=SUM(\"&L30&\" * \"&$E30&\" \"&L31&\" * \"&$E31&\" \"&L32&\" \"&MIN(L33,8000)&\")\"),\" \",\"; \")&\" =\"","v":"=SUM(; *; *; 8000) ="},{"$f":"SUBSTITUTE(TRIM(\"=SUM(\"&M30&\" * \"&$E30&\" \"&M31&\" * \"&$E31&\" \"&M32&\" \"&MIN(M33,8000)&\")\"),\" \",\"; \")&\" =\"","v":"=SUM(; *; *; 8000) ="},"=SUM(; *; *; 8000) =","=SUM(; *; *; 8000) =","=SUM(; *; *; 8000) =","=SUM(; *; *; 8000) =","=SUM(; *; *; 8000) ="]
[null,18,null,null,null,"Bruttoløn (ekskl. pensionstillæg og ATP)"]
[null,19,null,null,null,"Pensionstillæg skalatrinsløn eller HK-løn",{"$f":"\"= \"&ROUND(VLOOKUP(G11,Skalalontabel12,7,0)*G$8,0)&\" / 12  * \"&TEXT(G$10,\"0,0000\")&\" * \"&G5&\"% / 3 =\"","v":"= 227638 / 12  * 1,0000 * 14,7% / 3 ="},"= 227638 / 12  * 1,0000 * 14,7% / 3 =","= 0 / 12  * 1,0000 * 14,7% / 3 =","= 0 / 12  * 1,0000 * 14,7% / 3 =","= 0 / 12  * 1,0000 * 14,7% / 3 =","= 0 / 12  * 1,0000 * 14,7% / 3 =","= 0 / 12  * 1,0000 * 14,7% / 3 =","= 0 / 12  * 1,0000 * 14,7% / 3 =","= 0 / 12  * 1,0000 * 14,7% / 3 =","= 0 / 12  * 0,9000 * 14,7% / 3 =","= 0 / 12  * 0,9000 * 14,7% / 3 =","= 0 / 12  * 0,9000 * 14,7% / 3 ="]
[null,20,null,null,null,"Pensionstillæg fast løn",{"$f":"IF($C49>0,\"= \"&G49&\" * \"&G$5&\"% / 3 =\")","v":"= 0 * 14,7% / 3 ="},{"$f":"IF($C49>0,H49&\" * \"&H$5&\"% / 3 =\")","v":"0 * 14,7% / 3 ="},"0 * 14,7% / 3 =","0 * 14,7% / 3 =","0 * 14,7% / 3 =","0 * 14,7% / 3 =","0 * 14,7% / 3 =","0 * 14,7% / 3 =","0 * 14,7% / 3 =","0 * 14,7% / 3 =","0 * 14,7% / 3 =","0 * 14,7% / 3 ="]
[null,21,null,null,null,"Pensionstillæg souscheftillæg","= 0 * 14,7% / 3 =","0 * 14,7% / 3 =","0 * 14,7% / 3 =","0 * 14,7% / 3 =","0 * 14,7% / 3 =","0 * 14,7% / 3 =","0 * 14,7% / 3 =","0 * 14,7% / 3 =","0 * 14,7% / 3 =","0 * 14,7% / 3 =","0 * 14,7% / 3 =","0 * 14,7% / 3 ="]
[null,22,null,null,null,"Pensionstillæg Funktionstillæg 1","= 0 * 14,7% / 3 =","0 * 14,7% / 3 =","0 * 14,7% / 3 =","0 * 14,7% / 3 =","0 * 14,7% / 3 =","0 * 14,7% / 3 =","0 * 14,7% / 3 =","0 * 14,7% / 3 =","0 * 14,7% / 3 =","0 * 14,7% / 3 =","0 * 14,7% / 3 =","0 * 14,7% / 3 ="]
[null,23,null,null,null,"Pensionstillæg Funktionstillæg 2","= 0 * 14,7% / 3 =","0 * 14,7% / 3 =","0 * 14,7% / 3 =","0 * 14,7% / 3 =","0 * 14,7% / 3 =","0 * 14,7% / 3 =","0 * 14,7% / 3 =","0 * 14,7% / 3 =","0 * 14,7% / 3 =","0 * 14,7% / 3 =","0 * 14,7% / 3 =","0 * 14,7% / 3 ="]
[null,24,null,null,null,"Pensionstillæg Funktionstillæg 3","= 0 * 14,7% / 3 =","0 * 14,7% / 3 =","0 * 14,7% / 3 =","0 * 14,7% / 3 =","0 * 14,7% / 3 =","0 * 14,7% / 3 =","0 * 14,7% / 3 =","0 * 14,7% / 3 =","0 * 14,7% / 3 =","0 * 14,7% / 3 =","0 * 14,7% / 3 =","0 * 14,7% / 3 ="]
[null,25,null,null,null,"Pensionstillæg Kvalifikationstillæg 1","= 0 * 14,7% / 3 =","0 * 14,7% / 3 =","0 * 14,7% / 3 =","0 * 14,7% / 3 =","0 * 14,7% / 3 =","0 * 14,7% / 3 =","0 * 14,7% / 3 =","0 * 14,7% / 3 =","0 * 14,7% / 3 =","0 * 14,7% / 3 =","0 * 14,7% / 3 =","0 * 14,7% / 3 ="]
[null,26,null,null,null,"Pensionstillæg Kvalifikationstillæg 2","= 0 * 14,7% / 3 =","0 * 14,7% / 3 =","0 * 14,7% / 3 =","0 * 14,7% / 3 =","0 * 14,7% / 3 =","0 * 14,7% / 3 =","0 * 14,7% / 3 =","0 * 14,7% / 3 =","0 * 14,7% / 3 =","0 * 14,7% / 3 =","0 * 14,7% / 3 =","0 * 14,7% / 3 ="]
[null,27,null,null,null,"Pensionstillæg Kvalifikationstillæg 3","= 0 * 14,7% / 3 =","0 * 14,7% / 3 =","0 * 14,7% / 3 =","0 * 14,7% / 3 =","0 * 14,7% / 3 =","0 * 14,7% / 3 =","0 * 14,7% / 3 =","0 * 14,7% / 3 =","0 * 14,7% / 3 =","0 * 14,7% / 3 =","0 * 14,7% / 3 =","0 * 14,7% / 3 ="]
[null,28,null,null,null,"Pensionstillæg af udligningstillæg","= 0 * 14,7% / 3 =","0 * 14,7% / 3 =","0 * 14,7% / 3 =","0 * 14,7% / 3 =","0 * 14,7% / 3 =","0 * 14,7% / 3 =","0 * 14,7% / 3 =","0 * 14,7% / 3 =","0 * 14,7% / 3 =","0 * 14,7% / 3 =","0 * 14,7% / 3 =","0 * 14,7% / 3 ="]
[null,29,null,null,null,"Fradrag i pensionstillæg for ikke optjent ferie mv.",{"$f":"\"= \"&G60&\" * \"&G$5&\"% / 3 =\"","v":"= 0 * 14,7% / 3 ="},"= 0 * 14,7% / 3 =","= 0 * 14,7% / 3 =","= 0 * 14,7% / 3 =","= 0 * 14,7% / 3 =","= 0 * 14,7% / 3 =","= 0 * 14,7% / 3 =","= 0 * 14,7% / 3 =","= 0 * 14,7% / 3 =","= 0 * 14,7% / 3 =","= 0 * 14,7% / 3 =","= 0 * 14,7% / 3 ="]
[null,30,null,null,null,"Pensionstillæg af feriedifference","= 0 * 14,7% / 3 =","= 0 * 14,7% / 3 =","= 0 * 14,7% / 3 =","= 0 * 14,7% / 3 =","= 0 * 14,7% / 3 =","= 0 * 14,7% / 3 =","= 0 * 14,7% / 3 =","= 0 * 14,7% / 3 =","= 0 * 14,7% / 3 =","= 0 * 14,7% / 3 =","= 0 * 14,7% / 3 =","= 0 * 14,7% / 3 ="]
[null,31,null,null,null,"Pensionstillæg af pensiong. engangstillæg",{"$f":"SUBSTITUTE(TRIM(\"=SUM(\"&IF($G35>0,G35&\" \",\"\")&IF($C39<>\"\",G39&\" \",\"\")&IF($C40<>\"\",G40&\" \",\"\")&IF($C41<>\"\",G41&\" \",\"\")&IF($C42<>\"\",G42&\" \",\"\")&IF($C43<>\"\",G43,\"\")&\")\"),\" \",\"; \")&\" * \"&G5&\"% / 3 =\"","v":"=SUM() * 14,7% / 3 ="},"=SUM() * 14,7% / 3 =","=SUM() * 14,7% / 3 =","=SUM() * 14,7% / 3 =","=SUM() * 14,7% / 3 =","=SUM() * 14,7% / 3 =","=SUM() * 14,7% / 3 =","=SUM() * 14,7% / 3 =","=SUM() * 14,7% / 3 =","=SUM() * 14,7% / 3 =","=SUM() * 14,7% / 3 =","=SUM() * 14,7% / 3 ="]
[null,32,null,null,null,"Pensionstillæg i alt"]
[null,33,null,null,null,"Egetbidrag til ATP"]
[null,34,null,null,null,"AMB-grundlag",{"$f":"\"= SUM(Lin. 1 - Lin. 14) + SUM(Lin 19 - Lin28) - \"&G79&\" =\"","v":"= SUM(Lin. 1 - Lin. 14) + SUM(Lin 19 - Lin28) - 94,67 ="},{"$f":"\"= SUM(Lin. 1 - Lin. 14) + SUM(Lin 19 - Lin28) - \"&H79&\" =\"","v":"= SUM(Lin. 1 - Lin. 14) + SUM(Lin 19 - Lin28) - 94,67 ="},"= SUM(Lin. 1 - Lin. 14) + SUM(Lin 19 - Lin28) - 94,67 =","= SUM(Lin. 1 - Lin. 14) + SUM(Lin 19 - Lin28) - 94,67 =","= SUM(Lin. 1 - Lin. 14) + SUM(Lin 19 - Lin28) - 94,67 =","= SUM(Lin. 1 - Lin. 14) + SUM(Lin 19 - Lin28) - 94,67 =","= SUM(Lin. 1 - Lin. 14) + SUM(Lin 19 - Lin28) - 94,67 =","= SUM(Lin. 1 - Lin. 14) + SUM(Lin 19 - Lin28) - 94,67 =","= SUM(Lin. 1 - Lin. 14) + SUM(Lin 19 - Lin28) - 94,67 =","= SUM(Lin. 1 - Lin. 14) + SUM(Lin 19 - Lin28) - 94,67 =","= SUM(Lin. 1 - Lin. 14) + SUM(Lin 19 - Lin28) - 94,67 =","= SUM(Lin. 1 - Lin. 14) + SUM(Lin 19 - Lin28) - 94,67 ="]
[null,35,null,null,null,"AM-bidrag",{"$f":"\"= \"&G80&\" * 8% (afrundet) =\"","v":"= 21821,807 * 8% (afrundet) ="},{"$f":"\"= \"&H80&\" * 8% (afrundet) =\"","v":"= 20194,66 * 8% (afrundet) ="},"= -94,67 * 8% (afrundet) =","= -94,67 * 8% (afrundet) =","= -94,67 * 8% (afrundet) =","= -94,67 * 8% (afrundet) =","= -94,67 * 8% (afrundet) =","= -94,67 * 8% (afrundet) =","= -94,67 * 8% (afrundet) =","= 538,42 * 8% (afrundet) =","= -94,67 * 8% (afrundet) =","= -94,67 * 8% (afrundet) ="]
[null,36,null,null,null,"A-indkomst",{"$f":"\"= \"&G80&\" - \"&G81&\" =\"","v":"= 21821,807 - 1746 ="},{"$f":"\"= \"&H80&\" - \"&H81&\" =\"","v":"= 20194,66 - 1616 ="},"= -94,67 - -8 =","= -94,67 - -8 =","= -94,67 - -8 =","= -94,67 - -8 =","= -94,67 - -8 =","= -94,67 - -8 =","= -94,67 - -8 =","= 538,42 - 43 =","= -94,67 - -8 =","= -94,67 - -8 ="]
[null,37,null,null,null,"Skattegrundlag"]
[null,38,null,null,null,"Skat",{"$f":"\"= (\"&G82&\" - \"&G29&\") (afrundet) * \"&G28&\" / 100 =\"","v":"= (20075,807 - 4000) (afrundet) * 40 / 100 ="},{"$f":"\"= (\"&H82&\" - \"&H29&\") (afrundet) * \"&H28&\" / 100 =\"","v":"= (18578,66 - 4000) (afrundet) * 40 / 100 ="},"= (-86,67 - 4000) (afrundet) * 40 / 100 =","= (-86,67 - 4000) (afrundet) * 40 / 100 =","= (-86,67 - 4000) (afrundet) * 40 / 100 =","= (-86,67 - 4000) (afrundet) * 40 / 100 =","= (-86,67 - 4000) (afrundet) * 40 / 100 =","= (-86,67 - 4000) (afrundet) * 40 / 100 =","= (-86,67 - 4000) (afrundet) * 40 / 100 =","= (495,42 - 4000) (afrundet) * 40 / 100 =","= (-86,67 - 4000) (afrundet) * 40 / 100 =","= (-86,67 - 4000) (afrundet) * 40 / 100 ="]
[null,39,null,null,null,{"$f":"\"Feriegodtgørelsesgrundlag, aug-dec \"&Aar","v":"Feriegodtgørelsesgrundlag, aug-dec 2018"}]
[null,40,null,null,null,{"$f":"\"Feriegodtgørelsesgrundlag, jan-juli \"&Aar+1","v":"Feriegodtgørelsesgrundlag, jan-juli 2019"}]
[null,41,null,null,null,"Egetbidrag til pensionskasse",{"$f":"\"= Lin. 43 =\"","v":"= Lin. 43 ="},{"$f":"\"= Lin. 43 =\"","v":"= Lin. 43 ="},"= Lin. 43 =","= Lin. 43 =","= Lin. 43 =","= Lin. 43 =","= Lin. 43 =","= Lin. 43 =","= Lin. 43 =","= Lin. 43 =","= Lin. 43 =","= Lin. 43 ="]
[null,42,null,null,null,"Arbejdsgiverbidrag til pensionskasse",{"$f":"\"= Lin. 43 * 2 =\"","v":"= Lin. 43 * 2 ="},{"$f":"\"= Lin. 43 * 2 =\"","v":"= Lin. 43 * 2 ="},"= Lin. 43 * 2 =","= Lin. 43 * 2 =","= Lin. 43 * 2 =","= Lin. 43 * 2 =","= Lin. 43 * 2 =","= Lin. 43 * 2 =","= Lin. 43 * 2 =","= Lin. 43 * 2 =","= Lin. 43 * 2 =","= Lin. 43 * 2 ="]
[null,43,null,null,null,"Arbejdsgiverbidrag til ATP",{"$f":"\"= Lin. 44 * 2 =\"","v":"= Lin. 44 * 2 ="},{"$f":"\"= Lin. 44 * 2 =\"","v":"= Lin. 44 * 2 ="},"= Lin. 44 * 2 =","= Lin. 44 * 2 =","= Lin. 44 * 2 =","= Lin. 44 * 2 =","= Lin. 44 * 2 =","= Lin. 44 * 2 =","= Lin. 44 * 2 =","= Lin. 44 * 2 =","= Lin. 44 * 2 =","= Lin. 44 * 2 ="]
[null,44,null,null,null,"Skolens samlede indbetaling til pensionskasse",{"$f":"\"= Lin. 51 + Lin. 52 =\"","v":"= Lin. 51 + Lin. 52 ="},{"$f":"\"= Lin. 51 + Lin. 52 =\"","v":"= Lin. 51 + Lin. 52 ="},"= Lin. 51 + Lin. 52 =","= Lin. 51 + Lin. 52 =","= Lin. 51 + Lin. 52 =","= Lin. 51 + Lin. 52 =","= Lin. 51 + Lin. 52 =","= Lin. 51 + Lin. 52 =","= Lin. 51 + Lin. 52 =","= Lin. 51 + Lin. 52 =","= Lin. 51 + Lin. 52 =","= Lin. 51 + Lin. 52 ="]
[null,45,null,null,null,"Skolens samlede indbetaling til ATP",{"$f":"\"= Lin. 44 + Lin. 53 =\"","v":"= Lin. 44 + Lin. 53 ="},{"$f":"\"= Lin. 44 + Lin. 53 =\"","v":"= Lin. 44 + Lin. 53 ="},"= Lin. 44 + Lin. 53 =","= Lin. 44 + Lin. 53 =","= Lin. 44 + Lin. 53 =","= Lin. 44 + Lin. 53 =","= Lin. 44 + Lin. 53 =","= Lin. 44 + Lin. 53 =","= Lin. 44 + Lin. 53 =","= Lin. 44 + Lin. 53 =","= Lin. 44 + Lin. 53 =","= Lin. 44 + Lin. 53 ="]
[null,46,null,null,null,"Indbetaling til Gruppeliv"]
[null,47,null,null,null,"Løn til den ansattes disposition",{"$f":"\"= \"&G64&\" - ( \"&G84&\" + \"&G79&\" + \"&G81&\" + \"&G92&\") - SUM(lin 57 : 59) =\"","v":"= 29916,477 - ( 6428 + 94,67 + 1746 + 0) - SUM(lin 57 : 59) ="},{"$f":"\"= \"&H64&\" - ( \"&H84&\" + \"&H79&\" + \"&H81&\" + \"&H92&\") - SUM(lin 57 : 59) =\"","v":"= 20289,33 - ( 5828 + 94,67 + 1616 + 0) - SUM(lin 57 : 59) ="},"= 0 - ( -1636 + 94,67 + -8 + 0) - SUM(lin 57 : 59) =","= 0 - ( -1636 + 94,67 + -8 + 0) - SUM(lin 57 : 59) =","= 0 - ( -1636 + 94,67 + -8 + 0) - SUM(lin 57 : 59) =","= 0 - ( -1636 + 94,67 + -8 + 0) - SUM(lin 57 : 59) =","= 0 - ( -1636 + 94,67 + -8 + 0) - SUM(lin 57 : 59) =","= 0 - ( -1636 + 94,67 + -8 + 0) - SUM(lin 57 : 59) =","= 0 - ( -1636 + 94,67 + -8 + 0) - SUM(lin 57 : 59) =","= 633,09 - ( -1404 + 94,67 + 43 + 0) - SUM(lin 57 : 59) =","= 0 - ( -1636 + 94,67 + -8 + 0) - SUM(lin 57 : 59) =","= 0 - ( -1636 + 94,67 + -8 + 0) - SUM(lin 57 : 59) ="]
[null,48,null,null,null,{"$f":"\"Feriepengeberegningsgrundlag, jan-dec \"&Aar","v":"Feriepengeberegningsgrundlag, jan-dec 2018"}]
[null,null,null,null,null,{"$f":"\"Feriepengeberegningsgrundlag, jan-jul \"&Aar+1","v":"Feriepengeberegningsgrundlag, jan-jul 2019"}]

{"sheet":"Vejledning","index":1,"n_rows":21,"n_cols":2,"rows_kept":21,"cut":false,"hidden":false,"merged":[]}
["LØNBEREGNING FOR FRISKOLER gældende for skoleåret 2023-2024"]
[]
[]
[]
[null,"Vejledning:"]
["•","Friskolerne afholder kursus i brugen af lønberegningsarket. Det er interessekurser som oprettes når der er nok der viser interesse."]
[]
["•","Lønspec.-arkene kan benyttes som bilag til skolens lønsystem. Du skal blot indtaste arkets navn og måneden for specifikationen og skrive arket ud. Kun linier med beløb udskrives. Linier uden beløb er tomme. \n"]
[]
["•","Tast kun i gule felter! (Medmindre, du virkelig ved, hvad du gør. Arkbeskyttelsen skal dog først ophæves)\nAlle indtastninger i gule felter kan/bør overskrives!\nLangt de fleste oplysninger skal indskrives i august-kolonnen, hvorefter de kopieres automatisk til de øvrige måneder.\nTal angivet med blå skrift i gule felter indeholder formler, der kan overskrives.\nTal med sort skrift i gule felter skal normalt altid overskrives."]
["•","Denne lønberegning er IKKE til brug for lærere og bhkl.ledere samt skoleledere!"]
[]
["•","Hvis der er brug for flere ark kan et vilkårligt ark (fane) kopieres. "]
[]
["•","Arkfanens navn kan/bør omdøbes til den ansattes initialer eller navn. Men husk at rette i specifikatonsarkene i overensstemmelse hermed."]
[]
["•","Der er ikke taget hensyn til, at en ansat kan skifte beskæftigelsesgrad midt i en måned. Hvis dette er tilfældet, kan det løses ved at lave to ark. Spørg evt.!"]
[]
["•","Lønfradrag kan beregnes via brugen af de enkelte lønberegningsark. Feriedifference skal beregnes i fanen \"Feriedifference ny ferielov\", og beløbet/differencen der beregnes i arket tastes manuelt i den ansattes lønfane."]
[null,"Hvis der er yderligere spørgsmål eller kommentarer, kontakt:"]
[null,"mailto:tove@friskolerne.dk"]

{"sheet":"Foraeldreorlov","index":2,"n_rows":21,"n_cols":4,"rows_kept":21,"cut":false,"hidden":true,"merged":[]}
["Forældreorlov uden løn"]
["•","Som en del af barselsreglerne har forældre ret til at holde forældreorlov uden løn i en periode.\nI en sådan periode, skal skolen fortsat indbetale pension til pensionskassen som om der stadig udbetaltes løn."]
[]
["•","For at holde rede på ændringerne i forbindelse mad forældreorlov uden løn (og anden bevilget orlov uden løn, men med pension) er der indsat en særlig årsspecifikation: 'LonspecAndreAarBarsel'."]
[]
["•","De øvrige lønspecifikationsark vil ikke vise de rigtige tal for disse måneder, hvor der ikke udbetales løn!"]
[]
["•","Du skal i hver måned, hvor der holdes orlov uden løn skrive antallet af kalenderdage, i hvilke der ikke skal betales løn i lin 3."]
[]
["•","Hvis der holdes deltidsforældreorlov, hvor orloven forlænges forholdsmæssigt, skrives i lin 5 den beskæftigelsesgrad, som der arbejdes efter."]
[]
["Eks.","En nybagt mor med normalt 60% beskæftigelse har planlagt at holde 20 ugers forældreorlov uden løn.\nImidlertid vil hun gerne udstrække orloven til 30 uger (= 30*7 dage  = 210 dage), idet hun kun går på delvis orlov svarende til 20/30 af den hidtidige og så arbejder i den resterende beskæftigelse.\nBeskæftigelsen udgør altså kun 20%, der skrives i lin 5 i de måneder orloven varer.\nPensionen for orlovsdelen udgør 2/3 af den hidtidige, men der betales også pension af den nedsatte beskæftigelse, de 20%. Så totalt set er der ingen ændring!"]
[null,"I celle P3 bliver antallet af orlovsdage summeret. Husk dog, at medtælle orlovsdage fra tidligere eller senere skoleår."]
[]
[null,"Herunder kan beskæftigelsesgraden beregnes ved forlænget deltidsorlov (hver uge er på 7 dage!)"]
[null,"Hidtidig beskæftigelsesgrad:",0.9,"antal dage"]
[null,"Antal uger med forældreorlov uden løn iflg. normalreglerne:",20,{"$f":"ROUND(C17*7,0)","v":140}]
[null,"Ønskede antal uger med deltidsorlov:",45,{"$f":"ROUND(C18*7,0)","v":315}]
[null,"Beskæftigelsesgrad med arbejde under den forlængede orlov:",{"$f":"C16-ROUND(C17/C18*C16,4)","v":0.5}]
[]
[null,"Hvis du omvendt ønsker at beregne antal af uger/dage mrd deltidsorlov ved en given nedsat beskæftigelsesgrad, så benyt Excel-funktionen Målsøgning!"]

{"sheet":"Nylonstillaeg","index":3,"n_rows":18,"n_cols":2,"rows_kept":18,"cut":false,"hidden":false,"merged":[]}
["LIDT OM DECENTRALE TILLÆG (NYLØNSTILLÆG)"]
[1,"Decentrale tillæg kan gives som varige eller midlertidige i en bestemt periode, eller de kan udbetales som en engangsydelse."]
[2,"Varige og midlertidige decentrale tillæg er normalt pensionsgivende."]
[3,"Decentrale nylønstillæg, der ydes som engangsydelser, er som udgangspunkt ikke pensionsgivende, men det kan aftales. \nNylønstillæg, der gives som engangsbeløb kan skrives i lin. 39 og 40."]
[]
["FUNKTIONSTILLÆG"]
[4,"Funktionsløn, kvalifikationsløn og resultatløn kaldes under et nyløn."]
[5,"Funktionsløn gives for varetagelse af særlige funktioner. Fx lokaletilsyn, ansvar for it, ansvarlig for vikartilkald mmm."]
[6,"Normalt er funktionstillæg ikke afhængige af beskæftigelsesgraden, idet varigheden af varetagelsen af funktionen netop ikke afhænger af BG."]
[7,"Funktionstillæg er normalt ikke personligt knyttet til en bestemt medarbejder, men følger funktionen. Alligevel vil funktionstillæg ofte være aftalt som varige, (så længe funktionen eksisterer)."]
[]
["KVALIFIKATIONSTILLÆG"]
[8,"Kvalifikationsløn gives for særlige kvalifikationer og kompetencer , fx diplomuddannelse, kyndighed eller særlig uddannelse i et fag fx fysik eller musik mmm."]
[9,"Ofte er begrundelsen for et kvalifikationstillæg at tiltrække eller fastholde medarbejdere."]
[10,"Kvalifikationstillæg er som regel personlige og varige, men kan aftales som midlertidige tillæg i en nærmere bestemt periode, eller som engangsydelse."]
[]
["RESULTATLØN"]
[11,"Resultatlønstillæg gives som engangsydelser, når bestemte kriterier er opnået.\nEngangsbeløb skrives i lin. 30 til 43."]

{"sheet":"LonspecAndreAarBarsel","index":4,"n_rows":62,"n_cols":21,"rows_kept":62,"cut":false,"hidden":true,"merged":[]}
[null,"Ark:","Q","fx: Q","Dette ark er kun at betragte som et hjælpeværktøj i forbindelse med forældreorlov uden eller med delvis løn!",null,null,null,null,null,null,null,null,null,null,null,"Antal orlovs-","Gule felter herunder"]
["Måned:",null,"aug","g","h","i","j","k","l","m","n","o","p","q","r",null,"dage i alt:","er kladdeområde"]
[null,null,null,null,null,null,null,null,null,null,null,null,null,null,null,null,"dage i alt:","er kladdeområde"]
[null,null,"Skriv antal dage med forældreorlov uden løn",31,null,null,null,null,null,null,null,null,null,null,null,null,{"$f":"SUM(D4:O4)","v":31}]
[null,null,"antal dage i måneden",31,30,31,30,31,31,29,31,30,31,30,31]
[null,null,"Ændret BG. under forældreorlov",0.8]
[1,null,"LØNSPECIFIKATION for",{"$f":"INDIRECT($C$1&\"!\"&D$2&$A7)","v":"Q"},"Q","Q","Q","Q","Q","Q","Q","Q","Q","Q","Q","HELE"]
[2,null,"STILLINGSBETEGNELSE:","Pædagog","Pædagog","Pædagog","Pædagog","Pædagog","Pædagog","Pædagog","Pædagog","Pædagog","Pædagog","Pædagog","Pædagog",null,"Feriegodt-"]
[3,null,"LØNPERIODE: ","AUG 23","SEP 23","OKT 23","NOV 23","DEC 23","JAN 24","FEB 24","MAR 24","APR 24","MAJ 24","JUN 24","JUL 24","SKOLEÅRET","gørelses-",null,null,"AUG","g"]
[10,null,"BESKÆFTIGELSESGRAD:",0,0,0,0,0,0,0,0,0,0,0,0,{"$f":"AVERAGE(D10:O10)","v":0},"grundlag",null,null,"SEP","h"]
[4,null,"DEL AF MÅNED:",1,1,1,1,1,1,1,1,1,1,1,1,{"$f":"SUM(D11:O11)","v":12},{"$f":"2000+RIGHT($D$9,2)","v":2023},null,null,"OKT","i"]
[11,null,null,0,0,0,0,0,0,0,0,0,0,0,0,{"$f":"SUM(D12:M12)","v":0},{"$f":"INDIRECT($C$1&\"!\"&\"A\"&82)+SUM(D17:O31)","v":{"$error":"#DIV/0!"}},null,null,"NOV","j"]
[12,null,null,0,0,0,0,0,0,0,0,0,0,0,0,null,null,null,null,"DEC","k"]
[8,null,"PROCENTREGULERING +1","JA","JA","JA","JA","JA","JA","JA","JA","JA","JA","JA","JA",null,"Feriegodt-",null,null,"JAN","l"]
[null,null,"DEL AF MÅNED med forældreorlov uden løn",{"$f":"D4/D5","v":1},{"$f":"E4/E5","v":0},0,0,0,0,0,0,0,0,0,0,{"$f":"SUM(D15:O15)","v":1},"gørelses-",null,null,"DEC","k"]
[null,null,"Ændret BG. I deltids-forældreorlovsperiode:",{"$f":"IF(AND(D10>D6,D6>0),D6,\"\")","v":""},"","","","","","","","","","","",null,"grundlag",null,null,"JAN","l"]
[48,1,{"$f":"IF(ABS(SUM(D17:O17))>0,INDIRECT($C$1&\"!f\"&A17),\"\")","v":{"$error":"#DIV/0!"}},{"$f":"INDIRECT($C$1&\"!\"&D$2&$A17)*(1-D$4/D$5)+IF(D$16>0,INDIRECT($C$1&\"!\"&D$2&$A17)*D$4/D$5*D$6/D$10,0)","v":{"$error":"#DIV/0!"}},{"$f":"INDIRECT($C$1&\"!\"&E$2&$A17)*(1-E$4/E$5)+IF(E$16>0,INDIRECT($C$1&\"!\"&E$2&$A17)*E$4/E$5*E$6/E$10,0)","v":{"$error":"#DIV/0!"}},{"$error":"#DIV/0!"},{"$error":"#DIV/0!"},{"$error":"#DIV/0!"},{"$error":"#DIV/0!"},{"$error":"#DIV/0!"},{"$error":"#DIV/0!"},{"$error":"#DIV/0!"},{"$error":"#DIV/0!"},{"$error":"#DIV/0!"},{"$error":"#DIV/0!"},{"$f":"SUM(D17:O17)","v":{"$error":"#DIV/0!"}},{"$f":"Q11+1","v":2024},null,null,"FEB","m"]
[{"$f":"A17+1","v":49},{"$f":"B17+1","v":2},{"$f":"IF(ABS(SUM(D18:O18))>0,INDIRECT($C$1&\"!f\"&A18),\"\")","v":{"$error":"#DIV/0!"}},{"$f":"INDIRECT($C$1&\"!\"&D$2&$A18)*(1-D$4/D$5)+IF(D$16>0,INDIRECT($C$1&\"!\"&D$2&$A18)*D$4/D$5*D$6/D$10,0)","v":{"$error":"#DIV/0!"}},{"$error":"#DIV/0!"},{"$error":"#DIV/0!"},{"$error":"#DIV/0!"},{"$error":"#DIV/0!"},{"$error":"#DIV/0!"},{"$error":"#DIV/0!"},{"$error":"#DIV/0!"},{"$error":"#DIV/0!"},{"$error":"#DIV/0!"},{"$error":"#DIV/0!"},{"$error":"#DIV/0!"},{"$error":"#DIV/0!"},{"$f":"SUM(D17:O31)","v":{"$error":"#DIV/0!"}},null,null,"MAR","n"]
[{"$f":"A18+1","v":50},{"$f":"B18+1","v":3},{"$error":"#DIV/0!"},{"$error":"#DIV/0!"},{"$error":"#DIV/0!"},{"$error":"#DIV/0!"},{"$error":"#DIV/0!"},{"$error":"#DIV/0!"},{"$error":"#DIV/0!"},{"$error":"#DIV/0!"},{"$error":"#DIV/0!"},{"$error":"#DIV/0!"},{"$error":"#DIV/0!"},{"$error":"#DIV/0!"},{"$error":"#DIV/0!"},{"$error":"#DIV/0!"},null,null,null,"APR","o"]
[51,4,{"$error":"#DIV/0!"},{"$error":"#DIV/0!"},{"$error":"#DIV/0!"},{"$error":"#DIV/0!"},{"$error":"#DIV/0!"},{"$error":"#DIV/0!"},{"$error":"#DIV/0!"},{"$error":"#DIV/0!"},{"$error":"#DIV/0!"},{"$error":"#DIV/0!"},{"$error":"#DIV/0!"},{"$error":"#DIV/0!"},{"$error":"#DIV/0!"},{"$error":"#DIV/0!"},null,null,null,"MAJ","p"]
[52,5,{"$error":"#DIV/0!"},{"$error":"#DIV/0!"},{"$error":"#DIV/0!"},{"$error":"#DIV/0!"},{"$error":"#DIV/0!"},{"$error":"#DIV/0!"},{"$error":"#DIV/0!"},{"$error":"#DIV/0!"},{"$error":"#DIV/0!"},{"$error":"#DIV/0!"},{"$error":"#DIV/0!"},{"$error":"#DIV/0!"},{"$error":"#DIV/0!"},{"$error":"#DIV/0!"},"Feriepenge-",null,null,"JUN","q"]
[53,6,{"$error":"#DIV/0!"},{"$error":"#DIV/0!"},{"$error":"#DIV/0!"},{"$error":"#DIV/0!"},{"$error":"#DIV/0!"},{"$error":"#DIV/0!"},{"$error":"#DIV/0!"},{"$error":"#DIV/0!"},{"$error":"#DIV/0!"},{"$error":"#DIV/0!"},{"$error":"#DIV/0!"},{"$error":"#DIV/0!"},{"$error":"#DIV/0!"},{"$error":"#DIV/0!"},"beregnings-",null,null,"JUL","r"]
[54,7,{"$error":"#DIV/0!"},{"$error":"#DIV/0!"},{"$error":"#DIV/0!"},{"$error":"#DIV/0!"},{"$error":"#DIV/0!"},{"$error":"#DIV/0!"},{"$error":"#DIV/0!"},{"$error":"#DIV/0!"},{"$error":"#DIV/0!"},{"$error":"#DIV/0!"},{"$error":"#DIV/0!"},{"$error":"#DIV/0!"},{"$error":"#DIV/0!"},{"$error":"#DIV/0!"},"grundlag"]
[55,8,{"$error":"#DIV/0!"},{"$error":"#DIV/0!"},{"$error":"#DIV/0!"},{"$error":"#DIV/0!"},{"$error":"#DIV/0!"},{"$error":"#DIV/0!"},{"$error":"#DIV/0!"},{"$error":"#DIV/0!"},{"$error":"#DIV/0!"},{"$error":"#DIV/0!"},{"$error":"#DIV/0!"},{"$error":"#DIV/0!"},{"$error":"#DIV/0!"},{"$error":"#DIV/0!"},{"$f":"Q11","v":2023}]
[56,9,{"$error":"#DIV/0!"},{"$error":"#DIV/0!"},{"$error":"#DIV/0!"},{"$error":"#DIV/0!"},{"$error":"#DIV/0!"},{"$error":"#DIV/0!"},{"$error":"#DIV/0!"},{"$error":"#DIV/0!"},{"$error":"#DIV/0!"},{"$error":"#DIV/0!"},{"$error":"#DIV/0!"},{"$error":"#DIV/0!"},{"$error":"#DIV/0!"},{"$error":"#DIV/0!"},{"$f":"INDIRECT($C$1&\"!\"&\"A\"&91)+SUM(D62:H62)","v":{"$error":"#DIV/0!"}}]
[57,10,{"$error":"#DIV/0!"},{"$error":"#DIV/0!"},{"$error":"#DIV/0!"},{"$error":"#DIV/0!"},{"$error":"#DIV/0!"},{"$error":"#DIV/0!"},{"$error":"#DIV/0!"},{"$error":"#DIV/0!"},{"$error":"#DIV/0!"},{"$error":"#DIV/0!"},{"$error":"#DIV/0!"},{"$error":"#DIV/0!"},{"$error":"#DIV/0!"},{"$error":"#DIV/0!"}]
[58,11,{"$error":"#DIV/0!"},{"$error":"#DIV/0!"},{"$error":"#DIV/0!"},{"$error":"#DIV/0!"},{"$error":"#DIV/0!"},{"$error":"#DIV/0!"},{"$error":"#DIV/0!"},{"$error":"#DIV/0!"},{"$error":"#DIV/0!"},{"$error":"#DIV/0!"},{"$error":"#DIV/0!"},{"$error":"#DIV/0!"},{"$error":"#DIV/0!"},{"$error":"#DIV/0!"},"Feriepenge-"]
[59,12,"",{"$f":"INDIRECT($C$1&\"!\"&D$2&$A28)","v":0},0,0,0,0,0,0,0,0,0,0,0,0,"beregnings-"]
[60,13,"",0,0,0,0,0,0,0,0,0,0,0,0,0,"grundlag"]
[61,14,"",0,0,0,0,0,0,0,0,0,0,0,0,0,{"$f":"Q17","v":2024}]
[62,15,"",0,0,0,0,0,0,0,0,0,0,0,0,0,{"$f":"SUM(I62:O62)","v":{"$error":"#DIV/0!"}}]
[63,16,{"$f":"IF(ABS(SUM(D32:O32))>0,INDIRECT($C$1&\"!f\"&A32),\"\")","v":""},0,0,0,0,0,0,0,0,0,0,0,0,0]
[64,{"$f":"B32+1","v":17},{"$error":"#DIV/0!"},{"$f":"SUM(D17:D32)","v":{"$error":"#DIV/0!"}},{"$f":"SUM(E17:E32)","v":{"$error":"#DIV/0!"}},{"$error":"#DIV/0!"},{"$error":"#DIV/0!"},{"$error":"#DIV/0!"},{"$error":"#DIV/0!"},{"$error":"#DIV/0!"},{"$error":"#DIV/0!"},{"$error":"#DIV/0!"},{"$error":"#DIV/0!"},{"$error":"#DIV/0!"},{"$error":"#DIV/0!"},{"$error":"#DIV/0!"},"Benyt oven-"]
[65,{"$f":"B33+1","v":18},"",{"$f":"INDIRECT($C$1&\"!\"&D$2&$A34)","v":0},0,0,0,0,0,0,0,0,0,0,0,0,"stående tal i "]
[66,19,"",0,0,0,0,0,0,0,0,0,0,0,0,0,"stedet for sum-"]
[67,20,"",0,0,0,0,0,0,0,0,0,0,0,0,0,"merne på"]
[68,21,"",0,0,0,0,0,0,0,0,0,0,0,0,0,"hovedarket."]
[69,22,"",0,0,0,0,0,0,0,0,0,0,0,0,0,"(lin 85 og lin 94)"]
[70,23,"",0,0,0,0,0,0,0,0,0,0,0,0,0]
[71,24,"",0,0,0,0,0,0,0,0,0,0,0,0,0]
[72,25,"",0,0,0,0,0,0,0,0,0,0,0,0,0]
[73,26,"",0,0,0,0,0,0,0,0,0,0,0,0,0]
[74,27,"",0,0,0,0,0,0,0,0,0,0,0,0,0]
[75,28,"",0,0,0,0,0,0,0,0,0,0,0,0,0]
[76,29,"",0,0,0,0,0,0,0,0,0,0,0,0,0]
[77,30,"",0,0,0,0,0,0,0,0,0,0,0,0,0]
[78,31,"",0,0,0,0,0,0,0,0,0,0,0,0,0]
[79,{"$f":"B47+1","v":32},"",{"$f":"D59/3","v":0},{"$f":"E59/3","v":0},0,0,0,0,0,0,0,0,0,0,0]
[80,33,{"$error":"#DIV/0!"},{"$f":"SUM(D17:D31)-D48","v":{"$error":"#DIV/0!"}},{"$f":"SUM(E17:E31)-E48","v":{"$error":"#DIV/0!"}},{"$error":"#DIV/0!"},{"$error":"#DIV/0!"},{"$error":"#DIV/0!"},{"$error":"#DIV/0!"},{"$error":"#DIV/0!"},{"$error":"#DIV/0!"},{"$error":"#DIV/0!"},{"$error":"#DIV/0!"},{"$error":"#DIV/0!"},{"$error":"#DIV/0!"},{"$error":"#DIV/0!"}]
[81,34,{"$error":"#DIV/0!"},{"$f":"ROUND(D49*8%,0)","v":{"$error":"#DIV/0!"}},{"$f":"ROUND(E49*8%,0)","v":{"$error":"#DIV/0!"}},{"$error":"#DIV/0!"},{"$error":"#DIV/0!"},{"$error":"#DIV/0!"},{"$error":"#DIV/0!"},{"$error":"#DIV/0!"},{"$error":"#DIV/0!"},{"$error":"#DIV/0!"},{"$error":"#DIV/0!"},{"$error":"#DIV/0!"},{"$error":"#DIV/0!"},{"$error":"#DIV/0!"}]
[82,35,{"$error":"#DIV/0!"},{"$f":"D49-D50","v":{"$error":"#DIV/0!"}},{"$f":"E49-E50","v":{"$error":"#DIV/0!"}},{"$error":"#DIV/0!"},{"$error":"#DIV/0!"},{"$error":"#DIV/0!"},{"$error":"#DIV/0!"},{"$error":"#DIV/0!"},{"$error":"#DIV/0!"},{"$error":"#DIV/0!"},{"$error":"#DIV/0!"},{"$error":"#DIV/0!"},{"$error":"#DIV/0!"},{"$error":"#DIV/0!"}]
[29,36,"",0,{"$f":"INDIRECT($C$1&\"!\"&E$2&$A52)","v":0},0,0,0,0,0,0,0,0,0,0]
[28,37,"",0,0,0,0,0,0,0,0,0,0,0,0]
[{"$f":"A51+2","v":84},38,{"$error":"#DIV/0!"},{"$f":"MAX(0,TRUNC(ROUND(D51-D52,-2)*D53/100))","v":{"$error":"#DIV/0!"}},{"$f":"MAX(0,TRUNC(ROUND(E51-E52,-2)*E53/100))","v":{"$error":"#DIV/0!"}},{"$error":"#DIV/0!"},{"$error":"#DIV/0!"},{"$error":"#DIV/0!"},{"$error":"#DIV/0!"},{"$error":"#DIV/0!"},{"$error":"#DIV/0!"},{"$error":"#DIV/0!"},{"$error":"#DIV/0!"},{"$error":"#DIV/0!"},{"$error":"#DIV/0!"},{"$f":"SUM(D54:O54)","v":{"$error":"#DIV/0!"}}]
[{"$f":"A54+3","v":87},39,"",{"$f":"INDIRECT($C$1&\"!\"&D$2&$A55)","v":0},0,0,0,0,0,0,0,0,0,0,0,0]
[{"$f":"A55+1","v":88},40,"",{"$f":"D55*2","v":0},{"$f":"E55*2","v":0},0,0,0,0,0,0,0,0,0,0,0]
[89,41,"",{"$f":"D59/3*2","v":0},{"$f":"E59/3*2","v":0},0,0,0,0,0,0,0,0,0,0,0]
[90,42,"",0,0,0,0,0,0,0,0,0,0,0,0,0]
[91,43,"",{"$f":"90*(((D10*D11*(D5-D4)/D5)>=9/37)+((D10*D11*(D5-D4)/D5)>=18/37)+((D10*D11*(D5-D4)/D5)>=27/37))","v":0},{"$f":"90*(((E10*E11*(E5-E4)/E5)>=9/37)+((E10*E11*(E5-E4)/E5)>=18/37)+((E10*E11*(E5-E4)/E5)>=27/37))","v":0},{"$f":"90*(((F10*F11*(F5-F4)/F5)>=9/37)+((F10*F11*(F5-F4)/F5)>=18/37)+((F10*F11*(F5-F4)/F5)>=27/37))","v":0},{"$f":"90*(((G10*G11*(G5-G4)/G5)>=9/37)+((G10*G11*(G5-G4)/G5)>=18/37)+((G10*G11*(G5-G4)/G5)>=27/37))","v":0},{"$f":"90*(((H10*H11*(H5-H4)/H5)>=9/37)+((H10*H11*(H5-H4)/H5)>=18/37)+((H10*H11*(H5-H4)/H5)>=27/37))","v":0},{"$f":"284/3*(((I10*I11*(I5-I4)/I5)>=9/37)+((I10*I11*(I5-I4)/I5)>=18/37)+((I10*I11*(I5-I4)/I5)>=27/37))","v":0},{"$f":"284/3*(((J10*J11*(J5-J4)/J5)>=9/37)+((J10*J11*(J5-J4)/J5)>=18/37)+((J10*J11*(J5-J4)/J5)>=27/37))","v":0},0,0,0,0,0,0]
[92,44,{"$error":"#DIV/0!"},{"$f":"IF(D33>0,INDIRECT($C$1&\"!\"&D$2&$A60),0)","v":{"$error":"#DIV/0!"}},{"$f":"IF(E33>0,INDIRECT($C$1&\"!\"&E$2&$A60),0)","v":{"$error":"#DIV/0!"}},{"$error":"#DIV/0!"},{"$error":"#DIV/0!"},{"$error":"#DIV/0!"},{"$error":"#DIV/0!"},{"$error":"#DIV/0!"},{"$error":"#DIV/0!"},{"$error":"#DIV/0!"},{"$error":"#DIV/0!"},{"$error":"#DIV/0!"},{"$error":"#DIV/0!"},{"$error":"#DIV/0!"}]
[93,45,{"$error":"#DIV/0!"},{"$f":"D33-D48-D50-D54-D60","v":{"$error":"#DIV/0!"}},{"$f":"E33-E48-E50-E54-E60","v":{"$error":"#DIV/0!"}},{"$error":"#DIV/0!"},{"$error":"#DIV/0!"},{"$error":"#DIV/0!"},{"$error":"#DIV/0!"},{"$error":"#DIV/0!"},{"$error":"#DIV/0!"},{"$error":"#DIV/0!"},{"$error":"#DIV/0!"},{"$error":"#DIV/0!"},{"$error":"#DIV/0!"},{"$error":"#DIV/0!"}]
[null,null,"Feriepengeberegningsgrundlag",{"$f":"SUM(D17:D31)+D47*(1-12/260*INDIRECT($C$1&\"!\"&D$2&\"23\"))","v":{"$error":"#DIV/0!"}},{"$f":"SUM(E17:E31)+E47*(1-12/260*INDIRECT($C$1&\"!\"&E$2&\"23\"))","v":{"$error":"#DIV/0!"}},{"$error":"#DIV/0!"},{"$error":"#DIV/0!"},{"$error":"#DIV/0!"},{"$error":"#DIV/0!"},{"$error":"#DIV/0!"},{"$error":"#DIV/0!"},{"$error":"#DIV/0!"},{"$error":"#DIV/0!"},{"$error":"#DIV/0!"},{"$error":"#DIV/0!"}]

{"sheet":"LonspecAndreAar","index":5,"n_rows":79,"n_cols":21,"rows_kept":79,"cut":false,"hidden":false,"merged":[]}
[null,"Ark:","Q","fx: Q",null,null,null,null,null,null,null,null,null,null,null,null,"Gule felter herunder"]
["Måned:",null,"aug","g","h","i","j","k","l","m","n","o","p","q","r",null,"er kladdeområde, som"]
[null,null,null,null,null,null,null,null,null,null,null,null,null,null,null,null,"ikke er med i udskriften"]
[1,null,"LØNSPECIFIKATION for",{"$f":"INDIRECT($C$1&\"!\"&D$2&$A4)","v":"Q"},{"$f":"INDIRECT($C$1&\"!\"&E$2&$A4)","v":"Q"},"Q","Q","Q","Q","Q","Q","Q","Q","Q","Q","HELE"]
[2,null,"STILLINGSBETEGNELSE:","Pædagog","Pædagog","Pædagog","Pædagog","Pædagog","Pædagog","Pædagog","Pædagog","Pædagog","Pædagog","Pædagog","Pædagog"]
[3,null,"LØNPERIODE: ","AUG 23",{"$f":"INDIRECT($C$1&\"!\"&E$2&$A6)","v":"SEP 23"},"OKT 23","NOV 23","DEC 23","JAN 24","FEB 24","MAR 24","APR 24","MAJ 24","JUN 24","JUL 24","SKOLEÅRET",null,null,null,"AUG","g"]
[11,null,"BESKÆFTIGELSESGRAD:",0,0,0,0,0,0,0,0,0,0,0,0,{"$f":"AVERAGE(D7:O7)","v":0},null,null,null,"SEP","h"]
[4,null,"DEL AF MÅNED:",1,1,1,1,1,1,1,1,1,1,1,1,{"$f":"SUM(D8:O8)","v":12},null,null,null,"OKT","i"]
[10,null,"STEDTILLÆGSOMRÅDE",0,0,0,0,0,0,0,0,0,0,0,0,{"$f":"SUM(D9:M9)","v":0},null,null,null,"NOV","j"]
[12,null,"SKALATRIN",0,0,0,0,0,0,0,0,0,0,0,0,null,null,null,null,"DEC","k"]
[5,null,"PENSIONSPROCENT",0,0,0,0,0,0,0,0,0,0,0,0,null,null,null,null,"JAN","l"]
[null,"Lin:",null,null,null,null,null,null,null,null,null,null,null,null,null,null,null,null,null,"FEB","m"]
[{"$f":"LonspecAndre!A14","v":49},1,{"$f":"IF(ABS(SUM(D13:O13))>0,INDIRECT($C$1&\"!f\"&A13),\"\")","v":""},{"$f":"INDIRECT($C$1&\"!\"&D$2&$A13)","v":0},0,0,0,0,0,0,0,0,0,0,0,{"$f":"SUM(D13:O13)","v":0},null,null,null,"MAR","n"]
[{"$f":"LonspecAndre!A15","v":50},{"$f":"B13+1","v":2},{"$f":"IF(ABS(SUM(D14:O14))>0,INDIRECT($C$1&\"!f\"&A14),\"\")","v":""},0,0,0,0,0,0,0,0,0,0,0,0,0,null,null,null,"APR","o"]
[{"$f":"LonspecAndre!A16","v":51},{"$f":"B14+1","v":3},"",0,0,0,0,0,0,0,0,0,0,0,0,0,null,null,null,"MAJ","p"]
[{"$f":"LonspecAndre!A17","v":52},4,"",0,0,0,0,0,0,0,0,0,0,0,0,0,null,null,null,"JUN","q"]
[{"$f":"LonspecAndre!A18","v":53},5,"",0,0,0,0,0,0,0,0,0,0,0,0,0,null,null,null,"JUL","r"]
[{"$f":"LonspecAndre!A19","v":54},6,"",0,0,0,0,0,0,0,0,0,0,0,0,0]
[{"$f":"LonspecAndre!A20","v":55},7,"",0,0,0,0,0,0,0,0,0,0,0,0,0]
[{"$f":"LonspecAndre!A21","v":56},8,"",0,0,0,0,0,0,0,0,0,0,0,0,0]
[{"$f":"LonspecAndre!A22","v":57},9,"",0,0,0,0,0,0,0,0,0,0,0,0,0]
[{"$f":"LonspecAndre!A23","v":58},10,"",0,0,0,0,0,0,0,0,0,0,0,0,0]
[{"$f":"LonspecAndre!A24","v":59},11,"",0,0,0,0,0,0,0,0,0,0,0,0,0]
[{"$f":"LonspecAndre!A25","v":60},12,"",0,0,0,0,0,0,0,0,0,0,0,0,0]
[{"$f":"LonspecAndre!A26","v":61},13,"",{"$f":"INDIRECT($C$1&\"!\"&D$2&$A25)","v":0},0,0,0,0,0,0,{"$f":"INDIRECT($C$1&\"!\"&K$2&$A25)","v":0},0,0,0,0,0]
[{"$f":"LonspecAndre!A27","v":62},14,"",{"$f":"INDIRECT($C$1&\"!\"&D$2&$A26)","v":0},0,0,0,0,0,0,0,0,0,0,0,0]
[{"$f":"LonspecAndre!A28","v":63},{"$f":"B26+1","v":15},{"$f":"IF(ABS(SUM(D27:O27))>0,INDIRECT($C$1&\"!f\"&A27),\"\")","v":""},0,0,0,0,0,0,0,0,0,0,0,0]
[{"$f":"LonspecAndre!A29","v":64},{"$f":"B27+1","v":16},{"$f":"IF(ABS(SUM(D28:O28))>0,LEFT(INDIRECT($C$1&\"!f\"&A28),36),\"\")","v":""},0,0,0,0,0,0,0,0,0,0,0,0,0]
[{"$f":"LonspecAndre!A30","v":65},{"$f":"B28+1","v":17},{"$f":"IF(ABS(SUM(D29:O29))>0,LEFT(INDIRECT($C$1&\"!f\"&A29),36),\"\")","v":""},0,0,0,0,0,0,0,0,0,0,0,0,0]
[{"$f":"LonspecAndre!A31","v":66},{"$f":"B29+1","v":18},"",0,0,0,0,0,0,0,0,0,0,0,0,0]
[{"$f":"LonspecAndre!A32","v":67},{"$f":"B30+1","v":19},"",0,0,0,0,0,0,0,0,0,0,0,0,0]
[{"$f":"LonspecAndre!A33","v":68},{"$f":"B31+1","v":20},"",0,0,0,0,0,0,0,0,0,0,0,0,0]
[{"$f":"LonspecAndre!A34","v":69},{"$f":"B32+1","v":21},"",0,0,0,0,0,0,0,0,0,0,0,0,0]
[{"$f":"LonspecAndre!A35","v":35},{"$f":"B33+1","v":22},"",0,0,0,0,0,0,0,0,0,0,0,0,0]
[{"$f":"LonspecAndre!A36","v":36},{"$f":"B34+1","v":23},"",0,0,0,0,0,0,0,0,0,0,0,0,0]
[{"$f":"LonspecAndre!A37","v":37},{"$f":"B35+1","v":24},"",0,0,0,0,0,0,0,0,0,0,0,0,0]
[{"$f":"LonspecAndre!A38","v":38},{"$f":"B36+1","v":25},"",{"$f":"IF(ISNUMBER(INDIRECT($C$1&\"!\"&D$2&$A37)),INDIRECT($C$1&\"!\"&D$2&$A37),0)","v":0},{"$f":"IF(ISNUMBER(INDIRECT($C$1&\"!\"&E$2&$A37)),INDIRECT($C$1&\"!\"&E$2&$A37),0)","v":0},0,0,0,0,0,0,0,0,0,{"$f":"IF(ISNUMBER(INDIRECT($C$1&\"!\"&O$2&$A37)),INDIRECT($C$1&\"!\"&O$2&$A37),0)","v":0},0]
[{"$f":"LonspecAndre!A39","v":39},{"$f":"B37+1","v":26},"",0,0,0,0,0,0,0,0,0,0,0,0,0]
[{"$f":"LonspecAndre!A40","v":40},{"$f":"B38+1","v":27},"",0,0,0,0,0,0,0,0,0,0,0,0,0]
[{"$f":"LonspecAndre!A41","v":41},{"$f":"B39+1","v":28},"",0,0,0,0,0,0,0,0,0,0,0,0,0]
[{"$f":"LonspecAndre!A42","v":42},{"$f":"B40+1","v":29},"",0,0,0,0,0,0,0,0,0,0,0,0,0]
[{"$f":"LonspecAndre!A43","v":43},{"$f":"B41+1","v":30},"",0,0,0,0,0,0,0,0,0,0,0,0,0]
[{"$f":"LonspecAndre!A45","v":70},{"$f":"B42+1","v":31},"",0,{"$f":"INDIRECT($C$1&\"!\"&E$2&$A43)","v":0},0,0,0,0,0,0,0,0,0,0,0]
[{"$f":"LonspecAndre!A46","v":71},{"$f":"B43+1","v":32},"",0,0,0,0,0,0,0,0,0,0,0,0,0]
[{"$f":"LonspecAndre!A47","v":72},33,"",0,0,0,0,0,0,0,0,0,0,0,0,0]
[{"$f":"LonspecAndre!A48","v":73},34,"",0,0,0,0,0,0,0,0,0,0,0,0,0]
[{"$f":"LonspecAndre!A49","v":74},35,"",0,0,0,0,0,0,0,0,0,0,0,0,0]
[{"$f":"LonspecAndre!A50","v":75},36,"",0,0,0,0,0,0,0,0,0,0,0,0,0]
[{"$f":"LonspecAndre!A51","v":76},37,"",0,0,0,0,0,0,0,0,0,0,0,0]
[{"$f":"LonspecAndre!A52","v":77},38,"",0,0,0,0,0,0,0,0,0,0,0,0]
[{"$f":"LonspecAndre!A53","v":78},39,"",0,0,0,0,0,0,0,0,0,0,0,0,{"$f":"SUM(D51:O51)","v":0}]
[{"$f":"LonspecAndre!A54","v":79},40,"",0,0,0,0,0,0,0,0,0,0,0,0,0]
[{"$f":"LonspecAndre!A55","v":80},41,"",0,0,0,0,0,0,0,0,0,0,0,0,0]
[{"$f":"LonspecAndre!A56","v":81},42,"",0,0,0,0,0,0,0,0,0,0,0,0,0]
[{"$f":"LonspecAndre!A57","v":82},43,"",0,0,0,0,0,0,0,0,0,0,0,0,0]
[{"$f":"LonspecAndre!A58","v":83},44,"",0,0,0,0,0,0,0,0,0,0,0,0,0]
[{"$f":"LonspecAndre!A59","v":84},45,"",0,0,0,0,0,0,0,0,0,0,0,0,0]
[{"$f":"LonspecAndre!A60","v":85},46,"",0,0,0,0,0,0,0,0,0,0,0,0,0]
[{"$f":"LonspecAndre!A61","v":86},47,{"$f":"IF(ABS(SUM(D59:O59))>0,INDIRECT($C$1&\"!f\"&A59),\"\")","v":""},0,0,0,0,0,0,0,0,0,0,0,0,{"$f":"SUM(D59:O59)","v":0}]
[{"$f":"LonspecAndre!A62","v":87},48,{"$f":"IF(ABS(SUM(D60:O60))>0,INDIRECT($C$1&\"!f\"&A60),\"\")","v":""},0,{"$f":"INDIRECT($C$1&\"!\"&E$2&$A60)","v":0},0,0,0,0,0,0,0,0,0,0,{"$f":"SUM(D60:O60)","v":0}]
[{"$f":"LonspecAndre!A63","v":88},{"$f":"B60+1","v":49},{"$f":"IF(ABS(SUM(D61:O61))>0,INDIRECT($C$1&\"!f\"&A61),\"\")","v":""},0,0,0,0,0,0,0,0,0,0,0,0]
[{"$f":"LonspecAndre!A64","v":89},{"$f":"B61+1","v":50},{"$f":"IF(ABS(SUM(D62:O62))>0,INDIRECT($C$1&\"!f\"&A62),\"\")","v":""},{"$f":"INDIRECT($C$1&\"!\"&D$2&$A62)","v":0},0,0,0,0,0,0,0,0,0,0,0]
[{"$f":"LonspecAndre!A65","v":29},{"$f":"B62+1","v":51},{"$f":"IF(ABS(SUM(D63:O63))>0,INDIRECT($C$1&\"!f\"&A63),\"\")","v":""},{"$f":"INDIRECT($C$1&\"!\"&D$2&$A63)","v":0},0,0,0,0,0,0,0,0,0,0,0]
[{"$f":"LonspecAndre!A66","v":30},{"$f":"B63+1","v":52},"",{"$f":"INDIRECT($C$1&\"!\"&D$2&$A64)","v":0},0,0,0,0,0,0,0,0,0,0,0,{"$f":"SUM(D64:O64)","v":0}]
[{"$f":"LonspecAndre!A67","v":90},{"$f":"B64+1","v":53},{"$f":"IF(ABS(SUM(D65:O65))>0,INDIRECT($C$1&\"!f\"&A65),\"\")","v":""},0,0,0,0,0,0,0,0,0,0,0,0]
[{"$f":"LonspecAndre!A68","v":91},{"$f":"B65+1","v":54},"",0,0,0,0,0,0,0,0,0,0,0,0,0]
[{"$f":"LonspecAndre!A69","v":92},{"$f":"B66+1","v":55},"",0,0,0,0,0,0,0,0,0,0,0,0,0]
[{"$f":"LonspecAndre!A70","v":93},{"$f":"B67+1","v":56},"",0,0,0,0,0,0,0,0,0,0,0,0,0]
[{"$f":"LonspecAndre!A71","v":94},{"$f":"B68+1","v":57},"",0,0,0,0,0,0,0,0,0,0,0,0,0]
[{"$f":"LonspecAndre!A72","v":95},{"$f":"B69+1","v":58},"",0,0,0,0,0,0,0,0,0,0,0,0,0]
[{"$f":"LonspecAndre!A73","v":97},{"$f":"B70+1","v":59},{"$f":"IF(ABS(SUM(D71:O71))>0,INDIRECT($C$1&\"!f\"&A71),\"\")","v":""},0,0,0,0,0,0,0,0,0,0,0,0]
[{"$f":"LonspecAndre!A74","v":96},{"$f":"B71+1","v":60},"",0,0,0,0,0,0,0,0,0,0,0,0,0]
[{"$f":"LonspecAndre!A75","v":98},{"$f":"B72+1","v":61},"",0,0,0,0,0,0,0,0,0,0,0,0,0]
[{"$f":"LonspecAndre!A76","v":99},{"$f":"B73+1","v":62},"",0,0,0,0,0,0,0,0,0,0,0,0,0]
[{"$f":"LonspecAndre!A77","v":44},{"$f":"B74+1","v":63},"",0,0,0,0,0,0,0,0,0,0,0,0,0]
[{"$f":"LonspecAndre!A78","v":45},{"$f":"B75+1","v":64},"",{"$f":"INDIRECT($C$1&\"!\"&D$2&$A76)","v":0},{"$f":"INDIRECT($C$1&\"!\"&E$2&$A76)-SUM(E73:E75)","v":0},0,0,0,0,0,0,0,0,0,0,0]
[{"$f":"LonspecAndre!A79","v":46},{"$f":"B76+1","v":65},"",{"$f":"INDIRECT($C$1&\"!\"&D$2&$A77)","v":0},{"$f":"INDIRECT($C$1&\"!\"&E$2&$A77)-SUM(E74:E76)","v":0},0,0,0,0,0,0,0,0,0,0,{"$f":"SUM(D77:O77)","v":0}]
[{"$f":"LonspecAndre!A80","v":47},66,"",0,{"$f":"INDIRECT($C$1&\"!\"&E$2&$A78)-SUM(E75:E77)","v":0},0,0,0,0,0,0,0,0,0,0,0]
[100,{"$f":"B78+1","v":67},{"$f":"IF(ABS(SUM(D79:O79))>0,INDIRECT($C$1&\"!f\"&A79),\"\")","v":""},0,{"$f":"INDIRECT($C$1&\"!\"&E$2&$A79)-SUM(E76:E78)","v":0},0,0,0,0,0,0,0,0,0,0,0]

{"sheet":"LonspecAndreAlle","index":6,"n_rows":82,"n_cols":19,"rows_kept":82,"cut":false,"hidden":false,"merged":[]}
["Ark:",null,null,"Q","R","S","T","U","V","W","X","Y","Z"]
[null,null,"Hvis fanebladsnavnene er omdøbt, skal de gule felter i linie 1 ligeledes omdøbes manuelt. Det forudsættes at arknavnet i kolonne D er reelt eksisterende, da ledeteksterne i kolonne C tages herfra. (Fanenavne må ikke indeholde mellemrum.)",null,null,null,null,null,null,null,null,null,null,null,"Gule felter herunder"]
[null,"Måned:","AUG","fx: AUG (Kun 3 STORE bogstaver!)",null,null,null,null,null,null,null,null,null,null,"er kladdeområde, som"]
[null,null,null,null,null,null,null,null,null,null,null,null,null,null,"ikke er med i udskriften"]
[1,null,"LØNSPECIFIKATION for",{"$f":"INDIRECT(D$1&\"!\"&VLOOKUP($C$3,mdr,2,0)&$A5)","v":"Q"},"R","S","T","U","V","W","X","Y","Z","ALLE"]
[2,null,"STILLINGSBETEGNELSE:","Pædagog","Pædagog","Pædagog","Pædagog","Pædagog","Pædagog","Pædagog","Pædagog","Pædagog","Pædagog"]
[3,null,"LØNPERIODE: ","AUG 23","AUG 23","AUG 23","AUG 23","AUG 23","AUG 23","AUG 23","AUG 23","AUG 23","AUG 23",{"$f":"INDIRECT(D$1&\"!\"&VLOOKUP($C$3,mdr,2,0)&$A7)","v":"AUG 23"},null,null,null,"AUG","g"]
[11,null,"BESKÆFTIGELSESGRAD:",0,0,0,0,0,0,0,0,0,0,{"$f":"SUM(D8:M8)","v":0},null,null,null,"SEP","h"]
[4,null,"DEL AF MÅNED:",1,1,1,1,1,1,1,1,1,1,null,null,null,null,"OKT","i"]
[12,null,"SKALATRIN",0,0,0,0,0,0,0,0,0,0,{"$f":"SUM(D10:M10)","v":0},null,null,null,"NOV","j"]
[10,null,"STEDTILLÆGSOMRÅDE",0,0,0,0,0,0,0,0,0,0,null,null,null,null,"DEC","k"]
[5,null,"PENSIONSPROCENT",0,0,0,0,0,0,0,0,0,0,null,null,null,null,"JAN","l"]
[null,"Lin:",null,null,null,null,null,null,null,null,null,null,null,null,null,null,null,"FEB","m"]
[49,1,{"$f":"IF(ABS(SUM(D14:M14))>0,INDIRECT($D$1&\"!f\"&A14),\"\")","v":""},{"$f":"INDIRECT(D$1&\"!\"&VLOOKUP($C$3,mdr,2,0)&$A14)","v":0},0,0,0,0,0,0,0,0,0,{"$f":"SUM(D14:M14)","v":0},null,null,null,"MAR","n"]
[{"$f":"A14+1","v":50},{"$f":"B14+1","v":2},{"$f":"IF(ABS(SUM(D15:M15))>0,INDIRECT($D$1&\"!f\"&A15),\"\")","v":""},0,0,0,0,0,0,0,0,0,0,0,null,null,null,"APR","o"]
[{"$f":"A15+1","v":51},{"$f":"B15+1","v":3},"",0,0,0,0,0,0,0,0,0,0,0,null,null,null,"MAJ","p"]
[52,4,"",0,0,0,0,0,0,0,0,0,0,0,null,null,null,"JUN","q"]
[53,5,"",0,0,0,0,0,0,0,0,0,0,0,null,null,null,"JUL","r"]
[54,6,"",0,0,0,0,0,0,0,0,0,0,0]
[55,7,"",0,0,0,0,0,0,0,0,0,0,0]
[56,8,"",0,0,0,0,0,0,0,0,0,0,0]
[57,9,"",0,0,0,0,0,0,0,0,0,0,0]
[58,10,"",0,0,0,0,0,0,0,0,0,0,0]
[59,11,"",{"$f":"INDIRECT(D$1&\"!\"&VLOOKUP($C$3,mdr,2,0)&$A24)","v":0},0,0,0,0,0,0,0,0,0,0]
[60,12,"",0,0,0,0,0,0,0,0,0,0,0]
[61,13,"",0,0,0,0,0,0,0,0,0,0,0]
[62,14,"",0,0,0,0,0,0,0,0,0,0,0]
[63,15,"",0,0,0,0,0,0,0,0,0,0,0]
[64,16,{"$f":"IF(ABS(SUM(D29:M29))>0,LEFT(INDIRECT($D$1&\"!f\"&A29),36),\"\")","v":""},{"$f":"INDIRECT(D$1&\"!\"&VLOOKUP($C$3,mdr,2,0)&$A29)*INDIRECT(D$1&\"!\"&IF(FIND($C$3,\"AUGSEPOKTNOVDECJANFEBMARAPRMAJJUNJUL\",1)>15,\"E\",\"D\")&$A29)","v":0},0,0,0,0,0,0,0,0,0,0]
[65,17,{"$f":"IF(ABS(SUM(D30:M30))>0,LEFT(INDIRECT($D$1&\"!f\"&A30),36),\"\")","v":""},0,0,0,0,0,0,0,0,0,0,0]
[66,18,"",0,0,0,0,0,0,0,0,0,0,0]
[67,19,"",{"$f":"IF(INDIRECT(D$1&\"!\"&VLOOKUP($C$3,mdr,2,0)&$A32)<>0,MIN(8000,INDIRECT(D$1&\"!\"&VLOOKUP($C$3,mdr,2,0)&$A32)),0)","v":0},0,0,0,0,0,0,0,0,0,0]
[68,{"$f":"B32+1","v":20},"",0,0,0,0,0,0,0,0,0,0,0]
[69,21,"",0,0,0,0,0,0,0,0,0,0,0]
[35,22,"",{"$f":"INDIRECT(D$1&\"!\"&VLOOKUP($C$3,mdr,2,0)&$A35)","v":0},0,0,0,0,0,0,0,0,0,0]
[36,23,"",0,0,0,0,0,0,0,0,0,0,0]
[37,24,"",0,0,0,0,0,0,0,0,0,0,0]
[38,25,"",{"$f":"IF(ISNUMBER(INDIRECT(D$1&\"!\"&VLOOKUP($C$3,mdr,2,0)&$A38)),INDIRECT(D$1&\"!\"&VLOOKUP($C$3,mdr,2,0)&$A38),0)","v":0},0,0,0,0,0,0,0,0,0,0]
[39,26,"",0,0,0,0,0,0,0,0,0,0,0]
[40,27,"",0,0,0,0,0,0,0,0,0,0,0]
[41,28,"",0,0,0,0,0,0,0,0,0,0,0]
[42,29,"",0,0,0,0,0,0,0,0,0,0,0]
[43,30,"",0,0,0,0,0,0,0,0,0,0,0]
[44,{"$f":"B43+1","v":31},"",0,0,0,0,0,0,0,0,0,0,0]
[70,{"$f":"B44+1","v":32},"",{"$f":"INDIRECT(D$1&\"!\"&VLOOKUP($C$3,mdr,2,0)&$A45)","v":0},0,0,0,0,0,0,0,0,0,0]
[71,33,"",0,0,0,0,0,0,0,0,0,0,0]
[72,34,"",0,0,0,0,0,0,0,0,0,0,0]
[73,35,"",0,0,0,0,0,0,0,0,0,0,0]
[74,36,"",0,0,0,0,0,0,0,0,0,0,0]
[75,37,"",0,0,0,0,0,0,0,0,0,0,0]
[76,38,"",0,0,0,0,0,0,0,0,0,0,0]
[77,39,"",0,0,0,0,0,0,0,0,0,0,0]
[78,40,"",0,0,0,0,0,0,0,0,0,0,0]
[79,41,"",0,0,0,0,0,0,0,0,0,0,0]
[80,42,"",0,0,0,0,0,0,0,0,0,0,0]
[81,43,"",0,0,0,0,0,0,0,0,0,0,0]
[82,44,"",0,0,0,0,0,0,0,0,0,0,0]
[83,{"$f":"B57+1","v":45},"",0,0,0,0,0,0,0,0,0,0,0]
[84,46,"",0,0,0,0,0,0,0,0,0,0,0]
[85,47,"",0,0,0,0,0,0,0,0,0,0,0]
[86,48,"",0,0,0,0,0,0,0,0,0,0,0]
[87,49,"",0,0,0,0,0,0,0,0,0,0]
[{"$f":"A62+1","v":88},50,"",{"$f":"INDIRECT(D$1&\"!\"&VLOOKUP($C$3,mdr,2,0)&$A63)","v":0},0,0,0,0,0,0,0,0,0]
[{"$f":"A63+1","v":89},51,"",0,0,0,0,0,0,0,0,0,0,0]
[29,52,"",0,0,0,0,0,0,0,0,0,0,0]
[30,53,"",0,0,0,0,0,0,0,0,0,0,0]
[90,54,"",0,0,0,0,0,0,0,0,0,0,0]
[91,55,"",0,0,0,0,0,0,0,0,0,0,0]
[{"$f":"A68+1","v":92},56,"",0,0,0,0,0,0,0,0,0,0,0]
[93,57,"",0,0,0,0,0,0,0,0,0,0,0]
[94,58,"",0,0,0,0,0,0,0,0,0,0,0]
[95,59,{"$f":"IF(ABS(SUM(D72:M72))>0,INDIRECT($D$1&\"!f\"&A72),\"\")","v":""},0,0,0,0,0,0,0,0,0,0,0]
[97,60,"",0,0,0,0,0,0,0,0,0,0,0]
[96,61,"",0,0,0,0,0,0,0,0,0,0,0]
[98,62,"",0,0,0,0,0,0,0,0,0,0,0]
[99,63,{"$f":"IF(ABS(SUM(D76:M76))>0,INDIRECT($D$1&\"!f\"&A76),\"\")","v":""},0,0,0,0,0,0,0,0,0,0,{"$f":"SUM(D76:M76)","v":0}]
[44,64,"",0,0,0,0,0,0,0,0,0,0,0]
[45,65,{"$f":"IF(ABS(SUM(D78:M78))>0,INDIRECT($D$1&\"!f\"&A78),\"\")","v":""},0,0,0,0,0,0,0,0,0,0,{"$f":"SUM(D78:M78)","v":0}]
[46,66,{"$f":"IF(ABS(SUM(D79:M79))>0,INDIRECT($D$1&\"!f\"&A79),\"\")","v":""},0,0,0,0,0,0,0,0,0,0,{"$f":"SUM(D79:M79)","v":0}]
[47,67,{"$f":"IF(ABS(SUM(D80:M80))>0,INDIRECT($D$1&\"!f\"&A80),\"\")","v":""},0,0,0,0,0,0,0,0,0,0,{"$f":"SUM(D80:M80)","v":0}]
[100,68,"",{"$f":"INDIRECT(D$1&\"!\"&VLOOKUP($C$3,mdr,2,0)&$A81)","v":0},0,0,0,0,0,0,0,0,0,0]
[null,null,"Hvis ikke der er brug for alle kolonner, kan de overflødige slettes. Nye kolonner kan indsættes ved at kopiere en eksisterende kolonne til en kolonne mellem den første og den sidste, og derefter udfylde linie 1, så det svarer til arknavnet."]

{"sheet":"LonspecAndre","index":7,"n_rows":81,"n_cols":11,"rows_kept":81,"cut":false,"hidden":false,"merged":[[26,2,26,3],[27,2,27,3]]}
[null,"Ark:","Q","fx: Q",null,"Gule felter herunder"]
[null,"Måned:","AUG","fx: AUG (Kun 3 STORE bogstaver!)",null,"er kladdeområde, som"]
[null,null,null,null,null,"ikke er med i udskriften"]
[1,null,"LØNSPECIFIKATION for:",{"$f":"INDIRECT($C$1&\"!\"&VLOOKUP($C$2,mdr,2,0)&A4)","v":"Q"}]
[2,null,"STILLINGSBETEGNELSE:","Pædagog"]
[3,null,"LØNPERIODE: ","AUG 23",null,null,null,null,null,"AUG","g"]
[11,null,"BESKÆFTIGELSESGRAD:",0,null,null,null,null,null,"SEP","h"]
[4,null,"DEL AF MÅNED:",1,null,null,null,null,null,"OKT","i"]
[10,null,{"$f":"UPPER(IF(D9<>0,INDIRECT($C$1&\"!f\"&A9),\"\"))&\":\"","v":":"},0,null,null,null,null,null,"NOV","j"]
[12,null,{"$f":"UPPER(IF(D10<>0,INDIRECT($C$1&\"!f\"&A10),\"\"))&\":\"","v":":"},0,null,null,null,null,null,"DEC","k"]
[5,null,{"$f":"UPPER(IF(D11<>0,INDIRECT($C$1&\"!f\"&A11),\"\"))&\":\"","v":":"},0,null,null,null,null,null,"JAN","l"]
[9,null,{"$f":"UPPER(IF(D12<>0,INDIRECT($C$1&\"!f\"&A12),\"\"))&\":\"","v":"PROCENTREGULERING +1:"},1.1553389999999999,null,null,null,null,null,"FEB","m"]
[null,"Lin:",null,null,null,null,null,null,null,"MAR","n"]
[49,1,{"$f":"IF(E14<>0,INDIRECT($C$1&\"!f\"&A14),\"\")","v":""},{"$f":"IF(E14<>0,INDIRECT($C$1&\"!\"&VLOOKUP($C$2,mdr,2,0)&A14+106),\"\")","v":""},{"$f":"INDIRECT($C$1&\"!\"&VLOOKUP($C$2,mdr,2,0)&A14)","v":0},null,null,null,null,"APR","o"]
[{"$f":"A14+1","v":50},{"$f":"B14+1","v":2},"","",0,null,null,null,null,"MAJ","p"]
[{"$f":"A15+1","v":51},{"$f":"B15+1","v":3},"","",0,null,null,null,null,"JUN","q"]
[52,4,"","",0,null,null,null,null,"JUL","r"]
[53,5,"","",0]
[54,6,"","",0]
[55,7,"","",0]
[56,8,"","",0]
[57,9,"","",0]
[58,10,"","",0]
[59,11,"","",0]
[60,12,"","",0]
[61,13,"","",0]
[62,14,"",null,0]
[63,15,"",null,0]
[64,16,{"$f":"IF(E29<>0,INDIRECT($C$1&\"!f\"&A29),\"\")","v":""},null,{"$f":"INDIRECT($C$1&\"!\"&VLOOKUP($C$2,mdr,2,0)&A29)","v":0}]
[65,17,"",null,0]
[66,18,{"$f":"IF(E31<>0,INDIRECT($C$1&\"!f\"&A31),\"\")","v":""},null,{"$f":"INDIRECT($C$1&\"!\"&VLOOKUP($C$2,mdr,2,0)&A31)","v":0}]
[67,19,"",{"$f":"IF(E32<>0,\"Spørg administrationen for beregning!\",\"\")","v":""},{"$f":"IF(INDIRECT($C$1&\"!\"&VLOOKUP($C$2,mdr,2,0)&A32)<>0,MIN(8000,INDIRECT($C$1&\"!\"&VLOOKUP($C$2,mdr,2,0)&A32)),0)","v":0}]
[68,20,"",{"$f":"IF(E33<>0,\"Skattefri\",\"\")","v":""},0]
[69,21,"",{"$f":"IF(E34<>0,\"skattepligtig del!\",\"\")","v":""},0]
[35,22,"",{"$f":"IF(E35<>0,\"Spørg administrationen for beregning!\",\"\")","v":""},0]
[36,23,"","",0]
[37,24,"","",0]
[38,25,"",{"$f":"IF(E38<>0,\"Spørg administrationen for beregning!\",\"\")","v":""},{"$f":"IF(ISNUMBER(INDIRECT($C$1&\"!\"&VLOOKUP($C$2,mdr,2,0)&A38)),INDIRECT($C$1&\"!\"&VLOOKUP($C$2,mdr,2,0)&A38),0)","v":0}]
[39,26,"","",0]
[40,27,"",{"$f":"IF(E40<>0,\"Iflg. resultatlønsaftale\",\"\")","v":""},0]
[41,28,"","",0]
[42,29,"","",0]
[43,30,"",null,{"$f":"INDIRECT($C$1&\"!\"&VLOOKUP($C$2,mdr,2,0)&A43)","v":0}]
[44,31,"",null,{"$f":"INDIRECT($C$1&\"!\"&VLOOKUP($C$2,mdr,2,0)&A44)","v":0}]
[70,31,"",null,{"$f":"INDIRECT($C$1&\"!\"&VLOOKUP($C$2,mdr,2,0)&A45)","v":0},null,null,{"$f":"E45-E33-E34-E30-E31-E32","v":0}]
[71,32,"",{"$f":"IF(E46<>0,INDIRECT($C$1&\"!\"&VLOOKUP($C$2,mdr,2,0)&A46+102),\"\")","v":""},0]
[72,33,"","",0]
[73,34,"","",0]
[74,35,"","",0]
[75,36,"","",0]
[76,37,"","",0]
[77,38,"","",0]
[78,39,"","",0]
[79,40,"","",{"$f":"INDIRECT($C$1&\"!\"&VLOOKUP($C$2,mdr,2,0)&A54)","v":0}]
[80,41,"","",0]
[81,42,"","",0]
[82,43,"","",0]
[83,44,"","",0]
[84,{"$f":"B58+1","v":45},"","",0]
[85,46,"",null,0]
[86,47,"",null,0]
[87,48,"",null,0]
[{"$f":"A62+1","v":88},49,"",null,0]
[{"$f":"A63+1","v":89},50,{"$f":"IF(E64<>0,INDIRECT($C$1&\"!f\"&A64),\"\")","v":""},null,{"$f":"INDIRECT($C$1&\"!\"&VLOOKUP($C$2,mdr,2,0)&A64)","v":0}]
[29,51,"",null,0]
[30,52,"",null,0]
[90,53,"",null,0]
[91,54,"",null,0]
[{"$f":"A68+1","v":92},55,"",null,{"$f":"INDIRECT($C$1&\"!\"&VLOOKUP($C$2,mdr,2,0)&A69)","v":0}]
[93,56,"",null,0,null,null,{"$f":"H45-E29-E30-E31-E32-E33","v":0}]
[94,57,"",null,0]
[95,58,"",null,0]
[97,59,{"$f":"IF(E73<>0,INDIRECT($C$1&\"!f\"&A73),\"\")","v":""},null,0]
[96,60,"",null,0]
[98,61,{"$f":"IF(E75<>0,INDIRECT($C$1&\"!f\"&A75),\"\")","v":""},null,0]
[99,62,"",null,0]
[44,63,"",{"$f":"IF(E77<>0,\"Fradrages i den disponible løn\",\"\")","v":""},0]
[45,63,{"$f":"IF(E78<>0,INDIRECT($C$1&\"!f\"&A78),\"\")","v":""},{"$f":"IF(E78<>0,\"Fradrages i den disponible løn\",\"\")","v":""},{"$f":"INDIRECT($C$1&\"!\"&VLOOKUP($C$2,mdr,2,0)&A78)","v":0}]
[46,null,"","",0]
[47,null,{"$f":"IF(E80<>0,INDIRECT($C$1&\"!f\"&A80),\"\")","v":""},{"$f":"IF(E80<>0,\"Fradrages i den disponible løn\",\"\")","v":""},{"$f":"INDIRECT($C$1&\"!\"&VLOOKUP($C$2,mdr,2,0)&A80)","v":0}]
[100,64,"",null,0]

{"sheet":"Q","index":8,"n_rows":204,"n_cols":32,"rows_kept":204,"cut":false,"hidden":false,"merged":[[101,18,101,22],[0,2,2,2],[0,3,2,3],[0,4,2,4],[3,0,27,0],[28,0,29,0],[29,2,31,2],[44,2,46,4],[101,6,101,10]]}
["2022-2023",1,"Pensionsg.","BG-afh.","Regu-leret","Lønberegning for: (navn eller initialer)\n - variable løndele i lin. 30-43.","Q",{"$f":"G1","v":"Q"},{"$f":"H1","v":"Q"},"Q","Q","Q","Q","Q","Q","Q","Q","Q","Q",{"$f":"S1","v":"Q"},{"$f":"T1","v":"Q"},{"$f":"U1","v":"Q"},{"$f":"V1","v":"Q"},{"$f":"W1","v":"Q"},{"$f":"X1","v":"Q"},{"$f":"Y1","v":"Q"},{"$f":"Z1","v":"Q"},{"$f":"AA1","v":"Q"},{"$f":"AB1","v":"Q"},{"$f":"AC1","v":"Q"},"Udfyld gule felter (alle forudfyldte tal i gule felter er eksempler)"]
[null,{"$f":"B1+1","v":2},null,null,null,"Stillingsbetegnelse","Pædagog",{"$f":"G2","v":"Pædagog"},"Pædagog","Pædagog","Pædagog","Pædagog","Pædagog","Pædagog","Pædagog","Pædagog","Pædagog","Pædagog","Stilling",{"$f":"S2","v":"Stilling"},"Stilling","Stilling","Stilling","Stilling","Stilling","Stilling","Stilling","Stilling","Stilling","Stilling"]
[null,{"$f":"B2+1","v":3},null,null,null,"Måned",{"$f":"\"AUG \"&RIGHT(A1,2)+0","v":"AUG 23"},{"$f":"\"SEP \"&RIGHT(A1,2)+0","v":"SEP 23"},{"$f":"\"OKT \"&RIGHT(A1,2)+0","v":"OKT 23"},{"$f":"\"NOV \"&RIGHT(A1,2)+0","v":"NOV 23"},{"$f":"\"DEC \"&RIGHT(A1,2)+0","v":"DEC 23"},{"$f":"\"JAN \"&RIGHT(A1,2)+1","v":"JAN 24"},{"$f":"\"FEB \"&RIGHT(A1,2)+1","v":"FEB 24"},{"$f":"\"MAR \"&RIGHT(A1,2)+1","v":"MAR 24"},{"$f":"\"APR \"&RIGHT(A1,2)+1","v":"APR 24"},{"$f":"\"MAJ \"&RIGHT(A1,2)+1","v":"MAJ 24"},{"$f":"\"JUN \"&RIGHT(A1,2)+1","v":"JUN 24"},{"$f":"\"JUL \"&RIGHT(A1,2)+1","v":"JUL 24"},{"$f":"G3","v":"AUG 23"},{"$f":"H3","v":"SEP 23"},"OKT 23","NOV 23","DEC 23","JAN 24","FEB 24","MAR 24","APR 24","MAJ 24","JUN 24","JUL 24","ansat d. "]
[null,{"$f":"B3+1","v":4},"sæt 'x'","sæt 'x'","sæt 'x'","Del af måned \nantal kalenderdage/månedens kalenderdage",1,{"$f":"G4","v":1},{"$f":"H4","v":1},1,1,1,1,1,1,1,1,1,{"$f":"G4","v":1},1,1,1,1,1,1,1,1,1,1,1,"Hvis ansat 10 oktober: 21/31\nHvis fratrådt 15. april: 15/30",2]
[null,{"$f":"B4+1","v":5},null,null,null,"Pensionsprocent",null,{"$f":"$G5","v":0},0,0,0,0,0,0,0,0,0,0,{"$f":"G5","v":0},0,0,0,0,0,0,0,0,0,0,0,"Skriv ikke procenttegnet, fx 14,7% - skriv 14,70",3]
[null,{"$f":"B5+1","v":6},null,null,null,"Betales hele pensionen af skolen? JA/NEJ","Ja",{"$f":"G6","v":"Ja"},{"$f":"H6","v":"Ja"},"Ja","Ja","Ja","Ja","Ja","Ja","Ja","Ja","Ja",{"$f":"G6","v":"Ja"},"Ja","Ja","Ja","Ja","Ja","Ja","Ja","Ja","Ja","Ja","Ja","Se ansættelsesbrev",4]
[null,null,null,null,null,"Har den ansatte orlov uden løn men med pension?","Nej",{"$f":"G7","v":"Nej"},{"$f":"H7","v":"Nej"},"Nej","Nej","Nej","Nej","Nej","Nej","Nej","Nej","Nej"]
[null,{"$f":"B6+1","v":7},null,null,null,"Beregnes feriedifferende mv. efter Ferieaftalen i staten JA, eller efter Ferieloven NEJ","JA",{"$f":"G8","v":"JA"},"JA","JA","JA","JA","JA","JA","JA","JA","JA","JA",{"$f":"G8","v":"JA"},{"$f":"H8","v":"JA"},"JA","JA","JA","JA","JA","JA","JA","JA","JA","JA","Ferieloven: mindst 20% differende, Ferieaftalen: enhver differende",5]
[null,{"$f":"B8+1","v":8},null,null,null,"Procentregulering +1",1.1553389999999999,1.1553389999999999,1.159197,1.159197,{"$f":"J9","v":1.159197},1.159197,1.159197,1.159197,null,{"$f":"O9","v":0},{"$f":"P9","v":0},{"$f":"Q9","v":0},{"$f":"G9","v":1.1553389999999999},1.1553389999999999,1.159197,1.159197,1.159197,1.159197,1.159197,1.159197,0,0,0,0,null,6]
[null,9,null,null,null,"Skolens stedtillægsområde",null,{"$f":"G10","v":0},0,0,0,0,0,0,0,0,0,0,{"$f":"G10","v":0},0,0,0,0,0,0,0,0,0,0,0]
[null,10,null,null,null,"Beskæftigelsesgrad aktuel (Beskæftigelsesgrad løn beregnes ud fra)",null,{"$f":"G11","v":0},0,0,0,0,0,0,0,{"$f":"O11","v":0},0,0,0,0,0,0,0,0,0,0,0,0,0,0]
[null,{"$f":"B11+1","v":11},"x","x","x","Skalatrin",null,{"$f":"G12","v":0},0,0,0,0,0,0,0,0,0,0,0,0,0,0,0,0,0,0,0,0,0,0,"Statens løntabel eller HK-overenskomst-løntrin"]
[null,12,"x","x","x",{"$f":"\"Fast aftalt årlig løn \"&IF(E13<>\"\",\"i grundbeløb pr. 31.03.2012\",\"(ikke reguleret)\")","v":"Fast aftalt årlig løn i grundbeløb pr. 31.03.2012"},null,0,0,0,0,0,0,0,{"$f":"N13","v":0},0,0,0,0,0,0,0,0,0,0,0,0,0,0,0]
[null,13,"x",null,"x","Årligt sousdheftillæg eller lign. i grundbeløb",null,{"$f":"G14","v":0},0,0,0,0,0,0,0,0,0,0,0,0,0,0,0,0,0,0,0,0,0,0]
[null,14,"x",null,"x","Årligt funktionsstillæg i grundbeløb 1",null,{"$f":"G15","v":0},0,0,0,0,0,0,0,0,0,0,0,0,0,0,0,0,0,0,0,0,0,0,null,"Ja"]
[null,15,"x",null,"x","Årligt funktionsstillæg i grundbeløb 2",null,{"$f":"G16","v":0},0,0,0,0,0,0,0,0,0,0,0,0,0,0,0,0,0,0,0,0,0,0,null,"Nej"]
[null,16,"x",null,"x","Årligt funktionsstillæg i grundbeløb 3",null,{"$f":"G17","v":0},0,0,0,0,0,0,0,0,0,0,0,0,0,0,0,0,0,0,0,0,0,0]
[null,17,"x","x","x","Årligt kvalifikationsstillæg i grundbeløb 1",null,0,0,0,0,0,0,0,0,0,0,0,0,0,0,0,0,0,0,0,0,0,0,0]
[null,18,"x","x","x","Årligt kvalifikationsstillæg i grundbeløb 2",null,0,0,0,0,0,0,0,0,0,0,0,0,0,0,0,0,0,0,0,0,0,0,0]
[null,19,"x","x","x","Årligt kvalifikationsstillæg i grundbeløb 3",null,0,0,0,0,0,0,0,0,0,0,0,0,0,0,0,0,0,0,0,0,0,0,0]
[null,20,"x","x","x","Udligningstillæg i årligt grundbeløb v. 100% BG",null,0,0,0,0,0,0,0,0,0,0,0,0,0,0,0,0,0,0,0,0,0,0,0]
[null,21,null,null,null,"Gruppelivsordning betalt af af skolen som et løntillæg. Skriv det månedlige beløb!",null,0,0,0,0,0,0,0,0,0,0,0,0,0,0,0,0,0,0,0,0,0,0,0,"Spedielt ved virksomhedsoverdragelse"]
[null,22,null,null,"x","Lokalaftalt fast ulempegodtgørelse pr. måned. - (pr. 31. marts 2012)",null,{"$f":"G23","v":0},0,0,0,0,0,0,{"$f":"N23","v":0},0,0,0,0,0,0,0,0,0,0,0,0,0,0,0,"I stedet for variable arbejdstidsbestemte tillæg, iflg lokalaftale"]
[null,23,null,null,null,"Planlagte feriedage",null,null,5,null,null,null,5,null,null,null,null,15,{"$f":"G24","v":0},{"$f":"H24","v":0},5,0,0,0,5,0,0,0,0,15,"Normalt 15 dage i sommerhalvåret og 10 dage i vinterhalvåret"]
[null,24,null,null,null,".. heraf antal feriedage,\nhvortil der ikke er optjent ferieret",null,null,null,null,null,null,null,null,null,null,null,0,0,0,0,0,0,0,0,0,0,0,0,0,"Ferieloven: fradrag 4,8% pr. dag, Ferieaftalen: 4,62% pr. dag"]
[null,25,null,null,null,"Feriedifference pensionsgivende(udregnes i særskilt regneark)",null,null,null,null,null,null,null,null,null,null,null,null,0,0,0,0,0,0,0,0,0,0,0,0,"Benyttes ved beregning af feriedifferende."]
[null,26,null,null,null,"Feriedifference IKKE pensionsgivende(udregnes i særskilt regneark)",null,null,null,null,null,null,null,null,null,null,null,null,0,0,0,0,0,0,0,0,0,0,0,0,"Benyttes ved beregning af feriedifference'"]
[null,27,null,null,null,"Egenbetalte fridage",null,null,null,null,null,null,null,null,null,null,null,null,0,0,0,0,0,0,0,0,0,0,0,0,"Løn- og pensionsfradrag beregnes i lin 60 og 75"]
["Skatteop-lysninger",28,null,null,null,"Skatteprocent",null,{"$f":"G29","v":0},0,0,0,0,0,0,0,0,0,0,0,0,0,0,0,0,0,0,0,0,0,0,"Skriv ikke procenttegnet, fx 42% - skriv 42"]
[null,29,"km-\ntak-ster",{"$f":"LEFT($A$1,4)+1","v":2023},{"$f":"LEFT($A$1,4)+2","v":2024},"Månedligt skattefradrag",null,0,0,0,0,0,0,0,0,0,0,0,0,0,0,0,0,0,0,0,0,0,0,0]
[null,30,null,2.19,null,"Km.godtgørelse, lav sats (skattefri), antal km:",null,null,null,null,null,null,null,null,null,null,null,null,0,0,0,0,0,0,0,0,0,0,0,0]
[null,31,null,3.73,null,"Km.godtgørelse, høj sats (skattefri), antal km:",null,null,null,null,null,null,null,null,null,null,null,null,0,0,0,0,0,0,0,0,0,0,0,0]
[null,32,null,null,null,"Timedagpenge (skattefri) - Beregn selv",null,null,null,null,null,null,null,null,null,null,null,null,0,0,0,0,0,0,0,0,0,0,0,0,"Se løntabel"]
[null,33,null,null,null,"Jubilæumsgratiale (skattefri op til 8.000 kr.)",null,null,null,null,null,null,null,null,null,null,null,null,0,0,0,0,0,0,0,0,0,0,0,0,"Se løntabel"]
[null,34,null,null,null,"Arbejds- og arbejdstidsbestemte tillæg. Beregn selv",null,null,null,null,null,null,null,null,null,null,null,null,0,0,0,0,0,0,0,0,0,0,0,0,"”Natpenge” iflg skema, hvis ikke der er lokalaftalt godtgørelse"]
[null,35,"x",null,null,"Merarbejdsbetaling. Beregn selv",null,null,null,null,null,null,null,null,null,null,null,null,0,0,0,0,0,0,0,0,0,0,0,0,"Efter årsopgørelse eller ved fratræden"]
[null,36,null,null,null,"Overtidsbetaling. Beregn selv",null,null,null,null,null,null,null,null,null,null,null,null,0,0,0,0,0,0,0,0,0,0,0,0,"Efter årsopgørelse eller ved fratræden"]
[null,37,null,null,null,"Særlige feriedage til udbetaling. Beregn selv",null,null,null,null,null,null,null,null,null,null,null,null,{"$f":"G38","v":0},0,0,0,0,0,0,0,0,0,0,0,"Efter årsafslutning eller ved fratræden. Se pjeden \"Ferievejledning\""]
[null,38,null,null,null,{"$f":"\"Særlig ferietillæg \"&IF(G8=\"ja\",\"1,5%\",\"1,0%\"&\"\")","v":"Særlig ferietillæg 1,5%"},null,null,null,null,null,null,null,null,null,0,null,null,0,0,0,0,0,0,0,0,0,0,0,0]
[null,39,"x",null,null,"Resultatlønstillæg",null,null,null,null,null,null,null,null,null,null,null,null,0,{"$f":"H40","v":0},{"$f":"I40","v":0},{"$f":"J40","v":0},{"$f":"K40","v":0},{"$f":"L40","v":0},{"$f":"M40","v":0},{"$f":"N40","v":0},{"$f":"O40","v":0},{"$f":"P40","v":0},{"$f":"Q40","v":0},{"$f":"R40","v":0}]
[null,40,"x",null,null,"Engangs nylønstillæg",null,null,null,null,null,null,null,null,null,null,null,null,0,0,0,0,0,0,0,0,0,0,0,0]
[null,41,"x",null,null,"Praktiklærervederlag",null,null,null,null,null,null,null,null,null,null,null,null,0,0,0,0,0,0,0,0,0,0,0,0,{"$f":"45*5*7.4","v":1665}]
[null,42,null,null,null,"andet",null,null,null,null,null,null,null,null,null,null,null,null,0,0,0,0,0,0,0,0,0,0,0,0]
[null,43,null,null,null,"andet",null,null,null,null,null,null,null,null,null,null,null,null,0,0,0,0,0,0,0,0,0,0,0,0]
[null,44,"Disse tre linjer fradrages i den disponible løn",null,null,"gavekasse",null,{"$f":"G45","v":0},{"$f":"H45","v":0},0,0,0,0,0,0,0,0,0,0,0,0,0,0,0,0,0,0,0,0,0,"Fx: 'Kaffekasse'"]
[null,45,null,null,null,"kaffekasse",null,{"$f":"G46","v":0},0,0,0,0,0,0,0,0,0,0,0,0,0,0,0,0,0,0,0,0,0,0,"Fx: 'Gavekasse'"]
[null,46,null,null,null,"Fagforenings-kontingent",null,{"$f":"G47","v":0},0,0,0,0,0,0,0,0,0,0,0,0,0,0,0,0,0,0,0,0,0,0,"FX: 'Fagforeningskontingent'"]
[{"$f":"A3","v":"1904-01-01"},{"$f":"B47+1","v":47},null,null,null,"Måned",{"$f":"G3","v":"AUG 23"},"SEP 23","OKT 23","NOV 23","DEC 23","JAN 24","FEB 24","MAR 24","APR 24","MAJ 24","JUN 24","JUL 24","AUG 23","SEP 23","OKT 23","NOV 23","DEC 23","JAN 24","FEB 24","MAR 24","APR 24","MAJ 24","JUN 24","JUL 24","SUM"]
[null,48,{"$f":"(C12<>\"\")*1","v":1},1,1,{"$f":"IF(ISNUMBER(G12),\"Skalatrinsløn\",\"HK-løn\")","v":"HK-løn"},{"$f":"IF(G7=\"Ja\",0,ROUND(IF(AND(G$11>0,G12>0),ROUND((ROUND(VLOOKUP(G12,Skalalontabel12,G10,0)*G9,0))/12,2),0)*G11*G4,2))","v":0},0,0,0,0,0,0,0,0,0,0,0,{"$f":"ROUND(IF(AND(S$11>0,S12>0),ROUND((ROUND(VLOOKUP(S12,Skalalontabel12,S10,0)*S9,0))/12,2),0)*S11*S4,2)","v":0},0,0,0,0,0,0,0,0,0,0,0,{"$f":"SUM(G49:R49)","v":0}]
[null,49,1,1,1,"Fast løn",{"$f":"IF(G7=\"Ja\",0,ROUND(IF(G13>0,G13/12)*IF($D13<>\"\",G$11,1)*IF($E13<>\"\",G$9,1)*G4,2))","v":0},0,0,0,0,0,0,0,0,0,0,0,{"$f":"ROUND(IF(S13>0,S13/12)*IF($D13<>\"\",S$11,1)*IF($E13<>\"\",S$9,1)*S4,2)","v":0},0,0,0,0,0,0,0,0,0,0,0,0]
[null,50,1,0,1,"Souscheftillæg ell. lign.",{"$f":"IF(G7=\"Ja\",0,ROUND(IF(AND(G$11>0,G14>0),G14/12)*IF($D14<>\"\",G$11,1)*IF($E14<>\"\",G$9,1)*G4,2))","v":0},0,0,0,0,0,0,0,0,0,0,0,{"$f":"ROUND(IF(AND(S$11>0,S14>0),S14/12)*IF($D14<>\"\",S$11,1)*IF($E14<>\"\",S$9,1)*S4,2)","v":0},0,0,0,0,0,0,0,0,0,0,0,0]
[null,51,1,0,1,"Funktionstillæg 1",{"$f":"IF(G7=\"Ja\",0,ROUND(IF(AND(G$11>0,G15>0),G15/12)*IF($D15<>\"\",G$11,1)*IF($E15<>\"\",G$9,1)*G4,2))","v":0},0,0,0,0,0,0,0,0,0,0,0,{"$f":"ROUND(IF(AND(S$11>0,S15>0),S15/12)*IF($D15<>\"\",S$11,1)*IF($E15<>\"\",S$9,1)*S4,2)","v":0},0,0,0,0,0,0,0,0,0,0,0,0]
[null,52,1,0,1,"Funktionstillæg 2",{"$f":"IF(G7=\"Ja\",0,ROUND(IF(AND(G$11>0,G16>0),G16/12)*IF($D16<>\"\",G$11,1)*IF($E16<>\"\",G$9,1)*G4,2))","v":0},0,0,0,0,0,0,0,0,0,0,0,{"$f":"ROUND(IF(AND(S$11>0,S16>0),S16/12)*IF($D16<>\"\",S$11,1)*IF($E16<>\"\",S$9,1)*S4,2)","v":0},0,0,0,0,0,0,0,0,0,0,0,0]
[null,53,1,0,1,"Funktionstillæg 3",{"$f":"IF(G7=\"Ja\",0,ROUND(IF(AND(G$11>0,G17>0),G17/12)*IF($D17<>\"\",G$11,1)*IF($E17<>\"\",G$9,1)*G4,2))","v":0},0,0,0,0,0,0,0,0,0,0,0,{"$f":"ROUND(IF(AND(S$11>0,S17>0),S17/12)*IF($D17<>\"\",S$11,1)*IF($E17<>\"\",S$9,1)*S4,2)","v":0},0,0,0,0,0,0,0,0,0,0,0,0]
[null,54,1,1,1,"Kvalifikationstillæg 1",{"$f":"IF(G7=\"Ja\",0,ROUND(IF(AND(G$11>0,G18>0),G18/12)*IF($D18<>\"\",G$11,1)*IF($E18<>\"\",G$9,1)*G4,2))","v":0},0,0,0,0,0,0,0,0,0,0,0,{"$f":"ROUND(IF(AND(S$11>0,S18>0),S18/12)*IF($D18<>\"\",S$11,1)*IF($E18<>\"\",S$9,1)*S4,2)","v":0},0,0,0,0,0,0,0,0,0,0,0,0]
[null,55,1,1,1,"Kvalifikationstillæg 2",{"$f":"IF(G7=\"Ja\",0,ROUND(IF(AND(G$11>0,G19>0),G19/12)*IF($D19<>\"\",G$11,1)*IF($E19<>\"\",G$9,1)*G4,2))","v":0},0,0,0,0,0,0,0,0,0,0,0,{"$f":"ROUND(IF(AND(S$11>0,S19>0),S19/12)*IF($D19<>\"\",S$11,1)*IF($E19<>\"\",S$9,1)*S4,2)","v":0},0,0,0,0,0,0,0,0,0,0,0,0]
[null,56,1,1,1,"Kvalifikationstillæg 3",{"$f":"IF(G7=\"Ja\",0,ROUND(IF(AND(G$11>0,G20>0),G20/12)*IF($D20<>\"\",G$11,1)*IF($E20<>\"\",G$9,1)*G$4,2))","v":0},0,0,0,0,0,0,0,0,0,0,0,{"$f":"ROUND(IF(AND(S$11>0,S20>0),S20/12)*IF($D20<>\"\",S$11,1)*IF($E20<>\"\",S$9,1)*S$4,2)","v":0},0,0,0,0,0,0,0,0,0,0,0,0]
[null,57,1,1,1,"Udligningstillæg",{"$f":"IF(G7=\"Ja\",0,ROUND(IF(AND(G$11>0,G21>0),G21/12)*IF($D21<>\"\",G$11,1)*IF($E21<>\"\",G$9,1)*G$4,2))","v":0},0,0,0,0,0,0,0,0,0,0,0,{"$f":"ROUND(IF(AND(S$11>0,S21>0),S21/12)*IF($D21<>\"\",S$11,1)*IF($E21<>\"\",S$9,1)*S$4,2)","v":0},0,0,0,0,0,0,0,0,0,0,0,0]
[null,58,null,null,null,"Gruppelivstillæg",{"$f":"IF(G7=\"Ja\",0,ROUND(IF(AND(G$11>0,G22>0),G22)*IF($D22<>\"\",G$11,1)*IF($E22<>\"\",G$9,1)*G$4,2))","v":0},0,0,0,0,0,0,0,0,0,0,0,{"$f":"ROUND(IF(AND(S$11>0,S22>0),S22)*IF($D22<>\"\",S$11,1)*IF($E22<>\"\",S$9,1)*S$4,2)","v":0},0,0,0,0,0,0,0,0,0,0,0,0]
[null,59,null,{"$f":"(D23<>\"\")*1","v":0},{"$f":"(E23<>\"\")*1","v":1},"Lokalaftalt ulempegodtgørelse",{"$f":"IF(G7=\"Ja\",0,ROUND(IF(AND(G$11>0,G23>0),G23)*IF($D23<>\"\",G$11,1)*IF($E23<>\"\",G$9,1)*G$4,2))","v":0},0,0,0,0,0,0,0,0,0,0,0,{"$f":"ROUND(IF(AND(S$11>0,S23>0),S23)*IF($D23<>\"\",S$11,1)*IF($E23<>\"\",S$9,1)*S$4,2)","v":0},0,0,0,0,0,0,0,0,0,0,0,0]
[null,60,1,null,null,"Lønfradrag for ikke optjent ferie mv.",{"$f":"-ROUND((MAX(0,MIN(S24,S25*1))+S28)*IF(S8=\"JA\",4.62%,4.8%)*(S49+S50+S51+S52+S53+S54+S55+S56+S57+S58+S60)*S$4,2)","v":0},0,0,0,0,0,0,0,0,0,0,0,{"$f":"-ROUND((MAX(0,MIN(S24,S25*1))+S28)*IF(S8=\"JA\",4.62%,4.8%)*(S49+S50+S51+S52+S53+S54+S55+S56+S57+S58+S60)*S$4,2)","v":0},0,0,0,0,0,0,0,0,0,0,0,0]
[null,61,1,null,null,"Feriedifference pensionsgivende(udregnes i særskilt fane)",{"$f":"G26","v":0},{"$f":"H26","v":0},0,0,0,0,0,0,0,0,0,0,{"$f":"S26","v":0},{"$f":"T26","v":0},0,0,0,0,0,0,0,0,0,0,0]
[null,62,null,null,null,"Feriedifference IKKE pensionsgivende(udregnes i særskilt fane)",{"$f":"G27","v":0},{"$f":"H27","v":0},0,0,0,0,0,0,0,0,0,0,{"$f":"S27","v":0},{"$f":"T27","v":0},0,0,0,0,0,0,0,0,0,0]
[null,63,null,null,null,"Engangsudbetalinger iflg. specifikation",{"$f":"SUM(G35:G44)","v":0},{"$f":"SUM(H35:H44)","v":0},0,0,0,0,0,0,0,0,0,0,{"$f":"SUM(S35:S44)","v":0},{"$f":"SUM(T35:T44)+MAX(T34*T9-8000,0)","v":0},0,0,0,0,0,0,0,0,0,0,0]
[null,64,null,null,null,"Skattefrie km. Godtgørelse lav sats",{"$f":"G31*$D$31","v":0},{"$f":"H31*$D$31","v":0},0,0,0,0,0,0,0,0,0,0,{"$f":"S31*$D$31","v":0},{"$f":"T31*$D$31","v":0},0,0,0,0,0,0,0,0,0,0]
[null,65,null,null,null,"Skattefrie km. Godtgørelse høj sats",{"$f":"G32*$D$32","v":0},{"$f":"H32*$D$32","v":0},0,0,0,0,0,0,0,0,0,0,{"$f":"S32*$D$32","v":0},{"$f":"T32*$D$32","v":0},0,0,0,0,0,0,0,0,0,0]
[null,{"$f":"B64+1","v":64},null,null,null,"Timedagpenge(skattefrie)",{"$f":"IF(G33>0,G33,0)","v":0},{"$f":"IF(H33>0,H33,0)","v":0},0,0,0,0,0,0,0,0,0,0,{"$f":"IF(S33>0,S33,0)","v":0},{"$f":"IF(T33>0,T33,0)","v":0},0,0,0,0,0,0,0,0,0,0,0]
[null,65,null,null,null,"Skattefri jubilæumsgratiale",{"$f":"MIN(8000,G34*G9)","v":0},0,0,0,0,0,0,0,0,0,0,0,0,0,0,0,0,0,0,0,0,0,0,0]
[null,66,null,null,null,"Skattepligtig jubilæumsgratiaale",{"$f":"IF(G34>0,MAX(G34*G9-8000,0),0)","v":0},0,0,0,0,0,0,0,0,0,0,0,0,0,0,0,0,0,0,0,0,0,0,0]
[null,67,null,null,null,"Bruttoløn (ekskl. pensionstillæg og ATP)",{"$f":"SUM(G49:G69)","v":0},{"$f":"SUM(H49:H67)","v":0},0,0,0,0,0,0,0,0,0,0,{"$f":"SUM(S49:S69)","v":0},{"$f":"SUM(T49:T67)","v":0},0,0,0,0,0,0,0,0,0,0,0]
[null,68,null,null,null,{"$f":"\"Pensionstillæg af pensionsg. \"&IF(ISNUMBER(G12),\"Skalatrinsløn\",\"HK-løn\")","v":"Pensionstillæg af pensionsg. HK-løn"},{"$f":"IF(G7=\"Ja\",0,ROUND(IF(AND(G$11>0,G12>0),ROUND((ROUND(VLOOKUP(G12,Skalalontabel12,7,0)*G9,0))/12,2),0)*G11*G4*G5/100/3,2))","v":0},0,0,0,0,0,0,0,0,0,0,0,{"$f":"ROUND(IF(AND(S$11>0,S12>0),ROUND((ROUND(VLOOKUP(S12,Skalalontabel12,7,0)*S9,0))/12,2),0)*S11*S4*S5/100/3,2)","v":0},0,0,0,0,0,0,0,0,0,0,0,0]
[null,69,null,null,null,"Pensionstillæg fast løn",{"$f":"ROUND(G50*$C50*G$5/100/3,2)","v":0},0,0,0,0,0,0,0,0,0,0,0,{"$f":"ROUND(S50*$C50*S$5/100/3,2)","v":0},0,0,0,0,0,0,0,0,0,0,0,0]
[null,70,null,null,null,"Pensionstillæg souscheftillæg",{"$f":"ROUND(G51*$C51*G$5/100/3,2)","v":0},0,0,0,0,0,0,0,0,0,0,0,{"$f":"ROUND(S51*$C51*S$5/100/3,2)","v":0},0,0,0,0,0,0,0,0,0,0,0,0]
[null,71,null,null,null,"Pensionstillæg Funktionstillæg 1",{"$f":"ROUND(G52*$C52*G$5/100/3,2)","v":0},0,0,0,0,0,0,0,0,0,0,0,{"$f":"ROUND(S52*$C52*S$5/100/3,2)","v":0},0,0,0,0,0,0,0,0,0,0,0,0]
[null,72,null,null,null,"Pensionstillæg Funktionstillæg 2",{"$f":"ROUND(G53*$C53*G$5/100/3,2)","v":0},0,0,0,0,0,0,0,0,0,0,0,{"$f":"ROUND(S53*$C53*S$5/100/3,2)","v":0},0,0,0,0,0,0,0,0,0,0,0,0]
[null,{"$f":"B75+1","v":73},null,null,null,"Pensionstillæg Funktionstillæg 3",{"$f":"ROUND(G54*$C54*G$5/100/3,2)","v":0},0,0,0,0,0,0,0,0,0,0,0,{"$f":"ROUND(S54*$C54*S$5/100/3,2)","v":0},0,0,0,0,0,0,0,0,0,0,0,0]
[null,74,null,null,null,"Pensionstillæg Kvalifikationstillæg 1",{"$f":"ROUND(G55*$C55*G$5/100/3,2)","v":0},0,0,0,0,0,0,0,0,0,0,0,{"$f":"ROUND(S55*$C55*S$5/100/3,2)","v":0},0,0,0,0,0,0,0,0,0,0,0,0]
[null,75,null,null,null,"Pensionstillæg Kvalifikationstillæg 2",{"$f":"ROUND(G56*$C56*G$5/100/3,2)","v":0},0,0,0,0,0,0,0,0,0,0,0,{"$f":"ROUND(S56*$C56*S$5/100/3,2)","v":0},0,0,0,0,0,0,0,0,0,0,0,0]
[null,76,null,null,null,"Pensionstillæg Kvalifikationstillæg 3",{"$f":"ROUND(G57*$C57*G$5/100/3,2)","v":0},0,0,0,0,0,0,0,0,0,0,0,{"$f":"ROUND(S57*$C57*S$5/100/3,2)","v":0},0,0,0,0,0,0,0,0,0,0,0,0]
[null,77,null,null,null,"Pensionstillæg af udligningstillæg",{"$f":"ROUND(G58*$C58*G$5/100/3,2)","v":0},0,0,0,0,0,0,0,0,0,0,0,{"$f":"ROUND(S58*$C58*S$5/100/3,2)","v":0},0,0,0,0,0,0,0,0,0,0,0,0]
[null,78,null,null,null,"Fradrag i pensionstillæg for ikke optjent ferie mv.",{"$f":"ROUND(G61*$C61*G$5/100/3,2)","v":0},0,0,0,0,0,0,0,0,0,0,0,{"$f":"ROUND(S61*$C61*S$5/100/3,2)","v":0},0,0,0,0,0,0,0,0,0,0,0,0]
[null,79,null,null,null,"Pensionstillæg af feriedifference",{"$f":"ROUND(G62*$C62*G$5/100/3,2)","v":0},0,0,0,0,0,0,0,0,0,0,0,{"$f":"ROUND(S62*$C62*S$5/100/3,2)","v":0},0,0,0,0,0,0,0,0,0,0,0,0]
[null,80,null,null,null,"Pensionstillæg af pensiong. engangstillæg",{"$f":"ROUND(G36*G5/100/3+G40*($C40<>\"\")*G5/100/3+G41*($C41<>\"\")*G5/100/3+G42*($C42<>\"\")*G5/100/3+G43*($C43<>\"\")*G5/100/3+G44*($C44<>\"\")*G5/100/3,2)","v":0},0,0,0,0,0,0,0,0,0,0,0,0,0,0,0,0,0,0,0,0,0,0,0,0]
[null,null,null,null,null,"Ekstra pension hvis orlov uden løn",{"$f":"IF(G7=\"Ja\",SUM(S71:S82)-SUM(G71:G83),0)","v":0},{"$f":"IF(H7=\"Ja\",SUM(T71:T83)-SUM(H71:H83),0)","v":0},{"$f":"IF(I7=\"Ja\",SUM(U71:U82)-SUM(I71:I83),0)","v":0},0,0,0,0,0,0,0,0,0]
[null,{"$f":"B83+1","v":81},null,null,null,"Pensionstillæg i alt",{"$f":"SUM(G71:G84)","v":0},{"$f":"SUM(H71:H84)","v":0},0,0,0,0,0,0,0,0,0,0,{"$f":"SUM(S71:S83)","v":0},{"$f":"SUM(T71:T83)","v":0},0,0,0,0,0,0,0,0,0,0,0]
[null,82,null,null,null,"Egetbidrag til ATP",{"$f":"ROUND(G98/3,2)","v":0},{"$f":"ROUND(H98/3,2)","v":0},0,0,0,0,0,0,0,0,0,0,{"$f":"ROUND(S98/3,2)","v":0},{"$f":"ROUND(T98/3,2)","v":0},0,0,0,0,0,0,0,0,0,0,{"$f":"SUM(G86:R86)","v":0}]
[null,83,null,null,null,"AMB-grundlag",{"$f":"IF(G6=\"nej\",G85*-1)+SUM(G49:G64)-G86+G69","v":0},0,0,0,0,0,0,0,0,0,0,0,{"$f":"IF(S6=\"nej\",S85*-1)+SUM(S49:S64)-S86","v":0},0,0,0,0,0,0,0,0,0,0,0,{"$f":"SUM(G87:R87)","v":0}]
[null,84,null,null,null,"AM-bidrag",{"$f":"ROUND(G87*8%,0)","v":0},{"$f":"ROUND(H87*8%,0)","v":0},0,0,0,0,0,0,0,0,0,0,{"$f":"ROUND(S87*8%,0)","v":0},{"$f":"ROUND(T87*8%,0)","v":0},0,0,0,0,0,0,0,0,0,0,0]
[null,85,null,null,null,"A-indkomst",{"$f":"G87-G88","v":0},{"$f":"H87-H88","v":0},0,0,0,0,0,0,0,0,0,0,{"$f":"S87-S88","v":0},{"$f":"T87-T88","v":0},0,0,0,0,0,0,0,0,0,0,0]
[null,86,null,null,null,"Skattegrundlag",{"$f":"FLOOR(G89-G30,10)","v":0},{"$f":"FLOOR(H89-H30,10)","v":0},0,0,0,0,0,0,0,0,0,0,{"$f":"FLOOR(S89-S30,10)","v":0},{"$f":"FLOOR(T89-T30,10)","v":0},0,0,0,0,0,0,0,0,0,0]
[null,87,null,null,null,"Skat",{"$f":"ROUND(G90*G29/100,0)","v":0},0,0,0,0,0,0,0,0,0,0,0,{"$f":"ROUND(S90*S29/100,0)","v":0},0,0,0,0,0,0,0,0,0,0,0,0]
[null,88,null,null,null,"Feriegodtgørelsesgrundlag ",{"$f":"SUM(G49:G64)","v":0},{"$f":"SUM(H49:H64)","v":0},{"$f":"SUM(I49:I64)","v":0},{"$f":"SUM(J49:J64)","v":0},{"$f":"SUM(K49:K64)","v":0},{"$f":"SUM(L49:L64)","v":0},0,0,0,0,0,0,{"$f":"SUM(S49:S64)","v":0},{"$f":"SUM(T49:T64)","v":0},{"$f":"SUM(U49:U64)","v":0},{"$f":"SUM(V49:V64)","v":0},{"$f":"SUM(W49:W64)","v":0},{"$f":"SUM(X49:X64)","v":0},0,0,0,0,0,0,{"$f":"SUM(H92:P92)","v":0}]
[null,89,null,null,null,{"$f":"\"Feriegodtgørelsesgrundlag, juni-juli \"","v":"Feriegodtgørelsesgrundlag, juni-juli "},null,null,null,null,null,null,null,null,null,null,{"$f":"SUM(Q49:Q64)-Q39","v":0},{"$f":"SUM(R49:R64)-R39","v":0},null,null,null,null,null,null,null,null,null,null,{"$f":"SUM(AC49:AC64)-AC39","v":0},{"$f":"SUM(AD49:AD64)-AD39","v":0},{"$f":"SUM(G93:R93)","v":0}]
[null,90,null,null,null,"Egetbidrag til pensionskasse",{"$f":"G85","v":0},{"$f":"H85","v":0},0,0,0,0,0,0,0,0,0,0,{"$f":"S85","v":0},{"$f":"T85","v":0},0,0,0,0,0,0,0,0,0,0,0]
[null,91,null,null,null,"Arbejdsgiverbidrag til pensionskasse",{"$f":"G94*2","v":0},{"$f":"H94*2","v":0},0,0,0,0,0,0,0,0,0,0,{"$f":"S94*2","v":0},{"$f":"T94*2","v":0},0,0,0,0,0,0,0,0,0,0,0]
[null,92,null,null,null,"Arbejdsgiverbidrag til ATP",{"$f":"G98*2/3","v":0},{"$f":"H98*2/3","v":0},0,0,0,0,0,0,0,0,0,0,{"$f":"S98*2/3","v":0},{"$f":"T98*2/3","v":0},0,0,0,0,0,0,0,0,0,0,0]
[null,93,null,null,null,"Skolens samlede indbetaling til pensionskasse",{"$f":"G94+G95","v":0},{"$f":"H94+H95","v":0},0,0,0,0,0,0,0,0,0,0,{"$f":"S94+S95","v":0},{"$f":"T94+T95","v":0},0,0,0,0,0,0,0,0,0,0,0]
[null,{"$f":"B97+1","v":94},null,null,null,"Skolens samlede indbetaling til ATP",{"$f":"284/3*(((G11*G4)>=9/37)+((G11*G4)>=18/37)+((G11*G4)>=27/37))","v":0},0,0,0,0,{"$f":"297/3*(((L11*L4)>=9/37)+((L11*L4)>=18/37)+((L11*L4)>=27/37))","v":0},{"$f":"297/3*(((M11*M4)>=9/37)+((M11*M4)>=18/37)+((M11*M4)>=27/37))","v":0},0,0,0,0,0,0,0,0,0,0,0,0,0,0,0,0,0,0]
[null,95,null,null,null,"Indbetaling til Gruppeliv",{"$f":"G22","v":0},{"$f":"H22","v":0},0,0,0,0,0,0,0,0,0,0,{"$f":"S22","v":0},{"$f":"T22","v":0},0,0,0,0,0,0,0,0,0,0,0]
[null,96,null,null,null,"Løn til den ansattes disposition",{"$f":"IF(G6=\"nej\",G85*-1)+G70-(G91+G86+G88+G99)-G45-G46-G47","v":0},0,0,0,0,0,0,0,0,0,0,0,0,0,0,0,0,0,0,0,0,0,0,0,{"$f":"SUM(G100:R100)","v":0}]
[null,97,null,null,null,{"$f":"\"Feriepengeberegningsgrundlag, jan-dec \"&Aar","v":"Feriepengeberegningsgrundlag, jan-dec "},{"$f":"(SUM(G49:G64)+G85+G86)*(1-12/260*G24)","v":0},{"$f":"(SUM(H49:H64)+H85+H86)*(1-12/260*H24)","v":0},{"$f":"(SUM(I49:I64)+I85+I86)*(1-12/260*I24)","v":0},{"$f":"(SUM(J49:J64)+J85+J86)*(1-12/260*J24)","v":0},{"$f":"(SUM(K49:K64)+K85+K86)*(1-12/260*K24)","v":0},"Kalenderårets sum benyttes ved fratræden og særlige feriedage",null,null,null,null,null,null,{"$f":"(SUM(S49:S64)+S85+S86)*(1-12/260*S24)","v":0},{"$f":"(SUM(T49:T64)+T85+T86)*(1-12/260*T24)","v":0},{"$f":"(SUM(U49:U64)+U85+U86)*(1-12/260*U24)","v":0},{"$f":"(SUM(V49:V64)+V85+V86)*(1-12/260*V24)","v":0},{"$f":"(SUM(W49:W64)+W85+W86)*(1-12/260*W24)","v":0},"Kalenderårets sum benyttes ved fratræden og særlige feriedage",null,null,null,null,null,null,{"$f":"A101+SUM(G101:K101)","v":0}]
[null,{"$f":"B101+1","v":98},null,null,null,{"$f":"\"Feriepengeberegningsgrundlag, jan-jul \"&Aar","v":"Feriepengeberegningsgrundlag, jan-jul "},"Kalenderårets sum benyttes ved fratræden og særlige feriedage",null,null,null,null,{"$f":"(SUM(L$49:L$64)+L$85+L86)*(1-12/260*L$24)","v":0},{"$f":"(SUM(M$49:M$64)+M$85+M86)*(1-12/260*M$24)","v":0},0,0,0,0,0,"Kalenderårets sum benyttes ved fratræden og særlige feriedage",null,null,null,null,{"$f":"(SUM(X$49:X$64)+X$85+X86)*(1-12/260*X$24)","v":0},{"$f":"(SUM(Y$49:Y$64)+Y$85+Y86)*(1-12/260*Y$24)","v":0},0,0,0,0,0,0]
[null,{"$f":"B102+1","v":99},null,null,null,"BG-afhængige løndele",{"$f":"G49*$D49+G50*$D50+G51*$D51+G52*$D52+G53*$D53+G54*$D54+G55*$D55+G56*$D56+G57*$D57+G58*$D58+G60*$D60","v":0},0,0,0,0,0,0,0,0,0,0,0,{"$f":"S49*$D49+S50*$D50+S51*$D51+S52*$D52+S53*$D53+S54*$D54+S55*$D55+S56*$D56+S57*$D57+S58*$D58+S60*$D60","v":0},0,0,0,0,0,0,0,0,0,0,0]
[null,{"$f":"B103+1","v":100},null,null,null,"BG-difference >=20%",{"$f":"IF(G11>0,IF(G11>G26,(G11-G26)/G26>=20%,(G11-G26)/G26<=-20%),\"\")","v":""},"","","","","","","","",{"$f":"IF(P11>0,IF(P11>P27,(P11-P27)/P27>=20%,(P11-P27)/P27<=-20%),\"\")","v":""},{"$f":"IF(Q11>0,IF(Q11>Q27,(Q11-Q27)/Q27>=20%,(Q11-Q27)/Q27<=-20%),\"\")","v":""},{"$f":"IF(R11>0,IF(R11>R27,(R11-R27)/R27>=20%,(R11-R27)/R27<=-20%),\"\")","v":""},{"$f":"IF(S11>0,IF(S11>S26,(S11-S26)/S26>=20%,(S11-S26)/S26<=-20%),\"\")","v":""},"","","","","","","","",{"$f":"IF(AB11>0,IF(AB11>AB27,(AB11-AB27)/AB27>=20%,(AB11-AB27)/AB27<=-20%),\"\")","v":""},{"$f":"IF(AC11>0,IF(AC11>AC27,(AC11-AC27)/AC27>=20%,(AC11-AC27)/AC27<=-20%),\"\")","v":""},{"$f":"IF(AD11>0,IF(AD11>AD27,(AD11-AD27)/AD27>=20%,(AD11-AD27)/AD27<=-20%),\"\")","v":""}]
[]
[]
[]
[]
[]
[]
[]
[]
[]
[]
[]
[]
[]
[]
[]
[]
[]
[]
[]
[]
[]
[]
[]
[]
[]
[]
[]
[]
[]
[]
[]
[]
[]
[]
[]
[]
[]
[]
[]
[]
[]
[]
[]
[]
[]
[]
[]
[]
[]
[null,{"$f":"B153+1","v":1}]
[null,2,null,null,null,{"$f":"IF(ISNUMBER(G1),\"Skalatrinsløn\",\"HK-løn\")","v":"HK-løn"},{"$f":"\"= \"&TEXT(ROUND(VLOOKUP(G12,Skalalontabel12,G10,0)*G9,0),\"#.000\")&\" / 12 * \"&TEXT(G11,\"0,0000\")&\" * \"&TEXT(G$4,\"#0/#0\")&\" =\"","v":{"$error":"#N/A"}},{"$error":"#N/A"},{"$error":"#N/A"},{"$error":"#N/A"},{"$error":"#N/A"},{"$error":"#N/A"},{"$error":"#N/A"},{"$error":"#N/A"},{"$error":"#N/A"},{"$error":"#N/A"},{"$error":"#N/A"},{"$error":"#N/A"},{"$error":"#N/A"},{"$error":"#N/A"},{"$error":"#N/A"},{"$error":"#N/A"},{"$error":"#N/A"},{"$error":"#N/A"},{"$error":"#N/A"},{"$error":"#N/A"},{"$error":"#N/A"},{"$error":"#N/A"},{"$error":"#N/A"},{"$error":"#N/A"}]
[null,3,null,null,null,"Fast løn",{"$f":"\"= \"&TEXT(G13,\"#.000,00\")&\" / 12 \"&IF($D50>0,\" * \"&TEXT(G$11,\"0,0000\"),\"\")&IF($E50>0,\" * \"&G$9,\"\")&\" * \"&TEXT(G$4,\"#0/#0\")&\" =\"","v":"= 000,00 / 12  * 0,0000 * 1,155339 * 1/1 ="},"= 000,00 / 12  * 0,0000 * 1,155339 * 1/1 =","= 000,00 / 12  * 0,0000 * 1,159197 * 1/1 =","= 000,00 / 12  * 0,0000 * 1,159197 * 1/1 =","= 000,00 / 12  * 0,0000 * 1,159197 * 1/1 =","= 000,00 / 12  * 0,0000 * 1,159197 * 1/1 =","= 000,00 / 12  * 0,0000 * 1,159197 * 1/1 =","= 000,00 / 12  * 0,0000 * 1,159197 * 1/1 =","= 000,00 / 12  * 0,0000 *  * 1/1 =","= 000,00 / 12  * 0,0000 * 0 * 1/1 =","= 000,00 / 12  * 0,0000 * 0 * 1/1 =","= 000,00 / 12  * 0,0000 * 0 * 1/1 =",{"$f":"\"= \"&TEXT(S13,\"#.000,00\")&\" / 12 \"&IF($D50>0,\" * \"&TEXT(S$11,\"0,0000\"),\"\")&IF($E50>0,\" * \"&S$9,\"\")&\" * \"&TEXT(S$4,\"#0/#0\")&\" =\"","v":"= 000,00 / 12  * 0,0000 * 1,155339 * 1/1 ="},"= 000,00 / 12  * 0,0000 * 1,155339 * 1/1 =","= 000,00 / 12  * 0,0000 * 1,159197 * 1/1 =","= 000,00 / 12  * 0,0000 * 1,159197 * 1/1 =","= 000,00 / 12  * 0,0000 * 1,159197 * 1/1 =","= 000,00 / 12  * 0,0000 * 1,159197 * 1/1 =","= 000,00 / 12  * 0,0000 * 1,159197 * 1/1 =","= 000,00 / 12  * 0,0000 * 1,159197 * 1/1 =","= 000,00 / 12  * 0,0000 * 0 * 1/1 =","= 000,00 / 12  * 0,0000 * 0 * 1/1 =","= 000,00 / 12  * 0,0000 * 0 * 1/1 =","= 000,00 / 12  * 0,0000 * 0 * 1/1 ="]
[null,4,null,null,null,"Sousdheftillæg",{"$f":"\"= \"&TEXT(G14,\"#.000,00\")&\" / 12 \"&IF($D51>0,\" * \"&TEXT(G$11,\"0,0000\"),\"\")&IF($E51>0,\" * \"&G$9,\"\")&\" * \"&TEXT(G$4,\"#0/#0\")&\" =\"","v":"= 000,00 / 12  * 1,155339 * 1/1 ="},"= 000,00 / 12  * 1,155339 * 1/1 =","= 000,00 / 12  * 1,159197 * 1/1 =","= 000,00 / 12  * 1,159197 * 1/1 =","= 000,00 / 12  * 1,159197 * 1/1 =","= 000,00 / 12  * 1,159197 * 1/1 =","= 000,00 / 12  * 1,159197 * 1/1 =","= 000,00 / 12  * 1,159197 * 1/1 =","= 000,00 / 12  *  * 1/1 =","= 000,00 / 12  * 0 * 1/1 =","= 000,00 / 12  * 0 * 1/1 =","= 000,00 / 12  * 0 * 1/1 =",{"$f":"\"= \"&TEXT(S14,\"#.000,00\")&\" / 12 \"&IF($D51>0,\" * \"&TEXT(S$11,\"0,0000\"),\"\")&IF($E51>0,\" * \"&S$9,\"\")&\" * \"&TEXT(S$4,\"#0/#0\")&\" =\"","v":"= 000,00 / 12  * 1,155339 * 1/1 ="},"= 000,00 / 12  * 1,155339 * 1/1 =","= 000,00 / 12  * 1,159197 * 1/1 =","= 000,00 / 12  * 1,159197 * 1/1 =","= 000,00 / 12  * 1,159197 * 1/1 =","= 000,00 / 12  * 1,159197 * 1/1 =","= 000,00 / 12  * 1,159197 * 1/1 =","= 000,00 / 12  * 1,159197 * 1/1 =","= 000,00 / 12  * 0 * 1/1 =","= 000,00 / 12  * 0 * 1/1 =","= 000,00 / 12  * 0 * 1/1 =","= 000,00 / 12  * 0 * 1/1 ="]
[null,5,null,null,null,"Funktionstillæg 1",{"$f":"\"= \"&TEXT(G15,\"#.000,00\")&\" / 12 \"&IF($D52>0,\" * \"&TEXT(G$11,\"0,0000\"),\"\")&IF($E52>0,\" * \"&G$9,\"\")&\" * \"&TEXT(G$4,\"#0/#0\")&\" =\"","v":"= 000,00 / 12  * 1,155339 * 1/1 ="},{"$f":"\"= \"&TEXT(H15,\"#.000,00\")&\" / 12 \"&IF($D52>0,\" * \"&TEXT(H$11,\"0,0000\"),\"\")&IF($E158>0,\" * \"&H$9,\"\")&\" * \"&TEXT(H$4,\"#0/#0\")&\" =\"","v":"= 000,00 / 12  * 1/1 ="},"= 000,00 / 12  * 1/1 =","= 000,00 / 12  * 1/1 =","= 000,00 / 12  * 1/1 =","= 000,00 / 12  * 1/1 =","= 000,00 / 12  * 1/1 =","= 000,00 / 12  * 1/1 =","= 000,00 / 12  * 1/1 =","= 000,00 / 12  * 1/1 =","= 000,00 / 12  * 1/1 =","= 000,00 / 12  * 1/1 =",{"$f":"\"= \"&TEXT(S15,\"#.000,00\")&\" / 12 \"&IF($D52>0,\" * \"&TEXT(S$11,\"0,0000\"),\"\")&IF($E158>0,\" * \"&S$9,\"\")&\" * \"&TEXT(S$4,\"#0/#0\")&\" =\"","v":"= 000,00 / 12  * 1/1 ="},"= 000,00 / 12  * 1/1 =","= 000,00 / 12  * 1/1 =","= 000,00 / 12  * 1/1 =","= 000,00 / 12  * 1/1 =","= 000,00 / 12  * 1/1 =","= 000,00 / 12  * 1/1 =","= 000,00 / 12  * 1/1 =","= 000,00 / 12  * 1/1 =","= 000,00 / 12  * 1/1 =","= 000,00 / 12  * 1/1 =","= 000,00 / 12  * 1/1 ="]
[null,6,null,null,null,"Funktionstillæg 2",{"$f":"\"= \"&TEXT(G16,\"#.000,00\")&\" / 12 \"&IF($D53>0,\" * \"&TEXT(G$11,\"0,0000\"),\"\")&IF($E53>0,\" * \"&G$9,\"\")&\" * \"&TEXT(G$4,\"#0/#0\")&\" =\"","v":"= 000,00 / 12  * 1,155339 * 1/1 ="},"= 000,00 / 12  * 1,155339 * 1/1 =","= 000,00 / 12  * 1,159197 * 1/1 =","= 000,00 / 12  * 1,159197 * 1/1 =","= 000,00 / 12  * 1,159197 * 1/1 =","= 000,00 / 12  * 1,159197 * 1/1 =","= 000,00 / 12  * 1,159197 * 1/1 =","= 000,00 / 12  * 1,159197 * 1/1 =","= 000,00 / 12  *  * 1/1 =","= 000,00 / 12  * 0 * 1/1 =","= 000,00 / 12  * 0 * 1/1 =","= 000,00 / 12  * 0 * 1/1 =",{"$f":"\"= \"&TEXT(S16,\"#.000,00\")&\" / 12 \"&IF($D53>0,\" * \"&TEXT(S$11,\"0,0000\"),\"\")&IF($E53>0,\" * \"&S$9,\"\")&\" * \"&TEXT(S$4,\"#0/#0\")&\" =\"","v":"= 000,00 / 12  * 1,155339 * 1/1 ="},"= 000,00 / 12  * 1,155339 * 1/1 =","= 000,00 / 12  * 1,159197 * 1/1 =","= 000,00 / 12  * 1,159197 * 1/1 =","= 000,00 / 12  * 1,159197 * 1/1 =","= 000,00 / 12  * 1,159197 * 1/1 =","= 000,00 / 12  * 1,159197 * 1/1 =","= 000,00 / 12  * 1,159197 * 1/1 =","= 000,00 / 12  * 0 * 1/1 =","= 000,00 / 12  * 0 * 1/1 =","= 000,00 / 12  * 0 * 1/1 =","= 000,00 / 12  * 0 * 1/1 ="]
[null,7,null,null,null,"Funktionstillæg 3",{"$f":"\"= \"&TEXT(G17,\"#.000,00\")&\" / 12 \"&IF($D54>0,\" * \"&TEXT(G$11,\"0,0000\"),\"\")&IF($E54>0,\" * \"&G$9,\"\")&\" * \"&TEXT(G$4,\"#0/#0\")&\" =\"","v":"= 000,00 / 12  * 1,155339 * 1/1 ="},"= 000,00 / 12  * 1,155339 * 1/1 =","= 000,00 / 12  * 1,159197 * 1/1 =","= 000,00 / 12  * 1,159197 * 1/1 =","= 000,00 / 12  * 1,159197 * 1/1 =","= 000,00 / 12  * 1,159197 * 1/1 =","= 000,00 / 12  * 1,159197 * 1/1 =","= 000,00 / 12  * 1,159197 * 1/1 =","= 000,00 / 12  *  * 1/1 =","= 000,00 / 12  * 0 * 1/1 =","= 000,00 / 12  * 0 * 1/1 =","= 000,00 / 12  * 0 * 1/1 =",{"$f":"\"= \"&TEXT(S17,\"#.000,00\")&\" / 12 \"&IF($D54>0,\" * \"&TEXT(S$11,\"0,0000\"),\"\")&IF($E54>0,\" * \"&S$9,\"\")&\" * \"&TEXT(S$4,\"#0/#0\")&\" =\"","v":"= 000,00 / 12  * 1,155339 * 1/1 ="},"= 000,00 / 12  * 1,155339 * 1/1 =","= 000,00 / 12  * 1,159197 * 1/1 =","= 000,00 / 12  * 1,159197 * 1/1 =","= 000,00 / 12  * 1,159197 * 1/1 =","= 000,00 / 12  * 1,159197 * 1/1 =","= 000,00 / 12  * 1,159197 * 1/1 =","= 000,00 / 12  * 1,159197 * 1/1 =","= 000,00 / 12  * 0 * 1/1 =","= 000,00 / 12  * 0 * 1/1 =","= 000,00 / 12  * 0 * 1/1 =","= 000,00 / 12  * 0 * 1/1 ="]
[null,8,null,null,null,"Kvalifikationstillæg 1",{"$f":"\"= \"&TEXT(G18,\"#.000,00\")&\" / 12 \"&IF($D55>0,\" * \"&TEXT(G$11,\"0,0000\"),\"\")&IF($E55>0,\" * \"&G$9,\"\")&\" * \"&TEXT(G$4,\"#0/#0\")&\" =\"","v":"= 000,00 / 12  * 0,0000 * 1,155339 * 1/1 ="},"= 000,00 / 12  * 0,0000 * 1,155339 * 1/1 =","= 000,00 / 12  * 0,0000 * 1,159197 * 1/1 =","= 000,00 / 12  * 0,0000 * 1,159197 * 1/1 =","= 000,00 / 12  * 0,0000 * 1,159197 * 1/1 =","= 000,00 / 12  * 0,0000 * 1,159197 * 1/1 =","= 000,00 / 12  * 0,0000 * 1,159197 * 1/1 =","= 000,00 / 12  * 0,0000 * 1,159197 * 1/1 =","= 000,00 / 12  * 0,0000 *  * 1/1 =","= 000,00 / 12  * 0,0000 * 0 * 1/1 =","= 000,00 / 12  * 0,0000 * 0 * 1/1 =","= 000,00 / 12  * 0,0000 * 0 * 1/1 =",{"$f":"\"= \"&TEXT(S18,\"#.000,00\")&\" / 12 \"&IF($D55>0,\" * \"&TEXT(S$11,\"0,0000\"),\"\")&IF($E55>0,\" * \"&S$9,\"\")&\" * \"&TEXT(S$4,\"#0/#0\")&\" =\"","v":"= 000,00 / 12  * 0,0000 * 1,155339 * 1/1 ="},"= 000,00 / 12  * 0,0000 * 1,155339 * 1/1 =","= 000,00 / 12  * 0,0000 * 1,159197 * 1/1 =","= 000,00 / 12  * 0,0000 * 1,159197 * 1/1 =","= 000,00 / 12  * 0,0000 * 1,159197 * 1/1 =","= 000,00 / 12  * 0,0000 * 1,159197 * 1/1 =","= 000,00 / 12  * 0,0000 * 1,159197 * 1/1 =","= 000,00 / 12  * 0,0000 * 1,159197 * 1/1 =","= 000,00 / 12  * 0,0000 * 0 * 1/1 =","= 000,00 / 12  * 0,0000 * 0 * 1/1 =","= 000,00 / 12  * 0,0000 * 0 * 1/1 =","= 000,00 / 12  * 0,0000 * 0 * 1/1 ="]
[null,9,null,null,null,"Kvalifikationstillæg 2",{"$f":"\"= \"&TEXT(G19,\"#.000,00\")&\" / 12 \"&IF($D56>0,\" * \"&TEXT(G$11,\"0,0000\"),\"\")&IF($E56>0,\" * \"&G$9,\"\")&\" * \"&TEXT(G$4,\"#0/#0\")&\" =\"","v":"= 000,00 / 12  * 0,0000 * 1,155339 * 1/1 ="},"= 000,00 / 12  * 0,0000 * 1,155339 * 1/1 =","= 000,00 / 12  * 0,0000 * 1,159197 * 1/1 =","= 000,00 / 12  * 0,0000 * 1,159197 * 1/1 =","= 000,00 / 12  * 0,0000 * 1,159197 * 1/1 =","= 000,00 / 12  * 0,0000 * 1,159197 * 1/1 =","= 000,00 / 12  * 0,0000 * 1,159197 * 1/1 =","= 000,00 / 12  * 0,0000 * 1,159197 * 1/1 =","= 000,00 / 12  * 0,0000 *  * 1/1 =","= 000,00 / 12  * 0,0000 * 0 * 1/1 =","= 000,00 / 12  * 0,0000 * 0 * 1/1 =","= 000,00 / 12  * 0,0000 * 0 * 1/1 =",{"$f":"\"= \"&TEXT(S19,\"#.000,00\")&\" / 12 \"&IF($D56>0,\" * \"&TEXT(S$11,\"0,0000\"),\"\")&IF($E56>0,\" * \"&S$9,\"\")&\" * \"&TEXT(S$4,\"#0/#0\")&\" =\"","v":"= 000,00 / 12  * 0,0000 * 1,155339 * 1/1 ="},"= 000,00 / 12  * 0,0000 * 1,155339 * 1/1 =","= 000,00 / 12  * 0,0000 * 1,159197 * 1/1 =","= 000,00 / 12  * 0,0000 * 1,159197 * 1/1 =","= 000,00 / 12  * 0,0000 * 1,159197 * 1/1 =","= 000,00 / 12  * 0,0000 * 1,159197 * 1/1 =","= 000,00 / 12  * 0,0000 * 1,159197 * 1/1 =","= 000,00 / 12  * 0,0000 * 1,159197 * 1/1 =","= 000,00 / 12  * 0,0000 * 0 * 1/1 =","= 000,00 / 12  * 0,0000 * 0 * 1/1 =","= 000,00 / 12  * 0,0000 * 0 * 1/1 =","= 000,00 / 12  * 0,0000 * 0 * 1/1 ="]
[null,10,null,null,null,"Kvalifikationstillæg 3",{"$f":"\"= \"&TEXT(G20,\"#.000,00\")&\" / 12 \"&IF($D57>0,\" * \"&TEXT(G$11,\"0,0000\"),\"\")&IF($E57>0,\" * \"&G$9,\"\")&\" * \"&TEXT(G$4,\"#0/#0\")&\" =\"","v":"= 000,00 / 12  * 0,0000 * 1,155339 * 1/1 ="},"= 000,00 / 12  * 0,0000 * 1,155339 * 1/1 =","= 000,00 / 12  * 0,0000 * 1,159197 * 1/1 =","= 000,00 / 12  * 0,0000 * 1,159197 * 1/1 =","= 000,00 / 12  * 0,0000 * 1,159197 * 1/1 =","= 000,00 / 12  * 0,0000 * 1,159197 * 1/1 =","= 000,00 / 12  * 0,0000 * 1,159197 * 1/1 =","= 000,00 / 12  * 0,0000 * 1,159197 * 1/1 =","= 000,00 / 12  * 0,0000 *  * 1/1 =","= 000,00 / 12  * 0,0000 * 0 * 1/1 =","= 000,00 / 12  * 0,0000 * 0 * 1/1 =","= 000,00 / 12  * 0,0000 * 0 * 1/1 =",{"$f":"\"= \"&TEXT(S20,\"#.000,00\")&\" / 12 \"&IF($D57>0,\" * \"&TEXT(S$11,\"0,0000\"),\"\")&IF($E57>0,\" * \"&S$9,\"\")&\" * \"&TEXT(S$4,\"#0/#0\")&\" =\"","v":"= 000,00 / 12  * 0,0000 * 1,155339 * 1/1 ="},"= 000,00 / 12  * 0,0000 * 1,155339 * 1/1 =","= 000,00 / 12  * 0,0000 * 1,159197 * 1/1 =","= 000,00 / 12  * 0,0000 * 1,159197 * 1/1 =","= 000,00 / 12  * 0,0000 * 1,159197 * 1/1 =","= 000,00 / 12  * 0,0000 * 1,159197 * 1/1 =","= 000,00 / 12  * 0,0000 * 1,159197 * 1/1 =","= 000,00 / 12  * 0,0000 * 1,159197 * 1/1 =","= 000,00 / 12  * 0,0000 * 0 * 1/1 =","= 000,00 / 12  * 0,0000 * 0 * 1/1 =","= 000,00 / 12  * 0,0000 * 0 * 1/1 =","= 000,00 / 12  * 0,0000 * 0 * 1/1 ="]
[null,11,null,null,null,"Udligningstillæg",{"$f":"\"= \"&TEXT(G21,\"#.000,00\")&\" / 12 \"&IF($D58>0,\" * \"&TEXT(G$11,\"0,0000\"),\"\")&IF($E58>0,\" * \"&G$9,\"\")&\" * \"&TEXT(G$4,\"#0/#0\")&\" =\"","v":"= 000,00 / 12  * 0,0000 * 1,155339 * 1/1 ="},"= 000,00 / 12  * 0,0000 * 1,155339 * 1/1 =","= 000,00 / 12  * 0,0000 * 1,159197 * 1/1 =","= 000,00 / 12  * 0,0000 * 1,159197 * 1/1 =","= 000,00 / 12  * 0,0000 * 1,159197 * 1/1 =","= 000,00 / 12  * 0,0000 * 1,159197 * 1/1 =","= 000,00 / 12  * 0,0000 * 1,159197 * 1/1 =","= 000,00 / 12  * 0,0000 * 1,159197 * 1/1 =","= 000,00 / 12  * 0,0000 *  * 1/1 =","= 000,00 / 12  * 0,0000 * 0 * 1/1 =","= 000,00 / 12  * 0,0000 * 0 * 1/1 =","= 000,00 / 12  * 0,0000 * 0 * 1/1 =",{"$f":"\"= \"&TEXT(S21,\"#.000,00\")&\" / 12 \"&IF($D58>0,\" * \"&TEXT(S$11,\"0,0000\"),\"\")&IF($E58>0,\" * \"&S$9,\"\")&\" * \"&TEXT(S$4,\"#0/#0\")&\" =\"","v":"= 000,00 / 12  * 0,0000 * 1,155339 * 1/1 ="},"= 000,00 / 12  * 0,0000 * 1,155339 * 1/1 =","= 000,00 / 12  * 0,0000 * 1,159197 * 1/1 =","= 000,00 / 12  * 0,0000 * 1,159197 * 1/1 =","= 000,00 / 12  * 0,0000 * 1,159197 * 1/1 =","= 000,00 / 12  * 0,0000 * 1,159197 * 1/1 =","= 000,00 / 12  * 0,0000 * 1,159197 * 1/1 =","= 000,00 / 12  * 0,0000 * 1,159197 * 1/1 =","= 000,00 / 12  * 0,0000 * 0 * 1/1 =","= 000,00 / 12  * 0,0000 * 0 * 1/1 =","= 000,00 / 12  * 0,0000 * 0 * 1/1 =","= 000,00 / 12  * 0,0000 * 0 * 1/1 ="]
[null,12,null,null,null,"Gruppelivstillæg",{"$f":"\"= \"&TEXT(G22,\"#.##0,00\")&\" * \"&TEXT(G$4,\"#0/#0\")&\" =\"","v":"= 0,00 * 1/1 ="},{"$f":"\"= \"&TEXT(H22,\"#.##0,00\")&\" * \"&TEXT(H$4,\"#0/#0\")&\" =\"","v":"= 0,00 * 1/1 ="},"= 0,00 * 1/1 =","= 0,00 * 1/1 =","= 0,00 * 1/1 =","= 0,00 * 1/1 =","= 0,00 * 1/1 =","= 0,00 * 1/1 =","= 0,00 * 1/1 =","= 0,00 * 1/1 =","= 0,00 * 1/1 =","= 0,00 * 1/1 =",{"$f":"\"= \"&TEXT(S22,\"#.##0,00\")&\" * \"&TEXT(S$4,\"#0/#0\")&\" =\"","v":"= 0,00 * 1/1 ="},{"$f":"\"= \"&TEXT(T22,\"#.##0,00\")&\" * \"&TEXT(T$4,\"#0/#0\")&\" =\"","v":"= 0,00 * 1/1 ="},"= 0,00 * 1/1 =","= 0,00 * 1/1 =","= 0,00 * 1/1 =","= 0,00 * 1/1 =","= 0,00 * 1/1 =","= 0,00 * 1/1 =","= 0,00 * 1/1 =","= 0,00 * 1/1 =","= 0,00 * 1/1 =","= 0,00 * 1/1 ="]
[null,13,null,null,null,"Lokalaftalt ulempegodtgørelse",{"$f":"\"= \"&TEXT(G23,\"#,00\")&IF($D60>0,\" * \"&TEXT(G$11,\"0,0000\"),\"\")&IF($E60>0,\" * \"&G$9,\"\")&\" * \"&TEXT(G$4,\"#0/#0\")&\" =\"","v":"= ,00 * 1,155339 * 1/1 ="},"= ,00 * 1,155339 * 1/1 =","= ,00 * 1,159197 * 1/1 =","= ,00 * 1,159197 * 1/1 =","= ,00 * 1,159197 * 1/1 =","= ,00 * 1,159197 * 1/1 =","= ,00 * 1,159197 * 1/1 =","= ,00 * 1,159197 * 1/1 =","= ,00 *  * 1/1 =","= ,00 * 0 * 1/1 =","= ,00 * 0 * 1/1 =","= ,00 * 0 * 1/1 =",{"$f":"\"= \"&TEXT(S23,\"#,00\")&IF($D60>0,\" * \"&TEXT(S$11,\"0,0000\"),\"\")&IF($E60>0,\" * \"&S$9,\"\")&\" * \"&TEXT(S$4,\"#0/#0\")&\" =\"","v":"= ,00 * 1,155339 * 1/1 ="},"= ,00 * 1,155339 * 1/1 =","= ,00 * 1,159197 * 1/1 =","= ,00 * 1,159197 * 1/1 =","= ,00 * 1,159197 * 1/1 =","= ,00 * 1,159197 * 1/1 =","= ,00 * 1,159197 * 1/1 =","= ,00 * 1,159197 * 1/1 =","= ,00 * 0 * 1/1 =","= ,00 * 0 * 1/1 =","= ,00 * 0 * 1/1 =","= ,00 * 0 * 1/1 ="]
[null,14,null,null,null,"Lønfradrag for ikke optjent ferie mv.",{"$f":"\"= - \"&MAX(0,MIN(G24,G25*1))+G28&\" * \"&IF(G8=\"JA\",\"4,62%\",\"4,8%\")&\" * SUM(Lin. 1 - Lin 12)\"&\" * \"&TEXT(G$4,\"#0/#0\")&\" =\"","v":"= - 0 * 4,62% * SUM(Lin. 1 - Lin 12) * 1/1 ="},{"$f":"\"= - \"&MAX(0,MIN(H24,H25*1))+H28&\" * \"&IF(H8=\"JA\",\"4,62%\",\"4,8%\")&\" * SUM(Lin. 1 - Lin 12) =\"","v":"= - 0 * 4,62% * SUM(Lin. 1 - Lin 12) ="},"= - 0 * 4,62% * SUM(Lin. 1 - Lin 12) =","= - 0 * 4,62% * SUM(Lin. 1 - Lin 12) =","= - 0 * 4,62% * SUM(Lin. 1 - Lin 12) =","= - 0 * 4,62% * SUM(Lin. 1 - Lin 12) =","= - 0 * 4,62% * SUM(Lin. 1 - Lin 12) =","= - 0 * 4,62% * SUM(Lin. 1 - Lin 12) =","= - 0 * 4,62% * SUM(Lin. 1 - Lin 12) =","= - 0 * 4,62% * SUM(Lin. 1 - Lin 12) =","= - 0 * 4,62% * SUM(Lin. 1 - Lin 12) =","= - 0 * 4,62% * SUM(Lin. 1 - Lin 12) =",{"$f":"\"= - \"&MAX(0,MIN(S24,S25*1))+S28&\" * \"&IF(S8=\"JA\",\"4,62%\",\"4,8%\")&\" * SUM(Lin. 1 - Lin 12)\"&\" * \"&TEXT(S$4,\"#0/#0\")&\" =\"","v":"= - 0 * 4,62% * SUM(Lin. 1 - Lin 12) * 1/1 ="},{"$f":"\"= - \"&MAX(0,MIN(T24,T25*1))+T28&\" * \"&IF(T8=\"JA\",\"4,62%\",\"4,8%\")&\" * SUM(Lin. 1 - Lin 12) =\"","v":"= - 0 * 4,62% * SUM(Lin. 1 - Lin 12) ="},"= - 0 * 4,62% * SUM(Lin. 1 - Lin 12) =","= - 0 * 4,62% * SUM(Lin. 1 - Lin 12) =","= - 0 * 4,62% * SUM(Lin. 1 - Lin 12) =","= - 0 * 4,62% * SUM(Lin. 1 - Lin 12) =","= - 0 * 4,62% * SUM(Lin. 1 - Lin 12) =","= - 0 * 4,62% * SUM(Lin. 1 - Lin 12) =","= - 0 * 4,62% * SUM(Lin. 1 - Lin 12) =","= - 0 * 4,62% * SUM(Lin. 1 - Lin 12) =","= - 0 * 4,62% * SUM(Lin. 1 - Lin 12) =","= - 0 * 4,62% * SUM(Lin. 1 - Lin 12) ="]
[null,16,null,null,null,"Feriedifference. Pensionsgivende",null,{"$f":"\"= \"&IF(LEFT(H8)=\"N\",\"( \"&H26&\" - \"&H11&\") * 4,8% * \"&H103&\" * \"&MAX((H24-H25),0)*H104,\"( \"&H26&\" - \"&H11&\") * 4,62% * \"&H103&\" * \"&MAX((H24-H25),0))&\" =\"","v":"= (  - 0) * 4,62% * 0 * 0 ="},"= (  - 0) * 4,62% * 0 * 5 =","= (  - 0) * 4,62% * 0 * 0 =","= (  - 0) * 4,62% * 0 * 0 =","= (  - 0) * 4,62% * 0 * 0 =","= (  - 0) * 4,62% * 0 * 5 =","= (  - 0) * 4,62% * 0 * 0 =","= (  - 0) * 4,62% * 0 * 0 =",{"$f":"\"= \"&IF(LEFT(P8)=\"N\",\"( \"&ROUND(P27,4)&\" - \"&P11&\") * 4,8% * \"&P103&\" * \"&MAX((P24-P25),0)*P104,\"( \"&ROUND(P27,4)&\" - \"&P11&\") * 4,62% * \"&P103&\" * \"&MAX((P24-P25),0))&\" =\"","v":"= ( 0 - 0) * 4,62% * 0 * 0 ="},{"$f":"\"= \"&IF(LEFT(Q8)=\"N\",\"( \"&ROUND(Q27,4)&\" - \"&Q11&\") * 4,8% * \"&Q103&\" * \"&MAX((Q24-Q25),0)*Q104,\"( \"&ROUND(Q27,4)&\" - \"&Q11&\") * 4,62% * \"&Q103&\" * \"&MAX((Q24-Q25),0))&\" =\"","v":"= ( 0 - 0) * 4,62% * 0 * 0 ="},{"$f":"\"= \"&IF(LEFT(R8)=\"N\",\"( \"&ROUND(R27,4)&\" - \"&R11&\") * 4,8% * \"&R103&\" * \"&MAX((R24-R25),0)*R104,\"( \"&ROUND(R27,4)&\" - \"&R11&\") * 4,62% * \"&R103&\" * \"&MAX((R24-R25),0))&\" =\"","v":"= ( 0 - 0) * 4,62% * 0 * 15 ="},null,{"$f":"\"= \"&IF(LEFT(T8)=\"N\",\"( \"&T26&\" - \"&T11&\") * 4,8% * \"&T103&\" * \"&MAX((T24-T25),0)*T104,\"( \"&T26&\" - \"&T11&\") * 4,62% * \"&T103&\" * \"&MAX((T24-T25),0))&\" =\"","v":"= ( 0 - 0) * 4,62% * 0 * 0 ="},"= ( 0 - 0) * 4,62% * 0 * 5 =","= ( 0 - 0) * 4,62% * 0 * 0 =","= ( 0 - 0) * 4,62% * 0 * 0 =","= ( 0 - 0) * 4,62% * 0 * 0 =","= ( 0 - 0) * 4,62% * 0 * 5 =","= ( 0 - 0) * 4,62% * 0 * 0 =","= ( 0 - 0) * 4,62% * 0 * 0 =",{"$f":"\"= \"&IF(LEFT(AB8)=\"N\",\"( \"&ROUND(AB27,4)&\" - \"&AB11&\") * 4,8% * \"&AB103&\" * \"&MAX((AB24-AB25),0)*AB104,\"( \"&ROUND(AB27,4)&\" - \"&AB11&\") * 4,62% * \"&AB103&\" * \"&MAX((AB24-AB25),0))&\" =\"","v":"= ( 0 - 0) * 4,62% * 0 * 0 ="},{"$f":"\"= \"&IF(LEFT(AC8)=\"N\",\"( \"&ROUND(AC27,4)&\" - \"&AC11&\") * 4,8% * \"&AC103&\" * \"&MAX((AC24-AC25),0)*AC104,\"( \"&ROUND(AC27,4)&\" - \"&AC11&\") * 4,62% * \"&AC103&\" * \"&MAX((AC24-AC25),0))&\" =\"","v":"= ( 0 - 0) * 4,62% * 0 * 0 ="},{"$f":"\"= \"&IF(LEFT(AD8)=\"N\",\"( \"&ROUND(AD27,4)&\" - \"&AD11&\") * 4,8% * \"&AD103&\" * \"&MAX((AD24-AD25),0)*AD104,\"( \"&ROUND(AD27,4)&\" - \"&AD11&\") * 4,62% * \"&AD103&\" * \"&MAX((AD24-AD25),0))&\" =\"","v":"= ( 0 - 0) * 4,62% * 0 * 15 ="}]
[null,17,null,null,null,"Feriedifferende. Ikke pensionsgivende"]
[null,18,null,null,null,"Engangsudbetalinger iflg. specifikation",{"$f":"SUBSTITUTE(TRIM(\"=SUM(\"&MAX(G34-8000,0)&\" \"&G35&\" \"&G36&\" \"&G37&\" \"&G38&\" \"&G40&\" \"&G41&\" \"&G42&\" \"&G43&\" \"&G44&\")\"),\" \",\"; \")&\" =\"","v":"=SUM(0; ) ="},{"$f":"SUBSTITUTE(TRIM(\"=SUM(\"&MAX(H34-8000,0)&\" \"&H35&\" \"&H36&\" \"&H37&\" \"&H38&\" \"&H40&\" \"&H41&\" \"&H42&\" \"&H43&\" \"&H44&\")\"),\" \",\"; \")&\" =\"","v":"=SUM(0; ) ="},"=SUM(0; ) =","=SUM(0; ) =","=SUM(0; ) =","=SUM(0; ) =","=SUM(0; ) =","=SUM(0; ) =","=SUM(0; ) =","=SUM(0; ) =","=SUM(0; ) =","=SUM(0; ) =",{"$f":"SUBSTITUTE(TRIM(\"=SUM(\"&MAX(S34-8000,0)&\" \"&S35&\" \"&S36&\" \"&S37&\" \"&S38&\" \"&S40&\" \"&S41&\" \"&S42&\" \"&S43&\" \"&S44&\")\"),\" \",\"; \")&\" =\"","v":"=SUM(0; 0; 0; 0; 0; 0; 0; 0; 0; 0) ="},{"$f":"SUBSTITUTE(TRIM(\"=SUM(\"&MAX(T34-8000,0)&\" \"&T35&\" \"&T36&\" \"&T37&\" \"&T38&\" \"&T40&\" \"&T41&\" \"&T42&\" \"&T43&\" \"&T44&\")\"),\" \",\"; \")&\" =\"","v":"=SUM(0; 0; 0; 0; 0; 0; 0; 0; 0; 0) ="},"=SUM(0; 0; 0; 0; 0; 0; 0; 0; 0; 0) =","=SUM(0; 0; 0; 0; 0; 0; 0; 0; 0; 0) =","=SUM(0; 0; 0; 0; 0; 0; 0; 0; 0; 0) =","=SUM(0; 0; 0; 0; 0; 0; 0; 0; 0; 0) =","=SUM(0; 0; 0; 0; 0; 0; 0; 0; 0; 0) =","=SUM(0; 0; 0; 0; 0; 0; 0; 0; 0; 0) =","=SUM(0; 0; 0; 0; 0; 0; 0; 0; 0; 0) =","=SUM(0; 0; 0; 0; 0; 0; 0; 0; 0; 0) =","=SUM(0; 0; 0; 0; 0; 0; 0; 0; 0; 0) =","=SUM(0; 0; 0; 0; 0; 0; 0; 0; 0; 0) ="]
[null,19,null,null,null,"Skattefri engangsudbetalinger iflg. spec.",{"$f":"SUBSTITUTE(TRIM(\"=SUM(\"&G31&\" * \"&$D31&\" \"&G32&\" * \"&$D32&\" \"&G33&\" \"&MIN(G34,8000)&\")\"),\" \",\"; \")&\" =\"","v":"=SUM(; *; 2,19; *; 3,73; 8000) ="},{"$f":"SUBSTITUTE(TRIM(\"=SUM(\"&H31&\" * \"&$D31&\" \"&H32&\" * \"&$D32&\" \"&H33&\" \"&MIN(H34,8000)&\")\"),\" \",\"; \")&\" =\"","v":"=SUM(; *; 2,19; *; 3,73; 8000) ="},{"$f":"SUBSTITUTE(TRIM(\"=SUM(\"&I31&\" * \"&$D31&\" \"&I32&\" * \"&$D32&\" \"&I33&\" \"&MIN(I34,8000)&\")\"),\" \",\"; \")&\" =\"","v":"=SUM(; *; 2,19; *; 3,73; 8000) ="},{"$f":"SUBSTITUTE(TRIM(\"=SUM(\"&J31&\" * \"&$D31&\" \"&J32&\" * \"&$D32&\" \"&J33&\" \"&MIN(J34,8000)&\")\"),\" \",\"; \")&\" =\"","v":"=SUM(; *; 2,19; *; 3,73; 8000) ="},{"$f":"SUBSTITUTE(TRIM(\"=SUM(\"&K31&\" * \"&$D31&\" \"&K32&\" * \"&$D32&\" \"&K33&\" \"&MIN(K34,8000)&\")\"),\" \",\"; \")&\" =\"","v":"=SUM(; *; 2,19; *; 3,73; 8000) ="},{"$f":"SUBSTITUTE(TRIM(\"=SUM(\"&L31&\" * \"&$E31&\" \"&L32&\" * \"&$E32&\" \"&L33&\" \"&MIN(L34,8000)&\")\"),\" \",\"; \")&\" =\"","v":"=SUM(; *; *; 8000) ="},{"$f":"SUBSTITUTE(TRIM(\"=SUM(\"&M31&\" * \"&$E31&\" \"&M32&\" * \"&$E32&\" \"&M33&\" \"&MIN(M34,8000)&\")\"),\" \",\"; \")&\" =\"","v":"=SUM(; *; *; 8000) ="},"=SUM(; *; *; 8000) =","=SUM(; *; *; 8000) =","=SUM(; *; *; 8000) =","=SUM(; *; *; 8000) =","=SUM(; *; *; 8000) =",{"$f":"SUBSTITUTE(TRIM(\"=SUM(\"&S31&\" * \"&$D31&\" \"&S32&\" * \"&$D32&\" \"&S33&\" \"&MIN(S34,8000)&\")\"),\" \",\"; \")&\" =\"","v":"=SUM(0; *; 2,19; 0; *; 3,73; 0; 0) ="},{"$f":"SUBSTITUTE(TRIM(\"=SUM(\"&T31&\" * \"&$D31&\" \"&T32&\" * \"&$D32&\" \"&T33&\" \"&MIN(T34,8000)&\")\"),\" \",\"; \")&\" =\"","v":"=SUM(0; *; 2,19; 0; *; 3,73; 0; 0) ="},{"$f":"SUBSTITUTE(TRIM(\"=SUM(\"&U31&\" * \"&$D31&\" \"&U32&\" * \"&$D32&\" \"&U33&\" \"&MIN(U34,8000)&\")\"),\" \",\"; \")&\" =\"","v":"=SUM(0; *; 2,19; 0; *; 3,73; 0; 0) ="},{"$f":"SUBSTITUTE(TRIM(\"=SUM(\"&V31&\" * \"&$D31&\" \"&V32&\" * \"&$D32&\" \"&V33&\" \"&MIN(V34,8000)&\")\"),\" \",\"; \")&\" =\"","v":"=SUM(0; *; 2,19; 0; *; 3,73; 0; 0) ="},{"$f":"SUBSTITUTE(TRIM(\"=SUM(\"&W31&\" * \"&$D31&\" \"&W32&\" * \"&$D32&\" \"&W33&\" \"&MIN(W34,8000)&\")\"),\" \",\"; \")&\" =\"","v":"=SUM(0; *; 2,19; 0; *; 3,73; 0; 0) ="},{"$f":"SUBSTITUTE(TRIM(\"=SUM(\"&X31&\" * \"&$E31&\" \"&X32&\" * \"&$E32&\" \"&X33&\" \"&MIN(X34,8000)&\")\"),\" \",\"; \")&\" =\"","v":"=SUM(0; *; 0; *; 0; 0) ="},{"$f":"SUBSTITUTE(TRIM(\"=SUM(\"&Y31&\" * \"&$E31&\" \"&Y32&\" * \"&$E32&\" \"&Y33&\" \"&MIN(Y34,8000)&\")\"),\" \",\"; \")&\" =\"","v":"=SUM(0; *; 0; *; 0; 0) ="},"=SUM(0; *; 0; *; 0; 0) =","=SUM(0; *; 0; *; 0; 0) =","=SUM(0; *; 0; *; 0; 0) =","=SUM(0; *; 0; *; 0; 0) =","=SUM(0; *; 0; *; 0; 0) ="]
[null,20,null,null,null,"Bruttoløn (ekskl. pensionstillæg og ATP)"]
[null,21,null,null,null,"Pensionstillæg skalatrinsløn eller HK-løn",{"$f":"\"= \"&ROUND(VLOOKUP(G12,Skalalontabel12,7,0)*G$9,0)&\" / 12  * \"&TEXT(G$11,\"0,0000\")&\" * \"&G5&\"% / 3 =\"","v":{"$error":"#N/A"}},{"$error":"#N/A"},{"$error":"#N/A"},{"$error":"#N/A"},{"$error":"#N/A"},{"$error":"#N/A"},{"$error":"#N/A"},{"$error":"#N/A"},{"$error":"#N/A"},{"$error":"#N/A"},{"$error":"#N/A"},{"$error":"#N/A"},{"$error":"#N/A"},{"$error":"#N/A"},{"$error":"#N/A"},{"$error":"#N/A"},{"$error":"#N/A"},{"$error":"#N/A"},{"$error":"#N/A"},{"$error":"#N/A"},{"$error":"#N/A"},{"$error":"#N/A"},{"$error":"#N/A"},{"$error":"#N/A"}]
[null,22,null,null,null,"Pensionstillæg fast løn",{"$f":"IF($C50>0,\"= \"&G50&\" * \"&G$5&\"% / 3 =\")","v":"= 0 * % / 3 ="},{"$f":"IF($C50>0,H50&\" * \"&H$5&\"% / 3 =\")","v":"0 * 0% / 3 ="},"0 * 0% / 3 =","0 * 0% / 3 =","0 * 0% / 3 =","0 * 0% / 3 =","0 * 0% / 3 =","0 * 0% / 3 =","0 * 0% / 3 =","0 * 0% / 3 =","0 * 0% / 3 =","0 * 0% / 3 =",{"$f":"IF($C50>0,\"= \"&S50&\" * \"&S$5&\"% / 3 =\")","v":"= 0 * 0% / 3 ="},{"$f":"IF($C50>0,T50&\" * \"&T$5&\"% / 3 =\")","v":"0 * 0% / 3 ="},"0 * 0% / 3 =","0 * 0% / 3 =","0 * 0% / 3 =","0 * 0% / 3 =","0 * 0% / 3 =","0 * 0% / 3 =","0 * 0% / 3 =","0 * 0% / 3 =","0 * 0% / 3 =","0 * 0% / 3 ="]
[null,23,null,null,null,"Pensionstillæg souscheftillæg","= 0 * % / 3 =",{"$f":"IF($C51>0,H51&\" * \"&H$5&\"% / 3 =\")","v":"0 * 0% / 3 ="},"0 * 0% / 3 =","0 * 0% / 3 =","0 * 0% / 3 =","0 * 0% / 3 =","0 * 0% / 3 =","0 * 0% / 3 =","0 * 0% / 3 =","0 * 0% / 3 =","0 * 0% / 3 =","0 * 0% / 3 =","= 0 * 0% / 3 =",{"$f":"IF($C51>0,T51&\" * \"&T$5&\"% / 3 =\")","v":"0 * 0% / 3 ="},"0 * 0% / 3 =","0 * 0% / 3 =","0 * 0% / 3 =","0 * 0% / 3 =","0 * 0% / 3 =","0 * 0% / 3 =","0 * 0% / 3 =","0 * 0% / 3 =","0 * 0% / 3 =","0 * 0% / 3 ="]
[null,24,null,null,null,"Pensionstillæg Funktionstillæg 1","= 0 * % / 3 =",{"$f":"IF($C52>0,H52&\" * \"&H$5&\"% / 3 =\")","v":"0 * 0% / 3 ="},"0 * 0% / 3 =","0 * 0% / 3 =","0 * 0% / 3 =","0 * 0% / 3 =","0 * 0% / 3 =","0 * 0% / 3 =","0 * 0% / 3 =","0 * 0% / 3 =","0 * 0% / 3 =","0 * 0% / 3 =","= 0 * 0% / 3 =",{"$f":"IF($C52>0,T52&\" * \"&T$5&\"% / 3 =\")","v":"0 * 0% / 3 ="},"0 * 0% / 3 =","0 * 0% / 3 =","0 * 0% / 3 =","0 * 0% / 3 =","0 * 0% / 3 =","0 * 0% / 3 =","0 * 0% / 3 =","0 * 0% / 3 =","0 * 0% / 3 =","0 * 0% / 3 ="]
[null,25,null,null,null,"Pensionstillæg Funktionstillæg 2","= 0 * % / 3 =",{"$f":"IF($C53>0,H53&\" * \"&H$5&\"% / 3 =\")","v":"0 * 0% / 3 ="},"0 * 0% / 3 =","0 * 0% / 3 =","0 * 0% / 3 =","0 * 0% / 3 =","0 * 0% / 3 =","0 * 0% / 3 =","0 * 0% / 3 =","0 * 0% / 3 =","0 * 0% / 3 =","0 * 0% / 3 =","= 0 * 0% / 3 =",{"$f":"IF($C53>0,T53&\" * \"&T$5&\"% / 3 =\")","v":"0 * 0% / 3 ="},"0 * 0% / 3 =","0 * 0% / 3 =","0 * 0% / 3 =","0 * 0% / 3 =","0 * 0% / 3 =","0 * 0% / 3 =","0 * 0% / 3 =","0 * 0% / 3 =","0 * 0% / 3 =","0 * 0% / 3 ="]
[null,26,null,null,null,"Pensionstillæg Funktionstillæg 3","= 0 * % / 3 =",{"$f":"IF($C54>0,H54&\" * \"&H$5&\"% / 3 =\")","v":"0 * 0% / 3 ="},"0 * 0% / 3 =","0 * 0% / 3 =","0 * 0% / 3 =","0 * 0% / 3 =","0 * 0% / 3 =","0 * 0% / 3 =","0 * 0% / 3 =","0 * 0% / 3 =","0 * 0% / 3 =","0 * 0% / 3 =","= 0 * 0% / 3 =",{"$f":"IF($C54>0,T54&\" * \"&T$5&\"% / 3 =\")","v":"0 * 0% / 3 ="},"0 * 0% / 3 =","0 * 0% / 3 =","0 * 0% / 3 =","0 * 0% / 3 =","0 * 0% / 3 =","0 * 0% / 3 =","0 * 0% / 3 =","0 * 0% / 3 =","0 * 0% / 3 =","0 * 0% / 3 ="]
[null,27,null,null,null,"Pensionstillæg Kvalifikationstillæg 1","= 0 * % / 3 =",{"$f":"IF($C55>0,H55&\" * \"&H$5&\"% / 3 =\")","v":"0 * 0% / 3 ="},"0 * 0% / 3 =","0 * 0% / 3 =","0 * 0% / 3 =","0 * 0% / 3 =","0 * 0% / 3 =","0 * 0% / 3 =","0 * 0% / 3 =","0 * 0% / 3 =","0 * 0% / 3 =","0 * 0% / 3 =","= 0 * 0% / 3 =",{"$f":"IF($C55>0,T55&\" * \"&T$5&\"% / 3 =\")","v":"0 * 0% / 3 ="},"0 * 0% / 3 =","0 * 0% / 3 =","0 * 0% / 3 =","0 * 0% / 3 =","0 * 0% / 3 =","0 * 0% / 3 =","0 * 0% / 3 =","0 * 0% / 3 =","0 * 0% / 3 =","0 * 0% / 3 ="]
[null,28,null,null,null,"Pensionstillæg Kvalifikationstillæg 2","= 0 * % / 3 =",{"$f":"IF($C56>0,H56&\" * \"&H$5&\"% / 3 =\")","v":"0 * 0% / 3 ="},"0 * 0% / 3 =","0 * 0% / 3 =","0 * 0% / 3 =","0 * 0% / 3 =","0 * 0% / 3 =","0 * 0% / 3 =","0 * 0% / 3 =","0 * 0% / 3 =","0 * 0% / 3 =","0 * 0% / 3 =","= 0 * 0% / 3 =",{"$f":"IF($C56>0,T56&\" * \"&T$5&\"% / 3 =\")","v":"0 * 0% / 3 ="},"0 * 0% / 3 =","0 * 0% / 3 =","0 * 0% / 3 =","0 * 0% / 3 =","0 * 0% / 3 =","0 * 0% / 3 =","0 * 0% / 3 =","0 * 0% / 3 =","0 * 0% / 3 =","0 * 0% / 3 ="]
[null,29,null,null,null,"Pensionstillæg Kvalifikationstillæg 3","= 0 * % / 3 =",{"$f":"IF($C57>0,H57&\" * \"&H$5&\"% / 3 =\")","v":"0 * 0% / 3 ="},"0 * 0% / 3 =","0 * 0% / 3 =","0 * 0% / 3 =","0 * 0% / 3 =","0 * 0% / 3 =","0 * 0% / 3 =","0 * 0% / 3 =","0 * 0% / 3 =","0 * 0% / 3 =","0 * 0% / 3 =","= 0 * 0% / 3 =",{"$f":"IF($C57>0,T57&\" * \"&T$5&\"% / 3 =\")","v":"0 * 0% / 3 ="},"0 * 0% / 3 =","0 * 0% / 3 =","0 * 0% / 3 =","0 * 0% / 3 =","0 * 0% / 3 =","0 * 0% / 3 =","0 * 0% / 3 =","0 * 0% / 3 =","0 * 0% / 3 =","0 * 0% / 3 ="]
[null,30,null,null,null,"Pensionstillæg af udligningstillæg","= 0 * % / 3 =",{"$f":"IF($C58>0,H58&\" * \"&H$5&\"% / 3 =\")","v":"0 * 0% / 3 ="},"0 * 0% / 3 =","0 * 0% / 3 =","0 * 0% / 3 =","0 * 0% / 3 =","0 * 0% / 3 =","0 * 0% / 3 =","0 * 0% / 3 =","0 * 0% / 3 =","0 * 0% / 3 =","0 * 0% / 3 =","= 0 * 0% / 3 =",{"$f":"IF($C58>0,T58&\" * \"&T$5&\"% / 3 =\")","v":"0 * 0% / 3 ="},"0 * 0% / 3 =","0 * 0% / 3 =","0 * 0% / 3 =","0 * 0% / 3 =","0 * 0% / 3 =","0 * 0% / 3 =","0 * 0% / 3 =","0 * 0% / 3 =","0 * 0% / 3 =","0 * 0% / 3 ="]
[null,31,null,null,null,"Fradrag i pensionstillæg for ikke optjent ferie mv.",{"$f":"\"= \"&G61&\" * \"&G$5&\"% / 3 =\"","v":"= 0 * % / 3 ="},"= 0 * 0% / 3 =","= 0 * 0% / 3 =","= 0 * 0% / 3 =","= 0 * 0% / 3 =","= 0 * 0% / 3 =","= 0 * 0% / 3 =","= 0 * 0% / 3 =","= 0 * 0% / 3 =","= 0 * 0% / 3 =","= 0 * 0% / 3 =","= 0 * 0% / 3 =",{"$f":"\"= \"&S61&\" * \"&S$5&\"% / 3 =\"","v":"= 0 * 0% / 3 ="},"= 0 * 0% / 3 =","= 0 * 0% / 3 =","= 0 * 0% / 3 =","= 0 * 0% / 3 =","= 0 * 0% / 3 =","= 0 * 0% / 3 =","= 0 * 0% / 3 =","= 0 * 0% / 3 =","= 0 * 0% / 3 =","= 0 * 0% / 3 =","= 0 * 0% / 3 ="]
[null,32,null,null,null,"Pensionstillæg af feriedifference",{"$f":"\"= \"&G62&\" * \"&G$5&\"% / 3 =\"","v":"= 0 * % / 3 ="},"= 0 * 0% / 3 =","= 0 * 0% / 3 =","= 0 * 0% / 3 =","= 0 * 0% / 3 =","= 0 * 0% / 3 =","= 0 * 0% / 3 =","= 0 * 0% / 3 =","= 0 * 0% / 3 =","= 0 * 0% / 3 =","= 0 * 0% / 3 =","= 0 * 0% / 3 =",{"$f":"\"= \"&S62&\" * \"&S$5&\"% / 3 =\"","v":"= 0 * 0% / 3 ="},"= 0 * 0% / 3 =","= 0 * 0% / 3 =","= 0 * 0% / 3 =","= 0 * 0% / 3 =","= 0 * 0% / 3 =","= 0 * 0% / 3 =","= 0 * 0% / 3 =","= 0 * 0% / 3 =","= 0 * 0% / 3 =","= 0 * 0% / 3 =","= 0 * 0% / 3 ="]
[null,33,null,null,null,"Pensionstillæg af pensiong. engangstillæg",{"$f":"SUBSTITUTE(TRIM(\"=SUM(\"&IF($G36>0,G36&\" \",\"\")&IF($C40<>\"\",G40&\" \",\"\")&IF($C41<>\"\",G41&\" \",\"\")&IF($C42<>\"\",G42&\" \",\"\")&IF($C43<>\"\",G43&\" \",\"\")&IF($C44<>\"\",G44,\"\")&\")\"),\" \",\"; \")&\" * \"&G5&\"% / 3 =\"","v":"=SUM(; ) * % / 3 ="},"=SUM(; ) * 0% / 3 =","=SUM(; ) * 0% / 3 =","=SUM(; ) * 0% / 3 =","=SUM(; ) * 0% / 3 =","=SUM(; ) * 0% / 3 =","=SUM(; ) * 0% / 3 =","=SUM(; ) * 0% / 3 =","=SUM(; ) * 0% / 3 =","=SUM(; ) * 0% / 3 =","=SUM(; ) * 0% / 3 =","=SUM(; ) * 0% / 3 =","=SUM(0; 0; 0; ) * 0% / 3 =","=SUM(0; 0; 0; ) * 0% / 3 =","=SUM(0; 0; 0; ) * 0% / 3 =","=SUM(0; 0; 0; ) * 0% / 3 =","=SUM(0; 0; 0; ) * 0% / 3 =","=SUM(0; 0; 0; ) * 0% / 3 =","=SUM(0; 0; 0; ) * 0% / 3 =","=SUM(0; 0; 0; ) * 0% / 3 =","=SUM(0; 0; 0; ) * 0% / 3 =","=SUM(0; 0; 0; ) * 0% / 3 =","=SUM(0; 0; 0; ) * 0% / 3 =","=SUM(0; 0; 0; ) * 0% / 3 ="]
[null,34,null,null,null,"Ekstra pension ved orlov uden løn","Ekstra pension ved orlov uden løn","Ekstra pension ved orlov uden løn","Ekstra pension ved orlov uden løn","Ekstra pension ved orlov uden løn","Ekstra pension ved orlov uden løn","Ekstra pension ved orlov uden løn","Ekstra pension ved orlov uden løn","Ekstra pension ved orlov uden løn","Ekstra pension ved orlov uden løn","Ekstra pension ved orlov uden løn","Ekstra pension ved orlov uden løn","Ekstra pension ved orlov uden løn"]
[null,35,null,null,null,"Pensionstillæg i alt"]
[null,36,null,null,null,"Egetbidrag til ATP"]
[null,37,null,null,null,"AMB-grundlag",{"$f":"\"= SUM(Lin. 1 - Lin. 14) + SUM(Lin 19 - Lin28) - \"&G86&\" =\"","v":"= SUM(Lin. 1 - Lin. 14) + SUM(Lin 19 - Lin28) - 0 ="},{"$f":"\"= SUM(Lin. 1 - Lin. 14) + SUM(Lin 19 - Lin28) - \"&H86&\" =\"","v":"= SUM(Lin. 1 - Lin. 14) + SUM(Lin 19 - Lin28) - 0 ="},"= SUM(Lin. 1 - Lin. 14) + SUM(Lin 19 - Lin28) - 0 =","= SUM(Lin. 1 - Lin. 14) + SUM(Lin 19 - Lin28) - 0 =","= SUM(Lin. 1 - Lin. 14) + SUM(Lin 19 - Lin28) - 0 =","= SUM(Lin. 1 - Lin. 14) + SUM(Lin 19 - Lin28) - 0 =","= SUM(Lin. 1 - Lin. 14) + SUM(Lin 19 - Lin28) - 0 =","= SUM(Lin. 1 - Lin. 14) + SUM(Lin 19 - Lin28) - 0 =","= SUM(Lin. 1 - Lin. 14) + SUM(Lin 19 - Lin28) - 0 =","= SUM(Lin. 1 - Lin. 14) + SUM(Lin 19 - Lin28) - 0 =","= SUM(Lin. 1 - Lin. 14) + SUM(Lin 19 - Lin28) - 0 =","= SUM(Lin. 1 - Lin. 14) + SUM(Lin 19 - Lin28) - 0 =",{"$f":"\"= SUM(Lin. 1 - Lin. 14) + SUM(Lin 19 - Lin28) - \"&S86&\" =\"","v":"= SUM(Lin. 1 - Lin. 14) + SUM(Lin 19 - Lin28) - 0 ="},{"$f":"\"= SUM(Lin. 1 - Lin. 14) + SUM(Lin 19 - Lin28) - \"&T86&\" =\"","v":"= SUM(Lin. 1 - Lin. 14) + SUM(Lin 19 - Lin28) - 0 ="},"= SUM(Lin. 1 - Lin. 14) + SUM(Lin 19 - Lin28) - 0 =","= SUM(Lin. 1 - Lin. 14) + SUM(Lin 19 - Lin28) - 0 =","= SUM(Lin. 1 - Lin. 14) + SUM(Lin 19 - Lin28) - 0 =","= SUM(Lin. 1 - Lin. 14) + SUM(Lin 19 - Lin28) - 0 =","= SUM(Lin. 1 - Lin. 14) + SUM(Lin 19 - Lin28) - 0 =","= SUM(Lin. 1 - Lin. 14) + SUM(Lin 19 - Lin28) - 0 =","= SUM(Lin. 1 - Lin. 14) + SUM(Lin 19 - Lin28) - 0 =","= SUM(Lin. 1 - Lin. 14) + SUM(Lin 19 - Lin28) - 0 =","= SUM(Lin. 1 - Lin. 14) + SUM(Lin 19 - Lin28) - 0 =","= SUM(Lin. 1 - Lin. 14) + SUM(Lin 19 - Lin28) - 0 ="]
[null,38,null,null,null,"AM-bidrag",{"$f":"\"= \"&G87&\" * 8% (afrundet) =\"","v":"= 0 * 8% (afrundet) ="},{"$f":"\"= \"&H87&\" * 8% (afrundet) =\"","v":"= 0 * 8% (afrundet) ="},"= 0 * 8% (afrundet) =","= 0 * 8% (afrundet) =","= 0 * 8% (afrundet) =","= 0 * 8% (afrundet) =","= 0 * 8% (afrundet) =","= 0 * 8% (afrundet) =","= 0 * 8% (afrundet) =","= 0 * 8% (afrundet) =","= 0 * 8% (afrundet) =","= 0 * 8% (afrundet) =",{"$f":"\"= \"&S87&\" * 8% (afrundet) =\"","v":"= 0 * 8% (afrundet) ="},{"$f":"\"= \"&T87&\" * 8% (afrundet) =\"","v":"= 0 * 8% (afrundet) ="},"= 0 * 8% (afrundet) =","= 0 * 8% (afrundet) =","= 0 * 8% (afrundet) =","= 0 * 8% (afrundet) =","= 0 * 8% (afrundet) =","= 0 * 8% (afrundet) =","= 0 * 8% (afrundet) =","= 0 * 8% (afrundet) =","= 0 * 8% (afrundet) =","= 0 * 8% (afrundet) ="]
[null,39,null,null,null,"A-indkomst",{"$f":"\"= \"&G87&\" - \"&G88&\" =\"","v":"= 0 - 0 ="},{"$f":"\"= \"&H87&\" - \"&H88&\" =\"","v":"= 0 - 0 ="},"= 0 - 0 =","= 0 - 0 =","= 0 - 0 =","= 0 - 0 =","= 0 - 0 =","= 0 - 0 =","= 0 - 0 =","= 0 - 0 =","= 0 - 0 =","= 0 - 0 =",{"$f":"\"= \"&S87&\" - \"&S88&\" =\"","v":"= 0 - 0 ="},{"$f":"\"= \"&T87&\" - \"&T88&\" =\"","v":"= 0 - 0 ="},"= 0 - 0 =","= 0 - 0 =","= 0 - 0 =","= 0 - 0 =","= 0 - 0 =","= 0 - 0 =","= 0 - 0 =","= 0 - 0 =","= 0 - 0 =","= 0 - 0 ="]
[null,40,null,null,null,"Skattegrundlag"]
[null,41,null,null,null,"Skat",{"$f":"\"= (\"&G89&\" - \"&G30&\") (afrundet) * \"&G29&\" / 100 =\"","v":"= (0 - ) (afrundet) *  / 100 ="},{"$f":"\"= (\"&H89&\" - \"&H30&\") (afrundet) * \"&H29&\" / 100 =\"","v":"= (0 - 0) (afrundet) * 0 / 100 ="},"= (0 - 0) (afrundet) * 0 / 100 =","= (0 - 0) (afrundet) * 0 / 100 =","= (0 - 0) (afrundet) * 0 / 100 =","= (0 - 0) (afrundet) * 0 / 100 =","= (0 - 0) (afrundet) * 0 / 100 =","= (0 - 0) (afrundet) * 0 / 100 =","= (0 - 0) (afrundet) * 0 / 100 =","= (0 - 0) (afrundet) * 0 / 100 =","= (0 - 0) (afrundet) * 0 / 100 =","= (0 - 0) (afrundet) * 0 / 100 =",{"$f":"\"= (\"&S89&\" - \"&S30&\") (afrundet) * \"&S29&\" / 100 =\"","v":"= (0 - 0) (afrundet) * 0 / 100 ="},{"$f":"\"= (\"&T89&\" - \"&T30&\") (afrundet) * \"&T29&\" / 100 =\"","v":"= (0 - 0) (afrundet) * 0 / 100 ="},"= (0 - 0) (afrundet) * 0 / 100 =","= (0 - 0) (afrundet) * 0 / 100 =","= (0 - 0) (afrundet) * 0 / 100 =","= (0 - 0) (afrundet) * 0 / 100 =","= (0 - 0) (afrundet) * 0 / 100 =","= (0 - 0) (afrundet) * 0 / 100 =","= (0 - 0) (afrundet) * 0 / 100 =","= (0 - 0) (afrundet) * 0 / 100 =","= (0 - 0) (afrundet) * 0 / 100 =","= (0 - 0) (afrundet) * 0 / 100 ="]
[null,42,null,null,null,"Feriegodtgørelsesgrundlag"]
[null,43,null,null,null,{"$f":"\"Feriegodtgørelsesgrundlag, jan-juli \"&Aar+1","v":"Feriegodtgørelsesgrundlag, jan-juli 1"}]
[null,44,null,null,null,"Egetbidrag til pensionskasse",{"$f":"\"= Lin. 43 =\"","v":"= Lin. 43 ="},{"$f":"\"= Lin. 43 =\"","v":"= Lin. 43 ="},"= Lin. 43 =","= Lin. 43 =","= Lin. 43 =","= Lin. 43 =","= Lin. 43 =","= Lin. 43 =","= Lin. 43 =","= Lin. 43 =","= Lin. 43 =","= Lin. 43 =",{"$f":"\"= Lin. 43 =\"","v":"= Lin. 43 ="},"= Lin. 43 =","= Lin. 43 =","= Lin. 43 =","= Lin. 43 =","= Lin. 43 =","= Lin. 43 =","= Lin. 43 =","= Lin. 43 =","= Lin. 43 =","= Lin. 43 =","= Lin. 43 ="]
[null,45,null,null,null,"Arbejdsgiverbidrag til pensionskasse",{"$f":"\"= Lin. 43 * 2 =\"","v":"= Lin. 43 * 2 ="},{"$f":"\"= Lin. 43 * 2 =\"","v":"= Lin. 43 * 2 ="},"= Lin. 43 * 2 =","= Lin. 43 * 2 =","= Lin. 43 * 2 =","= Lin. 43 * 2 =","= Lin. 43 * 2 =","= Lin. 43 * 2 =","= Lin. 43 * 2 =","= Lin. 43 * 2 =","= Lin. 43 * 2 =","= Lin. 43 * 2 =",{"$f":"\"= Lin. 43 * 2 =\"","v":"= Lin. 43 * 2 ="},"= Lin. 43 * 2 =","= Lin. 43 * 2 =","= Lin. 43 * 2 =","= Lin. 43 * 2 =","= Lin. 43 * 2 =","= Lin. 43 * 2 =","= Lin. 43 * 2 =","= Lin. 43 * 2 =","= Lin. 43 * 2 =","= Lin. 43 * 2 =","= Lin. 43 * 2 ="]
[null,46,null,null,null,"Arbejdsgiverbidrag til ATP",{"$f":"\"= Lin. 44 * 2 =\"","v":"= Lin. 44 * 2 ="},{"$f":"\"= Lin. 44 * 2 =\"","v":"= Lin. 44 * 2 ="},"= Lin. 44 * 2 =","= Lin. 44 * 2 =","= Lin. 44 * 2 =","= Lin. 44 * 2 =","= Lin. 44 * 2 =","= Lin. 44 * 2 =","= Lin. 44 * 2 =","= Lin. 44 * 2 =","= Lin. 44 * 2 =","= Lin. 44 * 2 =",{"$f":"\"= Lin. 44 * 2 =\"","v":"= Lin. 44 * 2 ="},"= Lin. 44 * 2 =","= Lin. 44 * 2 =","= Lin. 44 * 2 =","= Lin. 44 * 2 =","= Lin. 44 * 2 =","= Lin. 44 * 2 =","= Lin. 44 * 2 =","= Lin. 44 * 2 =","= Lin. 44 * 2 =","= Lin. 44 * 2 =","= Lin. 44 * 2 ="]
[null,47,null,null,null,"Skolens samlede indbetaling til pensionskasse",{"$f":"\"= Lin. 51 + Lin. 52 =\"","v":"= Lin. 51 + Lin. 52 ="},{"$f":"\"= Lin. 51 + Lin. 52 =\"","v":"= Lin. 51 + Lin. 52 ="},"= Lin. 51 + Lin. 52 =","= Lin. 51 + Lin. 52 =","= Lin. 51 + Lin. 52 =","= Lin. 51 + Lin. 52 =","= Lin. 51 + Lin. 52 =","= Lin. 51 + Lin. 52 =","= Lin. 51 + Lin. 52 =","= Lin. 51 + Lin. 52 =","= Lin. 51 + Lin. 52 =","= Lin. 51 + Lin. 52 =",{"$f":"\"= Lin. 51 + Lin. 52 =\"","v":"= Lin. 51 + Lin. 52 ="},"= Lin. 51 + Lin. 52 =","= Lin. 51 + Lin. 52 =","= Lin. 51 + Lin. 52 =","= Lin. 51 + Lin. 52 =","= Lin. 51 + Lin. 52 =","= Lin. 51 + Lin. 52 =","= Lin. 51 + Lin. 52 =","= Lin. 51 + Lin. 52 =","= Lin. 51 + Lin. 52 =","= Lin. 51 + Lin. 52 =","= Lin. 51 + Lin. 52 ="]
[null,48,null,null,null,"Skolens samlede indbetaling til ATP",{"$f":"\"= Lin. 44 + Lin. 53 =\"","v":"= Lin. 44 + Lin. 53 ="},{"$f":"\"= Lin. 44 + Lin. 53 =\"","v":"= Lin. 44 + Lin. 53 ="},"= Lin. 44 + Lin. 53 =","= Lin. 44 + Lin. 53 =","= Lin. 44 + Lin. 53 =","= Lin. 44 + Lin. 53 =","= Lin. 44 + Lin. 53 =","= Lin. 44 + Lin. 53 =","= Lin. 44 + Lin. 53 =","= Lin. 44 + Lin. 53 =","= Lin. 44 + Lin. 53 =","= Lin. 44 + Lin. 53 =",{"$f":"\"= Lin. 44 + Lin. 53 =\"","v":"= Lin. 44 + Lin. 53 ="},"= Lin. 44 + Lin. 53 =","= Lin. 44 + Lin. 53 =","= Lin. 44 + Lin. 53 =","= Lin. 44 + Lin. 53 =","= Lin. 44 + Lin. 53 =","= Lin. 44 + Lin. 53 =","= Lin. 44 + Lin. 53 =","= Lin. 44 + Lin. 53 =","= Lin. 44 + Lin. 53 =","= Lin. 44 + Lin. 53 =","= Lin. 44 + Lin. 53 ="]
[null,49,null,null,null,"Indbetaling til Gruppeliv"]
[null,50,null,null,null,"Løn til den ansattes disposition",{"$f":"\"= \"&G70&\" - ( \"&G91&\" + \"&G86&\" + \"&G88&\" + \"&G99&\") - SUM(lin 57 : 59) =\"","v":"= 0 - ( 0 + 0 + 0 + 0) - SUM(lin 57 : 59) ="},{"$f":"\"= \"&H70&\" - ( \"&H91&\" + \"&H86&\" + \"&H88&\" + \"&H99&\") - SUM(lin 57 : 59) =\"","v":"= 0 - ( 0 + 0 + 0 + 0) - SUM(lin 57 : 59) ="},"= 0 - ( 0 + 0 + 0 + 0) - SUM(lin 57 : 59) =","= 0 - ( 0 + 0 + 0 + 0) - SUM(lin 57 : 59) =","= 0 - ( 0 + 0 + 0 + 0) - SUM(lin 57 : 59) =","= 0 - ( 0 + 0 + 0 + 0) - SUM(lin 57 : 59) =","= 0 - ( 0 + 0 + 0 + 0) - SUM(lin 57 : 59) =","= 0 - ( 0 + 0 + 0 + 0) - SUM(lin 57 : 59) =","= 0 - ( 0 + 0 + 0 + 0) - SUM(lin 57 : 59) =","= 0 - ( 0 + 0 + 0 + 0) - SUM(lin 57 : 59) =","= 0 - ( 0 + 0 + 0 + 0) - SUM(lin 57 : 59) =","= 0 - ( 0 + 0 + 0 + 0) - SUM(lin 57 : 59) =",{"$f":"\"= \"&S70&\" - ( \"&S91&\" + \"&S86&\" + \"&S88&\" + \"&S99&\") - SUM(lin 57 : 59) =\"","v":"= 0 - ( 0 + 0 + 0 + 0) - SUM(lin 57 : 59) ="},{"$f":"\"= \"&T70&\" - ( \"&T91&\" + \"&T86&\" + \"&T88&\" + \"&T99&\") - SUM(lin 57 : 59) =\"","v":"= 0 - ( 0 + 0 + 0 + 0) - SUM(lin 57 : 59) ="},"= 0 - ( 0 + 0 + 0 + 0) - SUM(lin 57 : 59) =","= 0 - ( 0 + 0 + 0 + 0) - SUM(lin 57 : 59) =","= 0 - ( 0 + 0 + 0 + 0) - SUM(lin 57 : 59) =","= 0 - ( 0 + 0 + 0 + 0) - SUM(lin 57 : 59) =","= 0 - ( 0 + 0 + 0 + 0) - SUM(lin 57 : 59) =","= 0 - ( 0 + 0 + 0 + 0) - SUM(lin 57 : 59) =","= 0 - ( 0 + 0 + 0 + 0) - SUM(lin 57 : 59) =","= 0 - ( 0 + 0 + 0 + 0) - SUM(lin 57 : 59) =","= 0 - ( 0 + 0 + 0 + 0) - SUM(lin 57 : 59) =","= 0 - ( 0 + 0 + 0 + 0) - SUM(lin 57 : 59) ="]
[null,51,null,null,null,{"$f":"\"Feriepengeberegningsgrundlag, jan-dec \"&Aar","v":"Feriepengeberegningsgrundlag, jan-dec "}]
[null,null,null,null,null,{"$f":"\"Feriepengeberegningsgrundlag, jan-jul \"&Aar+1","v":"Feriepengeberegningsgrundlag, jan-jul 1"}]

{"sheet":"R","index":9,"n_rows":204,"n_cols":32,"rows_kept":204,"cut":false,"hidden":false,"merged":[[3,0,27,0],[28,0,29,0],[29,2,31,2],[44,2,46,4],[101,6,101,10],[101,18,101,22],[0,2,2,2],[0,3,2,3],[0,4,2,4]]}
["2022-2023",1,"Pensionsg.","BG-afh.","Regu-leret","Lønberegning for: (navn eller initialer)\n - variable løndele i lin. 30-43.","R",{"$f":"G1","v":"R"},{"$f":"H1","v":"R"},"R","R","R","R","R","R","R","R","R","Q",{"$f":"S1","v":"Q"},{"$f":"T1","v":"Q"},"Q","Q","Q","Q","Q","Q","Q","Q","Q","Udfyld gule felter (alle forudfyldte tal i gule felter er eksempler)"]
[null,{"$f":"B1+1","v":2},null,null,null,"Stillingsbetegnelse","Pædagog",{"$f":"G2","v":"Pædagog"},"Pædagog","Pædagog","Pædagog","Pædagog","Pædagog","Pædagog","Pædagog","Pædagog","Pædagog","Pædagog","Stilling",{"$f":"S2","v":"Stilling"},"Stilling","Stilling","Stilling","Stilling","Stilling","Stilling","Stilling","Stilling","Stilling","Stilling"]
[null,{"$f":"B2+1","v":3},null,null,null,"Måned",{"$f":"\"AUG \"&RIGHT(A1,2)+0","v":"AUG 23"},{"$f":"\"SEP \"&RIGHT(A1,2)+0","v":"SEP 23"},{"$f":"\"OKT \"&RIGHT(A1,2)+0","v":"OKT 23"},{"$f":"\"NOV \"&RIGHT(A1,2)+0","v":"NOV 23"},{"$f":"\"DEC \"&RIGHT(A1,2)+0","v":"DEC 23"},{"$f":"\"JAN \"&RIGHT(A1,2)+1","v":"JAN 24"},{"$f":"\"FEB \"&RIGHT(A1,2)+1","v":"FEB 24"},{"$f":"\"MAR \"&RIGHT(A1,2)+1","v":"MAR 24"},{"$f":"\"APR \"&RIGHT(A1,2)+1","v":"APR 24"},{"$f":"\"MAJ \"&RIGHT(A1,2)+1","v":"MAJ 24"},{"$f":"\"JUN \"&RIGHT(A1,2)+1","v":"JUN 24"},{"$f":"\"JUL \"&RIGHT(A1,2)+1","v":"JUL 24"},{"$f":"G3","v":"AUG 23"},{"$f":"H3","v":"SEP 23"},"OKT 23","NOV 23","DEC 23","JAN 24","FEB 24","MAR 24","APR 24","MAJ 24","JUN 24","JUL 24","ansat d. "]
[null,{"$f":"B3+1","v":4},"sæt 'x'","sæt 'x'","sæt 'x'","Del af måned \nantal kalenderdage/månedens kalenderdage",1,{"$f":"G4","v":1},{"$f":"H4","v":1},1,1,1,1,1,1,1,1,1,{"$f":"G4","v":1},1,1,1,1,1,1,1,1,1,1,1,"Hvis ansat 10 oktober: 21/31\nHvis fratrådt 15. april: 15/30",2]
[null,{"$f":"B4+1","v":5},null,null,null,"Pensionsprocent",null,{"$f":"$G5","v":0},0,0,0,0,0,0,0,0,0,0,{"$f":"G5","v":0},0,0,0,0,0,0,0,0,0,0,0,"Skriv ikke procenttegnet, fx 14,7% - skriv 14,70",3]
[null,{"$f":"B5+1","v":6},null,null,null,"Betales hele pensionen af skolen? JA/NEJ","Ja",{"$f":"G6","v":"Ja"},{"$f":"H6","v":"Ja"},"Ja","Ja","Ja","Ja","Ja","Ja","Ja","Ja","Ja",{"$f":"G6","v":"Ja"},"Ja","Ja","Ja","Ja","Ja","Ja","Ja","Ja","Ja","Ja","Ja","Se ansættelsesbrev",4]
[null,null,null,null,null,"Har den ansatte orlov uden løn men med pension?","Nej",{"$f":"G7","v":"Nej"},"Nej","Nej","Nej","Nej","Nej","Nej","Nej","Nej","Nej","Nej"]
[null,{"$f":"B6+1","v":7},null,null,null,"Beregnes feriedifferende mv. efter Ferieaftalen i staten JA, eller efter Ferieloven NEJ","JA",{"$f":"G8","v":"JA"},"JA","JA","JA","JA","JA","JA","JA","JA","JA","JA",{"$f":"G8","v":"JA"},{"$f":"H8","v":"JA"},"JA","JA","JA","JA","JA","JA","JA","JA","JA","JA","Ferieloven: mindst 20% differende, Ferieaftalen: enhver differende",5]
[null,{"$f":"B8+1","v":8},null,null,null,"Procentregulering +1",1.1553389999999999,1.1553389999999999,1.159197,1.159197,{"$f":"J9","v":1.159197},1.159197,1.159197,1.159197,null,{"$f":"O9","v":0},{"$f":"P9","v":0},{"$f":"Q9","v":0},{"$f":"G9","v":1.1553389999999999},1.1553389999999999,1.159197,1.159197,1.159197,1.159197,1.159197,1.159197,0,0,0,0,null,6]
[null,9,null,null,null,"Skolens stedtillægsområde",null,{"$f":"G10","v":0},0,0,0,0,0,0,0,0,0,0,{"$f":"G10","v":0},0,0,0,0,0,0,0,0,0,0,0]
[null,10,null,null,null,"Beskæftigelsesgrad aktuel (Beskæftigelsesgrad løn beregnes ud fra)",null,{"$f":"G11","v":0},0,0,0,0,0,0,0,{"$f":"O11","v":0},0,0,0,0,0,0,0,0,0,0,0,0,0,0]
[null,{"$f":"B11+1","v":11},"x","x","x","Skalatrin",null,{"$f":"G12","v":0},0,0,0,0,0,0,0,0,0,0,0,0,0,0,0,0,0,0,0,0,0,0,"Statens løntabel eller HK-overenskomst-løntrin"]
[null,12,"x","x","x",{"$f":"\"Fast aftalt årlig løn \"&IF(E13<>\"\",\"i grundbeløb pr. 31.03.2012\",\"(ikke reguleret)\")","v":"Fast aftalt årlig løn i grundbeløb pr. 31.03.2012"},null,0,0,0,0,0,0,0,{"$f":"N13","v":0},0,0,0,0,0,0,0,0,0,0,0,0,0,0,0]
[null,13,"x",null,"x","Årligt sousdheftillæg eller lign. i grundbeløb",null,{"$f":"G14","v":0},0,0,0,0,0,0,0,0,0,0,0,0,0,0,0,0,0,0,0,0,0,0]
[null,14,"x",null,"x","Årligt funktionsstillæg i grundbeløb 1",null,{"$f":"G15","v":0},0,0,0,0,0,0,0,0,0,0,0,0,0,0,0,0,0,0,0,0,0,0,null,"Ja"]
[null,15,"x",null,"x","Årligt funktionsstillæg i grundbeløb 2",null,{"$f":"G16","v":0},0,0,0,0,0,0,0,0,0,0,0,0,0,0,0,0,0,0,0,0,0,0,null,"Nej"]
[null,16,"x",null,"x","Årligt funktionsstillæg i grundbeløb 3",null,{"$f":"G17","v":0},0,0,0,0,0,0,0,0,0,0,0,0,0,0,0,0,0,0,0,0,0,0]
[null,17,"x","x","x","Årligt kvalifikationsstillæg i grundbeløb 1",null,0,0,0,0,0,0,0,0,0,0,0,0,0,0,0,0,0,0,0,0,0,0,0]
[null,18,"x","x","x","Årligt kvalifikationsstillæg i grundbeløb 2",null,0,0,0,0,0,0,0,0,0,0,0,0,0,0,0,0,0,0,0,0,0,0,0]
[null,19,"x","x","x","Årligt kvalifikationsstillæg i grundbeløb 3",null,0,0,0,0,0,0,0,0,0,0,0,0,0,0,0,0,0,0,0,0,0,0,0]
[null,20,"x","x","x","Udligningstillæg i årligt grundbeløb v. 100% BG",null,0,0,0,0,0,0,0,0,0,0,0,0,0,0,0,0,0,0,0,0,0,0,0]
[null,21,null,null,null,"Gruppelivsordning betalt af af skolen som et løntillæg. Skriv det månedlige beløb!",null,0,0,0,0,0,0,0,0,0,0,0,0,0,0,0,0,0,0,0,0,0,0,0,"Spedielt ved virksomhedsoverdragelse"]
[null,22,null,null,"x","Lokalaftalt fast ulempegodtgørelse pr. måned. - (pr. 31. marts 2012)",null,{"$f":"G23","v":0},0,0,0,0,0,0,{"$f":"N23","v":0},0,0,0,0,0,0,0,0,0,0,0,0,0,0,0,"I stedet for variable arbejdstidsbestemte tillæg, iflg lokalaftale"]
[null,23,null,null,null,"Planlagte feriedage",null,null,5,null,null,null,5,null,null,null,null,15,{"$f":"G24","v":0},{"$f":"H24","v":0},5,0,0,0,5,0,0,0,0,15,"Normalt 15 dage i sommerhalvåret og 10 dage i vinterhalvåret"]
[null,24,null,null,null,".. heraf antal feriedage,\nhvortil der ikke er optjent ferieret",null,null,null,null,null,null,null,null,null,null,null,0,0,0,0,0,0,0,0,0,0,0,0,0,"Ferieloven: fradrag 4,8% pr. dag, Ferieaftalen: 4,62% pr. dag"]
[null,25,null,null,null,"Feriedifference pensionsgivende(udregnes i særskilt regneark)",null,null,null,null,null,null,null,null,null,null,null,null,0,0,0,0,0,0,0,0,0,0,0,0,"Benyttes ved beregning af feriedifferende."]
[null,26,null,null,null,"Feriedifference IKKE pensionsgivende(udregnes i særskilt regneark)",null,null,null,null,null,null,null,null,null,null,null,null,0,0,0,0,0,0,0,0,0,0,0,0,"Benyttes ved beregning af feriedifference'"]
[null,27,null,null,null,"Egenbetalte fridage",null,null,null,null,null,null,null,null,null,null,null,null,0,0,0,0,0,0,0,0,0,0,0,0,"Løn- og pensionsfradrag beregnes i lin 60 og 75"]
["Skatteop-lysninger",28,null,null,null,"Skatteprocent",null,{"$f":"G29","v":0},0,0,0,0,0,0,0,0,0,0,0,0,0,0,0,0,0,0,0,0,0,0,"Skriv ikke procenttegnet, fx 42% - skriv 42"]
[null,29,"km-\ntak-ster",{"$f":"LEFT($A$1,4)+1","v":2023},{"$f":"LEFT($A$1,4)+2","v":2024},"Månedligt skattefradrag",null,0,0,0,0,0,0,0,0,0,0,0,0,0,0,0,0,0,0,0,0,0,0,0]
[null,30,null,2.19,null,"Km.godtgørelse, lav sats (skattefri), antal km:",null,null,null,null,null,null,null,null,null,null,null,null,0,0,0,0,0,0,0,0,0,0,0,0]
[null,31,null,3.73,null,"Km.godtgørelse, høj sats (skattefri), antal km:",null,null,null,null,null,null,null,null,null,null,null,null,0,0,0,0,0,0,0,0,0,0,0,0]
[null,32,null,null,null,"Timedagpenge (skattefri) - Beregn selv",null,null,null,null,null,null,null,null,null,null,null,null,0,0,0,0,0,0,0,0,0,0,0,0,"Se løntabel"]
[null,33,null,null,null,"Jubilæumsgratiale (skattefri op til 8.000 kr.)",null,null,null,null,null,null,null,null,null,null,null,null,0,0,0,0,0,0,0,0,0,0,0,0,"Se løntabel"]
[null,34,null,null,null,"Arbejds- og arbejdstidsbestemte tillæg. Beregn selv",null,null,null,null,null,null,null,null,null,null,null,null,0,0,0,0,0,0,0,0,0,0,0,0,"”Natpenge” iflg skema, hvis ikke der er lokalaftalt godtgørelse"]
[null,35,"x",null,null,"Merarbejdsbetaling. Beregn selv",null,null,null,null,null,null,null,null,null,null,null,null,0,0,0,0,0,0,0,0,0,0,0,0,"Efter årsopgørelse eller ved fratræden"]
[null,36,null,null,null,"Overtidsbetaling. Beregn selv",null,null,null,null,null,null,null,null,null,null,null,null,0,0,0,0,0,0,0,0,0,0,0,0,"Efter årsopgørelse eller ved fratræden"]
[null,37,null,null,null,"Særlige feriedage til udbetaling. Beregn selv",null,null,null,null,null,null,null,null,null,null,null,null,{"$f":"G38","v":0},0,0,0,0,0,0,0,0,0,0,0,"Efter årsafslutning eller ved fratræden. Se pjeden \"Ferievejledning\""]
[null,38,null,null,null,{"$f":"\"Særlig ferietillæg \"&IF(G8=\"ja\",\"1,5%\",\"1,0%\"&\"\")","v":"Særlig ferietillæg 1,5%"},null,null,null,null,null,null,null,null,null,0,null,null,0,0,0,0,0,0,0,0,0,0,0,0]
[null,39,"x",null,null,"Resultatlønstillæg",null,null,null,null,null,null,null,null,null,null,null,null,0,0,0,0,0,0,0,0,0,0,0,0]
[null,40,"x",null,null,"Engangs nylønstillæg",null,null,null,null,null,null,null,null,null,null,null,null,0,0,0,0,0,0,0,0,0,0,0,0]
[null,41,"x",null,null,"Praktiklærervederlag",null,null,null,null,null,null,null,null,null,null,null,null,0,0,0,0,0,0,0,0,0,0,0,0,{"$f":"45*5*7.4","v":1665}]
[null,42,null,null,null,"andet",null,null,null,null,null,null,null,null,null,null,null,null,0,0,0,0,0,0,0,0,0,0,0,0]
[null,43,null,null,null,"andet",null,null,null,null,null,null,null,null,null,null,null,null,0,0,0,0,0,0,0,0,0,0,0,0]
[null,44,"Disse tre linjer fradrages i den disponible løn",null,null,"gavekasse",null,{"$f":"G45","v":0},{"$f":"H45","v":0},0,0,0,0,0,0,0,0,0,0,0,0,0,0,0,0,0,0,0,0,0,"Fx: 'Kaffekasse'"]
[null,45,null,null,null,"kaffekasse",null,{"$f":"G46","v":0},0,0,0,0,0,0,0,0,0,0,0,0,0,0,0,0,0,0,0,0,0,0,"Fx: 'Gavekasse'"]
[null,46,null,null,null,"Fagforenings-kontingent",null,{"$f":"G47","v":0},0,0,0,0,0,0,0,0,0,0,0,0,0,0,0,0,0,0,0,0,0,0,"FX: 'Fagforeningskontingent'"]
[{"$f":"A3","v":"1904-01-01"},{"$f":"B47+1","v":47},null,null,null,"Måned",{"$f":"G3","v":"AUG 23"},"SEP 23","OKT 23","NOV 23","DEC 23","JAN 24","FEB 24","MAR 24","APR 24","MAJ 24","JUN 24","JUL 24","AUG 23","SEP 23","OKT 23","NOV 23","DEC 23","JAN 24","FEB 24","MAR 24","APR 24","MAJ 24","JUN 24","JUL 24","SUM"]
[null,48,{"$f":"(C12<>\"\")*1","v":1},1,1,{"$f":"IF(ISNUMBER(G12),\"Skalatrinsløn\",\"HK-løn\")","v":"HK-løn"},{"$f":"IF(G7=\"Ja\",0,ROUND(IF(AND(G$11>0,G12>0),ROUND((ROUND(VLOOKUP(G12,Skalalontabel12,G10,0)*G9,0))/12,2),0)*G11*G4,2))","v":0},0,0,0,0,0,0,0,0,0,0,0,{"$f":"ROUND(IF(AND(S$11>0,S12>0),ROUND((ROUND(VLOOKUP(S12,Skalalontabel12,S10,0)*S9,0))/12,2),0)*S11*S4,2)","v":0},0,0,0,0,0,0,0,0,0,0,0,{"$f":"SUM(G49:R49)","v":0}]
[null,49,1,1,1,"Fast løn",{"$f":"IF(G7=\"Ja\",0,ROUND(IF(G13>0,G13/12)*IF($D13<>\"\",G$11,1)*IF($E13<>\"\",G$9,1)*G4,2))","v":0},0,0,0,0,0,0,0,0,0,0,0,{"$f":"ROUND(IF(S13>0,S13/12)*IF($D13<>\"\",S$11,1)*IF($E13<>\"\",S$9,1)*S4,2)","v":0},0,0,0,0,0,0,0,0,0,0,0,0]
[null,50,1,0,1,"Souscheftillæg ell. lign.",{"$f":"IF(G7=\"Ja\",0,ROUND(IF(AND(G$11>0,G14>0),G14/12)*IF($D14<>\"\",G$11,1)*IF($E14<>\"\",G$9,1)*G4,2))","v":0},0,0,0,0,0,0,0,0,0,0,0,{"$f":"ROUND(IF(AND(S$11>0,S14>0),S14/12)*IF($D14<>\"\",S$11,1)*IF($E14<>\"\",S$9,1)*S4,2)","v":0},0,0,0,0,0,0,0,0,0,0,0,0]
[null,51,1,0,1,"Funktionstillæg 1",{"$f":"IF(G7=\"Ja\",0,ROUND(IF(AND(G$11>0,G15>0),G15/12)*IF($D15<>\"\",G$11,1)*IF($E15<>\"\",G$9,1)*G4,2))","v":0},0,0,0,0,0,0,0,0,0,0,0,{"$f":"ROUND(IF(AND(S$11>0,S15>0),S15/12)*IF($D15<>\"\",S$11,1)*IF($E15<>\"\",S$9,1)*S4,2)","v":0},0,0,0,0,0,0,0,0,0,0,0,0]
[null,52,1,0,1,"Funktionstillæg 2",{"$f":"IF(G7=\"Ja\",0,ROUND(IF(AND(G$11>0,G16>0),G16/12)*IF($D16<>\"\",G$11,1)*IF($E16<>\"\",G$9,1)*G4,2))","v":0},0,0,0,0,0,0,0,0,0,0,0,{"$f":"ROUND(IF(AND(S$11>0,S16>0),S16/12)*IF($D16<>\"\",S$11,1)*IF($E16<>\"\",S$9,1)*S4,2)","v":0},0,0,0,0,0,0,0,0,0,0,0,0]
[null,53,1,0,1,"Funktionstillæg 3",{"$f":"IF(G7=\"Ja\",0,ROUND(IF(AND(G$11>0,G17>0),G17/12)*IF($D17<>\"\",G$11,1)*IF($E17<>\"\",G$9,1)*G4,2))","v":0},0,0,0,0,0,0,0,0,0,0,0,{"$f":"ROUND(IF(AND(S$11>0,S17>0),S17/12)*IF($D17<>\"\",S$11,1)*IF($E17<>\"\",S$9,1)*S4,2)","v":0},0,0,0,0,0,0,0,0,0,0,0,0]
[null,54,1,1,1,"Kvalifikationstillæg 1",{"$f":"IF(G7=\"Ja\",0,ROUND(IF(AND(G$11>0,G18>0),G18/12)*IF($D18<>\"\",G$11,1)*IF($E18<>\"\",G$9,1)*G4,2))","v":0},0,0,0,0,0,0,0,0,0,0,0,{"$f":"ROUND(IF(AND(S$11>0,S18>0),S18/12)*IF($D18<>\"\",S$11,1)*IF($E18<>\"\",S$9,1)*S4,2)","v":0},0,0,0,0,0,0,0,0,0,0,0,0]
[null,55,1,1,1,"Kvalifikationstillæg 2",{"$f":"IF(G7=\"Ja\",0,ROUND(IF(AND(G$11>0,G19>0),G19/12)*IF($D19<>\"\",G$11,1)*IF($E19<>\"\",G$9,1)*G4,2))","v":0},0,0,0,0,0,0,0,0,0,0,0,{"$f":"ROUND(IF(AND(S$11>0,S19>0),S19/12)*IF($D19<>\"\",S$11,1)*IF($E19<>\"\",S$9,1)*S4,2)","v":0},0,0,0,0,0,0,0,0,0,0,0,0]
[null,56,1,1,1,"Kvalifikationstillæg 3",{"$f":"IF(G7=\"Ja\",0,ROUND(IF(AND(G$11>0,G20>0),G20/12)*IF($D20<>\"\",G$11,1)*IF($E20<>\"\",G$9,1)*G$4,2))","v":0},0,0,0,0,0,0,0,0,0,0,0,{"$f":"ROUND(IF(AND(S$11>0,S20>0),S20/12)*IF($D20<>\"\",S$11,1)*IF($E20<>\"\",S$9,1)*S$4,2)","v":0},0,0,0,0,0,0,0,0,0,0,0,0]
[null,57,1,1,1,"Udligningstillæg",{"$f":"IF(G7=\"Ja\",0,ROUND(IF(AND(G$11>0,G21>0),G21/12)*IF($D21<>\"\",G$11,1)*IF($E21<>\"\",G$9,1)*G$4,2))","v":0},0,0,0,0,0,0,0,0,0,0,0,0,0,0,0,0,0,0,0,0,0,0,0,0]
[null,58,null,null,null,"Gruppelivstillæg",{"$f":"IF(G7=\"Ja\",0,ROUND(IF(AND(G$11>0,G22>0),G22)*IF($D22<>\"\",G$11,1)*IF($E22<>\"\",G$9,1)*G$4,2))","v":0},0,0,0,0,0,0,0,0,0,0,0,{"$f":"ROUND(IF(AND(S$11>0,S22>0),S22)*IF($D22<>\"\",S$11,1)*IF($E22<>\"\",S$9,1)*S$4,2)","v":0},0,0,0,0,0,0,0,0,0,0,0,0]
[null,59,null,{"$f":"(D23<>\"\")*1","v":0},{"$f":"(E23<>\"\")*1","v":1},"Lokalaftalt ulempegodtgørelse",{"$f":"IF(G7=\"Ja\",0,ROUND(IF(AND(G$11>0,G23>0),G23)*IF($D23<>\"\",G$11,1)*IF($E23<>\"\",G$9,1)*G$4,2))","v":0},0,0,0,0,0,0,0,0,0,0,0,0,0,0,0,0,0,0,0,0,0,0,0,0]
[null,60,1,null,null,"Lønfradrag for ikke optjent ferie mv.",{"$f":"-ROUND((MAX(0,MIN(S24,S25*1))+S28)*IF(S8=\"JA\",4.62%,4.8%)*(S49+S50+S51+S52+S53+S54+S55+S56+S57+S58+S60)*S$4,2)","v":0},0,0,0,0,0,0,0,0,0,0,0,{"$f":"-ROUND((MAX(0,MIN(S24,S25*1))+S28)*IF(S8=\"JA\",4.62%,4.8%)*(S49+S50+S51+S52+S53+S54+S55+S56+S57+S58+S60)*S$4,2)","v":0},0,0,0,0,0,0,0,0,0,0,0,0]
[null,61,1,null,null,"Feriedifference pensionsgivende(udregnes i særskilt fane)",{"$f":"G26","v":0},{"$f":"H26","v":0},0,0,0,0,0,0,0,0,0,0,{"$f":"S26","v":0},{"$f":"T26","v":0},0,0,0,0,0,0,0,0,0,0,0]
[null,62,null,null,null,"Feriedifference IKKE pensionsgivende(udregnes i særskilt fane)",{"$f":"G27","v":0},0,0,0,0,0,0,0,0,0,0,0,{"$f":"S27","v":0},0,0,0,0,0,0,0,0,0,0,0]
[null,63,null,null,null,"Engangsudbetalinger iflg. specifikation",{"$f":"SUM(G35:G44)","v":0},{"$f":"SUM(H35:H44)","v":0},0,0,0,0,0,0,0,0,0,0,{"$f":"SUM(S35:S44)","v":0},{"$f":"SUM(T35:T44)+MAX(T34*T9-8000,0)","v":0},0,0,0,0,0,0,0,0,0,0,0]
[null,64,null,null,null,"Skattefrie km. Godtgørelse lav sats",{"$f":"G31*$D$31","v":0},{"$f":"H31*$D$31","v":0},0,0,0,0,0,0,0,0,0,0,{"$f":"S31*$D$31","v":0},{"$f":"T31*$D$31","v":0},0,0,0,0,0,0,0,0,0,0]
[null,65,null,null,null,"Skattefrie km. Godtgørelse høj sats",{"$f":"G32*$D$32","v":0},{"$f":"H32*$D$32","v":0},0,0,0,0,0,0,0,0,0,0,{"$f":"S32*$D$32","v":0},{"$f":"T32*$D$32","v":0},0,0,0,0,0,0,0,0,0,0]
[null,{"$f":"B64+1","v":64},null,null,null,"Timedagpenge(skattefrie)",{"$f":"IF(G33>0,G33,0)","v":0},{"$f":"IF(H33>0,H33,0)","v":0},0,0,0,0,0,0,0,0,0,0,{"$f":"IF(S33>0,S33,0)","v":0},{"$f":"IF(T33>0,T33,0)","v":0},0,0,0,0,0,0,0,0,0,0,0]
[null,65,null,null,null,"Skattefri jubilæumsgratiale",{"$f":"MIN(8000,G34*G9)","v":0},0,0,0,0,0,0,0,0,0,0,0,0,0,0,0,0,0,0,0,0,0,0,0]
[null,66,null,null,null,"Skattepligtig jubilæumsgratiaale",{"$f":"IF(G34>0,MAX(G34*G9-8000,0),0)","v":0},0,0,0,0,0,0,0,0,0,0,0,0,0,0,0,0,0,0,0,0,0,0,0]
[null,67,null,null,null,"Bruttoløn (ekskl. pensionstillæg og ATP)",{"$f":"SUM(G49:G69)","v":0},{"$f":"SUM(H49:H67)","v":0},0,0,0,0,0,0,0,0,0,0,{"$f":"SUM(S49:S69)","v":0},{"$f":"SUM(T49:T67)","v":0},0,0,0,0,0,0,0,0,0,0,0]
[null,{"$f":"B70+1","v":68},null,null,null,{"$f":"\"Pensionstillæg af pensionsg. \"&IF(ISNUMBER(G12),\"Skalatrinsløn\",\"HK-løn\")","v":"Pensionstillæg af pensionsg. HK-løn"},{"$f":"IF(G7=\"Ja\",0,ROUND(IF(AND(G$11>0,G12>0),ROUND((ROUND(VLOOKUP(G12,Skalalontabel12,7,0)*G9,0))/12,2),0)*G11*G4*G5/100/3,2))","v":0},0,0,0,0,0,0,0,0,0,0,0,{"$f":"ROUND(IF(AND(S$11>0,S12>0),ROUND((ROUND(VLOOKUP(S12,Skalalontabel12,7,0)*S9,0))/12,2),0)*S11*S4*S5/100/3,2)","v":0},0,0,0,0,0,0,0,0,0,0,0,0]
[null,69,null,null,null,"Pensionstillæg fast løn",{"$f":"ROUND(G50*$C50*G$5/100/3,2)","v":0},0,0,0,0,0,0,0,0,0,0,0,0,0,0,0,0,0,0,0,0,0,0,0,0]
[null,70,null,null,null,"Pensionstillæg souscheftillæg",0,0,0,0,0,0,0,0,0,0,0,0,0,0,0,0,0,0,0,0,0,0,0,0,0]
[null,71,null,null,null,"Pensionstillæg Funktionstillæg 1",0,0,0,0,0,0,0,0,0,0,0,0,0,0,0,0,0,0,0,0,0,0,0,0,0]
[null,72,null,null,null,"Pensionstillæg Funktionstillæg 2",0,0,0,0,0,0,0,0,0,0,0,0,0,0,0,0,0,0,0,0,0,0,0,0,0]
[null,73,null,null,null,"Pensionstillæg Funktionstillæg 3",0,0,0,0,0,0,0,0,0,0,0,0,0,0,0,0,0,0,0,0,0,0,0,0,0]
[null,74,null,null,null,"Pensionstillæg Kvalifikationstillæg 1",0,0,0,0,0,0,0,0,0,0,0,0,0,0,0,0,0,0,0,0,0,0,0,0,0]
[null,75,null,null,null,"Pensionstillæg Kvalifikationstillæg 2",0,0,0,0,0,0,0,0,0,0,0,0,0,0,0,0,0,0,0,0,0,0,0,0,0]
[null,76,null,null,null,"Pensionstillæg Kvalifikationstillæg 3",0,0,0,0,0,0,0,0,0,0,0,0,0,0,0,0,0,0,0,0,0,0,0,0,0]
[null,77,null,null,null,"Pensionstillæg af udligningstillæg",0,0,0,0,0,0,0,0,0,0,0,0,0,0,0,0,0,0,0,0,0,0,0,0,0]
[null,78,null,null,null,"Fradrag i pensionstillæg for ikke optjent ferie mv.",{"$f":"ROUND(G61*$C61*G$5/100/3,2)","v":0},0,0,0,0,0,0,0,0,0,0,0,0,0,0,0,0,0,0,0,0,0,0,0,0]
[null,79,null,null,null,"Pensionstillæg af feriedifference",0,0,0,0,0,0,0,0,0,0,0,0,0,0,0,0,0,0,0,0,0,0,0,0,0]
[null,80,null,null,null,"Pensionstillæg af pensiong. engangstillæg",{"$f":"ROUND(G36*G5/100/3+G40*($C40<>\"\")*G5/100/3+G41*($C41<>\"\")*G5/100/3+G42*($C42<>\"\")*G5/100/3+G43*($C43<>\"\")*G5/100/3+G44*($C44<>\"\")*G5/100/3,2)","v":0},0,0,0,0,0,0,0,0,0,0,0,0,0,0,0,0,0,0,0,0,0,0,0,0]
[null,null,null,null,null,"Ekstra pension hvis orlov uden løn",{"$f":"IF(G7=\"Ja\",SUM(S71:S82)-SUM(G71:G83),0)","v":0},{"$f":"IF(H7=\"Ja\",SUM(T71:T83)-SUM(H71:H83),0)","v":0},{"$f":"IF(I7=\"Ja\",SUM(U71:U82)-SUM(I71:I83),0)","v":0},0,0,0,0,0,0,0,0,0]
[null,{"$f":"B83+1","v":81},null,null,null,"Pensionstillæg i alt",{"$f":"SUM(G71:G84)","v":0},{"$f":"SUM(H71:H84)","v":0},0,0,0,0,0,0,0,0,0,0,{"$f":"SUM(S71:S83)","v":0},{"$f":"SUM(T71:T83)","v":0},0,0,0,0,0,0,0,0,0,0,0]
[null,82,null,null,null,"Egetbidrag til ATP",{"$f":"ROUND(G98/3,2)","v":0},{"$f":"ROUND(H98/3,2)","v":0},0,0,0,0,0,0,0,0,0,0,{"$f":"ROUND(S98/3,2)","v":0},{"$f":"ROUND(T98/3,2)","v":0},0,0,0,0,0,0,0,0,0,0,{"$f":"SUM(G86:R86)","v":0}]
[null,83,null,null,null,"AMB-grundlag",{"$f":"IF(G6=\"nej\",G85*-1)+SUM(G49:G64)-G86+G69","v":0},0,0,0,0,0,0,0,0,0,0,0,{"$f":"IF(S6=\"nej\",S85*-1)+SUM(S49:S64)-S86","v":0},0,0,0,0,0,0,0,0,0,0,0,{"$f":"SUM(G87:R87)","v":0}]
[null,84,null,null,null,"AM-bidrag",{"$f":"ROUND(G87*8%,0)","v":0},{"$f":"ROUND(H87*8%,0)","v":0},0,0,0,0,0,0,0,0,0,0,{"$f":"ROUND(S87*8%,0)","v":0},{"$f":"ROUND(T87*8%,0)","v":0},0,0,0,0,0,0,0,0,0,0,0]
[null,85,null,null,null,"A-indkomst",{"$f":"G87-G88","v":0},{"$f":"H87-H88","v":0},0,0,0,0,0,0,0,0,0,0,{"$f":"S87-S88","v":0},{"$f":"T87-T88","v":0},0,0,0,0,0,0,0,0,0,0,0]
[null,86,null,null,null,"Skattegrundlag",{"$f":"FLOOR(G89-G30,10)","v":0},{"$f":"FLOOR(H89-H30,10)","v":0},0,0,0,0,0,0,0,0,0,0,{"$f":"FLOOR(S89-S30,10)","v":0},{"$f":"FLOOR(T89-T30,10)","v":0},0,0,0,0,0,0,0,0,0,0]
[null,87,null,null,null,"Skat",{"$f":"ROUND(G90*G29/100,0)","v":0},0,0,0,0,0,0,0,0,0,0,0,0,0,0,0,0,0,0,0,0,0,0,0,0]
[null,88,null,null,null,"Feriegodtgørelsesgrundlag ",{"$f":"SUM(G49:G64)","v":0},{"$f":"SUM(H49:H64)","v":0},{"$f":"SUM(I49:I64)","v":0},{"$f":"SUM(J49:J64)","v":0},{"$f":"SUM(K49:K64)","v":0},{"$f":"SUM(L49:L64)","v":0},0,0,0,0,0,0,{"$f":"SUM(S49:S64)","v":0},{"$f":"SUM(T49:T64)","v":0},{"$f":"SUM(U49:U64)","v":0},{"$f":"SUM(V49:V64)","v":0},{"$f":"SUM(W49:W64)","v":0},{"$f":"SUM(X49:X64)","v":0},0,0,0,0,0,0,{"$f":"SUM(H92:P92)","v":0}]
[null,89,null,null,null,{"$f":"\"Feriegodtgørelsesgrundlag, juni-juli \"","v":"Feriegodtgørelsesgrundlag, juni-juli "},null,null,null,null,null,null,null,null,null,null,{"$f":"SUM(Q49:Q64)-Q39","v":0},{"$f":"SUM(R49:R64)-R39","v":0},null,null,null,null,null,null,null,null,null,null,{"$f":"SUM(AC49:AC64)-AC39","v":0},{"$f":"SUM(AD49:AD64)-AD39","v":0},{"$f":"SUM(G93:R93)","v":0}]
[null,90,null,null,null,"Egetbidrag til pensionskasse",{"$f":"G85","v":0},{"$f":"H85","v":0},0,0,0,0,0,0,0,0,0,0,{"$f":"S85","v":0},{"$f":"T85","v":0},0,0,0,0,0,0,0,0,0,0,0]
[null,91,null,null,null,"Arbejdsgiverbidrag til pensionskasse",{"$f":"G94*2","v":0},{"$f":"H94*2","v":0},0,0,0,0,0,0,0,0,0,0,{"$f":"S94*2","v":0},{"$f":"T94*2","v":0},0,0,0,0,0,0,0,0,0,0,0]
[null,92,null,null,null,"Arbejdsgiverbidrag til ATP",{"$f":"G98*2/3","v":0},{"$f":"H98*2/3","v":0},0,0,0,0,0,0,0,0,0,0,{"$f":"S98*2/3","v":0},{"$f":"T98*2/3","v":0},0,0,0,0,0,0,0,0,0,0,0]
[null,93,null,null,null,"Skolens samlede indbetaling til pensionskasse",{"$f":"G94+G95","v":0},{"$f":"H94+H95","v":0},0,0,0,0,0,0,0,0,0,0,{"$f":"S94+S95","v":0},{"$f":"T94+T95","v":0},0,0,0,0,0,0,0,0,0,0,0]
[null,{"$f":"B97+1","v":94},null,null,null,"Skolens samlede indbetaling til ATP",{"$f":"284/3*(((G11*G4)>=9/37)+((G11*G4)>=18/37)+((G11*G4)>=27/37))","v":0},0,0,0,0,{"$f":"297/3*(((L11*L4)>=9/37)+((L11*L4)>=18/37)+((L11*L4)>=27/37))","v":0},{"$f":"297/3*(((M11*M4)>=9/37)+((M11*M4)>=18/37)+((M11*M4)>=27/37))","v":0},0,0,0,0,0,0,0,0,0,0,0,0,0,0,0,0,0,0]
[null,95,null,null,null,"Indbetaling til Gruppeliv",{"$f":"G22","v":0},{"$f":"H22","v":0},0,0,0,0,0,0,0,0,0,0,{"$f":"S22","v":0},{"$f":"T22","v":0},0,0,0,0,0,0,0,0,0,0,0]
[null,96,null,null,null,"Løn til den ansattes disposition",{"$f":"IF(G6=\"nej\",G85*-1)+G70-(G91+G86+G88+G99)-G45-G46-G47","v":0},0,0,0,0,0,0,0,0,0,0,0,0,0,0,0,0,0,0,0,0,0,0,0,{"$f":"SUM(G100:R100)","v":0}]
[null,97,null,null,null,{"$f":"\"Feriepengeberegningsgrundlag, jan-dec \"&Aar","v":"Feriepengeberegningsgrundlag, jan-dec "},{"$f":"(SUM(G49:G64)+G85+G86)*(1-12/260*G24)","v":0},{"$f":"(SUM(H49:H64)+H85+H86)*(1-12/260*H24)","v":0},{"$f":"(SUM(I49:I64)+I85+I86)*(1-12/260*I24)","v":0},{"$f":"(SUM(J49:J64)+J85+J86)*(1-12/260*J24)","v":0},{"$f":"(SUM(K49:K64)+K85+K86)*(1-12/260*K24)","v":0},"Kalenderårets sum benyttes ved fratræden og særlige feriedage",null,null,null,null,null,null,{"$f":"(SUM(S49:S64)+S85+S86)*(1-12/260*S24)","v":0},{"$f":"(SUM(T49:T64)+T85+T86)*(1-12/260*T24)","v":0},{"$f":"(SUM(U49:U64)+U85+U86)*(1-12/260*U24)","v":0},{"$f":"(SUM(V49:V64)+V85+V86)*(1-12/260*V24)","v":0},{"$f":"(SUM(W49:W64)+W85+W86)*(1-12/260*W24)","v":0},"Kalenderårets sum benyttes ved fratræden og særlige feriedage",null,null,null,null,null,null,{"$f":"A101+SUM(G101:K101)","v":0}]
[null,{"$f":"B101+1","v":98},null,null,null,{"$f":"\"Feriepengeberegningsgrundlag, jan-jul \"&Aar","v":"Feriepengeberegningsgrundlag, jan-jul "},"Kalenderårets sum benyttes ved fratræden og særlige feriedage",null,null,null,null,{"$f":"(SUM(L$49:L$64)+L$85+L86)*(1-12/260*L$24)","v":0},{"$f":"(SUM(M$49:M$64)+M$85+M86)*(1-12/260*M$24)","v":0},0,0,0,0,0,"Kalenderårets sum benyttes ved fratræden og særlige feriedage",null,null,null,null,{"$f":"(SUM(X$49:X$64)+X$85+X86)*(1-12/260*X$24)","v":0},{"$f":"(SUM(Y$49:Y$64)+Y$85+Y86)*(1-12/260*Y$24)","v":0},0,0,0,0,0,0]
[null,{"$f":"B102+1","v":99},null,null,null,"BG-afhængige løndele",{"$f":"G49*$D49+G50*$D50+G51*$D51+G52*$D52+G53*$D53+G54*$D54+G55*$D55+G56*$D56+G57*$D57+G58*$D58+G60*$D60","v":0},0,0,0,0,0,0,0,0,0,0,0,0,0,0,0,0,0,0,0,0,0,0,0]
[null,{"$f":"B103+1","v":100},null,null,null,"BG-difference >=20%",{"$f":"IF(G11>0,IF(G11>G26,(G11-G26)/G26>=20%,(G11-G26)/G26<=-20%),\"\")","v":""},"","","","","","","","",{"$f":"IF(P11>0,IF(P11>P27,(P11-P27)/P27>=20%,(P11-P27)/P27<=-20%),\"\")","v":""},{"$f":"IF(Q11>0,IF(Q11>Q27,(Q11-Q27)/Q27>=20%,(Q11-Q27)/Q27<=-20%),\"\")","v":""},{"$f":"IF(R11>0,IF(R11>R27,(R11-R27)/R27>=20%,(R11-R27)/R27<=-20%),\"\")","v":""},{"$f":"IF(S11>0,IF(S11>S26,(S11-S26)/S26>=20%,(S11-S26)/S26<=-20%),\"\")","v":""},"","","","","","","","",{"$f":"IF(AB11>0,IF(AB11>AB27,(AB11-AB27)/AB27>=20%,(AB11-AB27)/AB27<=-20%),\"\")","v":""},{"$f":"IF(AC11>0,IF(AC11>AC27,(AC11-AC27)/AC27>=20%,(AC11-AC27)/AC27<=-20%),\"\")","v":""},{"$f":"IF(AD11>0,IF(AD11>AD27,(AD11-AD27)/AD27>=20%,(AD11-AD27)/AD27<=-20%),\"\")","v":""}]
[]
[]
[]
[]
[]
[]
[]
[]
[]
[]
[]
[]
[]
[]
[]
[]
[]
[]
[]
[]
[]
[]
[]
[]
[]
[]
[]
[]
[]
[]
[]
[]
[]
[]
[]
[]
[]
[]
[]
[]
[]
[]
[]
[]
[]
[]
[]
[]
[]
[null,{"$f":"B153+1","v":1}]
[null,2,null,null,null,{"$f":"IF(ISNUMBER(G1),\"Skalatrinsløn\",\"HK-løn\")","v":"HK-løn"},{"$f":"\"= \"&TEXT(ROUND(VLOOKUP(G12,Skalalontabel12,G10,0)*G9,0),\"#.000\")&\" / 12 * \"&TEXT(G11,\"0,0000\")&\" * \"&TEXT(G$4,\"#0/#0\")&\" =\"","v":{"$error":"#N/A"}},{"$error":"#N/A"},{"$error":"#N/A"},{"$error":"#N/A"},{"$error":"#N/A"},{"$error":"#N/A"},{"$error":"#N/A"},{"$error":"#N/A"},{"$error":"#N/A"},{"$error":"#N/A"},{"$error":"#N/A"},{"$error":"#N/A"},{"$error":"#N/A"},{"$error":"#N/A"},{"$error":"#N/A"},{"$error":"#N/A"},{"$error":"#N/A"},{"$error":"#N/A"},{"$error":"#N/A"},{"$error":"#N/A"},{"$error":"#N/A"},{"$error":"#N/A"},{"$error":"#N/A"},{"$error":"#N/A"}]
[null,3,null,null,null,"Fast løn",{"$f":"\"= \"&TEXT(G13,\"#.000,00\")&\" / 12 \"&IF($D50>0,\" * \"&TEXT(G$11,\"0,0000\"),\"\")&IF($E50>0,\" * \"&G$9,\"\")&\" * \"&TEXT(G$4,\"#0/#0\")&\" =\"","v":"= 000,00 / 12  * 0,0000 * 1,155339 * 1/1 ="},"= 000,00 / 12  * 0,0000 * 1,155339 * 1/1 =","= 000,00 / 12  * 0,0000 * 1,159197 * 1/1 =","= 000,00 / 12  * 0,0000 * 1,159197 * 1/1 =","= 000,00 / 12  * 0,0000 * 1,159197 * 1/1 =","= 000,00 / 12  * 0,0000 * 1,159197 * 1/1 =","= 000,00 / 12  * 0,0000 * 1,159197 * 1/1 =","= 000,00 / 12  * 0,0000 * 1,159197 * 1/1 =","= 000,00 / 12  * 0,0000 *  * 1/1 =","= 000,00 / 12  * 0,0000 * 0 * 1/1 =","= 000,00 / 12  * 0,0000 * 0 * 1/1 =","= 000,00 / 12  * 0,0000 * 0 * 1/1 =","= 000,00 / 12  * 0,0000 * 1,155339 * 1/1 =","= 000,00 / 12  * 0,0000 * 1,155339 * 1/1 =","= 000,00 / 12  * 0,0000 * 1,159197 * 1/1 =","= 000,00 / 12  * 0,0000 * 1,159197 * 1/1 =","= 000,00 / 12  * 0,0000 * 1,159197 * 1/1 =","= 000,00 / 12  * 0,0000 * 1,159197 * 1/1 =","= 000,00 / 12  * 0,0000 * 1,159197 * 1/1 =","= 000,00 / 12  * 0,0000 * 1,159197 * 1/1 =","= 000,00 / 12  * 0,0000 * 0 * 1/1 =","= 000,00 / 12  * 0,0000 * 0 * 1/1 =","= 000,00 / 12  * 0,0000 * 0 * 1/1 =","= 000,00 / 12  * 0,0000 * 0 * 1/1 ="]
[null,4,null,null,null,"Sousdheftillæg","= 000,00 / 12  * 1,155339 * 1/1 =","= 000,00 / 12  * 1,155339 * 1/1 =","= 000,00 / 12  * 1,159197 * 1/1 =","= 000,00 / 12  * 1,159197 * 1/1 =","= 000,00 / 12  * 1,159197 * 1/1 =","= 000,00 / 12  * 1,159197 * 1/1 =","= 000,00 / 12  * 1,159197 * 1/1 =","= 000,00 / 12  * 1,159197 * 1/1 =","= 000,00 / 12  *  * 1/1 =","= 000,00 / 12  * 0 * 1/1 =","= 000,00 / 12  * 0 * 1/1 =","= 000,00 / 12  * 0 * 1/1 =","= 000,00 / 12  * 1,155339 * 1/1 =","= 000,00 / 12  * 1,155339 * 1/1 =","= 000,00 / 12  * 1,159197 * 1/1 =","= 000,00 / 12  * 1,159197 * 1/1 =","= 000,00 / 12  * 1,159197 * 1/1 =","= 000,00 / 12  * 1,159197 * 1/1 =","= 000,00 / 12  * 1,159197 * 1/1 =","= 000,00 / 12  * 1,159197 * 1/1 =","= 000,00 / 12  * 0 * 1/1 =","= 000,00 / 12  * 0 * 1/1 =","= 000,00 / 12  * 0 * 1/1 =","= 000,00 / 12  * 0 * 1/1 ="]
[null,5,null,null,null,"Funktionstillæg 1",{"$f":"\"= \"&TEXT(G15,\"#.000,00\")&\" / 12 \"&IF($D52>0,\" * \"&TEXT(G$11,\"0,0000\"),\"\")&IF($E52>0,\" * \"&G$9,\"\")&\" * \"&TEXT(G$4,\"#0/#0\")&\" =\"","v":"= 000,00 / 12  * 1,155339 * 1/1 ="},{"$f":"\"= \"&TEXT(H15,\"#.000,00\")&\" / 12 \"&IF($D52>0,\" * \"&TEXT(H$11,\"0,0000\"),\"\")&IF($E158>0,\" * \"&H$9,\"\")&\" * \"&TEXT(H$4,\"#0/#0\")&\" =\"","v":"= 000,00 / 12  * 1/1 ="},"= 000,00 / 12  * 1/1 =","= 000,00 / 12  * 1/1 =","= 000,00 / 12  * 1/1 =","= 000,00 / 12  * 1/1 =","= 000,00 / 12  * 1/1 =","= 000,00 / 12  * 1/1 =","= 000,00 / 12  * 1/1 =","= 000,00 / 12  * 1/1 =","= 000,00 / 12  * 1/1 =","= 000,00 / 12  * 1/1 =","= 000,00 / 12  * 1/1 =","= 000,00 / 12  * 1/1 =","= 000,00 / 12  * 1/1 =","= 000,00 / 12  * 1/1 =","= 000,00 / 12  * 1/1 =","= 000,00 / 12  * 1/1 =","= 000,00 / 12  * 1/1 =","= 000,00 / 12  * 1/1 =","= 000,00 / 12  * 1/1 =","= 000,00 / 12  * 1/1 =","= 000,00 / 12  * 1/1 =","= 000,00 / 12  * 1/1 ="]
[null,6,null,null,null,"Funktionstillæg 2",{"$f":"\"= \"&TEXT(G16,\"#.000,00\")&\" / 12 \"&IF($D53>0,\" * \"&TEXT(G$11,\"0,0000\"),\"\")&IF($E53>0,\" * \"&G$9,\"\")&\" * \"&TEXT(G$4,\"#0/#0\")&\" =\"","v":"= 000,00 / 12  * 1,155339 * 1/1 ="},"= 000,00 / 12  * 1,155339 * 1/1 =","= 000,00 / 12  * 1,159197 * 1/1 =","= 000,00 / 12  * 1,159197 * 1/1 =","= 000,00 / 12  * 1,159197 * 1/1 =","= 000,00 / 12  * 1,159197 * 1/1 =","= 000,00 / 12  * 1,159197 * 1/1 =","= 000,00 / 12  * 1,159197 * 1/1 =","= 000,00 / 12  *  * 1/1 =","= 000,00 / 12  * 0 * 1/1 =","= 000,00 / 12  * 0 * 1/1 =","= 000,00 / 12  * 0 * 1/1 =","= 000,00 / 12  * 1,155339 * 1/1 =","= 000,00 / 12  * 1,155339 * 1/1 =","= 000,00 / 12  * 1,159197 * 1/1 =","= 000,00 / 12  * 1,159197 * 1/1 =","= 000,00 / 12  * 1,159197 * 1/1 =","= 000,00 / 12  * 1,159197 * 1/1 =","= 000,00 / 12  * 1,159197 * 1/1 =","= 000,00 / 12  * 1,159197 * 1/1 =","= 000,00 / 12  * 0 * 1/1 =","= 000,00 / 12  * 0 * 1/1 =","= 000,00 / 12  * 0 * 1/1 =","= 000,00 / 12  * 0 * 1/1 ="]
[null,7,null,null,null,"Funktionstillæg 3","= 000,00 / 12  * 1,155339 * 1/1 =","= 000,00 / 12  * 1,155339 * 1/1 =","= 000,00 / 12  * 1,159197 * 1/1 =","= 000,00 / 12  * 1,159197 * 1/1 =","= 000,00 / 12  * 1,159197 * 1/1 =","= 000,00 / 12  * 1,159197 * 1/1 =","= 000,00 / 12  * 1,159197 * 1/1 =","= 000,00 / 12  * 1,159197 * 1/1 =","= 000,00 / 12  *  * 1/1 =","= 000,00 / 12  * 0 * 1/1 =","= 000,00 / 12  * 0 * 1/1 =","= 000,00 / 12  * 0 * 1/1 =","= 000,00 / 12  * 1,155339 * 1/1 =","= 000,00 / 12  * 1,155339 * 1/1 =","= 000,00 / 12  * 1,159197 * 1/1 =","= 000,00 / 12  * 1,159197 * 1/1 =","= 000,00 / 12  * 1,159197 * 1/1 =","= 000,00 / 12  * 1,159197 * 1/1 =","= 000,00 / 12  * 1,159197 * 1/1 =","= 000,00 / 12  * 1,159197 * 1/1 =","= 000,00 / 12  * 0 * 1/1 =","= 000,00 / 12  * 0 * 1/1 =","= 000,00 / 12  * 0 * 1/1 =","= 000,00 / 12  * 0 * 1/1 ="]
[null,8,null,null,null,"Kvalifikationstillæg 1","= 000,00 / 12  * 0,0000 * 1,155339 * 1/1 =","= 000,00 / 12  * 0,0000 * 1,155339 * 1/1 =","= 000,00 / 12  * 0,0000 * 1,159197 * 1/1 =","= 000,00 / 12  * 0,0000 * 1,159197 * 1/1 =","= 000,00 / 12  * 0,0000 * 1,159197 * 1/1 =","= 000,00 / 12  * 0,0000 * 1,159197 * 1/1 =","= 000,00 / 12  * 0,0000 * 1,159197 * 1/1 =","= 000,00 / 12  * 0,0000 * 1,159197 * 1/1 =","= 000,00 / 12  * 0,0000 *  * 1/1 =","= 000,00 / 12  * 0,0000 * 0 * 1/1 =","= 000,00 / 12  * 0,0000 * 0 * 1/1 =","= 000,00 / 12  * 0,0000 * 0 * 1/1 =","= 000,00 / 12  * 0,0000 * 1,155339 * 1/1 =","= 000,00 / 12  * 0,0000 * 1,155339 * 1/1 =","= 000,00 / 12  * 0,0000 * 1,159197 * 1/1 =","= 000,00 / 12  * 0,0000 * 1,159197 * 1/1 =","= 000,00 / 12  * 0,0000 * 1,159197 * 1/1 =","= 000,00 / 12  * 0,0000 * 1,159197 * 1/1 =","= 000,00 / 12  * 0,0000 * 1,159197 * 1/1 =","= 000,00 / 12  * 0,0000 * 1,159197 * 1/1 =","= 000,00 / 12  * 0,0000 * 0 * 1/1 =","= 000,00 / 12  * 0,0000 * 0 * 1/1 =","= 000,00 / 12  * 0,0000 * 0 * 1/1 =","= 000,00 / 12  * 0,0000 * 0 * 1/1 ="]
[null,9,null,null,null,"Kvalifikationstillæg 2","= 000,00 / 12  * 0,0000 * 1,155339 * 1/1 =","= 000,00 / 12  * 0,0000 * 1,155339 * 1/1 =","= 000,00 / 12  * 0,0000 * 1,159197 * 1/1 =","= 000,00 / 12  * 0,0000 * 1,159197 * 1/1 =","= 000,00 / 12  * 0,0000 * 1,159197 * 1/1 =","= 000,00 / 12  * 0,0000 * 1,159197 * 1/1 =","= 000,00 / 12  * 0,0000 * 1,159197 * 1/1 =","= 000,00 / 12  * 0,0000 * 1,159197 * 1/1 =","= 000,00 / 12  * 0,0000 *  * 1/1 =","= 000,00 / 12  * 0,0000 * 0 * 1/1 =","= 000,00 / 12  * 0,0000 * 0 * 1/1 =","= 000,00 / 12  * 0,0000 * 0 * 1/1 =","= 000,00 / 12  * 0,0000 * 1,155339 * 1/1 =","= 000,00 / 12  * 0,0000 * 1,155339 * 1/1 =","= 000,00 / 12  * 0,0000 * 1,159197 * 1/1 =","= 000,00 / 12  * 0,0000 * 1,159197 * 1/1 =","= 000,00 / 12  * 0,0000 * 1,159197 * 1/1 =","= 000,00 / 12  * 0,0000 * 1,159197 * 1/1 =","= 000,00 / 12  * 0,0000 * 1,159197 * 1/1 =","= 000,00 / 12  * 0,0000 * 1,159197 * 1/1 =","= 000,00 / 12  * 0,0000 * 0 * 1/1 =","= 000,00 / 12  * 0,0000 * 0 * 1/1 =","= 000,00 / 12  * 0,0000 * 0 * 1/1 =","= 000,00 / 12  * 0,0000 * 0 * 1/1 ="]
[null,10,null,null,null,"Kvalifikationstillæg 3","= 000,00 / 12  * 0,0000 * 1,155339 * 1/1 =","= 000,00 / 12  * 0,0000 * 1,155339 * 1/1 =","= 000,00 / 12  * 0,0000 * 1,159197 * 1/1 =","= 000,00 / 12  * 0,0000 * 1,159197 * 1/1 =","= 000,00 / 12  * 0,0000 * 1,159197 * 1/1 =","= 000,00 / 12  * 0,0000 * 1,159197 * 1/1 =","= 000,00 / 12  * 0,0000 * 1,159197 * 1/1 =","= 000,00 / 12  * 0,0000 * 1,159197 * 1/1 =","= 000,00 / 12  * 0,0000 *  * 1/1 =","= 000,00 / 12  * 0,0000 * 0 * 1/1 =","= 000,00 / 12  * 0,0000 * 0 * 1/1 =","= 000,00 / 12  * 0,0000 * 0 * 1/1 =","= 000,00 / 12  * 0,0000 * 1,155339 * 1/1 =","= 000,00 / 12  * 0,0000 * 1,155339 * 1/1 =","= 000,00 / 12  * 0,0000 * 1,159197 * 1/1 =","= 000,00 / 12  * 0,0000 * 1,159197 * 1/1 =","= 000,00 / 12  * 0,0000 * 1,159197 * 1/1 =","= 000,00 / 12  * 0,0000 * 1,159197 * 1/1 =","= 000,00 / 12  * 0,0000 * 1,159197 * 1/1 =","= 000,00 / 12  * 0,0000 * 1,159197 * 1/1 =","= 000,00 / 12  * 0,0000 * 0 * 1/1 =","= 000,00 / 12  * 0,0000 * 0 * 1/1 =","= 000,00 / 12  * 0,0000 * 0 * 1/1 =","= 000,00 / 12  * 0,0000 * 0 * 1/1 ="]
[null,11,null,null,null,"Udligningstillæg","= 000,00 / 12  * 0,0000 * 1,155339 * 1/1 =","= 000,00 / 12  * 0,0000 * 1,155339 * 1/1 =","= 000,00 / 12  * 0,0000 * 1,159197 * 1/1 =","= 000,00 / 12  * 0,0000 * 1,159197 * 1/1 =","= 000,00 / 12  * 0,0000 * 1,159197 * 1/1 =","= 000,00 / 12  * 0,0000 * 1,159197 * 1/1 =","= 000,00 / 12  * 0,0000 * 1,159197 * 1/1 =","= 000,00 / 12  * 0,0000 * 1,159197 * 1/1 =","= 000,00 / 12  * 0,0000 *  * 1/1 =","= 000,00 / 12  * 0,0000 * 0 * 1/1 =","= 000,00 / 12  * 0,0000 * 0 * 1/1 =","= 000,00 / 12  * 0,0000 * 0 * 1/1 =","= 000,00 / 12  * 0,0000 * 1,155339 * 1/1 =","= 000,00 / 12  * 0,0000 * 1,155339 * 1/1 =","= 000,00 / 12  * 0,0000 * 1,159197 * 1/1 =","= 000,00 / 12  * 0,0000 * 1,159197 * 1/1 =","= 000,00 / 12  * 0,0000 * 1,159197 * 1/1 =","= 000,00 / 12  * 0,0000 * 1,159197 * 1/1 =","= 000,00 / 12  * 0,0000 * 1,159197 * 1/1 =","= 000,00 / 12  * 0,0000 * 1,159197 * 1/1 =","= 000,00 / 12  * 0,0000 * 0 * 1/1 =","= 000,00 / 12  * 0,0000 * 0 * 1/1 =","= 000,00 / 12  * 0,0000 * 0 * 1/1 =","= 000,00 / 12  * 0,0000 * 0 * 1/1 ="]
[null,12,null,null,null,"Gruppelivstillæg",{"$f":"\"= \"&TEXT(G22,\"#.##0,00\")&\" * \"&TEXT(G$4,\"#0/#0\")&\" =\"","v":"= 0,00 * 1/1 ="},{"$f":"\"= \"&TEXT(H22,\"#.##0,00\")&\" * \"&TEXT(H$4,\"#0/#0\")&\" =\"","v":"= 0,00 * 1/1 ="},"= 0,00 * 1/1 =","= 0,00 * 1/1 =","= 0,00 * 1/1 =","= 0,00 * 1/1 =","= 0,00 * 1/1 =","= 0,00 * 1/1 =","= 0,00 * 1/1 =","= 0,00 * 1/1 =","= 0,00 * 1/1 =","= 0,00 * 1/1 =",{"$f":"\"= \"&TEXT(S22,\"#.##0,00\")&\" * \"&TEXT(S$4,\"#0/#0\")&\" =\"","v":"= 0,00 * 1/1 ="},{"$f":"\"= \"&TEXT(T22,\"#.##0,00\")&\" * \"&TEXT(T$4,\"#0/#0\")&\" =\"","v":"= 0,00 * 1/1 ="},"= 0,00 * 1/1 =","= 0,00 * 1/1 =","= 0,00 * 1/1 =","= 0,00 * 1/1 =","= 0,00 * 1/1 =","= 0,00 * 1/1 =","= 0,00 * 1/1 =","= 0,00 * 1/1 =","= 0,00 * 1/1 =","= 0,00 * 1/1 ="]
[null,13,null,null,null,"Lokalaftalt ulempegodtgørelse",{"$f":"\"= \"&TEXT(G23,\"#,00\")&IF($D60>0,\" * \"&TEXT(G$11,\"0,0000\"),\"\")&IF($E60>0,\" * \"&G$9,\"\")&\" * \"&TEXT(G$4,\"#0/#0\")&\" =\"","v":"= ,00 * 1,155339 * 1/1 ="},"= ,00 * 1,155339 * 1/1 =","= ,00 * 1,159197 * 1/1 =","= ,00 * 1,159197 * 1/1 =","= ,00 * 1,159197 * 1/1 =","= ,00 * 1,159197 * 1/1 =","= ,00 * 1,159197 * 1/1 =","= ,00 * 1,159197 * 1/1 =","= ,00 *  * 1/1 =","= ,00 * 0 * 1/1 =","= ,00 * 0 * 1/1 =","= ,00 * 0 * 1/1 =","= ,00 * 1,155339 * 1/1 =","= ,00 * 1,155339 * 1/1 =","= ,00 * 1,159197 * 1/1 =","= ,00 * 1,159197 * 1/1 =","= ,00 * 1,159197 * 1/1 =","= ,00 * 1,159197 * 1/1 =","= ,00 * 1,159197 * 1/1 =","= ,00 * 1,159197 * 1/1 =","= ,00 * 0 * 1/1 =","= ,00 * 0 * 1/1 =","= ,00 * 0 * 1/1 =","= ,00 * 0 * 1/1 ="]
[null,14,null,null,null,"Lønfradrag for ikke optjent ferie mv.",{"$f":"\"= - \"&MAX(0,MIN(G24,G25*1))+G28&\" * \"&IF(G8=\"JA\",\"4,62%\",\"4,8%\")&\" * SUM(Lin. 1 - Lin 12)\"&\" * \"&TEXT(G$4,\"#0/#0\")&\" =\"","v":"= - 0 * 4,62% * SUM(Lin. 1 - Lin 12) * 1/1 ="},{"$f":"\"= - \"&MAX(0,MIN(H24,H25*1))+H28&\" * \"&IF(H8=\"JA\",\"4,62%\",\"4,8%\")&\" * SUM(Lin. 1 - Lin 12) =\"","v":"= - 0 * 4,62% * SUM(Lin. 1 - Lin 12) ="},"= - 0 * 4,62% * SUM(Lin. 1 - Lin 12) =","= - 0 * 4,62% * SUM(Lin. 1 - Lin 12) =","= - 0 * 4,62% * SUM(Lin. 1 - Lin 12) =","= - 0 * 4,62% * SUM(Lin. 1 - Lin 12) =","= - 0 * 4,62% * SUM(Lin. 1 - Lin 12) =","= - 0 * 4,62% * SUM(Lin. 1 - Lin 12) =","= - 0 * 4,62% * SUM(Lin. 1 - Lin 12) =","= - 0 * 4,62% * SUM(Lin. 1 - Lin 12) =","= - 0 * 4,62% * SUM(Lin. 1 - Lin 12) =","= - 0 * 4,62% * SUM(Lin. 1 - Lin 12) =",{"$f":"\"= - \"&MAX(0,MIN(S24,S25*1))+S28&\" * \"&IF(S8=\"JA\",\"4,62%\",\"4,8%\")&\" * SUM(Lin. 1 - Lin 12)\"&\" * \"&TEXT(S$4,\"#0/#0\")&\" =\"","v":"= - 0 * 4,62% * SUM(Lin. 1 - Lin 12) * 1/1 ="},{"$f":"\"= - \"&MAX(0,MIN(T24,T25*1))+T28&\" * \"&IF(T8=\"JA\",\"4,62%\",\"4,8%\")&\" * SUM(Lin. 1 - Lin 12) =\"","v":"= - 0 * 4,62% * SUM(Lin. 1 - Lin 12) ="},"= - 0 * 4,62% * SUM(Lin. 1 - Lin 12) =","= - 0 * 4,62% * SUM(Lin. 1 - Lin 12) =","= - 0 * 4,62% * SUM(Lin. 1 - Lin 12) =","= - 0 * 4,62% * SUM(Lin. 1 - Lin 12) =","= - 0 * 4,62% * SUM(Lin. 1 - Lin 12) =","= - 0 * 4,62% * SUM(Lin. 1 - Lin 12) =","= - 0 * 4,62% * SUM(Lin. 1 - Lin 12) =","= - 0 * 4,62% * SUM(Lin. 1 - Lin 12) =","= - 0 * 4,62% * SUM(Lin. 1 - Lin 12) =","= - 0 * 4,62% * SUM(Lin. 1 - Lin 12) ="]
[null,16,null,null,null,"Feriedifference. Pensionsgivende",null,{"$f":"\"= \"&IF(LEFT(H8)=\"N\",\"( \"&H26&\" - \"&H11&\") * 4,8% * \"&H103&\" * \"&MAX((H24-H25),0)*H104,\"( \"&H26&\" - \"&H11&\") * 4,62% * \"&H103&\" * \"&MAX((H24-H25),0))&\" =\"","v":"= (  - 0) * 4,62% * 0 * 0 ="},"= (  - 0) * 4,62% * 0 * 5 =","= (  - 0) * 4,62% * 0 * 0 =","= (  - 0) * 4,62% * 0 * 0 =","= (  - 0) * 4,62% * 0 * 0 =","= (  - 0) * 4,62% * 0 * 5 =","= (  - 0) * 4,62% * 0 * 0 =","= (  - 0) * 4,62% * 0 * 0 =",{"$f":"\"= \"&IF(LEFT(P8)=\"N\",\"( \"&ROUND(P27,4)&\" - \"&P11&\") * 4,8% * \"&P103&\" * \"&MAX((P24-P25),0)*P104,\"( \"&ROUND(P27,4)&\" - \"&P11&\") * 4,62% * \"&P103&\" * \"&MAX((P24-P25),0))&\" =\"","v":"= ( 0 - 0) * 4,62% * 0 * 0 ="},{"$f":"\"= \"&IF(LEFT(Q8)=\"N\",\"( \"&ROUND(Q27,4)&\" - \"&Q11&\") * 4,8% * \"&Q103&\" * \"&MAX((Q24-Q25),0)*Q104,\"( \"&ROUND(Q27,4)&\" - \"&Q11&\") * 4,62% * \"&Q103&\" * \"&MAX((Q24-Q25),0))&\" =\"","v":"= ( 0 - 0) * 4,62% * 0 * 0 ="},{"$f":"\"= \"&IF(LEFT(R8)=\"N\",\"( \"&ROUND(R27,4)&\" - \"&R11&\") * 4,8% * \"&R103&\" * \"&MAX((R24-R25),0)*R104,\"( \"&ROUND(R27,4)&\" - \"&R11&\") * 4,62% * \"&R103&\" * \"&MAX((R24-R25),0))&\" =\"","v":"= ( 0 - 0) * 4,62% * 0 * 15 ="},null,{"$f":"\"= \"&IF(LEFT(T8)=\"N\",\"( \"&T26&\" - \"&T11&\") * 4,8% * \"&T103&\" * \"&MAX((T24-T25),0)*T104,\"( \"&T26&\" - \"&T11&\") * 4,62% * \"&T103&\" * \"&MAX((T24-T25),0))&\" =\"","v":"= ( 0 - 0) * 4,62% * 0 * 0 ="},"= ( 0 - 0) * 4,62% * 0 * 5 =","= ( 0 - 0) * 4,62% * 0 * 0 =","= ( 0 - 0) * 4,62% * 0 * 0 =","= ( 0 - 0) * 4,62% * 0 * 0 =","= ( 0 - 0) * 4,62% * 0 * 5 =","= ( 0 - 0) * 4,62% * 0 * 0 =","= ( 0 - 0) * 4,62% * 0 * 0 =",{"$f":"\"= \"&IF(LEFT(AB8)=\"N\",\"( \"&ROUND(AB27,4)&\" - \"&AB11&\") * 4,8% * \"&AB103&\" * \"&MAX((AB24-AB25),0)*AB104,\"( \"&ROUND(AB27,4)&\" - \"&AB11&\") * 4,62% * \"&AB103&\" * \"&MAX((AB24-AB25),0))&\" =\"","v":"= ( 0 - 0) * 4,62% * 0 * 0 ="},{"$f":"\"= \"&IF(LEFT(AC8)=\"N\",\"( \"&ROUND(AC27,4)&\" - \"&AC11&\") * 4,8% * \"&AC103&\" * \"&MAX((AC24-AC25),0)*AC104,\"( \"&ROUND(AC27,4)&\" - \"&AC11&\") * 4,62% * \"&AC103&\" * \"&MAX((AC24-AC25),0))&\" =\"","v":"= ( 0 - 0) * 4,62% * 0 * 0 ="},{"$f":"\"= \"&IF(LEFT(AD8)=\"N\",\"( \"&ROUND(AD27,4)&\" - \"&AD11&\") * 4,8% * \"&AD103&\" * \"&MAX((AD24-AD25),0)*AD104,\"( \"&ROUND(AD27,4)&\" - \"&AD11&\") * 4,62% * \"&AD103&\" * \"&MAX((AD24-AD25),0))&\" =\"","v":"= ( 0 - 0) * 4,62% * 0 * 15 ="}]
[null,17,null,null,null,"Feriedifferende. Ikke pensionsgivende"]
[null,18,null,null,null,"Engangsudbetalinger iflg. specifikation",{"$f":"SUBSTITUTE(TRIM(\"=SUM(\"&MAX(G34-8000,0)&\" \"&G35&\" \"&G36&\" \"&G37&\" \"&G38&\" \"&G40&\" \"&G41&\" \"&G42&\" \"&G43&\" \"&G44&\")\"),\" \",\"; \")&\" =\"","v":"=SUM(0; ) ="},{"$f":"SUBSTITUTE(TRIM(\"=SUM(\"&MAX(H34-8000,0)&\" \"&H35&\" \"&H36&\" \"&H37&\" \"&H38&\" \"&H40&\" \"&H41&\" \"&H42&\" \"&H43&\" \"&H44&\")\"),\" \",\"; \")&\" =\"","v":"=SUM(0; ) ="},"=SUM(0; ) =","=SUM(0; ) =","=SUM(0; ) =","=SUM(0; ) =","=SUM(0; ) =","=SUM(0; ) =","=SUM(0; ) =","=SUM(0; ) =","=SUM(0; ) =","=SUM(0; ) =",{"$f":"SUBSTITUTE(TRIM(\"=SUM(\"&MAX(S34-8000,0)&\" \"&S35&\" \"&S36&\" \"&S37&\" \"&S38&\" \"&S40&\" \"&S41&\" \"&S42&\" \"&S43&\" \"&S44&\")\"),\" \",\"; \")&\" =\"","v":"=SUM(0; 0; 0; 0; 0; 0; 0; 0; 0; 0) ="},{"$f":"SUBSTITUTE(TRIM(\"=SUM(\"&MAX(T34-8000,0)&\" \"&T35&\" \"&T36&\" \"&T37&\" \"&T38&\" \"&T40&\" \"&T41&\" \"&T42&\" \"&T43&\" \"&T44&\")\"),\" \",\"; \")&\" =\"","v":"=SUM(0; 0; 0; 0; 0; 0; 0; 0; 0; 0) ="},"=SUM(0; 0; 0; 0; 0; 0; 0; 0; 0; 0) =","=SUM(0; 0; 0; 0; 0; 0; 0; 0; 0; 0) =","=SUM(0; 0; 0; 0; 0; 0; 0; 0; 0; 0) =","=SUM(0; 0; 0; 0; 0; 0; 0; 0; 0; 0) =","=SUM(0; 0; 0; 0; 0; 0; 0; 0; 0; 0) =","=SUM(0; 0; 0; 0; 0; 0; 0; 0; 0; 0) =","=SUM(0; 0; 0; 0; 0; 0; 0; 0; 0; 0) =","=SUM(0; 0; 0; 0; 0; 0; 0; 0; 0; 0) =","=SUM(0; 0; 0; 0; 0; 0; 0; 0; 0; 0) =","=SUM(0; 0; 0; 0; 0; 0; 0; 0; 0; 0) ="]
[null,19,null,null,null,"Skattefri engangsudbetalinger iflg. spec.",{"$f":"SUBSTITUTE(TRIM(\"=SUM(\"&G31&\" * \"&$D31&\" \"&G32&\" * \"&$D32&\" \"&G33&\" \"&MIN(G34,8000)&\")\"),\" \",\"; \")&\" =\"","v":"=SUM(; *; 2,19; *; 3,73; 8000) ="},{"$f":"SUBSTITUTE(TRIM(\"=SUM(\"&H31&\" * \"&$D31&\" \"&H32&\" * \"&$D32&\" \"&H33&\" \"&MIN(H34,8000)&\")\"),\" \",\"; \")&\" =\"","v":"=SUM(; *; 2,19; *; 3,73; 8000) ="},{"$f":"SUBSTITUTE(TRIM(\"=SUM(\"&I31&\" * \"&$D31&\" \"&I32&\" * \"&$D32&\" \"&I33&\" \"&MIN(I34,8000)&\")\"),\" \",\"; \")&\" =\"","v":"=SUM(; *; 2,19; *; 3,73; 8000) ="},{"$f":"SUBSTITUTE(TRIM(\"=SUM(\"&J31&\" * \"&$D31&\" \"&J32&\" * \"&$D32&\" \"&J33&\" \"&MIN(J34,8000)&\")\"),\" \",\"; \")&\" =\"","v":"=SUM(; *; 2,19; *; 3,73; 8000) ="},{"$f":"SUBSTITUTE(TRIM(\"=SUM(\"&K31&\" * \"&$D31&\" \"&K32&\" * \"&$D32&\" \"&K33&\" \"&MIN(K34,8000)&\")\"),\" \",\"; \")&\" =\"","v":"=SUM(; *; 2,19; *; 3,73; 8000) ="},{"$f":"SUBSTITUTE(TRIM(\"=SUM(\"&L31&\" * \"&$E31&\" \"&L32&\" * \"&$E32&\" \"&L33&\" \"&MIN(L34,8000)&\")\"),\" \",\"; \")&\" =\"","v":"=SUM(; *; *; 8000) ="},{"$f":"SUBSTITUTE(TRIM(\"=SUM(\"&M31&\" * \"&$E31&\" \"&M32&\" * \"&$E32&\" \"&M33&\" \"&MIN(M34,8000)&\")\"),\" \",\"; \")&\" =\"","v":"=SUM(; *; *; 8000) ="},"=SUM(; *; *; 8000) =","=SUM(; *; *; 8000) =","=SUM(; *; *; 8000) =","=SUM(; *; *; 8000) =","=SUM(; *; *; 8000) =",{"$f":"SUBSTITUTE(TRIM(\"=SUM(\"&S31&\" * \"&$D31&\" \"&S32&\" * \"&$D32&\" \"&S33&\" \"&MIN(S34,8000)&\")\"),\" \",\"; \")&\" =\"","v":"=SUM(0; *; 2,19; 0; *; 3,73; 0; 0) ="},{"$f":"SUBSTITUTE(TRIM(\"=SUM(\"&T31&\" * \"&$D31&\" \"&T32&\" * \"&$D32&\" \"&T33&\" \"&MIN(T34,8000)&\")\"),\" \",\"; \")&\" =\"","v":"=SUM(0; *; 2,19; 0; *; 3,73; 0; 0) ="},{"$f":"SUBSTITUTE(TRIM(\"=SUM(\"&U31&\" * \"&$D31&\" \"&U32&\" * \"&$D32&\" \"&U33&\" \"&MIN(U34,8000)&\")\"),\" \",\"; \")&\" =\"","v":"=SUM(0; *; 2,19; 0; *; 3,73; 0; 0) ="},{"$f":"SUBSTITUTE(TRIM(\"=SUM(\"&V31&\" * \"&$D31&\" \"&V32&\" * \"&$D32&\" \"&V33&\" \"&MIN(V34,8000)&\")\"),\" \",\"; \")&\" =\"","v":"=SUM(0; *; 2,19; 0; *; 3,73; 0; 0) ="},{"$f":"SUBSTITUTE(TRIM(\"=SUM(\"&W31&\" * \"&$D31&\" \"&W32&\" * \"&$D32&\" \"&W33&\" \"&MIN(W34,8000)&\")\"),\" \",\"; \")&\" =\"","v":"=SUM(0; *; 2,19; 0; *; 3,73; 0; 0) ="},{"$f":"SUBSTITUTE(TRIM(\"=SUM(\"&X31&\" * \"&$E31&\" \"&X32&\" * \"&$E32&\" \"&X33&\" \"&MIN(X34,8000)&\")\"),\" \",\"; \")&\" =\"","v":"=SUM(0; *; 0; *; 0; 0) ="},{"$f":"SUBSTITUTE(TRIM(\"=SUM(\"&Y31&\" * \"&$E31&\" \"&Y32&\" * \"&$E32&\" \"&Y33&\" \"&MIN(Y34,8000)&\")\"),\" \",\"; \")&\" =\"","v":"=SUM(0; *; 0; *; 0; 0) ="},"=SUM(0; *; 0; *; 0; 0) =","=SUM(0; *; 0; *; 0; 0) =","=SUM(0; *; 0; *; 0; 0) =","=SUM(0; *; 0; *; 0; 0) =","=SUM(0; *; 0; *; 0; 0) ="]
[null,20,null,null,null,"Bruttoløn (ekskl. pensionstillæg og ATP)"]
[null,21,null,null,null,"Pensionstillæg skalatrinsløn eller HK-løn",{"$f":"\"= \"&ROUND(VLOOKUP(G12,Skalalontabel12,7,0)*G$9,0)&\" / 12  * \"&TEXT(G$11,\"0,0000\")&\" * \"&G5&\"% / 3 =\"","v":{"$error":"#N/A"}},{"$error":"#N/A"},{"$error":"#N/A"},{"$error":"#N/A"},{"$error":"#N/A"},{"$error":"#N/A"},{"$error":"#N/A"},{"$error":"#N/A"},{"$error":"#N/A"},{"$error":"#N/A"},{"$error":"#N/A"},{"$error":"#N/A"},{"$error":"#N/A"},{"$error":"#N/A"},{"$error":"#N/A"},{"$error":"#N/A"},{"$error":"#N/A"},{"$error":"#N/A"},{"$error":"#N/A"},{"$error":"#N/A"},{"$error":"#N/A"},{"$error":"#N/A"},{"$error":"#N/A"},{"$error":"#N/A"}]
[null,22,null,null,null,"Pensionstillæg fast løn",{"$f":"IF($C50>0,\"= \"&G50&\" * \"&G$5&\"% / 3 =\")","v":"= 0 * % / 3 ="},{"$f":"IF($C50>0,H50&\" * \"&H$5&\"% / 3 =\")","v":"0 * 0% / 3 ="},"0 * 0% / 3 =","0 * 0% / 3 =","0 * 0% / 3 =","0 * 0% / 3 =","0 * 0% / 3 =","0 * 0% / 3 =","0 * 0% / 3 =","0 * 0% / 3 =","0 * 0% / 3 =","0 * 0% / 3 =",{"$f":"IF($C50>0,\"= \"&S50&\" * \"&S$5&\"% / 3 =\")","v":"= 0 * 0% / 3 ="},{"$f":"IF($C50>0,T50&\" * \"&T$5&\"% / 3 =\")","v":"0 * 0% / 3 ="},"0 * 0% / 3 =","0 * 0% / 3 =","0 * 0% / 3 =","0 * 0% / 3 =","0 * 0% / 3 =","0 * 0% / 3 =","0 * 0% / 3 =","0 * 0% / 3 =","0 * 0% / 3 =","0 * 0% / 3 ="]
[null,23,null,null,null,"Pensionstillæg souscheftillæg","= 0 * % / 3 =","0 * 0% / 3 =","0 * 0% / 3 =","0 * 0% / 3 =","0 * 0% / 3 =","0 * 0% / 3 =","0 * 0% / 3 =","0 * 0% / 3 =","0 * 0% / 3 =","0 * 0% / 3 =","0 * 0% / 3 =","0 * 0% / 3 =","= 0 * 0% / 3 =","0 * 0% / 3 =","0 * 0% / 3 =","0 * 0% / 3 =","0 * 0% / 3 =","0 * 0% / 3 =","0 * 0% / 3 =","0 * 0% / 3 =","0 * 0% / 3 =","0 * 0% / 3 =","0 * 0% / 3 =","0 * 0% / 3 ="]
[null,24,null,null,null,"Pensionstillæg Funktionstillæg 1","= 0 * % / 3 =","0 * 0% / 3 =","0 * 0% / 3 =","0 * 0% / 3 =","0 * 0% / 3 =","0 * 0% / 3 =","0 * 0% / 3 =","0 * 0% / 3 =","0 * 0% / 3 =","0 * 0% / 3 =","0 * 0% / 3 =","0 * 0% / 3 =","= 0 * 0% / 3 =","0 * 0% / 3 =","0 * 0% / 3 =","0 * 0% / 3 =","0 * 0% / 3 =","0 * 0% / 3 =","0 * 0% / 3 =","0 * 0% / 3 =","0 * 0% / 3 =","0 * 0% / 3 =","0 * 0% / 3 =","0 * 0% / 3 ="]
[null,25,null,null,null,"Pensionstillæg Funktionstillæg 2","= 0 * % / 3 =","0 * 0% / 3 =","0 * 0% / 3 =","0 * 0% / 3 =","0 * 0% / 3 =","0 * 0% / 3 =","0 * 0% / 3 =","0 * 0% / 3 =","0 * 0% / 3 =","0 * 0% / 3 =","0 * 0% / 3 =","0 * 0% / 3 =","= 0 * 0% / 3 =","0 * 0% / 3 =","0 * 0% / 3 =","0 * 0% / 3 =","0 * 0% / 3 =","0 * 0% / 3 =","0 * 0% / 3 =","0 * 0% / 3 =","0 * 0% / 3 =","0 * 0% / 3 =","0 * 0% / 3 =","0 * 0% / 3 ="]
[null,26,null,null,null,"Pensionstillæg Funktionstillæg 3","= 0 * % / 3 =","0 * 0% / 3 =","0 * 0% / 3 =","0 * 0% / 3 =","0 * 0% / 3 =","0 * 0% / 3 =","0 * 0% / 3 =","0 * 0% / 3 =","0 * 0% / 3 =","0 * 0% / 3 =","0 * 0% / 3 =","0 * 0% / 3 =","= 0 * 0% / 3 =","0 * 0% / 3 =","0 * 0% / 3 =","0 * 0% / 3 =","0 * 0% / 3 =","0 * 0% / 3 =","0 * 0% / 3 =","0 * 0% / 3 =","0 * 0% / 3 =","0 * 0% / 3 =","0 * 0% / 3 =","0 * 0% / 3 ="]
[null,27,null,null,null,"Pensionstillæg Kvalifikationstillæg 1","= 0 * % / 3 =","0 * 0% / 3 =","0 * 0% / 3 =","0 * 0% / 3 =","0 * 0% / 3 =","0 * 0% / 3 =","0 * 0% / 3 =","0 * 0% / 3 =","0 * 0% / 3 =","0 * 0% / 3 =","0 * 0% / 3 =","0 * 0% / 3 =","= 0 * 0% / 3 =","0 * 0% / 3 =","0 * 0% / 3 =","0 * 0% / 3 =","0 * 0% / 3 =","0 * 0% / 3 =","0 * 0% / 3 =","0 * 0% / 3 =","0 * 0% / 3 =","0 * 0% / 3 =","0 * 0% / 3 =","0 * 0% / 3 ="]
[null,28,null,null,null,"Pensionstillæg Kvalifikationstillæg 2","= 0 * % / 3 =","0 * 0% / 3 =","0 * 0% / 3 =","0 * 0% / 3 =","0 * 0% / 3 =","0 * 0% / 3 =","0 * 0% / 3 =","0 * 0% / 3 =","0 * 0% / 3 =","0 * 0% / 3 =","0 * 0% / 3 =","0 * 0% / 3 =","= 0 * 0% / 3 =","0 * 0% / 3 =","0 * 0% / 3 =","0 * 0% / 3 =","0 * 0% / 3 =","0 * 0% / 3 =","0 * 0% / 3 =","0 * 0% / 3 =","0 * 0% / 3 =","0 * 0% / 3 =","0 * 0% / 3 =","0 * 0% / 3 ="]
[null,29,null,null,null,"Pensionstillæg Kvalifikationstillæg 3","= 0 * % / 3 =","0 * 0% / 3 =","0 * 0% / 3 =","0 * 0% / 3 =","0 * 0% / 3 =","0 * 0% / 3 =","0 * 0% / 3 =","0 * 0% / 3 =","0 * 0% / 3 =","0 * 0% / 3 =","0 * 0% / 3 =","0 * 0% / 3 =","= 0 * 0% / 3 =","0 * 0% / 3 =","0 * 0% / 3 =","0 * 0% / 3 =","0 * 0% / 3 =","0 * 0% / 3 =","0 * 0% / 3 =","0 * 0% / 3 =","0 * 0% / 3 =","0 * 0% / 3 =","0 * 0% / 3 =","0 * 0% / 3 ="]
[null,30,null,null,null,"Pensionstillæg af udligningstillæg","= 0 * % / 3 =","0 * 0% / 3 =","0 * 0% / 3 =","0 * 0% / 3 =","0 * 0% / 3 =","0 * 0% / 3 =","0 * 0% / 3 =","0 * 0% / 3 =","0 * 0% / 3 =","0 * 0% / 3 =","0 * 0% / 3 =","0 * 0% / 3 =","= 0 * 0% / 3 =","0 * 0% / 3 =","0 * 0% / 3 =","0 * 0% / 3 =","0 * 0% / 3 =","0 * 0% / 3 =","0 * 0% / 3 =","0 * 0% / 3 =","0 * 0% / 3 =","0 * 0% / 3 =","0 * 0% / 3 =","0 * 0% / 3 ="]
[null,31,null,null,null,"Fradrag i pensionstillæg for ikke optjent ferie mv.",{"$f":"\"= \"&G61&\" * \"&G$5&\"% / 3 =\"","v":"= 0 * % / 3 ="},"= 0 * 0% / 3 =","= 0 * 0% / 3 =","= 0 * 0% / 3 =","= 0 * 0% / 3 =","= 0 * 0% / 3 =","= 0 * 0% / 3 =","= 0 * 0% / 3 =","= 0 * 0% / 3 =","= 0 * 0% / 3 =","= 0 * 0% / 3 =","= 0 * 0% / 3 =","= 0 * 0% / 3 =","= 0 * 0% / 3 =","= 0 * 0% / 3 =","= 0 * 0% / 3 =","= 0 * 0% / 3 =","= 0 * 0% / 3 =","= 0 * 0% / 3 =","= 0 * 0% / 3 =","= 0 * 0% / 3 =","= 0 * 0% / 3 =","= 0 * 0% / 3 =","= 0 * 0% / 3 ="]
[null,32,null,null,null,"Pensionstillæg af feriedifference","= 0 * % / 3 =","= 0 * 0% / 3 =","= 0 * 0% / 3 =","= 0 * 0% / 3 =","= 0 * 0% / 3 =","= 0 * 0% / 3 =","= 0 * 0% / 3 =","= 0 * 0% / 3 =","= 0 * 0% / 3 =","= 0 * 0% / 3 =","= 0 * 0% / 3 =","= 0 * 0% / 3 =","= 0 * 0% / 3 =","= 0 * 0% / 3 =","= 0 * 0% / 3 =","= 0 * 0% / 3 =","= 0 * 0% / 3 =","= 0 * 0% / 3 =","= 0 * 0% / 3 =","= 0 * 0% / 3 =","= 0 * 0% / 3 =","= 0 * 0% / 3 =","= 0 * 0% / 3 =","= 0 * 0% / 3 ="]
[null,33,null,null,null,"Pensionstillæg af pensiong. engangstillæg",{"$f":"SUBSTITUTE(TRIM(\"=SUM(\"&IF($G36>0,G36&\" \",\"\")&IF($C40<>\"\",G40&\" \",\"\")&IF($C41<>\"\",G41&\" \",\"\")&IF($C42<>\"\",G42&\" \",\"\")&IF($C43<>\"\",G43&\" \",\"\")&IF($C44<>\"\",G44,\"\")&\")\"),\" \",\"; \")&\" * \"&G5&\"% / 3 =\"","v":"=SUM(; ) * % / 3 ="},"=SUM(; ) * 0% / 3 =","=SUM(; ) * 0% / 3 =","=SUM(; ) * 0% / 3 =","=SUM(; ) * 0% / 3 =","=SUM(; ) * 0% / 3 =","=SUM(; ) * 0% / 3 =","=SUM(; ) * 0% / 3 =","=SUM(; ) * 0% / 3 =","=SUM(; ) * 0% / 3 =","=SUM(; ) * 0% / 3 =","=SUM(; ) * 0% / 3 =","=SUM(0; 0; 0; ) * 0% / 3 =","=SUM(0; 0; 0; ) * 0% / 3 =","=SUM(0; 0; 0; ) * 0% / 3 =","=SUM(0; 0; 0; ) * 0% / 3 =","=SUM(0; 0; 0; ) * 0% / 3 =","=SUM(0; 0; 0; ) * 0% / 3 =","=SUM(0; 0; 0; ) * 0% / 3 =","=SUM(0; 0; 0; ) * 0% / 3 =","=SUM(0; 0; 0; ) * 0% / 3 =","=SUM(0; 0; 0; ) * 0% / 3 =","=SUM(0; 0; 0; ) * 0% / 3 =","=SUM(0; 0; 0; ) * 0% / 3 ="]
[null,34,null,null,null,"Ekstra pension ved orlov uden løn","Ekstra pension ved orlov uden løn","Ekstra pension ved orlov uden løn","Ekstra pension ved orlov uden løn","Ekstra pension ved orlov uden løn","Ekstra pension ved orlov uden løn","Ekstra pension ved orlov uden løn","Ekstra pension ved orlov uden løn","Ekstra pension ved orlov uden løn","Ekstra pension ved orlov uden løn","Ekstra pension ved orlov uden løn","Ekstra pension ved orlov uden løn","Ekstra pension ved orlov uden løn"]
[null,35,null,null,null,"Pensionstillæg i alt"]
[null,36,null,null,null,"Egetbidrag til ATP"]
[null,37,null,null,null,"AMB-grundlag",{"$f":"\"= SUM(Lin. 1 - Lin. 14) + SUM(Lin 19 - Lin28) - \"&G86&\" =\"","v":"= SUM(Lin. 1 - Lin. 14) + SUM(Lin 19 - Lin28) - 0 ="},{"$f":"\"= SUM(Lin. 1 - Lin. 14) + SUM(Lin 19 - Lin28) - \"&H86&\" =\"","v":"= SUM(Lin. 1 - Lin. 14) + SUM(Lin 19 - Lin28) - 0 ="},"= SUM(Lin. 1 - Lin. 14) + SUM(Lin 19 - Lin28) - 0 =","= SUM(Lin. 1 - Lin. 14) + SUM(Lin 19 - Lin28) - 0 =","= SUM(Lin. 1 - Lin. 14) + SUM(Lin 19 - Lin28) - 0 =","= SUM(Lin. 1 - Lin. 14) + SUM(Lin 19 - Lin28) - 0 =","= SUM(Lin. 1 - Lin. 14) + SUM(Lin 19 - Lin28) - 0 =","= SUM(Lin. 1 - Lin. 14) + SUM(Lin 19 - Lin28) - 0 =","= SUM(Lin. 1 - Lin. 14) + SUM(Lin 19 - Lin28) - 0 =","= SUM(Lin. 1 - Lin. 14) + SUM(Lin 19 - Lin28) - 0 =","= SUM(Lin. 1 - Lin. 14) + SUM(Lin 19 - Lin28) - 0 =","= SUM(Lin. 1 - Lin. 14) + SUM(Lin 19 - Lin28) - 0 =",{"$f":"\"= SUM(Lin. 1 - Lin. 14) + SUM(Lin 19 - Lin28) - \"&S86&\" =\"","v":"= SUM(Lin. 1 - Lin. 14) + SUM(Lin 19 - Lin28) - 0 ="},{"$f":"\"= SUM(Lin. 1 - Lin. 14) + SUM(Lin 19 - Lin28) - \"&T86&\" =\"","v":"= SUM(Lin. 1 - Lin. 14) + SUM(Lin 19 - Lin28) - 0 ="},"= SUM(Lin. 1 - Lin. 14) + SUM(Lin 19 - Lin28) - 0 =","= SUM(Lin. 1 - Lin. 14) + SUM(Lin 19 - Lin28) - 0 =","= SUM(Lin. 1 - Lin. 14) + SUM(Lin 19 - Lin28) - 0 =","= SUM(Lin. 1 - Lin. 14) + SUM(Lin 19 - Lin28) - 0 =","= SUM(Lin. 1 - Lin. 14) + SUM(Lin 19 - Lin28) - 0 =","= SUM(Lin. 1 - Lin. 14) + SUM(Lin 19 - Lin28) - 0 =","= SUM(Lin. 1 - Lin. 14) + SUM(Lin 19 - Lin28) - 0 =","= SUM(Lin. 1 - Lin. 14) + SUM(Lin 19 - Lin28) - 0 =","= SUM(Lin. 1 - Lin. 14) + SUM(Lin 19 - Lin28) - 0 =","= SUM(Lin. 1 - Lin. 14) + SUM(Lin 19 - Lin28) - 0 ="]
[null,38,null,null,null,"AM-bidrag",{"$f":"\"= \"&G87&\" * 8% (afrundet) =\"","v":"= 0 * 8% (afrundet) ="},{"$f":"\"= \"&H87&\" * 8% (afrundet) =\"","v":"= 0 * 8% (afrundet) ="},"= 0 * 8% (afrundet) =","= 0 * 8% (afrundet) =","= 0 * 8% (afrundet) =","= 0 * 8% (afrundet) =","= 0 * 8% (afrundet) =","= 0 * 8% (afrundet) =","= 0 * 8% (afrundet) =","= 0 * 8% (afrundet) =","= 0 * 8% (afrundet) =","= 0 * 8% (afrundet) =",{"$f":"\"= \"&S87&\" * 8% (afrundet) =\"","v":"= 0 * 8% (afrundet) ="},{"$f":"\"= \"&T87&\" * 8% (afrundet) =\"","v":"= 0 * 8% (afrundet) ="},"= 0 * 8% (afrundet) =","= 0 * 8% (afrundet) =","= 0 * 8% (afrundet) =","= 0 * 8% (afrundet) =","= 0 * 8% (afrundet) =","= 0 * 8% (afrundet) =","= 0 * 8% (afrundet) =","= 0 * 8% (afrundet) =","= 0 * 8% (afrundet) =","= 0 * 8% (afrundet) ="]
[null,39,null,null,null,"A-indkomst",{"$f":"\"= \"&G87&\" - \"&G88&\" =\"","v":"= 0 - 0 ="},{"$f":"\"= \"&H87&\" - \"&H88&\" =\"","v":"= 0 - 0 ="},"= 0 - 0 =","= 0 - 0 =","= 0 - 0 =","= 0 - 0 =","= 0 - 0 =","= 0 - 0 =","= 0 - 0 =","= 0 - 0 =","= 0 - 0 =","= 0 - 0 =",{"$f":"\"= \"&S87&\" - \"&S88&\" =\"","v":"= 0 - 0 ="},{"$f":"\"= \"&T87&\" - \"&T88&\" =\"","v":"= 0 - 0 ="},"= 0 - 0 =","= 0 - 0 =","= 0 - 0 =","= 0 - 0 =","= 0 - 0 =","= 0 - 0 =","= 0 - 0 =","= 0 - 0 =","= 0 - 0 =","= 0 - 0 ="]
[null,40,null,null,null,"Skattegrundlag"]
[null,41,null,null,null,"Skat",{"$f":"\"= (\"&G89&\" - \"&G30&\") (afrundet) * \"&G29&\" / 100 =\"","v":"= (0 - ) (afrundet) *  / 100 ="},{"$f":"\"= (\"&H89&\" - \"&H30&\") (afrundet) * \"&H29&\" / 100 =\"","v":"= (0 - 0) (afrundet) * 0 / 100 ="},"= (0 - 0) (afrundet) * 0 / 100 =","= (0 - 0) (afrundet) * 0 / 100 =","= (0 - 0) (afrundet) * 0 / 100 =","= (0 - 0) (afrundet) * 0 / 100 =","= (0 - 0) (afrundet) * 0 / 100 =","= (0 - 0) (afrundet) * 0 / 100 =","= (0 - 0) (afrundet) * 0 / 100 =","= (0 - 0) (afrundet) * 0 / 100 =","= (0 - 0) (afrundet) * 0 / 100 =","= (0 - 0) (afrundet) * 0 / 100 =",{"$f":"\"= (\"&S89&\" - \"&S30&\") (afrundet) * \"&S29&\" / 100 =\"","v":"= (0 - 0) (afrundet) * 0 / 100 ="},{"$f":"\"= (\"&T89&\" - \"&T30&\") (afrundet) * \"&T29&\" / 100 =\"","v":"= (0 - 0) (afrundet) * 0 / 100 ="},"= (0 - 0) (afrundet) * 0 / 100 =","= (0 - 0) (afrundet) * 0 / 100 =","= (0 - 0) (afrundet) * 0 / 100 =","= (0 - 0) (afrundet) * 0 / 100 =","= (0 - 0) (afrundet) * 0 / 100 =","= (0 - 0) (afrundet) * 0 / 100 =","= (0 - 0) (afrundet) * 0 / 100 =","= (0 - 0) (afrundet) * 0 / 100 =","= (0 - 0) (afrundet) * 0 / 100 =","= (0 - 0) (afrundet) * 0 / 100 ="]
[null,42,null,null,null,"Feriegodtgørelsesgrundlag"]
[null,43,null,null,null,{"$f":"\"Feriegodtgørelsesgrundlag, jan-juli \"&Aar+1","v":"Feriegodtgørelsesgrundlag, jan-juli 1"}]
[null,44,null,null,null,"Egetbidrag til pensionskasse",{"$f":"\"= Lin. 43 =\"","v":"= Lin. 43 ="},{"$f":"\"= Lin. 43 =\"","v":"= Lin. 43 ="},"= Lin. 43 =","= Lin. 43 =","= Lin. 43 =","= Lin. 43 =","= Lin. 43 =","= Lin. 43 =","= Lin. 43 =","= Lin. 43 =","= Lin. 43 =","= Lin. 43 =",{"$f":"\"= Lin. 43 =\"","v":"= Lin. 43 ="},"= Lin. 43 =","= Lin. 43 =","= Lin. 43 =","= Lin. 43 =","= Lin. 43 =","= Lin. 43 =","= Lin. 43 =","= Lin. 43 =","= Lin. 43 =","= Lin. 43 =","= Lin. 43 ="]
[null,45,null,null,null,"Arbejdsgiverbidrag til pensionskasse",{"$f":"\"= Lin. 43 * 2 =\"","v":"= Lin. 43 * 2 ="},{"$f":"\"= Lin. 43 * 2 =\"","v":"= Lin. 43 * 2 ="},"= Lin. 43 * 2 =","= Lin. 43 * 2 =","= Lin. 43 * 2 =","= Lin. 43 * 2 =","= Lin. 43 * 2 =","= Lin. 43 * 2 =","= Lin. 43 * 2 =","= Lin. 43 * 2 =","= Lin. 43 * 2 =","= Lin. 43 * 2 =",{"$f":"\"= Lin. 43 * 2 =\"","v":"= Lin. 43 * 2 ="},"= Lin. 43 * 2 =","= Lin. 43 * 2 =","= Lin. 43 * 2 =","= Lin. 43 * 2 =","= Lin. 43 * 2 =","= Lin. 43 * 2 =","= Lin. 43 * 2 =","= Lin. 43 * 2 =","= Lin. 43 * 2 =","= Lin. 43 * 2 =","= Lin. 43 * 2 ="]
[null,46,null,null,null,"Arbejdsgiverbidrag til ATP",{"$f":"\"= Lin. 44 * 2 =\"","v":"= Lin. 44 * 2 ="},{"$f":"\"= Lin. 44 * 2 =\"","v":"= Lin. 44 * 2 ="},"= Lin. 44 * 2 =","= Lin. 44 * 2 =","= Lin. 44 * 2 =","= Lin. 44 * 2 =","= Lin. 44 * 2 =","= Lin. 44 * 2 =","= Lin. 44 * 2 =","= Lin. 44 * 2 =","= Lin. 44 * 2 =","= Lin. 44 * 2 =",{"$f":"\"= Lin. 44 * 2 =\"","v":"= Lin. 44 * 2 ="},"= Lin. 44 * 2 =","= Lin. 44 * 2 =","= Lin. 44 * 2 =","= Lin. 44 * 2 =","= Lin. 44 * 2 =","= Lin. 44 * 2 =","= Lin. 44 * 2 =","= Lin. 44 * 2 =","= Lin. 44 * 2 =","= Lin. 44 * 2 =","= Lin. 44 * 2 ="]
[null,47,null,null,null,"Skolens samlede indbetaling til pensionskasse",{"$f":"\"= Lin. 51 + Lin. 52 =\"","v":"= Lin. 51 + Lin. 52 ="},{"$f":"\"= Lin. 51 + Lin. 52 =\"","v":"= Lin. 51 + Lin. 52 ="},"= Lin. 51 + Lin. 52 =","= Lin. 51 + Lin. 52 =","= Lin. 51 + Lin. 52 =","= Lin. 51 + Lin. 52 =","= Lin. 51 + Lin. 52 =","= Lin. 51 + Lin. 52 =","= Lin. 51 + Lin. 52 =","= Lin. 51 + Lin. 52 =","= Lin. 51 + Lin. 52 =","= Lin. 51 + Lin. 52 =",{"$f":"\"= Lin. 51 + Lin. 52 =\"","v":"= Lin. 51 + Lin. 52 ="},"= Lin. 51 + Lin. 52 =","= Lin. 51 + Lin. 52 =","= Lin. 51 + Lin. 52 =","= Lin. 51 + Lin. 52 =","= Lin. 51 + Lin. 52 =","= Lin. 51 + Lin. 52 =","= Lin. 51 + Lin. 52 =","= Lin. 51 + Lin. 52 =","= Lin. 51 + Lin. 52 =","= Lin. 51 + Lin. 52 =","= Lin. 51 + Lin. 52 ="]
[null,48,null,null,null,"Skolens samlede indbetaling til ATP",{"$f":"\"= Lin. 44 + Lin. 53 =\"","v":"= Lin. 44 + Lin. 53 ="},{"$f":"\"= Lin. 44 + Lin. 53 =\"","v":"= Lin. 44 + Lin. 53 ="},"= Lin. 44 + Lin. 53 =","= Lin. 44 + Lin. 53 =","= Lin. 44 + Lin. 53 =","= Lin. 44 + Lin. 53 =","= Lin. 44 + Lin. 53 =","= Lin. 44 + Lin. 53 =","= Lin. 44 + Lin. 53 =","= Lin. 44 + Lin. 53 =","= Lin. 44 + Lin. 53 =","= Lin. 44 + Lin. 53 =",{"$f":"\"= Lin. 44 + Lin. 53 =\"","v":"= Lin. 44 + Lin. 53 ="},"= Lin. 44 + Lin. 53 =","= Lin. 44 + Lin. 53 =","= Lin. 44 + Lin. 53 =","= Lin. 44 + Lin. 53 =","= Lin. 44 + Lin. 53 =","= Lin. 44 + Lin. 53 =","= Lin. 44 + Lin. 53 =","= Lin. 44 + Lin. 53 =","= Lin. 44 + Lin. 53 =","= Lin. 44 + Lin. 53 =","= Lin. 44 + Lin. 53 ="]
[null,49,null,null,null,"Indbetaling til Gruppeliv"]
[null,50,null,null,null,"Løn til den ansattes disposition",{"$f":"\"= \"&G70&\" - ( \"&G91&\" + \"&G86&\" + \"&G88&\" + \"&G99&\") - SUM(lin 57 : 59) =\"","v":"= 0 - ( 0 + 0 + 0 + 0) - SUM(lin 57 : 59) ="},{"$f":"\"= \"&H70&\" - ( \"&H91&\" + \"&H86&\" + \"&H88&\" + \"&H99&\") - SUM(lin 57 : 59) =\"","v":"= 0 - ( 0 + 0 + 0 + 0) - SUM(lin 57 : 59) ="},"= 0 - ( 0 + 0 + 0 + 0) - SUM(lin 57 : 59) =","= 0 - ( 0 + 0 + 0 + 0) - SUM(lin 57 : 59) =","= 0 - ( 0 + 0 + 0 + 0) - SUM(lin 57 : 59) =","= 0 - ( 0 + 0 + 0 + 0) - SUM(lin 57 : 59) =","= 0 - ( 0 + 0 + 0 + 0) - SUM(lin 57 : 59) =","= 0 - ( 0 + 0 + 0 + 0) - SUM(lin 57 : 59) =","= 0 - ( 0 + 0 + 0 + 0) - SUM(lin 57 : 59) =","= 0 - ( 0 + 0 + 0 + 0) - SUM(lin 57 : 59) =","= 0 - ( 0 + 0 + 0 + 0) - SUM(lin 57 : 59) =","= 0 - ( 0 + 0 + 0 + 0) - SUM(lin 57 : 59) =",{"$f":"\"= \"&S70&\" - ( \"&S91&\" + \"&S86&\" + \"&S88&\" + \"&S99&\") - SUM(lin 57 : 59) =\"","v":"= 0 - ( 0 + 0 + 0 + 0) - SUM(lin 57 : 59) ="},{"$f":"\"= \"&T70&\" - ( \"&T91&\" + \"&T86&\" + \"&T88&\" + \"&T99&\") - SUM(lin 57 : 59) =\"","v":"= 0 - ( 0 + 0 + 0 + 0) - SUM(lin 57 : 59) ="},"= 0 - ( 0 + 0 + 0 + 0) - SUM(lin 57 : 59) =","= 0 - ( 0 + 0 + 0 + 0) - SUM(lin 57 : 59) =","= 0 - ( 0 + 0 + 0 + 0) - SUM(lin 57 : 59) =","= 0 - ( 0 + 0 + 0 + 0) - SUM(lin 57 : 59) =","= 0 - ( 0 + 0 + 0 + 0) - SUM(lin 57 : 59) =","= 0 - ( 0 + 0 + 0 + 0) - SUM(lin 57 : 59) =","= 0 - ( 0 + 0 + 0 + 0) - SUM(lin 57 : 59) =","= 0 - ( 0 + 0 + 0 + 0) - SUM(lin 57 : 59) =","= 0 - ( 0 + 0 + 0 + 0) - SUM(lin 57 : 59) =","= 0 - ( 0 + 0 + 0 + 0) - SUM(lin 57 : 59) ="]
[null,51,null,null,null,{"$f":"\"Feriepengeberegningsgrundlag, jan-dec \"&Aar","v":"Feriepengeberegningsgrundlag, jan-dec "}]
[null,null,null,null,null,{"$f":"\"Feriepengeberegningsgrundlag, jan-jul \"&Aar+1","v":"Feriepengeberegningsgrundlag, jan-jul 1"}]

{"sheet":"S","index":10,"n_rows":204,"n_cols":32,"rows_kept":204,"cut":false,"hidden":false,"merged":[[3,0,27,0],[28,0,29,0],[29,2,31,2],[44,2,46,4],[101,6,101,10],[101,18,101,22],[0,2,2,2],[0,3,2,3],[0,4,2,4]]}
["2022-2023",1,"Pensionsg.","BG-afh.","Regu-leret","Lønberegning for: (navn eller initialer)\n - variable løndele i lin. 30-43.","S",{"$f":"G1","v":"S"},{"$f":"H1","v":"S"},"S","S","S","S","S","S","S","S","S","Q",{"$f":"S1","v":"Q"},{"$f":"T1","v":"Q"},"Q","Q","Q","Q","Q","Q","Q","Q","Q","Udfyld gule felter (alle forudfyldte tal i gule felter er eksempler)"]
[null,{"$f":"B1+1","v":2},null,null,null,"Stillingsbetegnelse","Pædagog",{"$f":"G2","v":"Pædagog"},"Pædagog","Pædagog","Pædagog","Pædagog","Pædagog","Pædagog","Pædagog","Pædagog","Pædagog","Pædagog","Stilling",{"$f":"S2","v":"Stilling"},"Stilling","Stilling","Stilling","Stilling","Stilling","Stilling","Stilling","Stilling","Stilling","Stilling"]
[null,{"$f":"B2+1","v":3},null,null,null,"Måned",{"$f":"\"AUG \"&RIGHT(A1,2)+0","v":"AUG 23"},{"$f":"\"SEP \"&RIGHT(A1,2)+0","v":"SEP 23"},{"$f":"\"OKT \"&RIGHT(A1,2)+0","v":"OKT 23"},{"$f":"\"NOV \"&RIGHT(A1,2)+0","v":"NOV 23"},{"$f":"\"DEC \"&RIGHT(A1,2)+0","v":"DEC 23"},{"$f":"\"JAN \"&RIGHT(A1,2)+1","v":"JAN 24"},{"$f":"\"FEB \"&RIGHT(A1,2)+1","v":"FEB 24"},{"$f":"\"MAR \"&RIGHT(A1,2)+1","v":"MAR 24"},{"$f":"\"APR \"&RIGHT(A1,2)+1","v":"APR 24"},{"$f":"\"MAJ \"&RIGHT(A1,2)+1","v":"MAJ 24"},{"$f":"\"JUN \"&RIGHT(A1,2)+1","v":"JUN 24"},{"$f":"\"JUL \"&RIGHT(A1,2)+1","v":"JUL 24"},{"$f":"G3","v":"AUG 23"},{"$f":"H3","v":"SEP 23"},"OKT 23","NOV 23","DEC 23","JAN 24","FEB 24","MAR 24","APR 24","MAJ 24","JUN 24","JUL 24","ansat d. "]
[null,{"$f":"B3+1","v":4},"sæt 'x'","sæt 'x'","sæt 'x'","Del af måned \nantal kalenderdage/månedens kalenderdage",1,{"$f":"G4","v":1},{"$f":"H4","v":1},1,1,1,1,1,1,1,1,1,{"$f":"G4","v":1},1,1,1,1,1,1,1,1,1,1,1,"Hvis ansat 10 oktober: 21/31\nHvis fratrådt 15. april: 15/30",2]
[null,{"$f":"B4+1","v":5},null,null,null,"Pensionsprocent",null,{"$f":"$G5","v":0},0,0,0,0,0,0,0,0,0,0,{"$f":"G5","v":0},0,0,0,0,0,0,0,0,0,0,0,"Skriv ikke procenttegnet, fx 14,7% - skriv 14,70",3]
[null,{"$f":"B5+1","v":6},null,null,null,"Betales hele pensionen af skolen? JA/NEJ","Ja",{"$f":"G6","v":"Ja"},{"$f":"H6","v":"Ja"},"Ja","Ja","Ja","Ja","Ja","Ja","Ja","Ja","Ja",{"$f":"G6","v":"Ja"},"Ja","Ja","Ja","Ja","Ja","Ja","Ja","Ja","Ja","Ja","Ja","Se ansættelsesbrev",4]
[null,null,null,null,null,"Har den ansatte orlov uden løn men med pension?","Nej",{"$f":"G7","v":"Nej"},"Nej","Nej","Nej","Nej","Nej","Nej","Nej","Nej","Nej","Nej"]
[null,{"$f":"B6+1","v":7},null,null,null,"Beregnes feriedifferende mv. efter Ferieaftalen i staten JA, eller efter Ferieloven NEJ","JA",{"$f":"G8","v":"JA"},"JA","JA","JA","JA","JA","JA","JA","JA","JA","JA",{"$f":"G8","v":"JA"},{"$f":"H8","v":"JA"},"JA","JA","JA","JA","JA","JA","JA","JA","JA","JA","Ferieloven: mindst 20% differende, Ferieaftalen: enhver differende",5]
[null,{"$f":"B8+1","v":8},null,null,null,"Procentregulering +1",1.1553389999999999,1.1553389999999999,1.159197,1.159197,{"$f":"J9","v":1.159197},1.159197,1.159197,1.159197,null,{"$f":"O9","v":0},{"$f":"P9","v":0},{"$f":"Q9","v":0},{"$f":"G9","v":1.1553389999999999},1.1553389999999999,1.159197,1.159197,1.159197,1.159197,1.159197,1.159197,0,0,0,0,null,6]
[null,9,null,null,null,"Skolens stedtillægsområde",null,{"$f":"G10","v":0},0,0,0,0,0,0,0,0,0,0,{"$f":"G10","v":0},0,0,0,0,0,0,0,0,0,0,0]
[null,10,null,null,null,"Beskæftigelsesgrad aktuel (Beskæftigelsesgrad løn beregnes ud fra)",null,{"$f":"G11","v":0},0,0,0,0,0,0,0,{"$f":"O11","v":0},0,0,0,0,0,0,0,0,0,0,0,0,0,0]
[null,{"$f":"B11+1","v":11},"x","x","x","Skalatrin",null,{"$f":"G12","v":0},0,0,0,0,0,0,0,0,0,0,0,0,0,0,0,0,0,0,0,0,0,0,"Statens løntabel eller HK-overenskomst-løntrin"]
[null,12,"x","x","x",{"$f":"\"Fast aftalt årlig løn \"&IF(E13<>\"\",\"i grundbeløb pr. 31.03.2012\",\"(ikke reguleret)\")","v":"Fast aftalt årlig løn i grundbeløb pr. 31.03.2012"},null,0,0,0,0,0,0,0,{"$f":"N13","v":0},0,0,0,0,0,0,0,0,0,0,0,0,0,0,0]
[null,13,"x",null,"x","Årligt sousdheftillæg eller lign. i grundbeløb",null,{"$f":"G14","v":0},0,0,0,0,0,0,0,0,0,0,0,0,0,0,0,0,0,0,0,0,0,0]
[null,14,"x",null,"x","Årligt funktionsstillæg i grundbeløb 1",null,{"$f":"G15","v":0},0,0,0,0,0,0,0,0,0,0,0,0,0,0,0,0,0,0,0,0,0,0,null,"Ja"]
[null,15,"x",null,"x","Årligt funktionsstillæg i grundbeløb 2",null,{"$f":"G16","v":0},0,0,0,0,0,0,0,0,0,0,0,0,0,0,0,0,0,0,0,0,0,0,null,"Nej"]
[null,16,"x",null,"x","Årligt funktionsstillæg i grundbeløb 3",null,{"$f":"G17","v":0},0,0,0,0,0,0,0,0,0,0,0,0,0,0,0,0,0,0,0,0,0,0]
[null,17,"x","x","x","Årligt kvalifikationsstillæg i grundbeløb 1",null,0,0,0,0,0,0,0,0,0,0,0,0,0,0,0,0,0,0,0,0,0,0,0]
[null,18,"x","x","x","Årligt kvalifikationsstillæg i grundbeløb 2",null,0,0,0,0,0,0,0,0,0,0,0,0,0,0,0,0,0,0,0,0,0,0,0]
[null,19,"x","x","x","Årligt kvalifikationsstillæg i grundbeløb 3",null,0,0,0,0,0,0,0,0,0,0,0,0,0,0,0,0,0,0,0,0,0,0,0]
[null,20,"x","x","x","Udligningstillæg i årligt grundbeløb v. 100% BG",null,0,0,0,0,0,0,0,0,0,0,0,0,0,0,0,0,0,0,0,0,0,0,0]
[null,21,null,null,null,"Gruppelivsordning betalt af af skolen som et løntillæg. Skriv det månedlige beløb!",null,0,0,0,0,0,0,0,0,0,0,0,0,0,0,0,0,0,0,0,0,0,0,0,"Spedielt ved virksomhedsoverdragelse"]
[null,22,null,null,"x","Lokalaftalt fast ulempegodtgørelse pr. måned. - (pr. 31. marts 2012)",null,{"$f":"G23","v":0},0,0,0,0,0,0,{"$f":"N23","v":0},0,0,0,0,0,0,0,0,0,0,0,0,0,0,0,"I stedet for variable arbejdstidsbestemte tillæg, iflg lokalaftale"]
[null,23,null,null,null,"Planlagte feriedage",null,null,5,null,null,null,5,null,null,null,null,15,{"$f":"G24","v":0},{"$f":"H24","v":0},5,0,0,0,5,0,0,0,0,15,"Normalt 15 dage i sommerhalvåret og 10 dage i vinterhalvåret"]
[null,24,null,null,null,".. heraf antal feriedage,\nhvortil der ikke er optjent ferieret",null,null,null,null,null,null,null,null,null,null,null,0,0,0,0,0,0,0,0,0,0,0,0,0,"Ferieloven: fradrag 4,8% pr. dag, Ferieaftalen: 4,62% pr. dag"]
[null,25,null,null,null,"Feriedifference pensionsgivende(udregnes i særskilt regneark)",null,null,null,null,null,null,null,null,null,null,null,null,0,0,0,0,0,0,0,0,0,0,0,0,"Benyttes ved beregning af feriedifferende."]
[null,26,null,null,null,"Feriedifference IKKE pensionsgivende(udregnes i særskilt regneark)",null,null,null,null,null,null,null,null,null,null,null,null,0,0,0,0,0,0,0,0,0,0,0,0,"Benyttes ved beregning af feriedifference'"]
[null,27,null,null,null,"Egenbetalte fridage",null,null,null,null,null,null,null,null,null,null,null,null,0,0,0,0,0,0,0,0,0,0,0,0,"Løn- og pensionsfradrag beregnes i lin 60 og 75"]
["Skatteop-lysninger",28,null,null,null,"Skatteprocent",null,{"$f":"G29","v":0},0,0,0,0,0,0,0,0,0,0,0,0,0,0,0,0,0,0,0,0,0,0,"Skriv ikke procenttegnet, fx 42% - skriv 42"]
[null,29,"km-\ntak-ster",{"$f":"LEFT($A$1,4)+1","v":2023},{"$f":"LEFT($A$1,4)+2","v":2024},"Månedligt skattefradrag",null,0,0,0,0,0,0,0,0,0,0,0,0,0,0,0,0,0,0,0,0,0,0,0]
[null,30,null,2.19,null,"Km.godtgørelse, lav sats (skattefri), antal km:",null,null,null,null,null,null,null,null,null,null,null,null,0,0,0,0,0,0,0,0,0,0,0,0]
[null,31,null,3.73,null,"Km.godtgørelse, høj sats (skattefri), antal km:",null,null,null,null,null,null,null,null,null,null,null,null,0,0,0,0,0,0,0,0,0,0,0,0]
[null,32,null,null,null,"Timedagpenge (skattefri) - Beregn selv",null,null,null,null,null,null,null,null,null,null,null,null,0,0,0,0,0,0,0,0,0,0,0,0,"Se løntabel"]
[null,33,null,null,null,"Jubilæumsgratiale (skattefri op til 8.000 kr.)",null,null,null,null,null,null,null,null,null,null,null,null,0,0,0,0,0,0,0,0,0,0,0,0,"Se løntabel"]
[null,34,null,null,null,"Arbejds- og arbejdstidsbestemte tillæg. Beregn selv",null,null,null,null,null,null,null,null,null,null,null,null,0,0,0,0,0,0,0,0,0,0,0,0,"”Natpenge” iflg skema, hvis ikke der er lokalaftalt godtgørelse"]
[null,35,"x",null,null,"Merarbejdsbetaling. Beregn selv",null,null,null,null,null,null,null,null,null,null,null,null,0,0,0,0,0,0,0,0,0,0,0,0,"Efter årsopgørelse eller ved fratræden"]
[null,36,null,null,null,"Overtidsbetaling. Beregn selv",null,null,null,null,null,null,null,null,null,null,null,null,0,0,0,0,0,0,0,0,0,0,0,0,"Efter årsopgørelse eller ved fratræden"]
[null,37,null,null,null,"Særlige feriedage til udbetaling. Beregn selv",null,null,null,null,null,null,null,null,null,null,null,null,{"$f":"G38","v":0},0,0,0,0,0,0,0,0,0,0,0,"Efter årsafslutning eller ved fratræden. Se pjeden \"Ferievejledning\""]
[null,38,null,null,null,{"$f":"\"Særlig ferietillæg \"&IF(G8=\"ja\",\"1,5%\",\"1,0%\"&\"\")","v":"Særlig ferietillæg 1,5%"},null,null,null,null,null,null,null,null,null,0,null,null,0,0,0,0,0,0,0,0,0,0,0,0]
[null,39,"x",null,null,"Resultatlønstillæg",null,null,null,null,null,null,null,null,null,null,null,null,0,0,0,0,0,0,0,0,0,0,0,0]
[null,40,"x",null,null,"Engangs nylønstillæg",null,null,null,null,null,null,null,null,null,null,null,null,0,0,0,0,0,0,0,0,0,0,0,0]
[null,41,"x",null,null,"Praktiklærervederlag",null,null,null,null,null,null,null,null,null,null,null,null,0,0,0,0,0,0,0,0,0,0,0,0,{"$f":"45*5*7.4","v":1665}]
[null,42,null,null,null,"andet",null,null,null,null,null,null,null,null,null,null,null,null,0,0,0,0,0,0,0,0,0,0,0,0]
[null,43,null,null,null,"andet",null,null,null,null,null,null,null,null,null,null,null,null,0,0,0,0,0,0,0,0,0,0,0,0]
[null,44,"Disse tre linjer fradrages i den disponible løn",null,null,"gavekasse",null,{"$f":"G45","v":0},{"$f":"H45","v":0},0,0,0,0,0,0,0,0,0,0,0,0,0,0,0,0,0,0,0,0,0,"Fx: 'Kaffekasse'"]
[null,45,null,null,null,"kaffekasse",null,{"$f":"G46","v":0},0,0,0,0,0,0,0,0,0,0,0,0,0,0,0,0,0,0,0,0,0,0,"Fx: 'Gavekasse'"]
[null,46,null,null,null,"Fagforenings-kontingent",null,{"$f":"G47","v":0},0,0,0,0,0,0,0,0,0,0,0,0,0,0,0,0,0,0,0,0,0,0,"FX: 'Fagforeningskontingent'"]
[{"$f":"A3","v":"1904-01-01"},{"$f":"B47+1","v":47},null,null,null,"Måned",{"$f":"G3","v":"AUG 23"},"SEP 23","OKT 23","NOV 23","DEC 23","JAN 24","FEB 24","MAR 24","APR 24","MAJ 24","JUN 24","JUL 24","AUG 23","SEP 23","OKT 23","NOV 23","DEC 23","JAN 24","FEB 24","MAR 24","APR 24","MAJ 24","JUN 24","JUL 24","SUM"]
[null,48,{"$f":"(C12<>\"\")*1","v":1},1,1,{"$f":"IF(ISNUMBER(G12),\"Skalatrinsløn\",\"HK-løn\")","v":"HK-løn"},{"$f":"IF(G7=\"Ja\",0,ROUND(IF(AND(G$11>0,G12>0),ROUND((ROUND(VLOOKUP(G12,Skalalontabel12,G10,0)*G9,0))/12,2),0)*G11*G4,2))","v":0},0,0,0,0,0,0,0,0,0,0,0,{"$f":"ROUND(IF(AND(S$11>0,S12>0),ROUND((ROUND(VLOOKUP(S12,Skalalontabel12,S10,0)*S9,0))/12,2),0)*S11*S4,2)","v":0},0,0,0,0,0,0,0,0,0,0,0,{"$f":"SUM(G49:R49)","v":0}]
[null,49,1,1,1,"Fast løn",{"$f":"IF(G7=\"Ja\",0,ROUND(IF(G13>0,G13/12)*IF($D13<>\"\",G$11,1)*IF($E13<>\"\",G$9,1)*G4,2))","v":0},0,0,0,0,0,0,0,0,0,0,0,{"$f":"ROUND(IF(S13>0,S13/12)*IF($D13<>\"\",S$11,1)*IF($E13<>\"\",S$9,1)*S4,2)","v":0},0,0,0,0,0,0,0,0,0,0,0,0]
[null,50,1,0,1,"Souscheftillæg ell. lign.",{"$f":"IF(G7=\"Ja\",0,ROUND(IF(AND(G$11>0,G14>0),G14/12)*IF($D14<>\"\",G$11,1)*IF($E14<>\"\",G$9,1)*G4,2))","v":0},0,0,0,0,0,0,0,0,0,0,0,{"$f":"ROUND(IF(AND(S$11>0,S14>0),S14/12)*IF($D14<>\"\",S$11,1)*IF($E14<>\"\",S$9,1)*S4,2)","v":0},0,0,0,0,0,0,0,0,0,0,0,0]
[null,51,1,0,1,"Funktionstillæg 1",{"$f":"IF(G7=\"Ja\",0,ROUND(IF(AND(G$11>0,G15>0),G15/12)*IF($D15<>\"\",G$11,1)*IF($E15<>\"\",G$9,1)*G4,2))","v":0},0,0,0,0,0,0,0,0,0,0,0,{"$f":"ROUND(IF(AND(S$11>0,S15>0),S15/12)*IF($D15<>\"\",S$11,1)*IF($E15<>\"\",S$9,1)*S4,2)","v":0},0,0,0,0,0,0,0,0,0,0,0,0]
[null,52,1,0,1,"Funktionstillæg 2",{"$f":"IF(G7=\"Ja\",0,ROUND(IF(AND(G$11>0,G16>0),G16/12)*IF($D16<>\"\",G$11,1)*IF($E16<>\"\",G$9,1)*G4,2))","v":0},0,0,0,0,0,0,0,0,0,0,0,{"$f":"ROUND(IF(AND(S$11>0,S16>0),S16/12)*IF($D16<>\"\",S$11,1)*IF($E16<>\"\",S$9,1)*S4,2)","v":0},0,0,0,0,0,0,0,0,0,0,0,0]
[null,53,1,0,1,"Funktionstillæg 3",{"$f":"IF(G7=\"Ja\",0,ROUND(IF(AND(G$11>0,G17>0),G17/12)*IF($D17<>\"\",G$11,1)*IF($E17<>\"\",G$9,1)*G4,2))","v":0},0,0,0,0,0,0,0,0,0,0,0,{"$f":"ROUND(IF(AND(S$11>0,S17>0),S17/12)*IF($D17<>\"\",S$11,1)*IF($E17<>\"\",S$9,1)*S4,2)","v":0},0,0,0,0,0,0,0,0,0,0,0,0]
[null,54,1,1,1,"Kvalifikationstillæg 1",{"$f":"IF(G7=\"Ja\",0,ROUND(IF(AND(G$11>0,G18>0),G18/12)*IF($D18<>\"\",G$11,1)*IF($E18<>\"\",G$9,1)*G4,2))","v":0},0,0,0,0,0,0,0,0,0,0,0,{"$f":"ROUND(IF(AND(S$11>0,S18>0),S18/12)*IF($D18<>\"\",S$11,1)*IF($E18<>\"\",S$9,1)*S4,2)","v":0},0,0,0,0,0,0,0,0,0,0,0,0]
[null,55,1,1,1,"Kvalifikationstillæg 2",{"$f":"IF(G7=\"Ja\",0,ROUND(IF(AND(G$11>0,G19>0),G19/12)*IF($D19<>\"\",G$11,1)*IF($E19<>\"\",G$9,1)*G4,2))","v":0},0,0,0,0,0,0,0,0,0,0,0,{"$f":"ROUND(IF(AND(S$11>0,S19>0),S19/12)*IF($D19<>\"\",S$11,1)*IF($E19<>\"\",S$9,1)*S4,2)","v":0},0,0,0,0,0,0,0,0,0,0,0,0]
[null,56,1,1,1,"Kvalifikationstillæg 3",{"$f":"IF(G7=\"Ja\",0,ROUND(IF(AND(G$11>0,G20>0),G20/12)*IF($D20<>\"\",G$11,1)*IF($E20<>\"\",G$9,1)*G$4,2))","v":0},0,0,0,0,0,0,0,0,0,0,0,{"$f":"ROUND(IF(AND(S$11>0,S20>0),S20/12)*IF($D20<>\"\",S$11,1)*IF($E20<>\"\",S$9,1)*S$4,2)","v":0},0,0,0,0,0,0,0,0,0,0,0,0]
[null,57,1,1,1,"Udligningstillæg",{"$f":"IF(G7=\"Ja\",0,ROUND(IF(AND(G$11>0,G21>0),G21/12)*IF($D21<>\"\",G$11,1)*IF($E21<>\"\",G$9,1)*G$4,2))","v":0},0,0,0,0,0,0,0,0,0,0,0,0,0,0,0,0,0,0,0,0,0,0,0,0]
[null,58,null,null,null,"Gruppelivstillæg",{"$f":"IF(G7=\"Ja\",0,ROUND(IF(AND(G$11>0,G22>0),G22)*IF($D22<>\"\",G$11,1)*IF($E22<>\"\",G$9,1)*G$4,2))","v":0},0,0,0,0,0,0,0,0,0,0,0,{"$f":"ROUND(IF(AND(S$11>0,S22>0),S22)*IF($D22<>\"\",S$11,1)*IF($E22<>\"\",S$9,1)*S$4,2)","v":0},0,0,0,0,0,0,0,0,0,0,0,0]
[null,59,null,{"$f":"(D23<>\"\")*1","v":0},{"$f":"(E23<>\"\")*1","v":1},"Lokalaftalt ulempegodtgørelse",{"$f":"IF(G7=\"Ja\",0,ROUND(IF(AND(G$11>0,G23>0),G23)*IF($D23<>\"\",G$11,1)*IF($E23<>\"\",G$9,1)*G$4,2))","v":0},0,0,0,0,0,0,0,0,0,0,0,0,0,0,0,0,0,0,0,0,0,0,0,0]
[null,60,1,null,null,"Lønfradrag for ikke optjent ferie mv.",{"$f":"-ROUND((MAX(0,MIN(S24,S25*1))+S28)*IF(S8=\"JA\",4.62%,4.8%)*(S49+S50+S51+S52+S53+S54+S55+S56+S57+S58+S60)*S$4,2)","v":0},0,0,0,0,0,0,0,0,0,0,0,{"$f":"-ROUND((MAX(0,MIN(S24,S25*1))+S28)*IF(S8=\"JA\",4.62%,4.8%)*(S49+S50+S51+S52+S53+S54+S55+S56+S57+S58+S60)*S$4,2)","v":0},0,0,0,0,0,0,0,0,0,0,0,0]
[null,61,1,null,null,"Feriedifference pensionsgivende(udregnes i særskilt fane)",{"$f":"G26","v":0},{"$f":"H26","v":0},0,0,0,0,0,0,0,0,0,0,{"$f":"S26","v":0},{"$f":"T26","v":0},0,0,0,0,0,0,0,0,0,0,0]
[null,62,null,null,null,"Feriedifference IKKE pensionsgivende(udregnes i særskilt fane)",{"$f":"G27","v":0},0,0,0,0,0,0,0,0,0,0,0,{"$f":"S27","v":0},0,0,0,0,0,0,0,0,0,0,0]
[null,63,null,null,null,"Engangsudbetalinger iflg. specifikation",{"$f":"SUM(G35:G44)","v":0},{"$f":"SUM(H35:H44)","v":0},0,0,0,0,0,0,0,0,0,0,{"$f":"SUM(S35:S44)","v":0},{"$f":"SUM(T35:T44)+MAX(T34*T9-8000,0)","v":0},0,0,0,0,0,0,0,0,0,0,0]
[null,64,null,null,null,"Skattefrie km. Godtgørelse lav sats",{"$f":"G31*$D$31","v":0},{"$f":"H31*$D$31","v":0},0,0,0,0,0,0,0,0,0,0,{"$f":"S31*$D$31","v":0},{"$f":"T31*$D$31","v":0},0,0,0,0,0,0,0,0,0,0]
[null,65,null,null,null,"Skattefrie km. Godtgørelse høj sats",{"$f":"G32*$D$32","v":0},{"$f":"H32*$D$32","v":0},0,0,0,0,0,0,0,0,0,0,{"$f":"S32*$D$32","v":0},{"$f":"T32*$D$32","v":0},0,0,0,0,0,0,0,0,0,0]
[null,{"$f":"B64+1","v":64},null,null,null,"Timedagpenge(skattefrie)",{"$f":"IF(G33>0,G33,0)","v":0},{"$f":"IF(H33>0,H33,0)","v":0},0,0,0,0,0,0,0,0,0,0,{"$f":"IF(S33>0,S33,0)","v":0},{"$f":"IF(T33>0,T33,0)","v":0},0,0,0,0,0,0,0,0,0,0,0]
[null,65,null,null,null,"Skattefri jubilæumsgratiale",{"$f":"MIN(8000,G34*G9)","v":0},0,0,0,0,0,0,0,0,0,0,0,0,0,0,0,0,0,0,0,0,0,0,0]
[null,66,null,null,null,"Skattepligtig jubilæumsgratiaale",{"$f":"IF(G34>0,MAX(G34*G9-8000,0),0)","v":0},0,0,0,0,0,0,0,0,0,0,0,0,0,0,0,0,0,0,0,0,0,0,0]
[null,67,null,null,null,"Bruttoløn (ekskl. pensionstillæg og ATP)",{"$f":"SUM(G49:G69)","v":0},{"$f":"SUM(H49:H67)","v":0},0,0,0,0,0,0,0,0,0,0,{"$f":"SUM(S49:S69)","v":0},{"$f":"SUM(T49:T67)","v":0},0,0,0,0,0,0,0,0,0,0,0]
[null,{"$f":"B70+1","v":68},null,null,null,{"$f":"\"Pensionstillæg af pensionsg. \"&IF(ISNUMBER(G12),\"Skalatrinsløn\",\"HK-løn\")","v":"Pensionstillæg af pensionsg. HK-løn"},{"$f":"IF(G7=\"Ja\",0,ROUND(IF(AND(G$11>0,G12>0),ROUND((ROUND(VLOOKUP(G12,Skalalontabel12,7,0)*G9,0))/12,2),0)*G11*G4*G5/100/3,2))","v":0},0,0,0,0,0,0,0,0,0,0,0,{"$f":"ROUND(IF(AND(S$11>0,S12>0),ROUND((ROUND(VLOOKUP(S12,Skalalontabel12,7,0)*S9,0))/12,2),0)*S11*S4*S5/100/3,2)","v":0},0,0,0,0,0,0,0,0,0,0,0,0]
[null,69,null,null,null,"Pensionstillæg fast løn",{"$f":"ROUND(G50*$C50*G$5/100/3,2)","v":0},0,0,0,0,0,0,0,0,0,0,0,0,0,0,0,0,0,0,0,0,0,0,0,0]
[null,70,null,null,null,"Pensionstillæg souscheftillæg",0,0,0,0,0,0,0,0,0,0,0,0,0,0,0,0,0,0,0,0,0,0,0,0,0]
[null,71,null,null,null,"Pensionstillæg Funktionstillæg 1",0,0,0,0,0,0,0,0,0,0,0,0,0,0,0,0,0,0,0,0,0,0,0,0,0]
[null,72,null,null,null,"Pensionstillæg Funktionstillæg 2",0,0,0,0,0,0,0,0,0,0,0,0,0,0,0,0,0,0,0,0,0,0,0,0,0]
[null,73,null,null,null,"Pensionstillæg Funktionstillæg 3",0,0,0,0,0,0,0,0,0,0,0,0,0,0,0,0,0,0,0,0,0,0,0,0,0]
[null,74,null,null,null,"Pensionstillæg Kvalifikationstillæg 1",0,0,0,0,0,0,0,0,0,0,0,0,0,0,0,0,0,0,0,0,0,0,0,0,0]
[null,75,null,null,null,"Pensionstillæg Kvalifikationstillæg 2",0,0,0,0,0,0,0,0,0,0,0,0,0,0,0,0,0,0,0,0,0,0,0,0,0]
[null,76,null,null,null,"Pensionstillæg Kvalifikationstillæg 3",0,0,0,0,0,0,0,0,0,0,0,0,0,0,0,0,0,0,0,0,0,0,0,0,0]
[null,77,null,null,null,"Pensionstillæg af udligningstillæg",0,0,0,0,0,0,0,0,0,0,0,0,0,0,0,0,0,0,0,0,0,0,0,0,0]
[null,78,null,null,null,"Fradrag i pensionstillæg for ikke optjent ferie mv.",{"$f":"ROUND(G61*$C61*G$5/100/3,2)","v":0},0,0,0,0,0,0,0,0,0,0,0,0,0,0,0,0,0,0,0,0,0,0,0,0]
[null,79,null,null,null,"Pensionstillæg af feriedifference",0,0,0,0,0,0,0,0,0,0,0,0,0,0,0,0,0,0,0,0,0,0,0,0,0]
[null,80,null,null,null,"Pensionstillæg af pensiong. engangstillæg",{"$f":"ROUND(G36*G5/100/3+G40*($C40<>\"\")*G5/100/3+G41*($C41<>\"\")*G5/100/3+G42*($C42<>\"\")*G5/100/3+G43*($C43<>\"\")*G5/100/3+G44*($C44<>\"\")*G5/100/3,2)","v":0},0,0,0,0,0,0,0,0,0,0,0,0,0,0,0,0,0,0,0,0,0,0,0,0]
[null,null,null,null,null,"Ekstra pension hvis orlov uden løn",{"$f":"IF(G7=\"Ja\",SUM(S71:S82)-SUM(G71:G83),0)","v":0},{"$f":"IF(H7=\"Ja\",SUM(T71:T83)-SUM(H71:H83),0)","v":0},{"$f":"IF(I7=\"Ja\",SUM(U71:U82)-SUM(I71:I83),0)","v":0},0,0,0,0,0,0,0,0,0]
[null,{"$f":"B83+1","v":81},null,null,null,"Pensionstillæg i alt",{"$f":"SUM(G71:G84)","v":0},{"$f":"SUM(H71:H84)","v":0},0,0,0,0,0,0,0,0,0,0,{"$f":"SUM(S71:S83)","v":0},{"$f":"SUM(T71:T83)","v":0},0,0,0,0,0,0,0,0,0,0,0]
[null,82,null,null,null,"Egetbidrag til ATP",{"$f":"ROUND(G98/3,2)","v":0},{"$f":"ROUND(H98/3,2)","v":0},0,0,0,0,0,0,0,0,0,0,{"$f":"ROUND(S98/3,2)","v":0},{"$f":"ROUND(T98/3,2)","v":0},0,0,0,0,0,0,0,0,0,0,{"$f":"SUM(G86:R86)","v":0}]
[null,83,null,null,null,"AMB-grundlag",{"$f":"IF(G6=\"nej\",G85*-1)+SUM(G49:G64)-G86+G69","v":0},0,0,0,0,0,0,0,0,0,0,0,{"$f":"IF(S6=\"nej\",S85*-1)+SUM(S49:S64)-S86","v":0},0,0,0,0,0,0,0,0,0,0,0,{"$f":"SUM(G87:R87)","v":0}]
[null,84,null,null,null,"AM-bidrag",{"$f":"ROUND(G87*8%,0)","v":0},{"$f":"ROUND(H87*8%,0)","v":0},0,0,0,0,0,0,0,0,0,0,{"$f":"ROUND(S87*8%,0)","v":0},{"$f":"ROUND(T87*8%,0)","v":0},0,0,0,0,0,0,0,0,0,0,0]
[null,85,null,null,null,"A-indkomst",{"$f":"G87-G88","v":0},{"$f":"H87-H88","v":0},0,0,0,0,0,0,0,0,0,0,{"$f":"S87-S88","v":0},{"$f":"T87-T88","v":0},0,0,0,0,0,0,0,0,0,0,0]
[null,86,null,null,null,"Skattegrundlag",{"$f":"FLOOR(G89-G30,10)","v":0},{"$f":"FLOOR(H89-H30,10)","v":0},0,0,0,0,0,0,0,0,0,0,{"$f":"FLOOR(S89-S30,10)","v":0},{"$f":"FLOOR(T89-T30,10)","v":0},0,0,0,0,0,0,0,0,0,0]
[null,87,null,null,null,"Skat",{"$f":"ROUND(G90*G29/100,0)","v":0},0,0,0,0,0,0,0,0,0,0,0,0,0,0,0,0,0,0,0,0,0,0,0,0]
[null,88,null,null,null,"Feriegodtgørelsesgrundlag ",{"$f":"SUM(G49:G64)","v":0},{"$f":"SUM(H49:H64)","v":0},{"$f":"SUM(I49:I64)","v":0},{"$f":"SUM(J49:J64)","v":0},{"$f":"SUM(K49:K64)","v":0},{"$f":"SUM(L49:L64)","v":0},0,0,0,0,0,0,{"$f":"SUM(S49:S64)","v":0},{"$f":"SUM(T49:T64)","v":0},{"$f":"SUM(U49:U64)","v":0},{"$f":"SUM(V49:V64)","v":0},{"$f":"SUM(W49:W64)","v":0},{"$f":"SUM(X49:X64)","v":0},0,0,0,0,0,0,{"$f":"SUM(H92:P92)","v":0}]
[null,89,null,null,null,{"$f":"\"Feriegodtgørelsesgrundlag, juni-juli \"","v":"Feriegodtgørelsesgrundlag, juni-juli "},null,null,null,null,null,null,null,null,null,null,{"$f":"SUM(Q49:Q64)-Q39","v":0},{"$f":"SUM(R49:R64)-R39","v":0},null,null,null,null,null,null,null,null,null,null,{"$f":"SUM(AC49:AC64)-AC39","v":0},{"$f":"SUM(AD49:AD64)-AD39","v":0},{"$f":"SUM(G93:R93)","v":0}]
[null,90,null,null,null,"Egetbidrag til pensionskasse",{"$f":"G85","v":0},{"$f":"H85","v":0},0,0,0,0,0,0,0,0,0,0,{"$f":"S85","v":0},{"$f":"T85","v":0},0,0,0,0,0,0,0,0,0,0,0]
[null,91,null,null,null,"Arbejdsgiverbidrag til pensionskasse",{"$f":"G94*2","v":0},{"$f":"H94*2","v":0},0,0,0,0,0,0,0,0,0,0,{"$f":"S94*2","v":0},{"$f":"T94*2","v":0},0,0,0,0,0,0,0,0,0,0,0]
[null,92,null,null,null,"Arbejdsgiverbidrag til ATP",{"$f":"G98*2/3","v":0},{"$f":"H98*2/3","v":0},0,0,0,0,0,0,0,0,0,0,{"$f":"S98*2/3","v":0},{"$f":"T98*2/3","v":0},0,0,0,0,0,0,0,0,0,0,0]
[null,93,null,null,null,"Skolens samlede indbetaling til pensionskasse",{"$f":"G94+G95","v":0},{"$f":"H94+H95","v":0},0,0,0,0,0,0,0,0,0,0,{"$f":"S94+S95","v":0},{"$f":"T94+T95","v":0},0,0,0,0,0,0,0,0,0,0,0]
[null,{"$f":"B97+1","v":94},null,null,null,"Skolens samlede indbetaling til ATP",{"$f":"284/3*(((G11*G4)>=9/37)+((G11*G4)>=18/37)+((G11*G4)>=27/37))","v":0},0,0,0,0,{"$f":"297/3*(((L11*L4)>=9/37)+((L11*L4)>=18/37)+((L11*L4)>=27/37))","v":0},{"$f":"28973*(((M11*M4)>=9/37)+((M11*M4)>=18/37)+((M11*M4)>=27/37))","v":0},{"$f":"28973*(((N11*N4)>=9/37)+((N11*N4)>=18/37)+((N11*N4)>=27/37))","v":0},0,0,0,0,0,0,0,0,0,0,0,0,0,0,0,0,0]
[null,95,null,null,null,"Indbetaling til Gruppeliv",{"$f":"G22","v":0},{"$f":"H22","v":0},0,0,0,0,0,0,0,0,0,0,{"$f":"S22","v":0},{"$f":"T22","v":0},0,0,0,0,0,0,0,0,0,0,0]
[null,96,null,null,null,"Løn til den ansattes disposition",{"$f":"IF(G6=\"nej\",G85*-1)+G70-(G91+G86+G88+G99)-G45-G46-G47","v":0},0,0,0,0,0,0,0,0,0,0,0,0,0,0,0,0,0,0,0,0,0,0,0,{"$f":"SUM(G100:R100)","v":0}]
[null,97,null,null,null,{"$f":"\"Feriepengeberegningsgrundlag, jan-dec \"&Aar","v":"Feriepengeberegningsgrundlag, jan-dec "},{"$f":"(SUM(G49:G64)+G85+G86)*(1-12/260*G24)","v":0},{"$f":"(SUM(H49:H64)+H85+H86)*(1-12/260*H24)","v":0},{"$f":"(SUM(I49:I64)+I85+I86)*(1-12/260*I24)","v":0},{"$f":"(SUM(J49:J64)+J85+J86)*(1-12/260*J24)","v":0},{"$f":"(SUM(K49:K64)+K85+K86)*(1-12/260*K24)","v":0},"Kalenderårets sum benyttes ved fratræden og særlige feriedage",null,null,null,null,null,null,{"$f":"(SUM(S49:S64)+S85+S86)*(1-12/260*S24)","v":0},{"$f":"(SUM(T49:T64)+T85+T86)*(1-12/260*T24)","v":0},{"$f":"(SUM(U49:U64)+U85+U86)*(1-12/260*U24)","v":0},{"$f":"(SUM(V49:V64)+V85+V86)*(1-12/260*V24)","v":0},{"$f":"(SUM(W49:W64)+W85+W86)*(1-12/260*W24)","v":0},"Kalenderårets sum benyttes ved fratræden og særlige feriedage",null,null,null,null,null,null,{"$f":"A101+SUM(G101:K101)","v":0}]
[null,{"$f":"B101+1","v":98},null,null,null,{"$f":"\"Feriepengeberegningsgrundlag, jan-jul \"&Aar","v":"Feriepengeberegningsgrundlag, jan-jul "},"Kalenderårets sum benyttes ved fratræden og særlige feriedage",null,null,null,null,{"$f":"(SUM(L$49:L$64)+L$85+L86)*(1-12/260*L$24)","v":0},{"$f":"(SUM(M$49:M$64)+M$85+M86)*(1-12/260*M$24)","v":0},0,0,0,0,0,"Kalenderårets sum benyttes ved fratræden og særlige feriedage",null,null,null,null,{"$f":"(SUM(X$49:X$64)+X$85+X86)*(1-12/260*X$24)","v":0},{"$f":"(SUM(Y$49:Y$64)+Y$85+Y86)*(1-12/260*Y$24)","v":0},0,0,0,0,0,0]
[null,{"$f":"B102+1","v":99},null,null,null,"BG-afhængige løndele",{"$f":"G49*$D49+G50*$D50+G51*$D51+G52*$D52+G53*$D53+G54*$D54+G55*$D55+G56*$D56+G57*$D57+G58*$D58+G60*$D60","v":0},0,0,0,0,0,0,0,0,0,0,0,0,0,0,0,0,0,0,0,0,0,0,0]
[null,{"$f":"B103+1","v":100},null,null,null,"BG-difference >=20%",{"$f":"IF(G11>0,IF(G11>G26,(G11-G26)/G26>=20%,(G11-G26)/G26<=-20%),\"\")","v":""},"","","","","","","","",{"$f":"IF(P11>0,IF(P11>P27,(P11-P27)/P27>=20%,(P11-P27)/P27<=-20%),\"\")","v":""},{"$f":"IF(Q11>0,IF(Q11>Q27,(Q11-Q27)/Q27>=20%,(Q11-Q27)/Q27<=-20%),\"\")","v":""},{"$f":"IF(R11>0,IF(R11>R27,(R11-R27)/R27>=20%,(R11-R27)/R27<=-20%),\"\")","v":""},{"$f":"IF(S11>0,IF(S11>S26,(S11-S26)/S26>=20%,(S11-S26)/S26<=-20%),\"\")","v":""},"","","","","","","","",{"$f":"IF(AB11>0,IF(AB11>AB27,(AB11-AB27)/AB27>=20%,(AB11-AB27)/AB27<=-20%),\"\")","v":""},{"$f":"IF(AC11>0,IF(AC11>AC27,(AC11-AC27)/AC27>=20%,(AC11-AC27)/AC27<=-20%),\"\")","v":""},{"$f":"IF(AD11>0,IF(AD11>AD27,(AD11-AD27)/AD27>=20%,(AD11-AD27)/AD27<=-20%),\"\")","v":""}]
[]
[]
[]
[]
[]
[]
[]
[]
[]
[]
[]
[]
[]
[]
[]
[]
[]
[]
[]
[]
[]
[]
[]
[]
[]
[]
[]
[]
[]
[]
[]
[]
[]
[]
[]
[]
[]
[]
[]
[]
[]
[]
[]
[]
[]
[]
[]
[]
[]
[null,{"$f":"B153+1","v":1}]
[null,2,null,null,null,{"$f":"IF(ISNUMBER(G1),\"Skalatrinsløn\",\"HK-løn\")","v":"HK-løn"},{"$f":"\"= \"&TEXT(ROUND(VLOOKUP(G12,Skalalontabel12,G10,0)*G9,0),\"#.000\")&\" / 12 * \"&TEXT(G11,\"0,0000\")&\" * \"&TEXT(G$4,\"#0/#0\")&\" =\"","v":{"$error":"#N/A"}},{"$error":"#N/A"},{"$error":"#N/A"},{"$error":"#N/A"},{"$error":"#N/A"},{"$error":"#N/A"},{"$error":"#N/A"},{"$error":"#N/A"},{"$error":"#N/A"},{"$error":"#N/A"},{"$error":"#N/A"},{"$error":"#N/A"},{"$error":"#N/A"},{"$error":"#N/A"},{"$error":"#N/A"},{"$error":"#N/A"},{"$error":"#N/A"},{"$error":"#N/A"},{"$error":"#N/A"},{"$error":"#N/A"},{"$error":"#N/A"},{"$error":"#N/A"},{"$error":"#N/A"},{"$error":"#N/A"}]
[null,3,null,null,null,"Fast løn",{"$f":"\"= \"&TEXT(G13,\"#.000,00\")&\" / 12 \"&IF($D50>0,\" * \"&TEXT(G$11,\"0,0000\"),\"\")&IF($E50>0,\" * \"&G$9,\"\")&\" * \"&TEXT(G$4,\"#0/#0\")&\" =\"","v":"= 000,00 / 12  * 0,0000 * 1,155339 * 1/1 ="},"= 000,00 / 12  * 0,0000 * 1,155339 * 1/1 =","= 000,00 / 12  * 0,0000 * 1,159197 * 1/1 =","= 000,00 / 12  * 0,0000 * 1,159197 * 1/1 =","= 000,00 / 12  * 0,0000 * 1,159197 * 1/1 =","= 000,00 / 12  * 0,0000 * 1,159197 * 1/1 =","= 000,00 / 12  * 0,0000 * 1,159197 * 1/1 =","= 000,00 / 12  * 0,0000 * 1,159197 * 1/1 =","= 000,00 / 12  * 0,0000 *  * 1/1 =","= 000,00 / 12  * 0,0000 * 0 * 1/1 =","= 000,00 / 12  * 0,0000 * 0 * 1/1 =","= 000,00 / 12  * 0,0000 * 0 * 1/1 =","= 000,00 / 12  * 0,0000 * 1,155339 * 1/1 =","= 000,00 / 12  * 0,0000 * 1,155339 * 1/1 =","= 000,00 / 12  * 0,0000 * 1,159197 * 1/1 =","= 000,00 / 12  * 0,0000 * 1,159197 * 1/1 =","= 000,00 / 12  * 0,0000 * 1,159197 * 1/1 =","= 000,00 / 12  * 0,0000 * 1,159197 * 1/1 =","= 000,00 / 12  * 0,0000 * 1,159197 * 1/1 =","= 000,00 / 12  * 0,0000 * 1,159197 * 1/1 =","= 000,00 / 12  * 0,0000 * 0 * 1/1 =","= 000,00 / 12  * 0,0000 * 0 * 1/1 =","= 000,00 / 12  * 0,0000 * 0 * 1/1 =","= 000,00 / 12  * 0,0000 * 0 * 1/1 ="]
[null,4,null,null,null,"Sousdheftillæg","= 000,00 / 12  * 1,155339 * 1/1 =","= 000,00 / 12  * 1,155339 * 1/1 =","= 000,00 / 12  * 1,159197 * 1/1 =","= 000,00 / 12  * 1,159197 * 1/1 =","= 000,00 / 12  * 1,159197 * 1/1 =","= 000,00 / 12  * 1,159197 * 1/1 =","= 000,00 / 12  * 1,159197 * 1/1 =","= 000,00 / 12  * 1,159197 * 1/1 =","= 000,00 / 12  *  * 1/1 =","= 000,00 / 12  * 0 * 1/1 =","= 000,00 / 12  * 0 * 1/1 =","= 000,00 / 12  * 0 * 1/1 =","= 000,00 / 12  * 1,155339 * 1/1 =","= 000,00 / 12  * 1,155339 * 1/1 =","= 000,00 / 12  * 1,159197 * 1/1 =","= 000,00 / 12  * 1,159197 * 1/1 =","= 000,00 / 12  * 1,159197 * 1/1 =","= 000,00 / 12  * 1,159197 * 1/1 =","= 000,00 / 12  * 1,159197 * 1/1 =","= 000,00 / 12  * 1,159197 * 1/1 =","= 000,00 / 12  * 0 * 1/1 =","= 000,00 / 12  * 0 * 1/1 =","= 000,00 / 12  * 0 * 1/1 =","= 000,00 / 12  * 0 * 1/1 ="]
[null,5,null,null,null,"Funktionstillæg 1",{"$f":"\"= \"&TEXT(G15,\"#.000,00\")&\" / 12 \"&IF($D52>0,\" * \"&TEXT(G$11,\"0,0000\"),\"\")&IF($E52>0,\" * \"&G$9,\"\")&\" * \"&TEXT(G$4,\"#0/#0\")&\" =\"","v":"= 000,00 / 12  * 1,155339 * 1/1 ="},{"$f":"\"= \"&TEXT(H15,\"#.000,00\")&\" / 12 \"&IF($D52>0,\" * \"&TEXT(H$11,\"0,0000\"),\"\")&IF($E158>0,\" * \"&H$9,\"\")&\" * \"&TEXT(H$4,\"#0/#0\")&\" =\"","v":"= 000,00 / 12  * 1/1 ="},"= 000,00 / 12  * 1/1 =","= 000,00 / 12  * 1/1 =","= 000,00 / 12  * 1/1 =","= 000,00 / 12  * 1/1 =","= 000,00 / 12  * 1/1 =","= 000,00 / 12  * 1/1 =","= 000,00 / 12  * 1/1 =","= 000,00 / 12  * 1/1 =","= 000,00 / 12  * 1/1 =","= 000,00 / 12  * 1/1 =","= 000,00 / 12  * 1/1 =","= 000,00 / 12  * 1/1 =","= 000,00 / 12  * 1/1 =","= 000,00 / 12  * 1/1 =","= 000,00 / 12  * 1/1 =","= 000,00 / 12  * 1/1 =","= 000,00 / 12  * 1/1 =","= 000,00 / 12  * 1/1 =","= 000,00 / 12  * 1/1 =","= 000,00 / 12  * 1/1 =","= 000,00 / 12  * 1/1 =","= 000,00 / 12  * 1/1 ="]
[null,6,null,null,null,"Funktionstillæg 2",{"$f":"\"= \"&TEXT(G16,\"#.000,00\")&\" / 12 \"&IF($D53>0,\" * \"&TEXT(G$11,\"0,0000\"),\"\")&IF($E53>0,\" * \"&G$9,\"\")&\" * \"&TEXT(G$4,\"#0/#0\")&\" =\"","v":"= 000,00 / 12  * 1,155339 * 1/1 ="},"= 000,00 / 12  * 1,155339 * 1/1 =","= 000,00 / 12  * 1,159197 * 1/1 =","= 000,00 / 12  * 1,159197 * 1/1 =","= 000,00 / 12  * 1,159197 * 1/1 =","= 000,00 / 12  * 1,159197 * 1/1 =","= 000,00 / 12  * 1,159197 * 1/1 =","= 000,00 / 12  * 1,159197 * 1/1 =","= 000,00 / 12  *  * 1/1 =","= 000,00 / 12  * 0 * 1/1 =","= 000,00 / 12  * 0 * 1/1 =","= 000,00 / 12  * 0 * 1/1 =","= 000,00 / 12  * 1,155339 * 1/1 =","= 000,00 / 12  * 1,155339 * 1/1 =","= 000,00 / 12  * 1,159197 * 1/1 =","= 000,00 / 12  * 1,159197 * 1/1 =","= 000,00 / 12  * 1,159197 * 1/1 =","= 000,00 / 12  * 1,159197 * 1/1 =","= 000,00 / 12  * 1,159197 * 1/1 =","= 000,00 / 12  * 1,159197 * 1/1 =","= 000,00 / 12  * 0 * 1/1 =","= 000,00 / 12  * 0 * 1/1 =","= 000,00 / 12  * 0 * 1/1 =","= 000,00 / 12  * 0 * 1/1 ="]
[null,7,null,null,null,"Funktionstillæg 3","= 000,00 / 12  * 1,155339 * 1/1 =","= 000,00 / 12  * 1,155339 * 1/1 =","= 000,00 / 12  * 1,159197 * 1/1 =","= 000,00 / 12  * 1,159197 * 1/1 =","= 000,00 / 12  * 1,159197 * 1/1 =","= 000,00 / 12  * 1,159197 * 1/1 =","= 000,00 / 12  * 1,159197 * 1/1 =","= 000,00 / 12  * 1,159197 * 1/1 =","= 000,00 / 12  *  * 1/1 =","= 000,00 / 12  * 0 * 1/1 =","= 000,00 / 12  * 0 * 1/1 =","= 000,00 / 12  * 0 * 1/1 =","= 000,00 / 12  * 1,155339 * 1/1 =","= 000,00 / 12  * 1,155339 * 1/1 =","= 000,00 / 12  * 1,159197 * 1/1 =","= 000,00 / 12  * 1,159197 * 1/1 =","= 000,00 / 12  * 1,159197 * 1/1 =","= 000,00 / 12  * 1,159197 * 1/1 =","= 000,00 / 12  * 1,159197 * 1/1 =","= 000,00 / 12  * 1,159197 * 1/1 =","= 000,00 / 12  * 0 * 1/1 =","= 000,00 / 12  * 0 * 1/1 =","= 000,00 / 12  * 0 * 1/1 =","= 000,00 / 12  * 0 * 1/1 ="]
[null,8,null,null,null,"Kvalifikationstillæg 1","= 000,00 / 12  * 0,0000 * 1,155339 * 1/1 =","= 000,00 / 12  * 0,0000 * 1,155339 * 1/1 =","= 000,00 / 12  * 0,0000 * 1,159197 * 1/1 =","= 000,00 / 12  * 0,0000 * 1,159197 * 1/1 =","= 000,00 / 12  * 0,0000 * 1,159197 * 1/1 =","= 000,00 / 12  * 0,0000 * 1,159197 * 1/1 =","= 000,00 / 12  * 0,0000 * 1,159197 * 1/1 =","= 000,00 / 12  * 0,0000 * 1,159197 * 1/1 =","= 000,00 / 12  * 0,0000 *  * 1/1 =","= 000,00 / 12  * 0,0000 * 0 * 1/1 =","= 000,00 / 12  * 0,0000 * 0 * 1/1 =","= 000,00 / 12  * 0,0000 * 0 * 1/1 =","= 000,00 / 12  * 0,0000 * 1,155339 * 1/1 =","= 000,00 / 12  * 0,0000 * 1,155339 * 1/1 =","= 000,00 / 12  * 0,0000 * 1,159197 * 1/1 =","= 000,00 / 12  * 0,0000 * 1,159197 * 1/1 =","= 000,00 / 12  * 0,0000 * 1,159197 * 1/1 =","= 000,00 / 12  * 0,0000 * 1,159197 * 1/1 =","= 000,00 / 12  * 0,0000 * 1,159197 * 1/1 =","= 000,00 / 12  * 0,0000 * 1,159197 * 1/1 =","= 000,00 / 12  * 0,0000 * 0 * 1/1 =","= 000,00 / 12  * 0,0000 * 0 * 1/1 =","= 000,00 / 12  * 0,0000 * 0 * 1/1 =","= 000,00 / 12  * 0,0000 * 0 * 1/1 ="]
[null,9,null,null,null,"Kvalifikationstillæg 2","= 000,00 / 12  * 0,0000 * 1,155339 * 1/1 =","= 000,00 / 12  * 0,0000 * 1,155339 * 1/1 =","= 000,00 / 12  * 0,0000 * 1,159197 * 1/1 =","= 000,00 / 12  * 0,0000 * 1,159197 * 1/1 =","= 000,00 / 12  * 0,0000 * 1,159197 * 1/1 =","= 000,00 / 12  * 0,0000 * 1,159197 * 1/1 =","= 000,00 / 12  * 0,0000 * 1,159197 * 1/1 =","= 000,00 / 12  * 0,0000 * 1,159197 * 1/1 =","= 000,00 / 12  * 0,0000 *  * 1/1 =","= 000,00 / 12  * 0,0000 * 0 * 1/1 =","= 000,00 / 12  * 0,0000 * 0 * 1/1 =","= 000,00 / 12  * 0,0000 * 0 * 1/1 =","= 000,00 / 12  * 0,0000 * 1,155339 * 1/1 =","= 000,00 / 12  * 0,0000 * 1,155339 * 1/1 =","= 000,00 / 12  * 0,0000 * 1,159197 * 1/1 =","= 000,00 / 12  * 0,0000 * 1,159197 * 1/1 =","= 000,00 / 12  * 0,0000 * 1,159197 * 1/1 =","= 000,00 / 12  * 0,0000 * 1,159197 * 1/1 =","= 000,00 / 12  * 0,0000 * 1,159197 * 1/1 =","= 000,00 / 12  * 0,0000 * 1,159197 * 1/1 =","= 000,00 / 12  * 0,0000 * 0 * 1/1 =","= 000,00 / 12  * 0,0000 * 0 * 1/1 =","= 000,00 / 12  * 0,0000 * 0 * 1/1 =","= 000,00 / 12  * 0,0000 * 0 * 1/1 ="]
[null,10,null,null,null,"Kvalifikationstillæg 3","= 000,00 / 12  * 0,0000 * 1,155339 * 1/1 =","= 000,00 / 12  * 0,0000 * 1,155339 * 1/1 =","= 000,00 / 12  * 0,0000 * 1,159197 * 1/1 =","= 000,00 / 12  * 0,0000 * 1,159197 * 1/1 =","= 000,00 / 12  * 0,0000 * 1,159197 * 1/1 =","= 000,00 / 12  * 0,0000 * 1,159197 * 1/1 =","= 000,00 / 12  * 0,0000 * 1,159197 * 1/1 =","= 000,00 / 12  * 0,0000 * 1,159197 * 1/1 =","= 000,00 / 12  * 0,0000 *  * 1/1 =","= 000,00 / 12  * 0,0000 * 0 * 1/1 =","= 000,00 / 12  * 0,0000 * 0 * 1/1 =","= 000,00 / 12  * 0,0000 * 0 * 1/1 =","= 000,00 / 12  * 0,0000 * 1,155339 * 1/1 =","= 000,00 / 12  * 0,0000 * 1,155339 * 1/1 =","= 000,00 / 12  * 0,0000 * 1,159197 * 1/1 =","= 000,00 / 12  * 0,0000 * 1,159197 * 1/1 =","= 000,00 / 12  * 0,0000 * 1,159197 * 1/1 =","= 000,00 / 12  * 0,0000 * 1,159197 * 1/1 =","= 000,00 / 12  * 0,0000 * 1,159197 * 1/1 =","= 000,00 / 12  * 0,0000 * 1,159197 * 1/1 =","= 000,00 / 12  * 0,0000 * 0 * 1/1 =","= 000,00 / 12  * 0,0000 * 0 * 1/1 =","= 000,00 / 12  * 0,0000 * 0 * 1/1 =","= 000,00 / 12  * 0,0000 * 0 * 1/1 ="]
[null,11,null,null,null,"Udligningstillæg","= 000,00 / 12  * 0,0000 * 1,155339 * 1/1 =","= 000,00 / 12  * 0,0000 * 1,155339 * 1/1 =","= 000,00 / 12  * 0,0000 * 1,159197 * 1/1 =","= 000,00 / 12  * 0,0000 * 1,159197 * 1/1 =","= 000,00 / 12  * 0,0000 * 1,159197 * 1/1 =","= 000,00 / 12  * 0,0000 * 1,159197 * 1/1 =","= 000,00 / 12  * 0,0000 * 1,159197 * 1/1 =","= 000,00 / 12  * 0,0000 * 1,159197 * 1/1 =","= 000,00 / 12  * 0,0000 *  * 1/1 =","= 000,00 / 12  * 0,0000 * 0 * 1/1 =","= 000,00 / 12  * 0,0000 * 0 * 1/1 =","= 000,00 / 12  * 0,0000 * 0 * 1/1 =","= 000,00 / 12  * 0,0000 * 1,155339 * 1/1 =","= 000,00 / 12  * 0,0000 * 1,155339 * 1/1 =","= 000,00 / 12  * 0,0000 * 1,159197 * 1/1 =","= 000,00 / 12  * 0,0000 * 1,159197 * 1/1 =","= 000,00 / 12  * 0,0000 * 1,159197 * 1/1 =","= 000,00 / 12  * 0,0000 * 1,159197 * 1/1 =","= 000,00 / 12  * 0,0000 * 1,159197 * 1/1 =","= 000,00 / 12  * 0,0000 * 1,159197 * 1/1 =","= 000,00 / 12  * 0,0000 * 0 * 1/1 =","= 000,00 / 12  * 0,0000 * 0 * 1/1 =","= 000,00 / 12  * 0,0000 * 0 * 1/1 =","= 000,00 / 12  * 0,0000 * 0 * 1/1 ="]
[null,12,null,null,null,"Gruppelivstillæg",{"$f":"\"= \"&TEXT(G22,\"#.##0,00\")&\" * \"&TEXT(G$4,\"#0/#0\")&\" =\"","v":"= 0,00 * 1/1 ="},{"$f":"\"= \"&TEXT(H22,\"#.##0,00\")&\" * \"&TEXT(H$4,\"#0/#0\")&\" =\"","v":"= 0,00 * 1/1 ="},"= 0,00 * 1/1 =","= 0,00 * 1/1 =","= 0,00 * 1/1 =","= 0,00 * 1/1 =","= 0,00 * 1/1 =","= 0,00 * 1/1 =","= 0,00 * 1/1 =","= 0,00 * 1/1 =","= 0,00 * 1/1 =","= 0,00 * 1/1 =",{"$f":"\"= \"&TEXT(S22,\"#.##0,00\")&\" * \"&TEXT(S$4,\"#0/#0\")&\" =\"","v":"= 0,00 * 1/1 ="},{"$f":"\"= \"&TEXT(T22,\"#.##0,00\")&\" * \"&TEXT(T$4,\"#0/#0\")&\" =\"","v":"= 0,00 * 1/1 ="},"= 0,00 * 1/1 =","= 0,00 * 1/1 =","= 0,00 * 1/1 =","= 0,00 * 1/1 =","= 0,00 * 1/1 =","= 0,00 * 1/1 =","= 0,00 * 1/1 =","= 0,00 * 1/1 =","= 0,00 * 1/1 =","= 0,00 * 1/1 ="]
[null,13,null,null,null,"Lokalaftalt ulempegodtgørelse",{"$f":"\"= \"&TEXT(G23,\"#,00\")&IF($D60>0,\" * \"&TEXT(G$11,\"0,0000\"),\"\")&IF($E60>0,\" * \"&G$9,\"\")&\" * \"&TEXT(G$4,\"#0/#0\")&\" =\"","v":"= ,00 * 1,155339 * 1/1 ="},"= ,00 * 1,155339 * 1/1 =","= ,00 * 1,159197 * 1/1 =","= ,00 * 1,159197 * 1/1 =","= ,00 * 1,159197 * 1/1 =","= ,00 * 1,159197 * 1/1 =","= ,00 * 1,159197 * 1/1 =","= ,00 * 1,159197 * 1/1 =","= ,00 *  * 1/1 =","= ,00 * 0 * 1/1 =","= ,00 * 0 * 1/1 =","= ,00 * 0 * 1/1 =","= ,00 * 1,155339 * 1/1 =","= ,00 * 1,155339 * 1/1 =","= ,00 * 1,159197 * 1/1 =","= ,00 * 1,159197 * 1/1 =","= ,00 * 1,159197 * 1/1 =","= ,00 * 1,159197 * 1/1 =","= ,00 * 1,159197 * 1/1 =","= ,00 * 1,159197 * 1/1 =","= ,00 * 0 * 1/1 =","= ,00 * 0 * 1/1 =","= ,00 * 0 * 1/1 =","= ,00 * 0 * 1/1 ="]
[null,14,null,null,null,"Lønfradrag for ikke optjent ferie mv.",{"$f":"\"= - \"&MAX(0,MIN(G24,G25*1))+G28&\" * \"&IF(G8=\"JA\",\"4,62%\",\"4,8%\")&\" * SUM(Lin. 1 - Lin 12)\"&\" * \"&TEXT(G$4,\"#0/#0\")&\" =\"","v":"= - 0 * 4,62% * SUM(Lin. 1 - Lin 12) * 1/1 ="},{"$f":"\"= - \"&MAX(0,MIN(H24,H25*1))+H28&\" * \"&IF(H8=\"JA\",\"4,62%\",\"4,8%\")&\" * SUM(Lin. 1 - Lin 12) =\"","v":"= - 0 * 4,62% * SUM(Lin. 1 - Lin 12) ="},"= - 0 * 4,62% * SUM(Lin. 1 - Lin 12) =","= - 0 * 4,62% * SUM(Lin. 1 - Lin 12) =","= - 0 * 4,62% * SUM(Lin. 1 - Lin 12) =","= - 0 * 4,62% * SUM(Lin. 1 - Lin 12) =","= - 0 * 4,62% * SUM(Lin. 1 - Lin 12) =","= - 0 * 4,62% * SUM(Lin. 1 - Lin 12) =","= - 0 * 4,62% * SUM(Lin. 1 - Lin 12) =","= - 0 * 4,62% * SUM(Lin. 1 - Lin 12) =","= - 0 * 4,62% * SUM(Lin. 1 - Lin 12) =","= - 0 * 4,62% * SUM(Lin. 1 - Lin 12) =",{"$f":"\"= - \"&MAX(0,MIN(S24,S25*1))+S28&\" * \"&IF(S8=\"JA\",\"4,62%\",\"4,8%\")&\" * SUM(Lin. 1 - Lin 12)\"&\" * \"&TEXT(S$4,\"#0/#0\")&\" =\"","v":"= - 0 * 4,62% * SUM(Lin. 1 - Lin 12) * 1/1 ="},{"$f":"\"= - \"&MAX(0,MIN(T24,T25*1))+T28&\" * \"&IF(T8=\"JA\",\"4,62%\",\"4,8%\")&\" * SUM(Lin. 1 - Lin 12) =\"","v":"= - 0 * 4,62% * SUM(Lin. 1 - Lin 12) ="},"= - 0 * 4,62% * SUM(Lin. 1 - Lin 12) =","= - 0 * 4,62% * SUM(Lin. 1 - Lin 12) =","= - 0 * 4,62% * SUM(Lin. 1 - Lin 12) =","= - 0 * 4,62% * SUM(Lin. 1 - Lin 12) =","= - 0 * 4,62% * SUM(Lin. 1 - Lin 12) =","= - 0 * 4,62% * SUM(Lin. 1 - Lin 12) =","= - 0 * 4,62% * SUM(Lin. 1 - Lin 12) =","= - 0 * 4,62% * SUM(Lin. 1 - Lin 12) =","= - 0 * 4,62% * SUM(Lin. 1 - Lin 12) =","= - 0 * 4,62% * SUM(Lin. 1 - Lin 12) ="]
[null,16,null,null,null,"Feriedifference. Pensionsgivende",null,{"$f":"\"= \"&IF(LEFT(H8)=\"N\",\"( \"&H26&\" - \"&H11&\") * 4,8% * \"&H103&\" * \"&MAX((H24-H25),0)*H104,\"( \"&H26&\" - \"&H11&\") * 4,62% * \"&H103&\" * \"&MAX((H24-H25),0))&\" =\"","v":"= (  - 0) * 4,62% * 0 * 0 ="},"= (  - 0) * 4,62% * 0 * 5 =","= (  - 0) * 4,62% * 0 * 0 =","= (  - 0) * 4,62% * 0 * 0 =","= (  - 0) * 4,62% * 0 * 0 =","= (  - 0) * 4,62% * 0 * 5 =","= (  - 0) * 4,62% * 0 * 0 =","= (  - 0) * 4,62% * 0 * 0 =",{"$f":"\"= \"&IF(LEFT(P8)=\"N\",\"( \"&ROUND(P27,4)&\" - \"&P11&\") * 4,8% * \"&P103&\" * \"&MAX((P24-P25),0)*P104,\"( \"&ROUND(P27,4)&\" - \"&P11&\") * 4,62% * \"&P103&\" * \"&MAX((P24-P25),0))&\" =\"","v":"= ( 0 - 0) * 4,62% * 0 * 0 ="},{"$f":"\"= \"&IF(LEFT(Q8)=\"N\",\"( \"&ROUND(Q27,4)&\" - \"&Q11&\") * 4,8% * \"&Q103&\" * \"&MAX((Q24-Q25),0)*Q104,\"( \"&ROUND(Q27,4)&\" - \"&Q11&\") * 4,62% * \"&Q103&\" * \"&MAX((Q24-Q25),0))&\" =\"","v":"= ( 0 - 0) * 4,62% * 0 * 0 ="},{"$f":"\"= \"&IF(LEFT(R8)=\"N\",\"( \"&ROUND(R27,4)&\" - \"&R11&\") * 4,8% * \"&R103&\" * \"&MAX((R24-R25),0)*R104,\"( \"&ROUND(R27,4)&\" - \"&R11&\") * 4,62% * \"&R103&\" * \"&MAX((R24-R25),0))&\" =\"","v":"= ( 0 - 0) * 4,62% * 0 * 15 ="},null,{"$f":"\"= \"&IF(LEFT(T8)=\"N\",\"( \"&T26&\" - \"&T11&\") * 4,8% * \"&T103&\" * \"&MAX((T24-T25),0)*T104,\"( \"&T26&\" - \"&T11&\") * 4,62% * \"&T103&\" * \"&MAX((T24-T25),0))&\" =\"","v":"= ( 0 - 0) * 4,62% * 0 * 0 ="},"= ( 0 - 0) * 4,62% * 0 * 5 =","= ( 0 - 0) * 4,62% * 0 * 0 =","= ( 0 - 0) * 4,62% * 0 * 0 =","= ( 0 - 0) * 4,62% * 0 * 0 =","= ( 0 - 0) * 4,62% * 0 * 5 =","= ( 0 - 0) * 4,62% * 0 * 0 =","= ( 0 - 0) * 4,62% * 0 * 0 =",{"$f":"\"= \"&IF(LEFT(AB8)=\"N\",\"( \"&ROUND(AB27,4)&\" - \"&AB11&\") * 4,8% * \"&AB103&\" * \"&MAX((AB24-AB25),0)*AB104,\"( \"&ROUND(AB27,4)&\" - \"&AB11&\") * 4,62% * \"&AB103&\" * \"&MAX((AB24-AB25),0))&\" =\"","v":"= ( 0 - 0) * 4,62% * 0 * 0 ="},{"$f":"\"= \"&IF(LEFT(AC8)=\"N\",\"( \"&ROUND(AC27,4)&\" - \"&AC11&\") * 4,8% * \"&AC103&\" * \"&MAX((AC24-AC25),0)*AC104,\"( \"&ROUND(AC27,4)&\" - \"&AC11&\") * 4,62% * \"&AC103&\" * \"&MAX((AC24-AC25),0))&\" =\"","v":"= ( 0 - 0) * 4,62% * 0 * 0 ="},{"$f":"\"= \"&IF(LEFT(AD8)=\"N\",\"( \"&ROUND(AD27,4)&\" - \"&AD11&\") * 4,8% * \"&AD103&\" * \"&MAX((AD24-AD25),0)*AD104,\"( \"&ROUND(AD27,4)&\" - \"&AD11&\") * 4,62% * \"&AD103&\" * \"&MAX((AD24-AD25),0))&\" =\"","v":"= ( 0 - 0) * 4,62% * 0 * 15 ="}]
[null,17,null,null,null,"Feriedifferende. Ikke pensionsgivende"]
[null,18,null,null,null,"Engangsudbetalinger iflg. specifikation",{"$f":"SUBSTITUTE(TRIM(\"=SUM(\"&MAX(G34-8000,0)&\" \"&G35&\" \"&G36&\" \"&G37&\" \"&G38&\" \"&G40&\" \"&G41&\" \"&G42&\" \"&G43&\" \"&G44&\")\"),\" \",\"; \")&\" =\"","v":"=SUM(0; ) ="},{"$f":"SUBSTITUTE(TRIM(\"=SUM(\"&MAX(H34-8000,0)&\" \"&H35&\" \"&H36&\" \"&H37&\" \"&H38&\" \"&H40&\" \"&H41&\" \"&H42&\" \"&H43&\" \"&H44&\")\"),\" \",\"; \")&\" =\"","v":"=SUM(0; ) ="},"=SUM(0; ) =","=SUM(0; ) =","=SUM(0; ) =","=SUM(0; ) =","=SUM(0; ) =","=SUM(0; ) =","=SUM(0; ) =","=SUM(0; ) =","=SUM(0; ) =","=SUM(0; ) =",{"$f":"SUBSTITUTE(TRIM(\"=SUM(\"&MAX(S34-8000,0)&\" \"&S35&\" \"&S36&\" \"&S37&\" \"&S38&\" \"&S40&\" \"&S41&\" \"&S42&\" \"&S43&\" \"&S44&\")\"),\" \",\"; \")&\" =\"","v":"=SUM(0; 0; 0; 0; 0; 0; 0; 0; 0; 0) ="},{"$f":"SUBSTITUTE(TRIM(\"=SUM(\"&MAX(T34-8000,0)&\" \"&T35&\" \"&T36&\" \"&T37&\" \"&T38&\" \"&T40&\" \"&T41&\" \"&T42&\" \"&T43&\" \"&T44&\")\"),\" \",\"; \")&\" =\"","v":"=SUM(0; 0; 0; 0; 0; 0; 0; 0; 0; 0) ="},"=SUM(0; 0; 0; 0; 0; 0; 0; 0; 0; 0) =","=SUM(0; 0; 0; 0; 0; 0; 0; 0; 0; 0) =","=SUM(0; 0; 0; 0; 0; 0; 0; 0; 0; 0) =","=SUM(0; 0; 0; 0; 0; 0; 0; 0; 0; 0) =","=SUM(0; 0; 0; 0; 0; 0; 0; 0; 0; 0) =","=SUM(0; 0; 0; 0; 0; 0; 0; 0; 0; 0) =","=SUM(0; 0; 0; 0; 0; 0; 0; 0; 0; 0) =","=SUM(0; 0; 0; 0; 0; 0; 0; 0; 0; 0) =","=SUM(0; 0; 0; 0; 0; 0; 0; 0; 0; 0) =","=SUM(0; 0; 0; 0; 0; 0; 0; 0; 0; 0) ="]
[null,19,null,null,null,"Skattefri engangsudbetalinger iflg. spec.",{"$f":"SUBSTITUTE(TRIM(\"=SUM(\"&G31&\" * \"&$D31&\" \"&G32&\" * \"&$D32&\" \"&G33&\" \"&MIN(G34,8000)&\")\"),\" \",\"; \")&\" =\"","v":"=SUM(; *; 2,19; *; 3,73; 8000) ="},{"$f":"SUBSTITUTE(TRIM(\"=SUM(\"&H31&\" * \"&$D31&\" \"&H32&\" * \"&$D32&\" \"&H33&\" \"&MIN(H34,8000)&\")\"),\" \",\"; \")&\" =\"","v":"=SUM(; *; 2,19; *; 3,73; 8000) ="},{"$f":"SUBSTITUTE(TRIM(\"=SUM(\"&I31&\" * \"&$D31&\" \"&I32&\" * \"&$D32&\" \"&I33&\" \"&MIN(I34,8000)&\")\"),\" \",\"; \")&\" =\"","v":"=SUM(; *; 2,19; *; 3,73; 8000) ="},{"$f":"SUBSTITUTE(TRIM(\"=SUM(\"&J31&\" * \"&$D31&\" \"&J32&\" * \"&$D32&\" \"&J33&\" \"&MIN(J34,8000)&\")\"),\" \",\"; \")&\" =\"","v":"=SUM(; *; 2,19; *; 3,73; 8000) ="},{"$f":"SUBSTITUTE(TRIM(\"=SUM(\"&K31&\" * \"&$D31&\" \"&K32&\" * \"&$D32&\" \"&K33&\" \"&MIN(K34,8000)&\")\"),\" \",\"; \")&\" =\"","v":"=SUM(; *; 2,19; *; 3,73; 8000) ="},{"$f":"SUBSTITUTE(TRIM(\"=SUM(\"&L31&\" * \"&$E31&\" \"&L32&\" * \"&$E32&\" \"&L33&\" \"&MIN(L34,8000)&\")\"),\" \",\"; \")&\" =\"","v":"=SUM(; *; *; 8000) ="},{"$f":"SUBSTITUTE(TRIM(\"=SUM(\"&M31&\" * \"&$E31&\" \"&M32&\" * \"&$E32&\" \"&M33&\" \"&MIN(M34,8000)&\")\"),\" \",\"; \")&\" =\"","v":"=SUM(; *; *; 8000) ="},"=SUM(; *; *; 8000) =","=SUM(; *; *; 8000) =","=SUM(; *; *; 8000) =","=SUM(; *; *; 8000) =","=SUM(; *; *; 8000) =",{"$f":"SUBSTITUTE(TRIM(\"=SUM(\"&S31&\" * \"&$D31&\" \"&S32&\" * \"&$D32&\" \"&S33&\" \"&MIN(S34,8000)&\")\"),\" \",\"; \")&\" =\"","v":"=SUM(0; *; 2,19; 0; *; 3,73; 0; 0) ="},{"$f":"SUBSTITUTE(TRIM(\"=SUM(\"&T31&\" * \"&$D31&\" \"&T32&\" * \"&$D32&\" \"&T33&\" \"&MIN(T34,8000)&\")\"),\" \",\"; \")&\" =\"","v":"=SUM(0; *; 2,19; 0; *; 3,73; 0; 0) ="},{"$f":"SUBSTITUTE(TRIM(\"=SUM(\"&U31&\" * \"&$D31&\" \"&U32&\" * \"&$D32&\" \"&U33&\" \"&MIN(U34,8000)&\")\"),\" \",\"; \")&\" =\"","v":"=SUM(0; *; 2,19; 0; *; 3,73; 0; 0) ="},{"$f":"SUBSTITUTE(TRIM(\"=SUM(\"&V31&\" * \"&$D31&\" \"&V32&\" * \"&$D32&\" \"&V33&\" \"&MIN(V34,8000)&\")\"),\" \",\"; \")&\" =\"","v":"=SUM(0; *; 2,19; 0; *; 3,73; 0; 0) ="},{"$f":"SUBSTITUTE(TRIM(\"=SUM(\"&W31&\" * \"&$D31&\" \"&W32&\" * \"&$D32&\" \"&W33&\" \"&MIN(W34,8000)&\")\"),\" \",\"; \")&\" =\"","v":"=SUM(0; *; 2,19; 0; *; 3,73; 0; 0) ="},{"$f":"SUBSTITUTE(TRIM(\"=SUM(\"&X31&\" * \"&$E31&\" \"&X32&\" * \"&$E32&\" \"&X33&\" \"&MIN(X34,8000)&\")\"),\" \",\"; \")&\" =\"","v":"=SUM(0; *; 0; *; 0; 0) ="},{"$f":"SUBSTITUTE(TRIM(\"=SUM(\"&Y31&\" * \"&$E31&\" \"&Y32&\" * \"&$E32&\" \"&Y33&\" \"&MIN(Y34,8000)&\")\"),\" \",\"; \")&\" =\"","v":"=SUM(0; *; 0; *; 0; 0) ="},"=SUM(0; *; 0; *; 0; 0) =","=SUM(0; *; 0; *; 0; 0) =","=SUM(0; *; 0; *; 0; 0) =","=SUM(0; *; 0; *; 0; 0) =","=SUM(0; *; 0; *; 0; 0) ="]
[null,20,null,null,null,"Bruttoløn (ekskl. pensionstillæg og ATP)"]
[null,21,null,null,null,"Pensionstillæg skalatrinsløn eller HK-løn",{"$f":"\"= \"&ROUND(VLOOKUP(G12,Skalalontabel12,7,0)*G$9,0)&\" / 12  * \"&TEXT(G$11,\"0,0000\")&\" * \"&G5&\"% / 3 =\"","v":{"$error":"#N/A"}},{"$error":"#N/A"},{"$error":"#N/A"},{"$error":"#N/A"},{"$error":"#N/A"},{"$error":"#N/A"},{"$error":"#N/A"},{"$error":"#N/A"},{"$error":"#N/A"},{"$error":"#N/A"},{"$error":"#N/A"},{"$error":"#N/A"},{"$error":"#N/A"},{"$error":"#N/A"},{"$error":"#N/A"},{"$error":"#N/A"},{"$error":"#N/A"},{"$error":"#N/A"},{"$error":"#N/A"},{"$error":"#N/A"},{"$error":"#N/A"},{"$error":"#N/A"},{"$error":"#N/A"},{"$error":"#N/A"}]
[null,22,null,null,null,"Pensionstillæg fast løn",{"$f":"IF($C50>0,\"= \"&G50&\" * \"&G$5&\"% / 3 =\")","v":"= 0 * % / 3 ="},{"$f":"IF($C50>0,H50&\" * \"&H$5&\"% / 3 =\")","v":"0 * 0% / 3 ="},"0 * 0% / 3 =","0 * 0% / 3 =","0 * 0% / 3 =","0 * 0% / 3 =","0 * 0% / 3 =","0 * 0% / 3 =","0 * 0% / 3 =","0 * 0% / 3 =","0 * 0% / 3 =","0 * 0% / 3 =",{"$f":"IF($C50>0,\"= \"&S50&\" * \"&S$5&\"% / 3 =\")","v":"= 0 * 0% / 3 ="},{"$f":"IF($C50>0,T50&\" * \"&T$5&\"% / 3 =\")","v":"0 * 0% / 3 ="},"0 * 0% / 3 =","0 * 0% / 3 =","0 * 0% / 3 =","0 * 0% / 3 =","0 * 0% / 3 =","0 * 0% / 3 =","0 * 0% / 3 =","0 * 0% / 3 =","0 * 0% / 3 =","0 * 0% / 3 ="]
[null,23,null,null,null,"Pensionstillæg souscheftillæg","= 0 * % / 3 =","0 * 0% / 3 =","0 * 0% / 3 =","0 * 0% / 3 =","0 * 0% / 3 =","0 * 0% / 3 =","0 * 0% / 3 =","0 * 0% / 3 =","0 * 0% / 3 =","0 * 0% / 3 =","0 * 0% / 3 =","0 * 0% / 3 =","= 0 * 0% / 3 =","0 * 0% / 3 =","0 * 0% / 3 =","0 * 0% / 3 =","0 * 0% / 3 =","0 * 0% / 3 =","0 * 0% / 3 =","0 * 0% / 3 =","0 * 0% / 3 =","0 * 0% / 3 =","0 * 0% / 3 =","0 * 0% / 3 ="]
[null,24,null,null,null,"Pensionstillæg Funktionstillæg 1","= 0 * % / 3 =","0 * 0% / 3 =","0 * 0% / 3 =","0 * 0% / 3 =","0 * 0% / 3 =","0 * 0% / 3 =","0 * 0% / 3 =","0 * 0% / 3 =","0 * 0% / 3 =","0 * 0% / 3 =","0 * 0% / 3 =","0 * 0% / 3 =","= 0 * 0% / 3 =","0 * 0% / 3 =","0 * 0% / 3 =","0 * 0% / 3 =","0 * 0% / 3 =","0 * 0% / 3 =","0 * 0% / 3 =","0 * 0% / 3 =","0 * 0% / 3 =","0 * 0% / 3 =","0 * 0% / 3 =","0 * 0% / 3 ="]
[null,25,null,null,null,"Pensionstillæg Funktionstillæg 2","= 0 * % / 3 =","0 * 0% / 3 =","0 * 0% / 3 =","0 * 0% / 3 =","0 * 0% / 3 =","0 * 0% / 3 =","0 * 0% / 3 =","0 * 0% / 3 =","0 * 0% / 3 =","0 * 0% / 3 =","0 * 0% / 3 =","0 * 0% / 3 =","= 0 * 0% / 3 =","0 * 0% / 3 =","0 * 0% / 3 =","0 * 0% / 3 =","0 * 0% / 3 =","0 * 0% / 3 =","0 * 0% / 3 =","0 * 0% / 3 =","0 * 0% / 3 =","0 * 0% / 3 =","0 * 0% / 3 =","0 * 0% / 3 ="]
[null,26,null,null,null,"Pensionstillæg Funktionstillæg 3","= 0 * % / 3 =","0 * 0% / 3 =","0 * 0% / 3 =","0 * 0% / 3 =","0 * 0% / 3 =","0 * 0% / 3 =","0 * 0% / 3 =","0 * 0% / 3 =","0 * 0% / 3 =","0 * 0% / 3 =","0 * 0% / 3 =","0 * 0% / 3 =","= 0 * 0% / 3 =","0 * 0% / 3 =","0 * 0% / 3 =","0 * 0% / 3 =","0 * 0% / 3 =","0 * 0% / 3 =","0 * 0% / 3 =","0 * 0% / 3 =","0 * 0% / 3 =","0 * 0% / 3 =","0 * 0% / 3 =","0 * 0% / 3 ="]
[null,27,null,null,null,"Pensionstillæg Kvalifikationstillæg 1","= 0 * % / 3 =","0 * 0% / 3 =","0 * 0% / 3 =","0 * 0% / 3 =","0 * 0% / 3 =","0 * 0% / 3 =","0 * 0% / 3 =","0 * 0% / 3 =","0 * 0% / 3 =","0 * 0% / 3 =","0 * 0% / 3 =","0 * 0% / 3 =","= 0 * 0% / 3 =","0 * 0% / 3 =","0 * 0% / 3 =","0 * 0% / 3 =","0 * 0% / 3 =","0 * 0% / 3 =","0 * 0% / 3 =","0 * 0% / 3 =","0 * 0% / 3 =","0 * 0% / 3 =","0 * 0% / 3 =","0 * 0% / 3 ="]
[null,28,null,null,null,"Pensionstillæg Kvalifikationstillæg 2","= 0 * % / 3 =","0 * 0% / 3 =","0 * 0% / 3 =","0 * 0% / 3 =","0 * 0% / 3 =","0 * 0% / 3 =","0 * 0% / 3 =","0 * 0% / 3 =","0 * 0% / 3 =","0 * 0% / 3 =","0 * 0% / 3 =","0 * 0% / 3 =","= 0 * 0% / 3 =","0 * 0% / 3 =","0 * 0% / 3 =","0 * 0% / 3 =","0 * 0% / 3 =","0 * 0% / 3 =","0 * 0% / 3 =","0 * 0% / 3 =","0 * 0% / 3 =","0 * 0% / 3 =","0 * 0% / 3 =","0 * 0% / 3 ="]
[null,29,null,null,null,"Pensionstillæg Kvalifikationstillæg 3","= 0 * % / 3 =","0 * 0% / 3 =","0 * 0% / 3 =","0 * 0% / 3 =","0 * 0% / 3 =","0 * 0% / 3 =","0 * 0% / 3 =","0 * 0% / 3 =","0 * 0% / 3 =","0 * 0% / 3 =","0 * 0% / 3 =","0 * 0% / 3 =","= 0 * 0% / 3 =","0 * 0% / 3 =","0 * 0% / 3 =","0 * 0% / 3 =","0 * 0% / 3 =","0 * 0% / 3 =","0 * 0% / 3 =","0 * 0% / 3 =","0 * 0% / 3 =","0 * 0% / 3 =","0 * 0% / 3 =","0 * 0% / 3 ="]
[null,30,null,null,null,"Pensionstillæg af udligningstillæg","= 0 * % / 3 =","0 * 0% / 3 =","0 * 0% / 3 =","0 * 0% / 3 =","0 * 0% / 3 =","0 * 0% / 3 =","0 * 0% / 3 =","0 * 0% / 3 =","0 * 0% / 3 =","0 * 0% / 3 =","0 * 0% / 3 =","0 * 0% / 3 =","= 0 * 0% / 3 =","0 * 0% / 3 =","0 * 0% / 3 =","0 * 0% / 3 =","0 * 0% / 3 =","0 * 0% / 3 =","0 * 0% / 3 =","0 * 0% / 3 =","0 * 0% / 3 =","0 * 0% / 3 =","0 * 0% / 3 =","0 * 0% / 3 ="]
[null,31,null,null,null,"Fradrag i pensionstillæg for ikke optjent ferie mv.",{"$f":"\"= \"&G61&\" * \"&G$5&\"% / 3 =\"","v":"= 0 * % / 3 ="},"= 0 * 0% / 3 =","= 0 * 0% / 3 =","= 0 * 0% / 3 =","= 0 * 0% / 3 =","= 0 * 0% / 3 =","= 0 * 0% / 3 =","= 0 * 0% / 3 =","= 0 * 0% / 3 =","= 0 * 0% / 3 =","= 0 * 0% / 3 =","= 0 * 0% / 3 =","= 0 * 0% / 3 =","= 0 * 0% / 3 =","= 0 * 0% / 3 =","= 0 * 0% / 3 =","= 0 * 0% / 3 =","= 0 * 0% / 3 =","= 0 * 0% / 3 =","= 0 * 0% / 3 =","= 0 * 0% / 3 =","= 0 * 0% / 3 =","= 0 * 0% / 3 =","= 0 * 0% / 3 ="]
[null,32,null,null,null,"Pensionstillæg af feriedifference","= 0 * % / 3 =","= 0 * 0% / 3 =","= 0 * 0% / 3 =","= 0 * 0% / 3 =","= 0 * 0% / 3 =","= 0 * 0% / 3 =","= 0 * 0% / 3 =","= 0 * 0% / 3 =","= 0 * 0% / 3 =","= 0 * 0% / 3 =","= 0 * 0% / 3 =","= 0 * 0% / 3 =","= 0 * 0% / 3 =","= 0 * 0% / 3 =","= 0 * 0% / 3 =","= 0 * 0% / 3 =","= 0 * 0% / 3 =","= 0 * 0% / 3 =","= 0 * 0% / 3 =","= 0 * 0% / 3 =","= 0 * 0% / 3 =","= 0 * 0% / 3 =","= 0 * 0% / 3 =","= 0 * 0% / 3 ="]
[null,33,null,null,null,"Pensionstillæg af pensiong. engangstillæg",{"$f":"SUBSTITUTE(TRIM(\"=SUM(\"&IF($G36>0,G36&\" \",\"\")&IF($C40<>\"\",G40&\" \",\"\")&IF($C41<>\"\",G41&\" \",\"\")&IF($C42<>\"\",G42&\" \",\"\")&IF($C43<>\"\",G43&\" \",\"\")&IF($C44<>\"\",G44,\"\")&\")\"),\" \",\"; \")&\" * \"&G5&\"% / 3 =\"","v":"=SUM(; ) * % / 3 ="},"=SUM(; ) * 0% / 3 =","=SUM(; ) * 0% / 3 =","=SUM(; ) * 0% / 3 =","=SUM(; ) * 0% / 3 =","=SUM(; ) * 0% / 3 =","=SUM(; ) * 0% / 3 =","=SUM(; ) * 0% / 3 =","=SUM(; ) * 0% / 3 =","=SUM(; ) * 0% / 3 =","=SUM(; ) * 0% / 3 =","=SUM(; ) * 0% / 3 =","=SUM(0; 0; 0; ) * 0% / 3 =","=SUM(0; 0; 0; ) * 0% / 3 =","=SUM(0; 0; 0; ) * 0% / 3 =","=SUM(0; 0; 0; ) * 0% / 3 =","=SUM(0; 0; 0; ) * 0% / 3 =","=SUM(0; 0; 0; ) * 0% / 3 =","=SUM(0; 0; 0; ) * 0% / 3 =","=SUM(0; 0; 0; ) * 0% / 3 =","=SUM(0; 0; 0; ) * 0% / 3 =","=SUM(0; 0; 0; ) * 0% / 3 =","=SUM(0; 0; 0; ) * 0% / 3 =","=SUM(0; 0; 0; ) * 0% / 3 ="]
[null,34,null,null,null,"Ekstra pension ved orlov uden løn","Ekstra pension ved orlov uden løn","Ekstra pension ved orlov uden løn","Ekstra pension ved orlov uden løn","Ekstra pension ved orlov uden løn","Ekstra pension ved orlov uden løn","Ekstra pension ved orlov uden løn","Ekstra pension ved orlov uden løn","Ekstra pension ved orlov uden løn","Ekstra pension ved orlov uden løn","Ekstra pension ved orlov uden løn","Ekstra pension ved orlov uden løn","Ekstra pension ved orlov uden løn"]
[null,35,null,null,null,"Pensionstillæg i alt"]
[null,36,null,null,null,"Egetbidrag til ATP"]
[null,37,null,null,null,"AMB-grundlag",{"$f":"\"= SUM(Lin. 1 - Lin. 14) + SUM(Lin 19 - Lin28) - \"&G86&\" =\"","v":"= SUM(Lin. 1 - Lin. 14) + SUM(Lin 19 - Lin28) - 0 ="},{"$f":"\"= SUM(Lin. 1 - Lin. 14) + SUM(Lin 19 - Lin28) - \"&H86&\" =\"","v":"= SUM(Lin. 1 - Lin. 14) + SUM(Lin 19 - Lin28) - 0 ="},"= SUM(Lin. 1 - Lin. 14) + SUM(Lin 19 - Lin28) - 0 =","= SUM(Lin. 1 - Lin. 14) + SUM(Lin 19 - Lin28) - 0 =","= SUM(Lin. 1 - Lin. 14) + SUM(Lin 19 - Lin28) - 0 =","= SUM(Lin. 1 - Lin. 14) + SUM(Lin 19 - Lin28) - 0 =","= SUM(Lin. 1 - Lin. 14) + SUM(Lin 19 - Lin28) - 0 =","= SUM(Lin. 1 - Lin. 14) + SUM(Lin 19 - Lin28) - 0 =","= SUM(Lin. 1 - Lin. 14) + SUM(Lin 19 - Lin28) - 0 =","= SUM(Lin. 1 - Lin. 14) + SUM(Lin 19 - Lin28) - 0 =","= SUM(Lin. 1 - Lin. 14) + SUM(Lin 19 - Lin28) - 0 =","= SUM(Lin. 1 - Lin. 14) + SUM(Lin 19 - Lin28) - 0 =",{"$f":"\"= SUM(Lin. 1 - Lin. 14) + SUM(Lin 19 - Lin28) - \"&S86&\" =\"","v":"= SUM(Lin. 1 - Lin. 14) + SUM(Lin 19 - Lin28) - 0 ="},{"$f":"\"= SUM(Lin. 1 - Lin. 14) + SUM(Lin 19 - Lin28) - \"&T86&\" =\"","v":"= SUM(Lin. 1 - Lin. 14) + SUM(Lin 19 - Lin28) - 0 ="},"= SUM(Lin. 1 - Lin. 14) + SUM(Lin 19 - Lin28) - 0 =","= SUM(Lin. 1 - Lin. 14) + SUM(Lin 19 - Lin28) - 0 =","= SUM(Lin. 1 - Lin. 14) + SUM(Lin 19 - Lin28) - 0 =","= SUM(Lin. 1 - Lin. 14) + SUM(Lin 19 - Lin28) - 0 =","= SUM(Lin. 1 - Lin. 14) + SUM(Lin 19 - Lin28) - 0 =","= SUM(Lin. 1 - Lin. 14) + SUM(Lin 19 - Lin28) - 0 =","= SUM(Lin. 1 - Lin. 14) + SUM(Lin 19 - Lin28) - 0 =","= SUM(Lin. 1 - Lin. 14) + SUM(Lin 19 - Lin28) - 0 =","= SUM(Lin. 1 - Lin. 14) + SUM(Lin 19 - Lin28) - 0 =","= SUM(Lin. 1 - Lin. 14) + SUM(Lin 19 - Lin28) - 0 ="]
[null,38,null,null,null,"AM-bidrag",{"$f":"\"= \"&G87&\" * 8% (afrundet) =\"","v":"= 0 * 8% (afrundet) ="},{"$f":"\"= \"&H87&\" * 8% (afrundet) =\"","v":"= 0 * 8% (afrundet) ="},"= 0 * 8% (afrundet) =","= 0 * 8% (afrundet) =","= 0 * 8% (afrundet) =","= 0 * 8% (afrundet) =","= 0 * 8% (afrundet) =","= 0 * 8% (afrundet) =","= 0 * 8% (afrundet) =","= 0 * 8% (afrundet) =","= 0 * 8% (afrundet) =","= 0 * 8% (afrundet) =",{"$f":"\"= \"&S87&\" * 8% (afrundet) =\"","v":"= 0 * 8% (afrundet) ="},{"$f":"\"= \"&T87&\" * 8% (afrundet) =\"","v":"= 0 * 8% (afrundet) ="},"= 0 * 8% (afrundet) =","= 0 * 8% (afrundet) =","= 0 * 8% (afrundet) =","= 0 * 8% (afrundet) =","= 0 * 8% (afrundet) =","= 0 * 8% (afrundet) =","= 0 * 8% (afrundet) =","= 0 * 8% (afrundet) =","= 0 * 8% (afrundet) =","= 0 * 8% (afrundet) ="]
[null,39,null,null,null,"A-indkomst",{"$f":"\"= \"&G87&\" - \"&G88&\" =\"","v":"= 0 - 0 ="},{"$f":"\"= \"&H87&\" - \"&H88&\" =\"","v":"= 0 - 0 ="},"= 0 - 0 =","= 0 - 0 =","= 0 - 0 =","= 0 - 0 =","= 0 - 0 =","= 0 - 0 =","= 0 - 0 =","= 0 - 0 =","= 0 - 0 =","= 0 - 0 =",{"$f":"\"= \"&S87&\" - \"&S88&\" =\"","v":"= 0 - 0 ="},{"$f":"\"= \"&T87&\" - \"&T88&\" =\"","v":"= 0 - 0 ="},"= 0 - 0 =","= 0 - 0 =","= 0 - 0 =","= 0 - 0 =","= 0 - 0 =","= 0 - 0 =","= 0 - 0 =","= 0 - 0 =","= 0 - 0 =","= 0 - 0 ="]
[null,40,null,null,null,"Skattegrundlag"]
[null,41,null,null,null,"Skat",{"$f":"\"= (\"&G89&\" - \"&G30&\") (afrundet) * \"&G29&\" / 100 =\"","v":"= (0 - ) (afrundet) *  / 100 ="},{"$f":"\"= (\"&H89&\" - \"&H30&\") (afrundet) * \"&H29&\" / 100 =\"","v":"= (0 - 0) (afrundet) * 0 / 100 ="},"= (0 - 0) (afrundet) * 0 / 100 =","= (0 - 0) (afrundet) * 0 / 100 =","= (0 - 0) (afrundet) * 0 / 100 =","= (0 - 0) (afrundet) * 0 / 100 =","= (0 - 0) (afrundet) * 0 / 100 =","= (0 - 0) (afrundet) * 0 / 100 =","= (0 - 0) (afrundet) * 0 / 100 =","= (0 - 0) (afrundet) * 0 / 100 =","= (0 - 0) (afrundet) * 0 / 100 =","= (0 - 0) (afrundet) * 0 / 100 =",{"$f":"\"= (\"&S89&\" - \"&S30&\") (afrundet) * \"&S29&\" / 100 =\"","v":"= (0 - 0) (afrundet) * 0 / 100 ="},{"$f":"\"= (\"&T89&\" - \"&T30&\") (afrundet) * \"&T29&\" / 100 =\"","v":"= (0 - 0) (afrundet) * 0 / 100 ="},"= (0 - 0) (afrundet) * 0 / 100 =","= (0 - 0) (afrundet) * 0 / 100 =","= (0 - 0) (afrundet) * 0 / 100 =","= (0 - 0) (afrundet) * 0 / 100 =","= (0 - 0) (afrundet) * 0 / 100 =","= (0 - 0) (afrundet) * 0 / 100 =","= (0 - 0) (afrundet) * 0 / 100 =","= (0 - 0) (afrundet) * 0 / 100 =","= (0 - 0) (afrundet) * 0 / 100 =","= (0 - 0) (afrundet) * 0 / 100 ="]
[null,42,null,null,null,"Feriegodtgørelsesgrundlag"]
[null,43,null,null,null,{"$f":"\"Feriegodtgørelsesgrundlag, jan-juli \"&Aar+1","v":"Feriegodtgørelsesgrundlag, jan-juli 1"}]
[null,44,null,null,null,"Egetbidrag til pensionskasse",{"$f":"\"= Lin. 43 =\"","v":"= Lin. 43 ="},{"$f":"\"= Lin. 43 =\"","v":"= Lin. 43 ="},"= Lin. 43 =","= Lin. 43 =","= Lin. 43 =","= Lin. 43 =","= Lin. 43 =","= Lin. 43 =","= Lin. 43 =","= Lin. 43 =","= Lin. 43 =","= Lin. 43 =",{"$f":"\"= Lin. 43 =\"","v":"= Lin. 43 ="},"= Lin. 43 =","= Lin. 43 =","= Lin. 43 =","= Lin. 43 =","= Lin. 43 =","= Lin. 43 =","= Lin. 43 =","= Lin. 43 =","= Lin. 43 =","= Lin. 43 =","= Lin. 43 ="]
[null,45,null,null,null,"Arbejdsgiverbidrag til pensionskasse",{"$f":"\"= Lin. 43 * 2 =\"","v":"= Lin. 43 * 2 ="},{"$f":"\"= Lin. 43 * 2 =\"","v":"= Lin. 43 * 2 ="},"= Lin. 43 * 2 =","= Lin. 43 * 2 =","= Lin. 43 * 2 =","= Lin. 43 * 2 =","= Lin. 43 * 2 =","= Lin. 43 * 2 =","= Lin. 43 * 2 =","= Lin. 43 * 2 =","= Lin. 43 * 2 =","= Lin. 43 * 2 =",{"$f":"\"= Lin. 43 * 2 =\"","v":"= Lin. 43 * 2 ="},"= Lin. 43 * 2 =","= Lin. 43 * 2 =","= Lin. 43 * 2 =","= Lin. 43 * 2 =","= Lin. 43 * 2 =","= Lin. 43 * 2 =","= Lin. 43 * 2 =","= Lin. 43 * 2 =","= Lin. 43 * 2 =","= Lin. 43 * 2 =","= Lin. 43 * 2 ="]
[null,46,null,null,null,"Arbejdsgiverbidrag til ATP",{"$f":"\"= Lin. 44 * 2 =\"","v":"= Lin. 44 * 2 ="},{"$f":"\"= Lin. 44 * 2 =\"","v":"= Lin. 44 * 2 ="},"= Lin. 44 * 2 =","= Lin. 44 * 2 =","= Lin. 44 * 2 =","= Lin. 44 * 2 =","= Lin. 44 * 2 =","= Lin. 44 * 2 =","= Lin. 44 * 2 =","= Lin. 44 * 2 =","= Lin. 44 * 2 =","= Lin. 44 * 2 =",{"$f":"\"= Lin. 44 * 2 =\"","v":"= Lin. 44 * 2 ="},"= Lin. 44 * 2 =","= Lin. 44 * 2 =","= Lin. 44 * 2 =","= Lin. 44 * 2 =","= Lin. 44 * 2 =","= Lin. 44 * 2 =","= Lin. 44 * 2 =","= Lin. 44 * 2 =","= Lin. 44 * 2 =","= Lin. 44 * 2 =","= Lin. 44 * 2 ="]
[null,47,null,null,null,"Skolens samlede indbetaling til pensionskasse",{"$f":"\"= Lin. 51 + Lin. 52 =\"","v":"= Lin. 51 + Lin. 52 ="},{"$f":"\"= Lin. 51 + Lin. 52 =\"","v":"= Lin. 51 + Lin. 52 ="},"= Lin. 51 + Lin. 52 =","= Lin. 51 + Lin. 52 =","= Lin. 51 + Lin. 52 =","= Lin. 51 + Lin. 52 =","= Lin. 51 + Lin. 52 =","= Lin. 51 + Lin. 52 =","= Lin. 51 + Lin. 52 =","= Lin. 51 + Lin. 52 =","= Lin. 51 + Lin. 52 =","= Lin. 51 + Lin. 52 =",{"$f":"\"= Lin. 51 + Lin. 52 =\"","v":"= Lin. 51 + Lin. 52 ="},"= Lin. 51 + Lin. 52 =","= Lin. 51 + Lin. 52 =","= Lin. 51 + Lin. 52 =","= Lin. 51 + Lin. 52 =","= Lin. 51 + Lin. 52 =","= Lin. 51 + Lin. 52 =","= Lin. 51 + Lin. 52 =","= Lin. 51 + Lin. 52 =","= Lin. 51 + Lin. 52 =","= Lin. 51 + Lin. 52 =","= Lin. 51 + Lin. 52 ="]
[null,48,null,null,null,"Skolens samlede indbetaling til ATP",{"$f":"\"= Lin. 44 + Lin. 53 =\"","v":"= Lin. 44 + Lin. 53 ="},{"$f":"\"= Lin. 44 + Lin. 53 =\"","v":"= Lin. 44 + Lin. 53 ="},"= Lin. 44 + Lin. 53 =","= Lin. 44 + Lin. 53 =","= Lin. 44 + Lin. 53 =","= Lin. 44 + Lin. 53 =","= Lin. 44 + Lin. 53 =","= Lin. 44 + Lin. 53 =","= Lin. 44 + Lin. 53 =","= Lin. 44 + Lin. 53 =","= Lin. 44 + Lin. 53 =","= Lin. 44 + Lin. 53 =",{"$f":"\"= Lin. 44 + Lin. 53 =\"","v":"= Lin. 44 + Lin. 53 ="},"= Lin. 44 + Lin. 53 =","= Lin. 44 + Lin. 53 =","= Lin. 44 + Lin. 53 =","= Lin. 44 + Lin. 53 =","= Lin. 44 + Lin. 53 =","= Lin. 44 + Lin. 53 =","= Lin. 44 + Lin. 53 =","= Lin. 44 + Lin. 53 =","= Lin. 44 + Lin. 53 =","= Lin. 44 + Lin. 53 =","= Lin. 44 + Lin. 53 ="]
[null,49,null,null,null,"Indbetaling til Gruppeliv"]
[null,50,null,null,null,"Løn til den ansattes disposition",{"$f":"\"= \"&G70&\" - ( \"&G91&\" + \"&G86&\" + \"&G88&\" + \"&G99&\") - SUM(lin 57 : 59) =\"","v":"= 0 - ( 0 + 0 + 0 + 0) - SUM(lin 57 : 59) ="},{"$f":"\"= \"&H70&\" - ( \"&H91&\" + \"&H86&\" + \"&H88&\" + \"&H99&\") - SUM(lin 57 : 59) =\"","v":"= 0 - ( 0 + 0 + 0 + 0) - SUM(lin 57 : 59) ="},"= 0 - ( 0 + 0 + 0 + 0) - SUM(lin 57 : 59) =","= 0 - ( 0 + 0 + 0 + 0) - SUM(lin 57 : 59) =","= 0 - ( 0 + 0 + 0 + 0) - SUM(lin 57 : 59) =","= 0 - ( 0 + 0 + 0 + 0) - SUM(lin 57 : 59) =","= 0 - ( 0 + 0 + 0 + 0) - SUM(lin 57 : 59) =","= 0 - ( 0 + 0 + 0 + 0) - SUM(lin 57 : 59) =","= 0 - ( 0 + 0 + 0 + 0) - SUM(lin 57 : 59) =","= 0 - ( 0 + 0 + 0 + 0) - SUM(lin 57 : 59) =","= 0 - ( 0 + 0 + 0 + 0) - SUM(lin 57 : 59) =","= 0 - ( 0 + 0 + 0 + 0) - SUM(lin 57 : 59) =",{"$f":"\"= \"&S70&\" - ( \"&S91&\" + \"&S86&\" + \"&S88&\" + \"&S99&\") - SUM(lin 57 : 59) =\"","v":"= 0 - ( 0 + 0 + 0 + 0) - SUM(lin 57 : 59) ="},{"$f":"\"= \"&T70&\" - ( \"&T91&\" + \"&T86&\" + \"&T88&\" + \"&T99&\") - SUM(lin 57 : 59) =\"","v":"= 0 - ( 0 + 0 + 0 + 0) - SUM(lin 57 : 59) ="},"= 0 - ( 0 + 0 + 0 + 0) - SUM(lin 57 : 59) =","= 0 - ( 0 + 0 + 0 + 0) - SUM(lin 57 : 59) =","= 0 - ( 0 + 0 + 0 + 0) - SUM(lin 57 : 59) =","= 0 - ( 0 + 0 + 0 + 0) - SUM(lin 57 : 59) =","= 0 - ( 0 + 0 + 0 + 0) - SUM(lin 57 : 59) =","= 0 - ( 0 + 0 + 0 + 0) - SUM(lin 57 : 59) =","= 0 - ( 0 + 0 + 0 + 0) - SUM(lin 57 : 59) =","= 0 - ( 0 + 0 + 0 + 0) - SUM(lin 57 : 59) =","= 0 - ( 0 + 0 + 0 + 0) - SUM(lin 57 : 59) =","= 0 - ( 0 + 0 + 0 + 0) - SUM(lin 57 : 59) ="]
[null,51,null,null,null,{"$f":"\"Feriepengeberegningsgrundlag, jan-dec \"&Aar","v":"Feriepengeberegningsgrundlag, jan-dec "}]
[null,null,null,null,null,{"$f":"\"Feriepengeberegningsgrundlag, jan-jul \"&Aar+1","v":"Feriepengeberegningsgrundlag, jan-jul 1"}]

{"sheet":"T","index":11,"n_rows":204,"n_cols":32,"rows_kept":204,"cut":false,"hidden":false,"merged":[[3,0,27,0],[28,0,29,0],[29,2,31,2],[44,2,46,4],[101,6,101,10],[101,18,101,22],[0,2,2,2],[0,3,2,3],[0,4,2,4]]}
["2022-2023",1,"Pensionsg.","BG-afh.","Regu-leret","Lønberegning for: (navn eller initialer)\n - variable løndele i lin. 30-43.","T",{"$f":"G1","v":"T"},{"$f":"H1","v":"T"},"T","T","T","T","T","T","T","T","T","Q",{"$f":"S1","v":"Q"},{"$f":"T1","v":"Q"},"Q","Q","Q","Q","Q","Q","Q","Q","Q","Udfyld gule felter (alle forudfyldte tal i gule felter er eksempler)"]
[null,{"$f":"B1+1","v":2},null,null,null,"Stillingsbetegnelse","Pædagog",{"$f":"G2","v":"Pædagog"},"Pædagog","Pædagog","Pædagog","Pædagog","Pædagog","Pædagog","Pædagog","Pædagog","Pædagog","Pædagog","Stilling",{"$f":"S2","v":"Stilling"},"Stilling","Stilling","Stilling","Stilling","Stilling","Stilling","Stilling","Stilling","Stilling","Stilling"]
[null,{"$f":"B2+1","v":3},null,null,null,"Måned",{"$f":"\"AUG \"&RIGHT(A1,2)+0","v":"AUG 23"},{"$f":"\"SEP \"&RIGHT(A1,2)+0","v":"SEP 23"},{"$f":"\"OKT \"&RIGHT(A1,2)+0","v":"OKT 23"},{"$f":"\"NOV \"&RIGHT(A1,2)+0","v":"NOV 23"},{"$f":"\"DEC \"&RIGHT(A1,2)+0","v":"DEC 23"},{"$f":"\"JAN \"&RIGHT(A1,2)+1","v":"JAN 24"},{"$f":"\"FEB \"&RIGHT(A1,2)+1","v":"FEB 24"},{"$f":"\"MAR \"&RIGHT(A1,2)+1","v":"MAR 24"},{"$f":"\"APR \"&RIGHT(A1,2)+1","v":"APR 24"},{"$f":"\"MAJ \"&RIGHT(A1,2)+1","v":"MAJ 24"},{"$f":"\"JUN \"&RIGHT(A1,2)+1","v":"JUN 24"},{"$f":"\"JUL \"&RIGHT(A1,2)+1","v":"JUL 24"},{"$f":"G3","v":"AUG 23"},{"$f":"H3","v":"SEP 23"},"OKT 23","NOV 23","DEC 23","JAN 24","FEB 24","MAR 24","APR 24","MAJ 24","JUN 24","JUL 24","ansat d. "]
[null,{"$f":"B3+1","v":4},"sæt 'x'","sæt 'x'","sæt 'x'","Del af måned \nantal kalenderdage/månedens kalenderdage",1,{"$f":"G4","v":1},{"$f":"H4","v":1},1,1,1,1,1,1,1,1,1,{"$f":"G4","v":1},1,1,1,1,1,1,1,1,1,1,1,"Hvis ansat 10 oktober: 21/31\nHvis fratrådt 15. april: 15/30",2]
[null,{"$f":"B4+1","v":5},null,null,null,"Pensionsprocent",null,{"$f":"$G5","v":0},0,0,0,0,0,0,0,0,0,0,{"$f":"G5","v":0},0,0,0,0,0,0,0,0,0,0,0,"Skriv ikke procenttegnet, fx 14,7% - skriv 14,70",3]
[null,{"$f":"B5+1","v":6},null,null,null,"Betales hele pensionen af skolen? JA/NEJ","Ja",{"$f":"G6","v":"Ja"},{"$f":"H6","v":"Ja"},"Ja","Ja","Ja","Ja","Ja","Ja","Ja","Ja","Ja",{"$f":"G6","v":"Ja"},"Ja","Ja","Ja","Ja","Ja","Ja","Ja","Ja","Ja","Ja","Ja","Se ansættelsesbrev",4]
[null,null,null,null,null,"Har den ansatte orlov uden løn men med pension?","Nej",{"$f":"G7","v":"Nej"},"Nej","Nej","Nej","Nej","Nej","Nej","Nej","Nej","Nej","Nej"]
[null,{"$f":"B6+1","v":7},null,null,null,"Beregnes feriedifferende mv. efter Ferieaftalen i staten JA, eller efter Ferieloven NEJ","JA",{"$f":"G8","v":"JA"},"JA","JA","JA","JA","JA","JA","JA","JA","JA","JA",{"$f":"G8","v":"JA"},{"$f":"H8","v":"JA"},"JA","JA","JA","JA","JA","JA","JA","JA","JA","JA","Ferieloven: mindst 20% differende, Ferieaftalen: enhver differende",5]
[null,{"$f":"B8+1","v":8},null,null,null,"Procentregulering +1",1.1553389999999999,1.1553389999999999,1.159197,1.159197,{"$f":"J9","v":1.159197},1.159197,1.159197,1.159197,null,{"$f":"O9","v":0},{"$f":"P9","v":0},{"$f":"Q9","v":0},{"$f":"G9","v":1.1553389999999999},1.1553389999999999,1.159197,1.159197,1.159197,1.159197,1.159197,1.159197,0,0,0,0,null,6]
[null,9,null,null,null,"Skolens stedtillægsområde",null,{"$f":"G10","v":0},0,0,0,0,0,0,0,0,0,0,{"$f":"G10","v":0},0,0,0,0,0,0,0,0,0,0,0]
[null,10,null,null,null,"Beskæftigelsesgrad aktuel (Beskæftigelsesgrad løn beregnes ud fra)",null,{"$f":"G11","v":0},0,0,0,0,0,0,0,{"$f":"O11","v":0},0,0,0,0,0,0,0,0,0,0,0,0,0,0]
[null,{"$f":"B11+1","v":11},"x","x","x","Skalatrin",null,{"$f":"G12","v":0},0,0,0,0,0,0,0,0,0,0,0,0,0,0,0,0,0,0,0,0,0,0,"Statens løntabel eller HK-overenskomst-løntrin"]
[null,12,"x","x","x",{"$f":"\"Fast aftalt årlig løn \"&IF(E13<>\"\",\"i grundbeløb pr. 31.03.2012\",\"(ikke reguleret)\")","v":"Fast aftalt årlig løn i grundbeløb pr. 31.03.2012"},null,0,0,0,0,0,0,0,{"$f":"N13","v":0},0,0,0,0,0,0,0,0,0,0,0,0,0,0,0]
[null,13,"x",null,"x","Årligt sousdheftillæg eller lign. i grundbeløb",null,{"$f":"G14","v":0},0,0,0,0,0,0,0,0,0,0,0,0,0,0,0,0,0,0,0,0,0,0]
[null,14,"x",null,"x","Årligt funktionsstillæg i grundbeløb 1",null,{"$f":"G15","v":0},0,0,0,0,0,0,0,0,0,0,0,0,0,0,0,0,0,0,0,0,0,0,null,"Ja"]
[null,15,"x",null,"x","Årligt funktionsstillæg i grundbeløb 2",null,{"$f":"G16","v":0},0,0,0,0,0,0,0,0,0,0,0,0,0,0,0,0,0,0,0,0,0,0,null,"Nej"]
[null,16,"x",null,"x","Årligt funktionsstillæg i grundbeløb 3",null,{"$f":"G17","v":0},0,0,0,0,0,0,0,0,0,0,0,0,0,0,0,0,0,0,0,0,0,0]
[null,17,"x","x","x","Årligt kvalifikationsstillæg i grundbeløb 1",null,0,0,0,0,0,0,0,0,0,0,0,0,0,0,0,0,0,0,0,0,0,0,0]
[null,18,"x","x","x","Årligt kvalifikationsstillæg i grundbeløb 2",null,0,0,0,0,0,0,0,0,0,0,0,0,0,0,0,0,0,0,0,0,0,0,0]
[null,19,"x","x","x","Årligt kvalifikationsstillæg i grundbeløb 3",null,0,0,0,0,0,0,0,0,0,0,0,0,0,0,0,0,0,0,0,0,0,0,0]
[null,20,"x","x","x","Udligningstillæg i årligt grundbeløb v. 100% BG",null,0,0,0,0,0,0,0,0,0,0,0,0,0,0,0,0,0,0,0,0,0,0,0]
[null,21,null,null,null,"Gruppelivsordning betalt af af skolen som et løntillæg. Skriv det månedlige beløb!",null,0,0,0,0,0,0,0,0,0,0,0,0,0,0,0,0,0,0,0,0,0,0,0,"Spedielt ved virksomhedsoverdragelse"]
[null,22,null,null,"x","Lokalaftalt fast ulempegodtgørelse pr. måned. - (pr. 31. marts 2012)",null,{"$f":"G23","v":0},0,0,0,0,0,0,{"$f":"N23","v":0},0,0,0,0,0,0,0,0,0,0,0,0,0,0,0,"I stedet for variable arbejdstidsbestemte tillæg, iflg lokalaftale"]
[null,23,null,null,null,"Planlagte feriedage",null,null,5,null,null,null,5,null,null,null,null,15,{"$f":"G24","v":0},{"$f":"H24","v":0},5,0,0,0,5,0,0,0,0,15,"Normalt 15 dage i sommerhalvåret og 10 dage i vinterhalvåret"]
[null,24,null,null,null,".. heraf antal feriedage,\nhvortil der ikke er optjent ferieret",null,null,null,null,null,null,null,null,null,null,null,0,0,0,0,0,0,0,0,0,0,0,0,0,"Ferieloven: fradrag 4,8% pr. dag, Ferieaftalen: 4,62% pr. dag"]
[null,25,null,null,null,"Feriedifference pensionsgivende(udregnes i særskilt regneark)",null,null,null,null,null,null,null,null,null,null,null,null,0,0,0,0,0,0,0,0,0,0,0,0,"Benyttes ved beregning af feriedifferende."]
[null,26,null,null,null,"Feriedifference IKKE pensionsgivende(udregnes i særskilt regneark)",null,null,null,null,null,null,null,null,null,null,null,null,0,0,0,0,0,0,0,0,0,0,0,0,"Benyttes ved beregning af feriedifference'"]
[null,27,null,null,null,"Egenbetalte fridage",null,null,null,null,null,null,null,null,null,null,null,null,0,0,0,0,0,0,0,0,0,0,0,0,"Løn- og pensionsfradrag beregnes i lin 60 og 75"]
["Skatteop-lysninger",28,null,null,null,"Skatteprocent",null,{"$f":"G29","v":0},0,0,0,0,0,0,0,0,0,0,0,0,0,0,0,0,0,0,0,0,0,0,"Skriv ikke procenttegnet, fx 42% - skriv 42"]
[null,29,"km-\ntak-ster",{"$f":"LEFT($A$1,4)+1","v":2023},{"$f":"LEFT($A$1,4)+2","v":2024},"Månedligt skattefradrag",null,0,0,0,0,0,0,0,0,0,0,0,0,0,0,0,0,0,0,0,0,0,0,0]
[null,30,null,2.19,null,"Km.godtgørelse, lav sats (skattefri), antal km:",null,null,null,null,null,null,null,null,null,null,null,null,0,0,0,0,0,0,0,0,0,0,0,0]
[null,31,null,3.73,null,"Km.godtgørelse, høj sats (skattefri), antal km:",null,null,null,null,null,null,null,null,null,null,null,null,0,0,0,0,0,0,0,0,0,0,0,0]
[null,32,null,null,null,"Timedagpenge (skattefri) - Beregn selv",null,null,null,null,null,null,null,null,null,null,null,null,0,0,0,0,0,0,0,0,0,0,0,0,"Se løntabel"]
[null,33,null,null,null,"Jubilæumsgratiale (skattefri op til 8.000 kr.)",null,null,null,null,null,null,null,null,null,null,null,null,0,0,0,0,0,0,0,0,0,0,0,0,"Se løntabel"]
[null,34,null,null,null,"Arbejds- og arbejdstidsbestemte tillæg. Beregn selv",null,null,null,null,null,null,null,null,null,null,null,null,0,0,0,0,0,0,0,0,0,0,0,0,"”Natpenge” iflg skema, hvis ikke der er lokalaftalt godtgørelse"]
[null,35,"x",null,null,"Merarbejdsbetaling. Beregn selv",null,null,null,null,null,null,null,null,null,null,null,null,0,0,0,0,0,0,0,0,0,0,0,0,"Efter årsopgørelse eller ved fratræden"]
[null,36,null,null,null,"Overtidsbetaling. Beregn selv",null,null,null,null,null,null,null,null,null,null,null,null,0,0,0,0,0,0,0,0,0,0,0,0,"Efter årsopgørelse eller ved fratræden"]
[null,37,null,null,null,"Særlige feriedage til udbetaling. Beregn selv",null,null,null,null,null,null,null,null,null,null,null,null,{"$f":"G38","v":0},0,0,0,0,0,0,0,0,0,0,0,"Efter årsafslutning eller ved fratræden. Se pjeden \"Ferievejledning\""]
[null,38,null,null,null,{"$f":"\"Særlig ferietillæg \"&IF(G8=\"ja\",\"1,5%\",\"1,0%\"&\"\")","v":"Særlig ferietillæg 1,5%"},null,null,null,null,null,null,null,null,null,0,null,null,0,0,0,0,0,0,0,0,0,0,0,0]
[null,39,"x",null,null,"Resultatlønstillæg",null,null,null,null,null,null,null,null,null,null,null,null,0,0,0,0,0,0,0,0,0,0,0,0]
[null,40,"x",null,null,"Engangs nylønstillæg",null,null,null,null,null,null,null,null,null,null,null,null,0,0,0,0,0,0,0,0,0,0,0,0]
[null,41,"x",null,null,"Praktiklærervederlag",null,null,null,null,null,null,null,null,null,null,null,null,0,0,0,0,0,0,0,0,0,0,0,0,{"$f":"45*5*7.4","v":1665}]
[null,42,null,null,null,"andet",null,null,null,null,null,null,null,null,null,null,null,null,0,0,0,0,0,0,0,0,0,0,0,0]
[null,43,null,null,null,"andet",null,null,null,null,null,null,null,null,null,null,null,null,0,0,0,0,0,0,0,0,0,0,0,0]
[null,44,"Disse tre linjer fradrages i den disponible løn",null,null,"gavekasse",null,{"$f":"G45","v":0},{"$f":"H45","v":0},0,0,0,0,0,0,0,0,0,0,0,0,0,0,0,0,0,0,0,0,0,"Fx: 'Kaffekasse'"]
[null,45,null,null,null,"kaffekasse",null,{"$f":"G46","v":0},0,0,0,0,0,0,0,0,0,0,0,0,0,0,0,0,0,0,0,0,0,0,"Fx: 'Gavekasse'"]
[null,46,null,null,null,"Fagforenings-kontingent",null,{"$f":"G47","v":0},0,0,0,0,0,0,0,0,0,0,0,0,0,0,0,0,0,0,0,0,0,0,"FX: 'Fagforeningskontingent'"]
[{"$f":"A3","v":"1904-01-01"},{"$f":"B47+1","v":47},null,null,null,"Måned",{"$f":"G3","v":"AUG 23"},"SEP 23","OKT 23","NOV 23","DEC 23","JAN 24","FEB 24","MAR 24","APR 24","MAJ 24","JUN 24","JUL 24","AUG 23","SEP 23","OKT 23","NOV 23","DEC 23","JAN 24","FEB 24","MAR 24","APR 24","MAJ 24","JUN 24","JUL 24","SUM"]
[null,48,{"$f":"(C12<>\"\")*1","v":1},1,1,{"$f":"IF(ISNUMBER(G12),\"Skalatrinsløn\",\"HK-løn\")","v":"HK-løn"},{"$f":"IF(G7=\"Ja\",0,ROUND(IF(AND(G$11>0,G12>0),ROUND((ROUND(VLOOKUP(G12,Skalalontabel12,G10,0)*G9,0))/12,2),0)*G11*G4,2))","v":0},0,0,0,0,0,0,0,0,0,0,0,{"$f":"ROUND(IF(AND(S$11>0,S12>0),ROUND((ROUND(VLOOKUP(S12,Skalalontabel12,S10,0)*S9,0))/12,2),0)*S11*S4,2)","v":0},0,0,0,0,0,0,0,0,0,0,0,{"$f":"SUM(G49:R49)","v":0}]
[null,49,1,1,1,"Fast løn",{"$f":"IF(G7=\"Ja\",0,ROUND(IF(G13>0,G13/12)*IF($D13<>\"\",G$11,1)*IF($E13<>\"\",G$9,1)*G4,2))","v":0},0,0,0,0,0,0,0,0,0,0,0,{"$f":"ROUND(IF(S13>0,S13/12)*IF($D13<>\"\",S$11,1)*IF($E13<>\"\",S$9,1)*S4,2)","v":0},0,0,0,0,0,0,0,0,0,0,0,0]
[null,50,1,0,1,"Souscheftillæg ell. lign.",{"$f":"IF(G7=\"Ja\",0,ROUND(IF(AND(G$11>0,G14>0),G14/12)*IF($D14<>\"\",G$11,1)*IF($E14<>\"\",G$9,1)*G4,2))","v":0},0,0,0,0,0,0,0,0,0,0,0,{"$f":"ROUND(IF(AND(S$11>0,S14>0),S14/12)*IF($D14<>\"\",S$11,1)*IF($E14<>\"\",S$9,1)*S4,2)","v":0},0,0,0,0,0,0,0,0,0,0,0,0]
[null,51,1,0,1,"Funktionstillæg 1",{"$f":"IF(G7=\"Ja\",0,ROUND(IF(AND(G$11>0,G15>0),G15/12)*IF($D15<>\"\",G$11,1)*IF($E15<>\"\",G$9,1)*G4,2))","v":0},0,0,0,0,0,0,0,0,0,0,0,{"$f":"ROUND(IF(AND(S$11>0,S15>0),S15/12)*IF($D15<>\"\",S$11,1)*IF($E15<>\"\",S$9,1)*S4,2)","v":0},0,0,0,0,0,0,0,0,0,0,0,0]
[null,52,1,0,1,"Funktionstillæg 2",{"$f":"IF(G7=\"Ja\",0,ROUND(IF(AND(G$11>0,G16>0),G16/12)*IF($D16<>\"\",G$11,1)*IF($E16<>\"\",G$9,1)*G4,2))","v":0},0,0,0,0,0,0,0,0,0,0,0,{"$f":"ROUND(IF(AND(S$11>0,S16>0),S16/12)*IF($D16<>\"\",S$11,1)*IF($E16<>\"\",S$9,1)*S4,2)","v":0},0,0,0,0,0,0,0,0,0,0,0,0]
[null,53,1,0,1,"Funktionstillæg 3",{"$f":"IF(G7=\"Ja\",0,ROUND(IF(AND(G$11>0,G17>0),G17/12)*IF($D17<>\"\",G$11,1)*IF($E17<>\"\",G$9,1)*G4,2))","v":0},0,0,0,0,0,0,0,0,0,0,0,{"$f":"ROUND(IF(AND(S$11>0,S17>0),S17/12)*IF($D17<>\"\",S$11,1)*IF($E17<>\"\",S$9,1)*S4,2)","v":0},0,0,0,0,0,0,0,0,0,0,0,0]
[null,54,1,1,1,"Kvalifikationstillæg 1",{"$f":"IF(G7=\"Ja\",0,ROUND(IF(AND(G$11>0,G18>0),G18/12)*IF($D18<>\"\",G$11,1)*IF($E18<>\"\",G$9,1)*G4,2))","v":0},0,0,0,0,0,0,0,0,0,0,0,{"$f":"ROUND(IF(AND(S$11>0,S18>0),S18/12)*IF($D18<>\"\",S$11,1)*IF($E18<>\"\",S$9,1)*S4,2)","v":0},0,0,0,0,0,0,0,0,0,0,0,0]
[null,55,1,1,1,"Kvalifikationstillæg 2",{"$f":"IF(G7=\"Ja\",0,ROUND(IF(AND(G$11>0,G19>0),G19/12)*IF($D19<>\"\",G$11,1)*IF($E19<>\"\",G$9,1)*G4,2))","v":0},0,0,0,0,0,0,0,0,0,0,0,{"$f":"ROUND(IF(AND(S$11>0,S19>0),S19/12)*IF($D19<>\"\",S$11,1)*IF($E19<>\"\",S$9,1)*S4,2)","v":0},0,0,0,0,0,0,0,0,0,0,0,0]
[null,56,1,1,1,"Kvalifikationstillæg 3",{"$f":"IF(G7=\"Ja\",0,ROUND(IF(AND(G$11>0,G20>0),G20/12)*IF($D20<>\"\",G$11,1)*IF($E20<>\"\",G$9,1)*G$4,2))","v":0},0,0,0,0,0,0,0,0,0,0,0,{"$f":"ROUND(IF(AND(S$11>0,S20>0),S20/12)*IF($D20<>\"\",S$11,1)*IF($E20<>\"\",S$9,1)*S$4,2)","v":0},0,0,0,0,0,0,0,0,0,0,0,0]
[null,57,1,1,1,"Udligningstillæg",{"$f":"IF(G7=\"Ja\",0,ROUND(IF(AND(G$11>0,G21>0),G21/12)*IF($D21<>\"\",G$11,1)*IF($E21<>\"\",G$9,1)*G$4,2))","v":0},0,0,0,0,0,0,0,0,0,0,0,0,0,0,0,0,0,0,0,0,0,0,0,0]
[null,58,null,null,null,"Gruppelivstillæg",{"$f":"IF(G7=\"Ja\",0,ROUND(IF(AND(G$11>0,G22>0),G22)*IF($D22<>\"\",G$11,1)*IF($E22<>\"\",G$9,1)*G$4,2))","v":0},0,0,0,0,0,0,0,0,0,0,0,{"$f":"ROUND(IF(AND(S$11>0,S22>0),S22)*IF($D22<>\"\",S$11,1)*IF($E22<>\"\",S$9,1)*S$4,2)","v":0},0,0,0,0,0,0,0,0,0,0,0,0]
[null,59,null,{"$f":"(D23<>\"\")*1","v":0},{"$f":"(E23<>\"\")*1","v":1},"Lokalaftalt ulempegodtgørelse",{"$f":"IF(G7=\"Ja\",0,ROUND(IF(AND(G$11>0,G23>0),G23)*IF($D23<>\"\",G$11,1)*IF($E23<>\"\",G$9,1)*G$4,2))","v":0},0,0,0,0,0,0,0,0,0,0,0,0,0,0,0,0,0,0,0,0,0,0,0,0]
[null,60,1,null,null,"Lønfradrag for ikke optjent ferie mv.",{"$f":"-ROUND((MAX(0,MIN(S24,S25*1))+S28)*IF(S8=\"JA\",4.62%,4.8%)*(S49+S50+S51+S52+S53+S54+S55+S56+S57+S58+S60)*S$4,2)","v":0},0,0,0,0,0,0,0,0,0,0,0,{"$f":"-ROUND((MAX(0,MIN(S24,S25*1))+S28)*IF(S8=\"JA\",4.62%,4.8%)*(S49+S50+S51+S52+S53+S54+S55+S56+S57+S58+S60)*S$4,2)","v":0},0,0,0,0,0,0,0,0,0,0,0,0]
[null,61,1,null,null,"Feriedifference pensionsgivende(udregnes i særskilt fane)",{"$f":"G26","v":0},{"$f":"H26","v":0},0,0,0,0,0,0,0,0,0,0,{"$f":"S26","v":0},{"$f":"T26","v":0},0,0,0,0,0,0,0,0,0,0,0]
[null,62,null,null,null,"Feriedifference IKKE pensionsgivende(udregnes i særskilt fane)",{"$f":"G27","v":0},0,0,0,0,0,0,0,0,0,0,0,{"$f":"S27","v":0},0,0,0,0,0,0,0,0,0,0,0]
[null,63,null,null,null,"Engangsudbetalinger iflg. specifikation",{"$f":"SUM(G35:G44)","v":0},{"$f":"SUM(H35:H44)","v":0},0,0,0,0,0,0,0,0,0,0,{"$f":"SUM(S35:S44)","v":0},{"$f":"SUM(T35:T44)+MAX(T34*T9-8000,0)","v":0},0,0,0,0,0,0,0,0,0,0,0]
[null,64,null,null,null,"Skattefrie km. Godtgørelse lav sats",{"$f":"G31*$D$31","v":0},{"$f":"H31*$D$31","v":0},0,0,0,0,0,0,0,0,0,0,{"$f":"S31*$D$31","v":0},{"$f":"T31*$D$31","v":0},0,0,0,0,0,0,0,0,0,0]
[null,65,null,null,null,"Skattefrie km. Godtgørelse høj sats",{"$f":"G32*$D$32","v":0},{"$f":"H32*$D$32","v":0},0,0,0,0,0,0,0,0,0,0,{"$f":"S32*$D$32","v":0},{"$f":"T32*$D$32","v":0},0,0,0,0,0,0,0,0,0,0]
[null,{"$f":"B64+1","v":64},null,null,null,"Timedagpenge(skattefrie)",{"$f":"IF(G33>0,G33,0)","v":0},{"$f":"IF(H33>0,H33,0)","v":0},0,0,0,0,0,0,0,0,0,0,{"$f":"IF(S33>0,S33,0)","v":0},{"$f":"IF(T33>0,T33,0)","v":0},0,0,0,0,0,0,0,0,0,0,0]
[null,65,null,null,null,"Skattefri jubilæumsgratiale",{"$f":"MIN(8000,G34*G9)","v":0},0,0,0,0,0,0,0,0,0,0,0,0,0,0,0,0,0,0,0,0,0,0,0]
[null,66,null,null,null,"Skattepligtig jubilæumsgratiaale",{"$f":"IF(G34>0,MAX(G34*G9-8000,0),0)","v":0},0,0,0,0,0,0,0,0,0,0,0,0,0,0,0,0,0,0,0,0,0,0,0]
[null,67,null,null,null,"Bruttoløn (ekskl. pensionstillæg og ATP)",{"$f":"SUM(G49:G69)","v":0},{"$f":"SUM(H49:H67)","v":0},0,0,0,0,0,0,0,0,0,0,{"$f":"SUM(S49:S69)","v":0},{"$f":"SUM(T49:T67)","v":0},0,0,0,0,0,0,0,0,0,0,0]
[null,{"$f":"B70+1","v":68},null,null,null,{"$f":"\"Pensionstillæg af pensionsg. \"&IF(ISNUMBER(G12),\"Skalatrinsløn\",\"HK-løn\")","v":"Pensionstillæg af pensionsg. HK-løn"},{"$f":"IF(G7=\"Ja\",0,ROUND(IF(AND(G$11>0,G12>0),ROUND((ROUND(VLOOKUP(G12,Skalalontabel12,7,0)*G9,0))/12,2),0)*G11*G4*G5/100/3,2))","v":0},0,0,0,0,0,0,0,0,0,0,0,{"$f":"ROUND(IF(AND(S$11>0,S12>0),ROUND((ROUND(VLOOKUP(S12,Skalalontabel12,7,0)*S9,0))/12,2),0)*S11*S4*S5/100/3,2)","v":0},0,0,0,0,0,0,0,0,0,0,0,0]
[null,69,null,null,null,"Pensionstillæg fast løn",{"$f":"ROUND(G50*$C50*G$5/100/3,2)","v":0},0,0,0,0,0,0,0,0,0,0,0,0,0,0,0,0,0,0,0,0,0,0,0,0]
[null,70,null,null,null,"Pensionstillæg souscheftillæg",0,0,0,0,0,0,0,0,0,0,0,0,0,0,0,0,0,0,0,0,0,0,0,0,0]
[null,71,null,null,null,"Pensionstillæg Funktionstillæg 1",0,0,0,0,0,0,0,0,0,0,0,0,0,0,0,0,0,0,0,0,0,0,0,0,0]
[null,72,null,null,null,"Pensionstillæg Funktionstillæg 2",0,0,0,0,0,0,0,0,0,0,0,0,0,0,0,0,0,0,0,0,0,0,0,0,0]
[null,73,null,null,null,"Pensionstillæg Funktionstillæg 3",0,0,0,0,0,0,0,0,0,0,0,0,0,0,0,0,0,0,0,0,0,0,0,0,0]
[null,74,null,null,null,"Pensionstillæg Kvalifikationstillæg 1",0,0,0,0,0,0,0,0,0,0,0,0,0,0,0,0,0,0,0,0,0,0,0,0,0]
[null,75,null,null,null,"Pensionstillæg Kvalifikationstillæg 2",0,0,0,0,0,0,0,0,0,0,0,0,0,0,0,0,0,0,0,0,0,0,0,0,0]
[null,76,null,null,null,"Pensionstillæg Kvalifikationstillæg 3",0,0,0,0,0,0,0,0,0,0,0,0,0,0,0,0,0,0,0,0,0,0,0,0,0]
[null,77,null,null,null,"Pensionstillæg af udligningstillæg",0,0,0,0,0,0,0,0,0,0,0,0,0,0,0,0,0,0,0,0,0,0,0,0,0]
[null,78,null,null,null,"Fradrag i pensionstillæg for ikke optjent ferie mv.",{"$f":"ROUND(G61*$C61*G$5/100/3,2)","v":0},0,0,0,0,0,0,0,0,0,0,0,0,0,0,0,0,0,0,0,0,0,0,0,0]
[null,79,null,null,null,"Pensionstillæg af feriedifference",0,0,0,0,0,0,0,0,0,0,0,0,0,0,0,0,0,0,0,0,0,0,0,0,0]
[null,80,null,null,null,"Pensionstillæg af pensiong. engangstillæg",{"$f":"ROUND(G36*G5/100/3+G40*($C40<>\"\")*G5/100/3+G41*($C41<>\"\")*G5/100/3+G42*($C42<>\"\")*G5/100/3+G43*($C43<>\"\")*G5/100/3+G44*($C44<>\"\")*G5/100/3,2)","v":0},0,0,0,0,0,0,0,0,0,0,0,0,0,0,0,0,0,0,0,0,0,0,0,0]
[null,null,null,null,null,"Ekstra pension hvis orlov uden løn",{"$f":"IF(G7=\"Ja\",SUM(S71:S82)-SUM(G71:G83),0)","v":0},{"$f":"IF(H7=\"Ja\",SUM(T71:T83)-SUM(H71:H83),0)","v":0},{"$f":"IF(I7=\"Ja\",SUM(U71:U82)-SUM(I71:I83),0)","v":0},0,0,0,0,0,0,0,0,0]
[null,{"$f":"B83+1","v":81},null,null,null,"Pensionstillæg i alt",{"$f":"SUM(G71:G84)","v":0},{"$f":"SUM(H71:H84)","v":0},0,0,0,0,0,0,0,0,0,0,{"$f":"SUM(S71:S83)","v":0},{"$f":"SUM(T71:T83)","v":0},0,0,0,0,0,0,0,0,0,0,0]
[null,82,null,null,null,"Egetbidrag til ATP",{"$f":"ROUND(G98/3,2)","v":0},{"$f":"ROUND(H98/3,2)","v":0},0,0,0,0,0,0,0,0,0,0,{"$f":"ROUND(S98/3,2)","v":0},{"$f":"ROUND(T98/3,2)","v":0},0,0,0,0,0,0,0,0,0,0,{"$f":"SUM(G86:R86)","v":0}]
[null,83,null,null,null,"AMB-grundlag",{"$f":"IF(G6=\"nej\",G85*-1)+SUM(G49:G64)-G86+G69","v":0},0,0,0,0,0,0,0,0,0,0,0,{"$f":"IF(S6=\"nej\",S85*-1)+SUM(S49:S64)-S86","v":0},0,0,0,0,0,0,0,0,0,0,0,{"$f":"SUM(G87:R87)","v":0}]
[null,84,null,null,null,"AM-bidrag",{"$f":"ROUND(G87*8%,0)","v":0},{"$f":"ROUND(H87*8%,0)","v":0},0,0,0,0,0,0,0,0,0,0,{"$f":"ROUND(S87*8%,0)","v":0},{"$f":"ROUND(T87*8%,0)","v":0},0,0,0,0,0,0,0,0,0,0,0]
[null,85,null,null,null,"A-indkomst",{"$f":"G87-G88","v":0},{"$f":"H87-H88","v":0},0,0,0,0,0,0,0,0,0,0,{"$f":"S87-S88","v":0},{"$f":"T87-T88","v":0},0,0,0,0,0,0,0,0,0,0,0]
[null,86,null,null,null,"Skattegrundlag",{"$f":"FLOOR(G89-G30,10)","v":0},{"$f":"FLOOR(H89-H30,10)","v":0},0,0,0,0,0,0,0,0,0,0,{"$f":"FLOOR(S89-S30,10)","v":0},{"$f":"FLOOR(T89-T30,10)","v":0},0,0,0,0,0,0,0,0,0,0]
[null,87,null,null,null,"Skat",{"$f":"ROUND(G90*G29/100,0)","v":0},0,0,0,0,0,0,0,0,0,0,0,0,0,0,0,0,0,0,0,0,0,0,0,0]
[null,88,null,null,null,"Feriegodtgørelsesgrundlag ",{"$f":"SUM(G49:G64)","v":0},{"$f":"SUM(H49:H64)","v":0},{"$f":"SUM(I49:I64)","v":0},{"$f":"SUM(J49:J64)","v":0},{"$f":"SUM(K49:K64)","v":0},{"$f":"SUM(L49:L64)","v":0},0,0,0,0,0,0,{"$f":"SUM(S49:S64)","v":0},{"$f":"SUM(T49:T64)","v":0},{"$f":"SUM(U49:U64)","v":0},{"$f":"SUM(V49:V64)","v":0},{"$f":"SUM(W49:W64)","v":0},{"$f":"SUM(X49:X64)","v":0},0,0,0,0,0,0,{"$f":"SUM(H92:P92)","v":0}]
[null,89,null,null,null,{"$f":"\"Feriegodtgørelsesgrundlag, juni-juli \"","v":"Feriegodtgørelsesgrundlag, juni-juli "},null,null,null,null,null,null,null,null,null,null,{"$f":"SUM(Q49:Q64)-Q39","v":0},{"$f":"SUM(R49:R64)-R39","v":0},null,null,null,null,null,null,null,null,null,null,{"$f":"SUM(AC49:AC64)-AC39","v":0},{"$f":"SUM(AD49:AD64)-AD39","v":0},{"$f":"SUM(G93:R93)","v":0}]
[null,90,null,null,null,"Egetbidrag til pensionskasse",{"$f":"G85","v":0},{"$f":"H85","v":0},0,0,0,0,0,0,0,0,0,0,{"$f":"S85","v":0},{"$f":"T85","v":0},0,0,0,0,0,0,0,0,0,0,0]
[null,91,null,null,null,"Arbejdsgiverbidrag til pensionskasse",{"$f":"G94*2","v":0},{"$f":"H94*2","v":0},0,0,0,0,0,0,0,0,0,0,{"$f":"S94*2","v":0},{"$f":"T94*2","v":0},0,0,0,0,0,0,0,0,0,0,0]
[null,92,null,null,null,"Arbejdsgiverbidrag til ATP",{"$f":"G98*2/3","v":0},{"$f":"H98*2/3","v":0},0,0,0,0,0,0,0,0,0,0,{"$f":"S98*2/3","v":0},{"$f":"T98*2/3","v":0},0,0,0,0,0,0,0,0,0,0,0]
[null,93,null,null,null,"Skolens samlede indbetaling til pensionskasse",{"$f":"G94+G95","v":0},{"$f":"H94+H95","v":0},0,0,0,0,0,0,0,0,0,0,{"$f":"S94+S95","v":0},{"$f":"T94+T95","v":0},0,0,0,0,0,0,0,0,0,0,0]
[null,{"$f":"B97+1","v":94},null,null,null,"Skolens samlede indbetaling til ATP",{"$f":"284/3*(((G11*G4)>=9/37)+((G11*G4)>=18/37)+((G11*G4)>=27/37))","v":0},0,0,0,0,{"$f":"297/3*(((L11*L4)>=9/37)+((L11*L4)>=18/37)+((L11*L4)>=27/37))","v":0},{"$f":"297/3*(((M11*M4)>=9/37)+((M11*M4)>=18/37)+((M11*M4)>=27/37))","v":0},0,0,0,0,0,0,0,0,0,0,0,0,0,0,0,0,0,0]
[null,95,null,null,null,"Indbetaling til Gruppeliv",{"$f":"G22","v":0},{"$f":"H22","v":0},0,0,0,0,0,0,0,0,0,0,{"$f":"S22","v":0},{"$f":"T22","v":0},0,0,0,0,0,0,0,0,0,0,0]
[null,96,null,null,null,"Løn til den ansattes disposition",{"$f":"IF(G6=\"nej\",G85*-1)+G70-(G91+G86+G88+G99)-G45-G46-G47","v":0},0,0,0,0,0,0,0,0,0,0,0,0,0,0,0,0,0,0,0,0,0,0,0,{"$f":"SUM(G100:R100)","v":0}]
[null,97,null,null,null,{"$f":"\"Feriepengeberegningsgrundlag, jan-dec \"&Aar","v":"Feriepengeberegningsgrundlag, jan-dec "},{"$f":"(SUM(G49:G64)+G85+G86)*(1-12/260*G24)","v":0},{"$f":"(SUM(H49:H64)+H85+H86)*(1-12/260*H24)","v":0},{"$f":"(SUM(I49:I64)+I85+I86)*(1-12/260*I24)","v":0},{"$f":"(SUM(J49:J64)+J85+J86)*(1-12/260*J24)","v":0},{"$f":"(SUM(K49:K64)+K85+K86)*(1-12/260*K24)","v":0},"Kalenderårets sum benyttes ved fratræden og særlige feriedage",null,null,null,null,null,null,{"$f":"(SUM(S49:S64)+S85+S86)*(1-12/260*S24)","v":0},{"$f":"(SUM(T49:T64)+T85+T86)*(1-12/260*T24)","v":0},{"$f":"(SUM(U49:U64)+U85+U86)*(1-12/260*U24)","v":0},{"$f":"(SUM(V49:V64)+V85+V86)*(1-12/260*V24)","v":0},{"$f":"(SUM(W49:W64)+W85+W86)*(1-12/260*W24)","v":0},"Kalenderårets sum benyttes ved fratræden og særlige feriedage",null,null,null,null,null,null,{"$f":"A101+SUM(G101:K101)","v":0}]
[null,{"$f":"B101+1","v":98},null,null,null,{"$f":"\"Feriepengeberegningsgrundlag, jan-jul \"&Aar","v":"Feriepengeberegningsgrundlag, jan-jul "},"Kalenderårets sum benyttes ved fratræden og særlige feriedage",null,null,null,null,{"$f":"(SUM(L$49:L$64)+L$85+L86)*(1-12/260*L$24)","v":0},{"$f":"(SUM(M$49:M$64)+M$85+M86)*(1-12/260*M$24)","v":0},0,0,0,0,0,"Kalenderårets sum benyttes ved fratræden og særlige feriedage",null,null,null,null,{"$f":"(SUM(X$49:X$64)+X$85+X86)*(1-12/260*X$24)","v":0},{"$f":"(SUM(Y$49:Y$64)+Y$85+Y86)*(1-12/260*Y$24)","v":0},0,0,0,0,0,0]
[null,{"$f":"B102+1","v":99},null,null,null,"BG-afhængige løndele",{"$f":"G49*$D49+G50*$D50+G51*$D51+G52*$D52+G53*$D53+G54*$D54+G55*$D55+G56*$D56+G57*$D57+G58*$D58+G60*$D60","v":0},0,0,0,0,0,0,0,0,0,0,0,0,0,0,0,0,0,0,0,0,0,0,0]
[null,{"$f":"B103+1","v":100},null,null,null,"BG-difference >=20%",{"$f":"IF(G11>0,IF(G11>G26,(G11-G26)/G26>=20%,(G11-G26)/G26<=-20%),\"\")","v":""},"","","","","","","","",{"$f":"IF(P11>0,IF(P11>P27,(P11-P27)/P27>=20%,(P11-P27)/P27<=-20%),\"\")","v":""},{"$f":"IF(Q11>0,IF(Q11>Q27,(Q11-Q27)/Q27>=20%,(Q11-Q27)/Q27<=-20%),\"\")","v":""},{"$f":"IF(R11>0,IF(R11>R27,(R11-R27)/R27>=20%,(R11-R27)/R27<=-20%),\"\")","v":""},{"$f":"IF(S11>0,IF(S11>S26,(S11-S26)/S26>=20%,(S11-S26)/S26<=-20%),\"\")","v":""},"","","","","","","","",{"$f":"IF(AB11>0,IF(AB11>AB27,(AB11-AB27)/AB27>=20%,(AB11-AB27)/AB27<=-20%),\"\")","v":""},{"$f":"IF(AC11>0,IF(AC11>AC27,(AC11-AC27)/AC27>=20%,(AC11-AC27)/AC27<=-20%),\"\")","v":""},{"$f":"IF(AD11>0,IF(AD11>AD27,(AD11-AD27)/AD27>=20%,(AD11-AD27)/AD27<=-20%),\"\")","v":""}]
[]
[]
[]
[]
[]
[]
[]
[]
[]
[]
[]
[]
[]
[]
[]
[]
[]
[]
[]
[]
[]
[]
[]
[]
[]
[]
[]
[]
[]
[]
[]
[]
[]
[]
[]
[]
[]
[]
[]
[]
[]
[]
[]
[]
[]
[]
[]
[]
[]
[null,{"$f":"B153+1","v":1}]
[null,2,null,null,null,{"$f":"IF(ISNUMBER(G1),\"Skalatrinsløn\",\"HK-løn\")","v":"HK-løn"},{"$f":"\"= \"&TEXT(ROUND(VLOOKUP(G12,Skalalontabel12,G10,0)*G9,0),\"#.000\")&\" / 12 * \"&TEXT(G11,\"0,0000\")&\" * \"&TEXT(G$4,\"#0/#0\")&\" =\"","v":{"$error":"#N/A"}},{"$error":"#N/A"},{"$error":"#N/A"},{"$error":"#N/A"},{"$error":"#N/A"},{"$error":"#N/A"},{"$error":"#N/A"},{"$error":"#N/A"},{"$error":"#N/A"},{"$error":"#N/A"},{"$error":"#N/A"},{"$error":"#N/A"},{"$error":"#N/A"},{"$error":"#N/A"},{"$error":"#N/A"},{"$error":"#N/A"},{"$error":"#N/A"},{"$error":"#N/A"},{"$error":"#N/A"},{"$error":"#N/A"},{"$error":"#N/A"},{"$error":"#N/A"},{"$error":"#N/A"},{"$error":"#N/A"}]
[null,3,null,null,null,"Fast løn",{"$f":"\"= \"&TEXT(G13,\"#.000,00\")&\" / 12 \"&IF($D50>0,\" * \"&TEXT(G$11,\"0,0000\"),\"\")&IF($E50>0,\" * \"&G$9,\"\")&\" * \"&TEXT(G$4,\"#0/#0\")&\" =\"","v":"= 000,00 / 12  * 0,0000 * 1,155339 * 1/1 ="},"= 000,00 / 12  * 0,0000 * 1,155339 * 1/1 =","= 000,00 / 12  * 0,0000 * 1,159197 * 1/1 =","= 000,00 / 12  * 0,0000 * 1,159197 * 1/1 =","= 000,00 / 12  * 0,0000 * 1,159197 * 1/1 =","= 000,00 / 12  * 0,0000 * 1,159197 * 1/1 =","= 000,00 / 12  * 0,0000 * 1,159197 * 1/1 =","= 000,00 / 12  * 0,0000 * 1,159197 * 1/1 =","= 000,00 / 12  * 0,0000 *  * 1/1 =","= 000,00 / 12  * 0,0000 * 0 * 1/1 =","= 000,00 / 12  * 0,0000 * 0 * 1/1 =","= 000,00 / 12  * 0,0000 * 0 * 1/1 =","= 000,00 / 12  * 0,0000 * 1,155339 * 1/1 =","= 000,00 / 12  * 0,0000 * 1,155339 * 1/1 =","= 000,00 / 12  * 0,0000 * 1,159197 * 1/1 =","= 000,00 / 12  * 0,0000 * 1,159197 * 1/1 =","= 000,00 / 12  * 0,0000 * 1,159197 * 1/1 =","= 000,00 / 12  * 0,0000 * 1,159197 * 1/1 =","= 000,00 / 12  * 0,0000 * 1,159197 * 1/1 =","= 000,00 / 12  * 0,0000 * 1,159197 * 1/1 =","= 000,00 / 12  * 0,0000 * 0 * 1/1 =","= 000,00 / 12  * 0,0000 * 0 * 1/1 =","= 000,00 / 12  * 0,0000 * 0 * 1/1 =","= 000,00 / 12  * 0,0000 * 0 * 1/1 ="]
[null,4,null,null,null,"Sousdheftillæg","= 000,00 / 12  * 1,155339 * 1/1 =","= 000,00 / 12  * 1,155339 * 1/1 =","= 000,00 / 12  * 1,159197 * 1/1 =","= 000,00 / 12  * 1,159197 * 1/1 =","= 000,00 / 12  * 1,159197 * 1/1 =","= 000,00 / 12  * 1,159197 * 1/1 =","= 000,00 / 12  * 1,159197 * 1/1 =","= 000,00 / 12  * 1,159197 * 1/1 =","= 000,00 / 12  *  * 1/1 =","= 000,00 / 12  * 0 * 1/1 =","= 000,00 / 12  * 0 * 1/1 =","= 000,00 / 12  * 0 * 1/1 =","= 000,00 / 12  * 1,155339 * 1/1 =","= 000,00 / 12  * 1,155339 * 1/1 =","= 000,00 / 12  * 1,159197 * 1/1 =","= 000,00 / 12  * 1,159197 * 1/1 =","= 000,00 / 12  * 1,159197 * 1/1 =","= 000,00 / 12  * 1,159197 * 1/1 =","= 000,00 / 12  * 1,159197 * 1/1 =","= 000,00 / 12  * 1,159197 * 1/1 =","= 000,00 / 12  * 0 * 1/1 =","= 000,00 / 12  * 0 * 1/1 =","= 000,00 / 12  * 0 * 1/1 =","= 000,00 / 12  * 0 * 1/1 ="]
[null,5,null,null,null,"Funktionstillæg 1",{"$f":"\"= \"&TEXT(G15,\"#.000,00\")&\" / 12 \"&IF($D52>0,\" * \"&TEXT(G$11,\"0,0000\"),\"\")&IF($E52>0,\" * \"&G$9,\"\")&\" * \"&TEXT(G$4,\"#0/#0\")&\" =\"","v":"= 000,00 / 12  * 1,155339 * 1/1 ="},{"$f":"\"= \"&TEXT(H15,\"#.000,00\")&\" / 12 \"&IF($D52>0,\" * \"&TEXT(H$11,\"0,0000\"),\"\")&IF($E158>0,\" * \"&H$9,\"\")&\" * \"&TEXT(H$4,\"#0/#0\")&\" =\"","v":"= 000,00 / 12  * 1/1 ="},"= 000,00 / 12  * 1/1 =","= 000,00 / 12  * 1/1 =","= 000,00 / 12  * 1/1 =","= 000,00 / 12  * 1/1 =","= 000,00 / 12  * 1/1 =","= 000,00 / 12  * 1/1 =","= 000,00 / 12  * 1/1 =","= 000,00 / 12  * 1/1 =","= 000,00 / 12  * 1/1 =","= 000,00 / 12  * 1/1 =","= 000,00 / 12  * 1/1 =","= 000,00 / 12  * 1/1 =","= 000,00 / 12  * 1/1 =","= 000,00 / 12  * 1/1 =","= 000,00 / 12  * 1/1 =","= 000,00 / 12  * 1/1 =","= 000,00 / 12  * 1/1 =","= 000,00 / 12  * 1/1 =","= 000,00 / 12  * 1/1 =","= 000,00 / 12  * 1/1 =","= 000,00 / 12  * 1/1 =","= 000,00 / 12  * 1/1 ="]
[null,6,null,null,null,"Funktionstillæg 2",{"$f":"\"= \"&TEXT(G16,\"#.000,00\")&\" / 12 \"&IF($D53>0,\" * \"&TEXT(G$11,\"0,0000\"),\"\")&IF($E53>0,\" * \"&G$9,\"\")&\" * \"&TEXT(G$4,\"#0/#0\")&\" =\"","v":"= 000,00 / 12  * 1,155339 * 1/1 ="},"= 000,00 / 12  * 1,155339 * 1/1 =","= 000,00 / 12  * 1,159197 * 1/1 =","= 000,00 / 12  * 1,159197 * 1/1 =","= 000,00 / 12  * 1,159197 * 1/1 =","= 000,00 / 12  * 1,159197 * 1/1 =","= 000,00 / 12  * 1,159197 * 1/1 =","= 000,00 / 12  * 1,159197 * 1/1 =","= 000,00 / 12  *  * 1/1 =","= 000,00 / 12  * 0 * 1/1 =","= 000,00 / 12  * 0 * 1/1 =","= 000,00 / 12  * 0 * 1/1 =","= 000,00 / 12  * 1,155339 * 1/1 =","= 000,00 / 12  * 1,155339 * 1/1 =","= 000,00 / 12  * 1,159197 * 1/1 =","= 000,00 / 12  * 1,159197 * 1/1 =","= 000,00 / 12  * 1,159197 * 1/1 =","= 000,00 / 12  * 1,159197 * 1/1 =","= 000,00 / 12  * 1,159197 * 1/1 =","= 000,00 / 12  * 1,159197 * 1/1 =","= 000,00 / 12  * 0 * 1/1 =","= 000,00 / 12  * 0 * 1/1 =","= 000,00 / 12  * 0 * 1/1 =","= 000,00 / 12  * 0 * 1/1 ="]
[null,7,null,null,null,"Funktionstillæg 3","= 000,00 / 12  * 1,155339 * 1/1 =","= 000,00 / 12  * 1,155339 * 1/1 =","= 000,00 / 12  * 1,159197 * 1/1 =","= 000,00 / 12  * 1,159197 * 1/1 =","= 000,00 / 12  * 1,159197 * 1/1 =","= 000,00 / 12  * 1,159197 * 1/1 =","= 000,00 / 12  * 1,159197 * 1/1 =","= 000,00 / 12  * 1,159197 * 1/1 =","= 000,00 / 12  *  * 1/1 =","= 000,00 / 12  * 0 * 1/1 =","= 000,00 / 12  * 0 * 1/1 =","= 000,00 / 12  * 0 * 1/1 =","= 000,00 / 12  * 1,155339 * 1/1 =","= 000,00 / 12  * 1,155339 * 1/1 =","= 000,00 / 12  * 1,159197 * 1/1 =","= 000,00 / 12  * 1,159197 * 1/1 =","= 000,00 / 12  * 1,159197 * 1/1 =","= 000,00 / 12  * 1,159197 * 1/1 =","= 000,00 / 12  * 1,159197 * 1/1 =","= 000,00 / 12  * 1,159197 * 1/1 =","= 000,00 / 12  * 0 * 1/1 =","= 000,00 / 12  * 0 * 1/1 =","= 000,00 / 12  * 0 * 1/1 =","= 000,00 / 12  * 0 * 1/1 ="]
[null,8,null,null,null,"Kvalifikationstillæg 1","= 000,00 / 12  * 0,0000 * 1,155339 * 1/1 =","= 000,00 / 12  * 0,0000 * 1,155339 * 1/1 =","= 000,00 / 12  * 0,0000 * 1,159197 * 1/1 =","= 000,00 / 12  * 0,0000 * 1,159197 * 1/1 =","= 000,00 / 12  * 0,0000 * 1,159197 * 1/1 =","= 000,00 / 12  * 0,0000 * 1,159197 * 1/1 =","= 000,00 / 12  * 0,0000 * 1,159197 * 1/1 =","= 000,00 / 12  * 0,0000 * 1,159197 * 1/1 =","= 000,00 / 12  * 0,0000 *  * 1/1 =","= 000,00 / 12  * 0,0000 * 0 * 1/1 =","= 000,00 / 12  * 0,0000 * 0 * 1/1 =","= 000,00 / 12  * 0,0000 * 0 * 1/1 =","= 000,00 / 12  * 0,0000 * 1,155339 * 1/1 =","= 000,00 / 12  * 0,0000 * 1,155339 * 1/1 =","= 000,00 / 12  * 0,0000 * 1,159197 * 1/1 =","= 000,00 / 12  * 0,0000 * 1,159197 * 1/1 =","= 000,00 / 12  * 0,0000 * 1,159197 * 1/1 =","= 000,00 / 12  * 0,0000 * 1,159197 * 1/1 =","= 000,00 / 12  * 0,0000 * 1,159197 * 1/1 =","= 000,00 / 12  * 0,0000 * 1,159197 * 1/1 =","= 000,00 / 12  * 0,0000 * 0 * 1/1 =","= 000,00 / 12  * 0,0000 * 0 * 1/1 =","= 000,00 / 12  * 0,0000 * 0 * 1/1 =","= 000,00 / 12  * 0,0000 * 0 * 1/1 ="]
[null,9,null,null,null,"Kvalifikationstillæg 2","= 000,00 / 12  * 0,0000 * 1,155339 * 1/1 =","= 000,00 / 12  * 0,0000 * 1,155339 * 1/1 =","= 000,00 / 12  * 0,0000 * 1,159197 * 1/1 =","= 000,00 / 12  * 0,0000 * 1,159197 * 1/1 =","= 000,00 / 12  * 0,0000 * 1,159197 * 1/1 =","= 000,00 / 12  * 0,0000 * 1,159197 * 1/1 =","= 000,00 / 12  * 0,0000 * 1,159197 * 1/1 =","= 000,00 / 12  * 0,0000 * 1,159197 * 1/1 =","= 000,00 / 12  * 0,0000 *  * 1/1 =","= 000,00 / 12  * 0,0000 * 0 * 1/1 =","= 000,00 / 12  * 0,0000 * 0 * 1/1 =","= 000,00 / 12  * 0,0000 * 0 * 1/1 =","= 000,00 / 12  * 0,0000 * 1,155339 * 1/1 =","= 000,00 / 12  * 0,0000 * 1,155339 * 1/1 =","= 000,00 / 12  * 0,0000 * 1,159197 * 1/1 =","= 000,00 / 12  * 0,0000 * 1,159197 * 1/1 =","= 000,00 / 12  * 0,0000 * 1,159197 * 1/1 =","= 000,00 / 12  * 0,0000 * 1,159197 * 1/1 =","= 000,00 / 12  * 0,0000 * 1,159197 * 1/1 =","= 000,00 / 12  * 0,0000 * 1,159197 * 1/1 =","= 000,00 / 12  * 0,0000 * 0 * 1/1 =","= 000,00 / 12  * 0,0000 * 0 * 1/1 =","= 000,00 / 12  * 0,0000 * 0 * 1/1 =","= 000,00 / 12  * 0,0000 * 0 * 1/1 ="]
[null,10,null,null,null,"Kvalifikationstillæg 3","= 000,00 / 12  * 0,0000 * 1,155339 * 1/1 =","= 000,00 / 12  * 0,0000 * 1,155339 * 1/1 =","= 000,00 / 12  * 0,0000 * 1,159197 * 1/1 =","= 000,00 / 12  * 0,0000 * 1,159197 * 1/1 =","= 000,00 / 12  * 0,0000 * 1,159197 * 1/1 =","= 000,00 / 12  * 0,0000 * 1,159197 * 1/1 =","= 000,00 / 12  * 0,0000 * 1,159197 * 1/1 =","= 000,00 / 12  * 0,0000 * 1,159197 * 1/1 =","= 000,00 / 12  * 0,0000 *  * 1/1 =","= 000,00 / 12  * 0,0000 * 0 * 1/1 =","= 000,00 / 12  * 0,0000 * 0 * 1/1 =","= 000,00 / 12  * 0,0000 * 0 * 1/1 =","= 000,00 / 12  * 0,0000 * 1,155339 * 1/1 =","= 000,00 / 12  * 0,0000 * 1,155339 * 1/1 =","= 000,00 / 12  * 0,0000 * 1,159197 * 1/1 =","= 000,00 / 12  * 0,0000 * 1,159197 * 1/1 =","= 000,00 / 12  * 0,0000 * 1,159197 * 1/1 =","= 000,00 / 12  * 0,0000 * 1,159197 * 1/1 =","= 000,00 / 12  * 0,0000 * 1,159197 * 1/1 =","= 000,00 / 12  * 0,0000 * 1,159197 * 1/1 =","= 000,00 / 12  * 0,0000 * 0 * 1/1 =","= 000,00 / 12  * 0,0000 * 0 * 1/1 =","= 000,00 / 12  * 0,0000 * 0 * 1/1 =","= 000,00 / 12  * 0,0000 * 0 * 1/1 ="]
[null,11,null,null,null,"Udligningstillæg","= 000,00 / 12  * 0,0000 * 1,155339 * 1/1 =","= 000,00 / 12  * 0,0000 * 1,155339 * 1/1 =","= 000,00 / 12  * 0,0000 * 1,159197 * 1/1 =","= 000,00 / 12  * 0,0000 * 1,159197 * 1/1 =","= 000,00 / 12  * 0,0000 * 1,159197 * 1/1 =","= 000,00 / 12  * 0,0000 * 1,159197 * 1/1 =","= 000,00 / 12  * 0,0000 * 1,159197 * 1/1 =","= 000,00 / 12  * 0,0000 * 1,159197 * 1/1 =","= 000,00 / 12  * 0,0000 *  * 1/1 =","= 000,00 / 12  * 0,0000 * 0 * 1/1 =","= 000,00 / 12  * 0,0000 * 0 * 1/1 =","= 000,00 / 12  * 0,0000 * 0 * 1/1 =","= 000,00 / 12  * 0,0000 * 1,155339 * 1/1 =","= 000,00 / 12  * 0,0000 * 1,155339 * 1/1 =","= 000,00 / 12  * 0,0000 * 1,159197 * 1/1 =","= 000,00 / 12  * 0,0000 * 1,159197 * 1/1 =","= 000,00 / 12  * 0,0000 * 1,159197 * 1/1 =","= 000,00 / 12  * 0,0000 * 1,159197 * 1/1 =","= 000,00 / 12  * 0,0000 * 1,159197 * 1/1 =","= 000,00 / 12  * 0,0000 * 1,159197 * 1/1 =","= 000,00 / 12  * 0,0000 * 0 * 1/1 =","= 000,00 / 12  * 0,0000 * 0 * 1/1 =","= 000,00 / 12  * 0,0000 * 0 * 1/1 =","= 000,00 / 12  * 0,0000 * 0 * 1/1 ="]
[null,12,null,null,null,"Gruppelivstillæg",{"$f":"\"= \"&TEXT(G22,\"#.##0,00\")&\" * \"&TEXT(G$4,\"#0/#0\")&\" =\"","v":"= 0,00 * 1/1 ="},{"$f":"\"= \"&TEXT(H22,\"#.##0,00\")&\" * \"&TEXT(H$4,\"#0/#0\")&\" =\"","v":"= 0,00 * 1/1 ="},"= 0,00 * 1/1 =","= 0,00 * 1/1 =","= 0,00 * 1/1 =","= 0,00 * 1/1 =","= 0,00 * 1/1 =","= 0,00 * 1/1 =","= 0,00 * 1/1 =","= 0,00 * 1/1 =","= 0,00 * 1/1 =","= 0,00 * 1/1 =",{"$f":"\"= \"&TEXT(S22,\"#.##0,00\")&\" * \"&TEXT(S$4,\"#0/#0\")&\" =\"","v":"= 0,00 * 1/1 ="},{"$f":"\"= \"&TEXT(T22,\"#.##0,00\")&\" * \"&TEXT(T$4,\"#0/#0\")&\" =\"","v":"= 0,00 * 1/1 ="},"= 0,00 * 1/1 =","= 0,00 * 1/1 =","= 0,00 * 1/1 =","= 0,00 * 1/1 =","= 0,00 * 1/1 =","= 0,00 * 1/1 =","= 0,00 * 1/1 =","= 0,00 * 1/1 =","= 0,00 * 1/1 =","= 0,00 * 1/1 ="]
[null,13,null,null,null,"Lokalaftalt ulempegodtgørelse",{"$f":"\"= \"&TEXT(G23,\"#,00\")&IF($D60>0,\" * \"&TEXT(G$11,\"0,0000\"),\"\")&IF($E60>0,\" * \"&G$9,\"\")&\" * \"&TEXT(G$4,\"#0/#0\")&\" =\"","v":"= ,00 * 1,155339 * 1/1 ="},"= ,00 * 1,155339 * 1/1 =","= ,00 * 1,159197 * 1/1 =","= ,00 * 1,159197 * 1/1 =","= ,00 * 1,159197 * 1/1 =","= ,00 * 1,159197 * 1/1 =","= ,00 * 1,159197 * 1/1 =","= ,00 * 1,159197 * 1/1 =","= ,00 *  * 1/1 =","= ,00 * 0 * 1/1 =","= ,00 * 0 * 1/1 =","= ,00 * 0 * 1/1 =","= ,00 * 1,155339 * 1/1 =","= ,00 * 1,155339 * 1/1 =","= ,00 * 1,159197 * 1/1 =","= ,00 * 1,159197 * 1/1 =","= ,00 * 1,159197 * 1/1 =","= ,00 * 1,159197 * 1/1 =","= ,00 * 1,159197 * 1/1 =","= ,00 * 1,159197 * 1/1 =","= ,00 * 0 * 1/1 =","= ,00 * 0 * 1/1 =","= ,00 * 0 * 1/1 =","= ,00 * 0 * 1/1 ="]
[null,14,null,null,null,"Lønfradrag for ikke optjent ferie mv.",{"$f":"\"= - \"&MAX(0,MIN(G24,G25*1))+G28&\" * \"&IF(G8=\"JA\",\"4,62%\",\"4,8%\")&\" * SUM(Lin. 1 - Lin 12)\"&\" * \"&TEXT(G$4,\"#0/#0\")&\" =\"","v":"= - 0 * 4,62% * SUM(Lin. 1 - Lin 12) * 1/1 ="},{"$f":"\"= - \"&MAX(0,MIN(H24,H25*1))+H28&\" * \"&IF(H8=\"JA\",\"4,62%\",\"4,8%\")&\" * SUM(Lin. 1 - Lin 12) =\"","v":"= - 0 * 4,62% * SUM(Lin. 1 - Lin 12) ="},"= - 0 * 4,62% * SUM(Lin. 1 - Lin 12) =","= - 0 * 4,62% * SUM(Lin. 1 - Lin 12) =","= - 0 * 4,62% * SUM(Lin. 1 - Lin 12) =","= - 0 * 4,62% * SUM(Lin. 1 - Lin 12) =","= - 0 * 4,62% * SUM(Lin. 1 - Lin 12) =","= - 0 * 4,62% * SUM(Lin. 1 - Lin 12) =","= - 0 * 4,62% * SUM(Lin. 1 - Lin 12) =","= - 0 * 4,62% * SUM(Lin. 1 - Lin 12) =","= - 0 * 4,62% * SUM(Lin. 1 - Lin 12) =","= - 0 * 4,62% * SUM(Lin. 1 - Lin 12) =",{"$f":"\"= - \"&MAX(0,MIN(S24,S25*1))+S28&\" * \"&IF(S8=\"JA\",\"4,62%\",\"4,8%\")&\" * SUM(Lin. 1 - Lin 12)\"&\" * \"&TEXT(S$4,\"#0/#0\")&\" =\"","v":"= - 0 * 4,62% * SUM(Lin. 1 - Lin 12) * 1/1 ="},{"$f":"\"= - \"&MAX(0,MIN(T24,T25*1))+T28&\" * \"&IF(T8=\"JA\",\"4,62%\",\"4,8%\")&\" * SUM(Lin. 1 - Lin 12) =\"","v":"= - 0 * 4,62% * SUM(Lin. 1 - Lin 12) ="},"= - 0 * 4,62% * SUM(Lin. 1 - Lin 12) =","= - 0 * 4,62% * SUM(Lin. 1 - Lin 12) =","= - 0 * 4,62% * SUM(Lin. 1 - Lin 12) =","= - 0 * 4,62% * SUM(Lin. 1 - Lin 12) =","= - 0 * 4,62% * SUM(Lin. 1 - Lin 12) =","= - 0 * 4,62% * SUM(Lin. 1 - Lin 12) =","= - 0 * 4,62% * SUM(Lin. 1 - Lin 12) =","= - 0 * 4,62% * SUM(Lin. 1 - Lin 12) =","= - 0 * 4,62% * SUM(Lin. 1 - Lin 12) =","= - 0 * 4,62% * SUM(Lin. 1 - Lin 12) ="]
[null,16,null,null,null,"Feriedifference. Pensionsgivende",null,{"$f":"\"= \"&IF(LEFT(H8)=\"N\",\"( \"&H26&\" - \"&H11&\") * 4,8% * \"&H103&\" * \"&MAX((H24-H25),0)*H104,\"( \"&H26&\" - \"&H11&\") * 4,62% * \"&H103&\" * \"&MAX((H24-H25),0))&\" =\"","v":"= (  - 0) * 4,62% * 0 * 0 ="},"= (  - 0) * 4,62% * 0 * 5 =","= (  - 0) * 4,62% * 0 * 0 =","= (  - 0) * 4,62% * 0 * 0 =","= (  - 0) * 4,62% * 0 * 0 =","= (  - 0) * 4,62% * 0 * 5 =","= (  - 0) * 4,62% * 0 * 0 =","= (  - 0) * 4,62% * 0 * 0 =",{"$f":"\"= \"&IF(LEFT(P8)=\"N\",\"( \"&ROUND(P27,4)&\" - \"&P11&\") * 4,8% * \"&P103&\" * \"&MAX((P24-P25),0)*P104,\"( \"&ROUND(P27,4)&\" - \"&P11&\") * 4,62% * \"&P103&\" * \"&MAX((P24-P25),0))&\" =\"","v":"= ( 0 - 0) * 4,62% * 0 * 0 ="},{"$f":"\"= \"&IF(LEFT(Q8)=\"N\",\"( \"&ROUND(Q27,4)&\" - \"&Q11&\") * 4,8% * \"&Q103&\" * \"&MAX((Q24-Q25),0)*Q104,\"( \"&ROUND(Q27,4)&\" - \"&Q11&\") * 4,62% * \"&Q103&\" * \"&MAX((Q24-Q25),0))&\" =\"","v":"= ( 0 - 0) * 4,62% * 0 * 0 ="},{"$f":"\"= \"&IF(LEFT(R8)=\"N\",\"( \"&ROUND(R27,4)&\" - \"&R11&\") * 4,8% * \"&R103&\" * \"&MAX((R24-R25),0)*R104,\"( \"&ROUND(R27,4)&\" - \"&R11&\") * 4,62% * \"&R103&\" * \"&MAX((R24-R25),0))&\" =\"","v":"= ( 0 - 0) * 4,62% * 0 * 15 ="},null,{"$f":"\"= \"&IF(LEFT(T8)=\"N\",\"( \"&T26&\" - \"&T11&\") * 4,8% * \"&T103&\" * \"&MAX((T24-T25),0)*T104,\"( \"&T26&\" - \"&T11&\") * 4,62% * \"&T103&\" * \"&MAX((T24-T25),0))&\" =\"","v":"= ( 0 - 0) * 4,62% * 0 * 0 ="},"= ( 0 - 0) * 4,62% * 0 * 5 =","= ( 0 - 0) * 4,62% * 0 * 0 =","= ( 0 - 0) * 4,62% * 0 * 0 =","= ( 0 - 0) * 4,62% * 0 * 0 =","= ( 0 - 0) * 4,62% * 0 * 5 =","= ( 0 - 0) * 4,62% * 0 * 0 =","= ( 0 - 0) * 4,62% * 0 * 0 =",{"$f":"\"= \"&IF(LEFT(AB8)=\"N\",\"( \"&ROUND(AB27,4)&\" - \"&AB11&\") * 4,8% * \"&AB103&\" * \"&MAX((AB24-AB25),0)*AB104,\"( \"&ROUND(AB27,4)&\" - \"&AB11&\") * 4,62% * \"&AB103&\" * \"&MAX((AB24-AB25),0))&\" =\"","v":"= ( 0 - 0) * 4,62% * 0 * 0 ="},{"$f":"\"= \"&IF(LEFT(AC8)=\"N\",\"( \"&ROUND(AC27,4)&\" - \"&AC11&\") * 4,8% * \"&AC103&\" * \"&MAX((AC24-AC25),0)*AC104,\"( \"&ROUND(AC27,4)&\" - \"&AC11&\") * 4,62% * \"&AC103&\" * \"&MAX((AC24-AC25),0))&\" =\"","v":"= ( 0 - 0) * 4,62% * 0 * 0 ="},{"$f":"\"= \"&IF(LEFT(AD8)=\"N\",\"( \"&ROUND(AD27,4)&\" - \"&AD11&\") * 4,8% * \"&AD103&\" * \"&MAX((AD24-AD25),0)*AD104,\"( \"&ROUND(AD27,4)&\" - \"&AD11&\") * 4,62% * \"&AD103&\" * \"&MAX((AD24-AD25),0))&\" =\"","v":"= ( 0 - 0) * 4,62% * 0 * 15 ="}]
[null,17,null,null,null,"Feriedifferende. Ikke pensionsgivende"]
[null,18,null,null,null,"Engangsudbetalinger iflg. specifikation",{"$f":"SUBSTITUTE(TRIM(\"=SUM(\"&MAX(G34-8000,0)&\" \"&G35&\" \"&G36&\" \"&G37&\" \"&G38&\" \"&G40&\" \"&G41&\" \"&G42&\" \"&G43&\" \"&G44&\")\"),\" \",\"; \")&\" =\"","v":"=SUM(0; ) ="},{"$f":"SUBSTITUTE(TRIM(\"=SUM(\"&MAX(H34-8000,0)&\" \"&H35&\" \"&H36&\" \"&H37&\" \"&H38&\" \"&H40&\" \"&H41&\" \"&H42&\" \"&H43&\" \"&H44&\")\"),\" \",\"; \")&\" =\"","v":"=SUM(0; ) ="},"=SUM(0; ) =","=SUM(0; ) =","=SUM(0; ) =","=SUM(0; ) =","=SUM(0; ) =","=SUM(0; ) =","=SUM(0; ) =","=SUM(0; ) =","=SUM(0; ) =","=SUM(0; ) =",{"$f":"SUBSTITUTE(TRIM(\"=SUM(\"&MAX(S34-8000,0)&\" \"&S35&\" \"&S36&\" \"&S37&\" \"&S38&\" \"&S40&\" \"&S41&\" \"&S42&\" \"&S43&\" \"&S44&\")\"),\" \",\"; \")&\" =\"","v":"=SUM(0; 0; 0; 0; 0; 0; 0; 0; 0; 0) ="},{"$f":"SUBSTITUTE(TRIM(\"=SUM(\"&MAX(T34-8000,0)&\" \"&T35&\" \"&T36&\" \"&T37&\" \"&T38&\" \"&T40&\" \"&T41&\" \"&T42&\" \"&T43&\" \"&T44&\")\"),\" \",\"; \")&\" =\"","v":"=SUM(0; 0; 0; 0; 0; 0; 0; 0; 0; 0) ="},"=SUM(0; 0; 0; 0; 0; 0; 0; 0; 0; 0) =","=SUM(0; 0; 0; 0; 0; 0; 0; 0; 0; 0) =","=SUM(0; 0; 0; 0; 0; 0; 0; 0; 0; 0) =","=SUM(0; 0; 0; 0; 0; 0; 0; 0; 0; 0) =","=SUM(0; 0; 0; 0; 0; 0; 0; 0; 0; 0) =","=SUM(0; 0; 0; 0; 0; 0; 0; 0; 0; 0) =","=SUM(0; 0; 0; 0; 0; 0; 0; 0; 0; 0) =","=SUM(0; 0; 0; 0; 0; 0; 0; 0; 0; 0) =","=SUM(0; 0; 0; 0; 0; 0; 0; 0; 0; 0) =","=SUM(0; 0; 0; 0; 0; 0; 0; 0; 0; 0) ="]
[null,19,null,null,null,"Skattefri engangsudbetalinger iflg. spec.",{"$f":"SUBSTITUTE(TRIM(\"=SUM(\"&G31&\" * \"&$D31&\" \"&G32&\" * \"&$D32&\" \"&G33&\" \"&MIN(G34,8000)&\")\"),\" \",\"; \")&\" =\"","v":"=SUM(; *; 2,19; *; 3,73; 8000) ="},{"$f":"SUBSTITUTE(TRIM(\"=SUM(\"&H31&\" * \"&$D31&\" \"&H32&\" * \"&$D32&\" \"&H33&\" \"&MIN(H34,8000)&\")\"),\" \",\"; \")&\" =\"","v":"=SUM(; *; 2,19; *; 3,73; 8000) ="},{"$f":"SUBSTITUTE(TRIM(\"=SUM(\"&I31&\" * \"&$D31&\" \"&I32&\" * \"&$D32&\" \"&I33&\" \"&MIN(I34,8000)&\")\"),\" \",\"; \")&\" =\"","v":"=SUM(; *; 2,19; *; 3,73; 8000) ="},{"$f":"SUBSTITUTE(TRIM(\"=SUM(\"&J31&\" * \"&$D31&\" \"&J32&\" * \"&$D32&\" \"&J33&\" \"&MIN(J34,8000)&\")\"),\" \",\"; \")&\" =\"","v":"=SUM(; *; 2,19; *; 3,73; 8000) ="},{"$f":"SUBSTITUTE(TRIM(\"=SUM(\"&K31&\" * \"&$D31&\" \"&K32&\" * \"&$D32&\" \"&K33&\" \"&MIN(K34,8000)&\")\"),\" \",\"; \")&\" =\"","v":"=SUM(; *; 2,19; *; 3,73; 8000) ="},{"$f":"SUBSTITUTE(TRIM(\"=SUM(\"&L31&\" * \"&$E31&\" \"&L32&\" * \"&$E32&\" \"&L33&\" \"&MIN(L34,8000)&\")\"),\" \",\"; \")&\" =\"","v":"=SUM(; *; *; 8000) ="},{"$f":"SUBSTITUTE(TRIM(\"=SUM(\"&M31&\" * \"&$E31&\" \"&M32&\" * \"&$E32&\" \"&M33&\" \"&MIN(M34,8000)&\")\"),\" \",\"; \")&\" =\"","v":"=SUM(; *; *; 8000) ="},"=SUM(; *; *; 8000) =","=SUM(; *; *; 8000) =","=SUM(; *; *; 8000) =","=SUM(; *; *; 8000) =","=SUM(; *; *; 8000) =",{"$f":"SUBSTITUTE(TRIM(\"=SUM(\"&S31&\" * \"&$D31&\" \"&S32&\" * \"&$D32&\" \"&S33&\" \"&MIN(S34,8000)&\")\"),\" \",\"; \")&\" =\"","v":"=SUM(0; *; 2,19; 0; *; 3,73; 0; 0) ="},{"$f":"SUBSTITUTE(TRIM(\"=SUM(\"&T31&\" * \"&$D31&\" \"&T32&\" * \"&$D32&\" \"&T33&\" \"&MIN(T34,8000)&\")\"),\" \",\"; \")&\" =\"","v":"=SUM(0; *; 2,19; 0; *; 3,73; 0; 0) ="},{"$f":"SUBSTITUTE(TRIM(\"=SUM(\"&U31&\" * \"&$D31&\" \"&U32&\" * \"&$D32&\" \"&U33&\" \"&MIN(U34,8000)&\")\"),\" \",\"; \")&\" =\"","v":"=SUM(0; *; 2,19; 0; *; 3,73; 0; 0) ="},{"$f":"SUBSTITUTE(TRIM(\"=SUM(\"&V31&\" * \"&$D31&\" \"&V32&\" * \"&$D32&\" \"&V33&\" \"&MIN(V34,8000)&\")\"),\" \",\"; \")&\" =\"","v":"=SUM(0; *; 2,19; 0; *; 3,73; 0; 0) ="},{"$f":"SUBSTITUTE(TRIM(\"=SUM(\"&W31&\" * \"&$D31&\" \"&W32&\" * \"&$D32&\" \"&W33&\" \"&MIN(W34,8000)&\")\"),\" \",\"; \")&\" =\"","v":"=SUM(0; *; 2,19; 0; *; 3,73; 0; 0) ="},{"$f":"SUBSTITUTE(TRIM(\"=SUM(\"&X31&\" * \"&$E31&\" \"&X32&\" * \"&$E32&\" \"&X33&\" \"&MIN(X34,8000)&\")\"),\" \",\"; \")&\" =\"","v":"=SUM(0; *; 0; *; 0; 0) ="},{"$f":"SUBSTITUTE(TRIM(\"=SUM(\"&Y31&\" * \"&$E31&\" \"&Y32&\" * \"&$E32&\" \"&Y33&\" \"&MIN(Y34,8000)&\")\"),\" \",\"; \")&\" =\"","v":"=SUM(0; *; 0; *; 0; 0) ="},"=SUM(0; *; 0; *; 0; 0) =","=SUM(0; *; 0; *; 0; 0) =","=SUM(0; *; 0; *; 0; 0) =","=SUM(0; *; 0; *; 0; 0) =","=SUM(0; *; 0; *; 0; 0) ="]
[null,20,null,null,null,"Bruttoløn (ekskl. pensionstillæg og ATP)"]
[null,21,null,null,null,"Pensionstillæg skalatrinsløn eller HK-løn",{"$f":"\"= \"&ROUND(VLOOKUP(G12,Skalalontabel12,7,0)*G$9,0)&\" / 12  * \"&TEXT(G$11,\"0,0000\")&\" * \"&G5&\"% / 3 =\"","v":{"$error":"#N/A"}},{"$error":"#N/A"},{"$error":"#N/A"},{"$error":"#N/A"},{"$error":"#N/A"},{"$error":"#N/A"},{"$error":"#N/A"},{"$error":"#N/A"},{"$error":"#N/A"},{"$error":"#N/A"},{"$error":"#N/A"},{"$error":"#N/A"},{"$error":"#N/A"},{"$error":"#N/A"},{"$error":"#N/A"},{"$error":"#N/A"},{"$error":"#N/A"},{"$error":"#N/A"},{"$error":"#N/A"},{"$error":"#N/A"},{"$error":"#N/A"},{"$error":"#N/A"},{"$error":"#N/A"},{"$error":"#N/A"}]
[null,22,null,null,null,"Pensionstillæg fast løn",{"$f":"IF($C50>0,\"= \"&G50&\" * \"&G$5&\"% / 3 =\")","v":"= 0 * % / 3 ="},{"$f":"IF($C50>0,H50&\" * \"&H$5&\"% / 3 =\")","v":"0 * 0% / 3 ="},"0 * 0% / 3 =","0 * 0% / 3 =","0 * 0% / 3 =","0 * 0% / 3 =","0 * 0% / 3 =","0 * 0% / 3 =","0 * 0% / 3 =","0 * 0% / 3 =","0 * 0% / 3 =","0 * 0% / 3 =",{"$f":"IF($C50>0,\"= \"&S50&\" * \"&S$5&\"% / 3 =\")","v":"= 0 * 0% / 3 ="},{"$f":"IF($C50>0,T50&\" * \"&T$5&\"% / 3 =\")","v":"0 * 0% / 3 ="},"0 * 0% / 3 =","0 * 0% / 3 =","0 * 0% / 3 =","0 * 0% / 3 =","0 * 0% / 3 =","0 * 0% / 3 =","0 * 0% / 3 =","0 * 0% / 3 =","0 * 0% / 3 =","0 * 0% / 3 ="]
[null,23,null,null,null,"Pensionstillæg souscheftillæg","= 0 * % / 3 =","0 * 0% / 3 =","0 * 0% / 3 =","0 * 0% / 3 =","0 * 0% / 3 =","0 * 0% / 3 =","0 * 0% / 3 =","0 * 0% / 3 =","0 * 0% / 3 =","0 * 0% / 3 =","0 * 0% / 3 =","0 * 0% / 3 =","= 0 * 0% / 3 =","0 * 0% / 3 =","0 * 0% / 3 =","0 * 0% / 3 =","0 * 0% / 3 =","0 * 0% / 3 =","0 * 0% / 3 =","0 * 0% / 3 =","0 * 0% / 3 =","0 * 0% / 3 =","0 * 0% / 3 =","0 * 0% / 3 ="]
[null,24,null,null,null,"Pensionstillæg Funktionstillæg 1","= 0 * % / 3 =","0 * 0% / 3 =","0 * 0% / 3 =","0 * 0% / 3 =","0 * 0% / 3 =","0 * 0% / 3 =","0 * 0% / 3 =","0 * 0% / 3 =","0 * 0% / 3 =","0 * 0% / 3 =","0 * 0% / 3 =","0 * 0% / 3 =","= 0 * 0% / 3 =","0 * 0% / 3 =","0 * 0% / 3 =","0 * 0% / 3 =","0 * 0% / 3 =","0 * 0% / 3 =","0 * 0% / 3 =","0 * 0% / 3 =","0 * 0% / 3 =","0 * 0% / 3 =","0 * 0% / 3 =","0 * 0% / 3 ="]
[null,25,null,null,null,"Pensionstillæg Funktionstillæg 2","= 0 * % / 3 =","0 * 0% / 3 =","0 * 0% / 3 =","0 * 0% / 3 =","0 * 0% / 3 =","0 * 0% / 3 =","0 * 0% / 3 =","0 * 0% / 3 =","0 * 0% / 3 =","0 * 0% / 3 =","0 * 0% / 3 =","0 * 0% / 3 =","= 0 * 0% / 3 =","0 * 0% / 3 =","0 * 0% / 3 =","0 * 0% / 3 =","0 * 0% / 3 =","0 * 0% / 3 =","0 * 0% / 3 =","0 * 0% / 3 =","0 * 0% / 3 =","0 * 0% / 3 =","0 * 0% / 3 =","0 * 0% / 3 ="]
[null,26,null,null,null,"Pensionstillæg Funktionstillæg 3","= 0 * % / 3 =","0 * 0% / 3 =","0 * 0% / 3 =","0 * 0% / 3 =","0 * 0% / 3 =","0 * 0% / 3 =","0 * 0% / 3 =","0 * 0% / 3 =","0 * 0% / 3 =","0 * 0% / 3 =","0 * 0% / 3 =","0 * 0% / 3 =","= 0 * 0% / 3 =","0 * 0% / 3 =","0 * 0% / 3 =","0 * 0% / 3 =","0 * 0% / 3 =","0 * 0% / 3 =","0 * 0% / 3 =","0 * 0% / 3 =","0 * 0% / 3 =","0 * 0% / 3 =","0 * 0% / 3 =","0 * 0% / 3 ="]
[null,27,null,null,null,"Pensionstillæg Kvalifikationstillæg 1","= 0 * % / 3 =","0 * 0% / 3 =","0 * 0% / 3 =","0 * 0% / 3 =","0 * 0% / 3 =","0 * 0% / 3 =","0 * 0% / 3 =","0 * 0% / 3 =","0 * 0% / 3 =","0 * 0% / 3 =","0 * 0% / 3 =","0 * 0% / 3 =","= 0 * 0% / 3 =","0 * 0% / 3 =","0 * 0% / 3 =","0 * 0% / 3 =","0 * 0% / 3 =","0 * 0% / 3 =","0 * 0% / 3 =","0 * 0% / 3 =","0 * 0% / 3 =","0 * 0% / 3 =","0 * 0% / 3 =","0 * 0% / 3 ="]
[null,28,null,null,null,"Pensionstillæg Kvalifikationstillæg 2","= 0 * % / 3 =","0 * 0% / 3 =","0 * 0% / 3 =","0 * 0% / 3 =","0 * 0% / 3 =","0 * 0% / 3 =","0 * 0% / 3 =","0 * 0% / 3 =","0 * 0% / 3 =","0 * 0% / 3 =","0 * 0% / 3 =","0 * 0% / 3 =","= 0 * 0% / 3 =","0 * 0% / 3 =","0 * 0% / 3 =","0 * 0% / 3 =","0 * 0% / 3 =","0 * 0% / 3 =","0 * 0% / 3 =","0 * 0% / 3 =","0 * 0% / 3 =","0 * 0% / 3 =","0 * 0% / 3 =","0 * 0% / 3 ="]
[null,29,null,null,null,"Pensionstillæg Kvalifikationstillæg 3","= 0 * % / 3 =","0 * 0% / 3 =","0 * 0% / 3 =","0 * 0% / 3 =","0 * 0% / 3 =","0 * 0% / 3 =","0 * 0% / 3 =","0 * 0% / 3 =","0 * 0% / 3 =","0 * 0% / 3 =","0 * 0% / 3 =","0 * 0% / 3 =","= 0 * 0% / 3 =","0 * 0% / 3 =","0 * 0% / 3 =","0 * 0% / 3 =","0 * 0% / 3 =","0 * 0% / 3 =","0 * 0% / 3 =","0 * 0% / 3 =","0 * 0% / 3 =","0 * 0% / 3 =","0 * 0% / 3 =","0 * 0% / 3 ="]
[null,30,null,null,null,"Pensionstillæg af udligningstillæg","= 0 * % / 3 =","0 * 0% / 3 =","0 * 0% / 3 =","0 * 0% / 3 =","0 * 0% / 3 =","0 * 0% / 3 =","0 * 0% / 3 =","0 * 0% / 3 =","0 * 0% / 3 =","0 * 0% / 3 =","0 * 0% / 3 =","0 * 0% / 3 =","= 0 * 0% / 3 =","0 * 0% / 3 =","0 * 0% / 3 =","0 * 0% / 3 =","0 * 0% / 3 =","0 * 0% / 3 =","0 * 0% / 3 =","0 * 0% / 3 =","0 * 0% / 3 =","0 * 0% / 3 =","0 * 0% / 3 =","0 * 0% / 3 ="]
[null,31,null,null,null,"Fradrag i pensionstillæg for ikke optjent ferie mv.",{"$f":"\"= \"&G61&\" * \"&G$5&\"% / 3 =\"","v":"= 0 * % / 3 ="},"= 0 * 0% / 3 =","= 0 * 0% / 3 =","= 0 * 0% / 3 =","= 0 * 0% / 3 =","= 0 * 0% / 3 =","= 0 * 0% / 3 =","= 0 * 0% / 3 =","= 0 * 0% / 3 =","= 0 * 0% / 3 =","= 0 * 0% / 3 =","= 0 * 0% / 3 =","= 0 * 0% / 3 =","= 0 * 0% / 3 =","= 0 * 0% / 3 =","= 0 * 0% / 3 =","= 0 * 0% / 3 =","= 0 * 0% / 3 =","= 0 * 0% / 3 =","= 0 * 0% / 3 =","= 0 * 0% / 3 =","= 0 * 0% / 3 =","= 0 * 0% / 3 =","= 0 * 0% / 3 ="]
[null,32,null,null,null,"Pensionstillæg af feriedifference","= 0 * % / 3 =","= 0 * 0% / 3 =","= 0 * 0% / 3 =","= 0 * 0% / 3 =","= 0 * 0% / 3 =","= 0 * 0% / 3 =","= 0 * 0% / 3 =","= 0 * 0% / 3 =","= 0 * 0% / 3 =","= 0 * 0% / 3 =","= 0 * 0% / 3 =","= 0 * 0% / 3 =","= 0 * 0% / 3 =","= 0 * 0% / 3 =","= 0 * 0% / 3 =","= 0 * 0% / 3 =","= 0 * 0% / 3 =","= 0 * 0% / 3 =","= 0 * 0% / 3 =","= 0 * 0% / 3 =","= 0 * 0% / 3 =","= 0 * 0% / 3 =","= 0 * 0% / 3 =","= 0 * 0% / 3 ="]
[null,33,null,null,null,"Pensionstillæg af pensiong. engangstillæg",{"$f":"SUBSTITUTE(TRIM(\"=SUM(\"&IF($G36>0,G36&\" \",\"\")&IF($C40<>\"\",G40&\" \",\"\")&IF($C41<>\"\",G41&\" \",\"\")&IF($C42<>\"\",G42&\" \",\"\")&IF($C43<>\"\",G43&\" \",\"\")&IF($C44<>\"\",G44,\"\")&\")\"),\" \",\"; \")&\" * \"&G5&\"% / 3 =\"","v":"=SUM(; ) * % / 3 ="},"=SUM(; ) * 0% / 3 =","=SUM(; ) * 0% / 3 =","=SUM(; ) * 0% / 3 =","=SUM(; ) * 0% / 3 =","=SUM(; ) * 0% / 3 =","=SUM(; ) * 0% / 3 =","=SUM(; ) * 0% / 3 =","=SUM(; ) * 0% / 3 =","=SUM(; ) * 0% / 3 =","=SUM(; ) * 0% / 3 =","=SUM(; ) * 0% / 3 =","=SUM(0; 0; 0; ) * 0% / 3 =","=SUM(0; 0; 0; ) * 0% / 3 =","=SUM(0; 0; 0; ) * 0% / 3 =","=SUM(0; 0; 0; ) * 0% / 3 =","=SUM(0; 0; 0; ) * 0% / 3 =","=SUM(0; 0; 0; ) * 0% / 3 =","=SUM(0; 0; 0; ) * 0% / 3 =","=SUM(0; 0; 0; ) * 0% / 3 =","=SUM(0; 0; 0; ) * 0% / 3 =","=SUM(0; 0; 0; ) * 0% / 3 =","=SUM(0; 0; 0; ) * 0% / 3 =","=SUM(0; 0; 0; ) * 0% / 3 ="]
[null,34,null,null,null,"Ekstra pension ved orlov uden løn","Ekstra pension ved orlov uden løn","Ekstra pension ved orlov uden løn","Ekstra pension ved orlov uden løn","Ekstra pension ved orlov uden løn","Ekstra pension ved orlov uden løn","Ekstra pension ved orlov uden løn","Ekstra pension ved orlov uden løn","Ekstra pension ved orlov uden løn","Ekstra pension ved orlov uden løn","Ekstra pension ved orlov uden løn","Ekstra pension ved orlov uden løn","Ekstra pension ved orlov uden løn"]
[null,35,null,null,null,"Pensionstillæg i alt"]
[null,36,null,null,null,"Egetbidrag til ATP"]
[null,37,null,null,null,"AMB-grundlag",{"$f":"\"= SUM(Lin. 1 - Lin. 14) + SUM(Lin 19 - Lin28) - \"&G86&\" =\"","v":"= SUM(Lin. 1 - Lin. 14) + SUM(Lin 19 - Lin28) - 0 ="},{"$f":"\"= SUM(Lin. 1 - Lin. 14) + SUM(Lin 19 - Lin28) - \"&H86&\" =\"","v":"= SUM(Lin. 1 - Lin. 14) + SUM(Lin 19 - Lin28) - 0 ="},"= SUM(Lin. 1 - Lin. 14) + SUM(Lin 19 - Lin28) - 0 =","= SUM(Lin. 1 - Lin. 14) + SUM(Lin 19 - Lin28) - 0 =","= SUM(Lin. 1 - Lin. 14) + SUM(Lin 19 - Lin28) - 0 =","= SUM(Lin. 1 - Lin. 14) + SUM(Lin 19 - Lin28) - 0 =","= SUM(Lin. 1 - Lin. 14) + SUM(Lin 19 - Lin28) - 0 =","= SUM(Lin. 1 - Lin. 14) + SUM(Lin 19 - Lin28) - 0 =","= SUM(Lin. 1 - Lin. 14) + SUM(Lin 19 - Lin28) - 0 =","= SUM(Lin. 1 - Lin. 14) + SUM(Lin 19 - Lin28) - 0 =","= SUM(Lin. 1 - Lin. 14) + SUM(Lin 19 - Lin28) - 0 =","= SUM(Lin. 1 - Lin. 14) + SUM(Lin 19 - Lin28) - 0 =",{"$f":"\"= SUM(Lin. 1 - Lin. 14) + SUM(Lin 19 - Lin28) - \"&S86&\" =\"","v":"= SUM(Lin. 1 - Lin. 14) + SUM(Lin 19 - Lin28) - 0 ="},{"$f":"\"= SUM(Lin. 1 - Lin. 14) + SUM(Lin 19 - Lin28) - \"&T86&\" =\"","v":"= SUM(Lin. 1 - Lin. 14) + SUM(Lin 19 - Lin28) - 0 ="},"= SUM(Lin. 1 - Lin. 14) + SUM(Lin 19 - Lin28) - 0 =","= SUM(Lin. 1 - Lin. 14) + SUM(Lin 19 - Lin28) - 0 =","= SUM(Lin. 1 - Lin. 14) + SUM(Lin 19 - Lin28) - 0 =","= SUM(Lin. 1 - Lin. 14) + SUM(Lin 19 - Lin28) - 0 =","= SUM(Lin. 1 - Lin. 14) + SUM(Lin 19 - Lin28) - 0 =","= SUM(Lin. 1 - Lin. 14) + SUM(Lin 19 - Lin28) - 0 =","= SUM(Lin. 1 - Lin. 14) + SUM(Lin 19 - Lin28) - 0 =","= SUM(Lin. 1 - Lin. 14) + SUM(Lin 19 - Lin28) - 0 =","= SUM(Lin. 1 - Lin. 14) + SUM(Lin 19 - Lin28) - 0 =","= SUM(Lin. 1 - Lin. 14) + SUM(Lin 19 - Lin28) - 0 ="]
[null,38,null,null,null,"AM-bidrag",{"$f":"\"= \"&G87&\" * 8% (afrundet) =\"","v":"= 0 * 8% (afrundet) ="},{"$f":"\"= \"&H87&\" * 8% (afrundet) =\"","v":"= 0 * 8% (afrundet) ="},"= 0 * 8% (afrundet) =","= 0 * 8% (afrundet) =","= 0 * 8% (afrundet) =","= 0 * 8% (afrundet) =","= 0 * 8% (afrundet) =","= 0 * 8% (afrundet) =","= 0 * 8% (afrundet) =","= 0 * 8% (afrundet) =","= 0 * 8% (afrundet) =","= 0 * 8% (afrundet) =",{"$f":"\"= \"&S87&\" * 8% (afrundet) =\"","v":"= 0 * 8% (afrundet) ="},{"$f":"\"= \"&T87&\" * 8% (afrundet) =\"","v":"= 0 * 8% (afrundet) ="},"= 0 * 8% (afrundet) =","= 0 * 8% (afrundet) =","= 0 * 8% (afrundet) =","= 0 * 8% (afrundet) =","= 0 * 8% (afrundet) =","= 0 * 8% (afrundet) =","= 0 * 8% (afrundet) =","= 0 * 8% (afrundet) =","= 0 * 8% (afrundet) =","= 0 * 8% (afrundet) ="]
[null,39,null,null,null,"A-indkomst",{"$f":"\"= \"&G87&\" - \"&G88&\" =\"","v":"= 0 - 0 ="},{"$f":"\"= \"&H87&\" - \"&H88&\" =\"","v":"= 0 - 0 ="},"= 0 - 0 =","= 0 - 0 =","= 0 - 0 =","= 0 - 0 =","= 0 - 0 =","= 0 - 0 =","= 0 - 0 =","= 0 - 0 =","= 0 - 0 =","= 0 - 0 =",{"$f":"\"= \"&S87&\" - \"&S88&\" =\"","v":"= 0 - 0 ="},{"$f":"\"= \"&T87&\" - \"&T88&\" =\"","v":"= 0 - 0 ="},"= 0 - 0 =","= 0 - 0 =","= 0 - 0 =","= 0 - 0 =","= 0 - 0 =","= 0 - 0 =","= 0 - 0 =","= 0 - 0 =","= 0 - 0 =","= 0 - 0 ="]
[null,40,null,null,null,"Skattegrundlag"]
[null,41,null,null,null,"Skat",{"$f":"\"= (\"&G89&\" - \"&G30&\") (afrundet) * \"&G29&\" / 100 =\"","v":"= (0 - ) (afrundet) *  / 100 ="},{"$f":"\"= (\"&H89&\" - \"&H30&\") (afrundet) * \"&H29&\" / 100 =\"","v":"= (0 - 0) (afrundet) * 0 / 100 ="},"= (0 - 0) (afrundet) * 0 / 100 =","= (0 - 0) (afrundet) * 0 / 100 =","= (0 - 0) (afrundet) * 0 / 100 =","= (0 - 0) (afrundet) * 0 / 100 =","= (0 - 0) (afrundet) * 0 / 100 =","= (0 - 0) (afrundet) * 0 / 100 =","= (0 - 0) (afrundet) * 0 / 100 =","= (0 - 0) (afrundet) * 0 / 100 =","= (0 - 0) (afrundet) * 0 / 100 =","= (0 - 0) (afrundet) * 0 / 100 =",{"$f":"\"= (\"&S89&\" - \"&S30&\") (afrundet) * \"&S29&\" / 100 =\"","v":"= (0 - 0) (afrundet) * 0 / 100 ="},{"$f":"\"= (\"&T89&\" - \"&T30&\") (afrundet) * \"&T29&\" / 100 =\"","v":"= (0 - 0) (afrundet) * 0 / 100 ="},"= (0 - 0) (afrundet) * 0 / 100 =","= (0 - 0) (afrundet) * 0 / 100 =","= (0 - 0) (afrundet) * 0 / 100 =","= (0 - 0) (afrundet) * 0 / 100 =","= (0 - 0) (afrundet) * 0 / 100 =","= (0 - 0) (afrundet) * 0 / 100 =","= (0 - 0) (afrundet) * 0 / 100 =","= (0 - 0) (afrundet) * 0 / 100 =","= (0 - 0) (afrundet) * 0 / 100 =","= (0 - 0) (afrundet) * 0 / 100 ="]
[null,42,null,null,null,"Feriegodtgørelsesgrundlag"]
[null,43,null,null,null,{"$f":"\"Feriegodtgørelsesgrundlag, jan-juli \"&Aar+1","v":"Feriegodtgørelsesgrundlag, jan-juli 1"}]
[null,44,null,null,null,"Egetbidrag til pensionskasse",{"$f":"\"= Lin. 43 =\"","v":"= Lin. 43 ="},{"$f":"\"= Lin. 43 =\"","v":"= Lin. 43 ="},"= Lin. 43 =","= Lin. 43 =","= Lin. 43 =","= Lin. 43 =","= Lin. 43 =","= Lin. 43 =","= Lin. 43 =","= Lin. 43 =","= Lin. 43 =","= Lin. 43 =",{"$f":"\"= Lin. 43 =\"","v":"= Lin. 43 ="},"= Lin. 43 =","= Lin. 43 =","= Lin. 43 =","= Lin. 43 =","= Lin. 43 =","= Lin. 43 =","= Lin. 43 =","= Lin. 43 =","= Lin. 43 =","= Lin. 43 =","= Lin. 43 ="]
[null,45,null,null,null,"Arbejdsgiverbidrag til pensionskasse",{"$f":"\"= Lin. 43 * 2 =\"","v":"= Lin. 43 * 2 ="},{"$f":"\"= Lin. 43 * 2 =\"","v":"= Lin. 43 * 2 ="},"= Lin. 43 * 2 =","= Lin. 43 * 2 =","= Lin. 43 * 2 =","= Lin. 43 * 2 =","= Lin. 43 * 2 =","= Lin. 43 * 2 =","= Lin. 43 * 2 =","= Lin. 43 * 2 =","= Lin. 43 * 2 =","= Lin. 43 * 2 =",{"$f":"\"= Lin. 43 * 2 =\"","v":"= Lin. 43 * 2 ="},"= Lin. 43 * 2 =","= Lin. 43 * 2 =","= Lin. 43 * 2 =","= Lin. 43 * 2 =","= Lin. 43 * 2 =","= Lin. 43 * 2 =","= Lin. 43 * 2 =","= Lin. 43 * 2 =","= Lin. 43 * 2 =","= Lin. 43 * 2 =","= Lin. 43 * 2 ="]
[null,46,null,null,null,"Arbejdsgiverbidrag til ATP",{"$f":"\"= Lin. 44 * 2 =\"","v":"= Lin. 44 * 2 ="},{"$f":"\"= Lin. 44 * 2 =\"","v":"= Lin. 44 * 2 ="},"= Lin. 44 * 2 =","= Lin. 44 * 2 =","= Lin. 44 * 2 =","= Lin. 44 * 2 =","= Lin. 44 * 2 =","= Lin. 44 * 2 =","= Lin. 44 * 2 =","= Lin. 44 * 2 =","= Lin. 44 * 2 =","= Lin. 44 * 2 =",{"$f":"\"= Lin. 44 * 2 =\"","v":"= Lin. 44 * 2 ="},"= Lin. 44 * 2 =","= Lin. 44 * 2 =","= Lin. 44 * 2 =","= Lin. 44 * 2 =","= Lin. 44 * 2 =","= Lin. 44 * 2 =","= Lin. 44 * 2 =","= Lin. 44 * 2 =","= Lin. 44 * 2 =","= Lin. 44 * 2 =","= Lin. 44 * 2 ="]
[null,47,null,null,null,"Skolens samlede indbetaling til pensionskasse",{"$f":"\"= Lin. 51 + Lin. 52 =\"","v":"= Lin. 51 + Lin. 52 ="},{"$f":"\"= Lin. 51 + Lin. 52 =\"","v":"= Lin. 51 + Lin. 52 ="},"= Lin. 51 + Lin. 52 =","= Lin. 51 + Lin. 52 =","= Lin. 51 + Lin. 52 =","= Lin. 51 + Lin. 52 =","= Lin. 51 + Lin. 52 =","= Lin. 51 + Lin. 52 =","= Lin. 51 + Lin. 52 =","= Lin. 51 + Lin. 52 =","= Lin. 51 + Lin. 52 =","= Lin. 51 + Lin. 52 =",{"$f":"\"= Lin. 51 + Lin. 52 =\"","v":"= Lin. 51 + Lin. 52 ="},"= Lin. 51 + Lin. 52 =","= Lin. 51 + Lin. 52 =","= Lin. 51 + Lin. 52 =","= Lin. 51 + Lin. 52 =","= Lin. 51 + Lin. 52 =","= Lin. 51 + Lin. 52 =","= Lin. 51 + Lin. 52 =","= Lin. 51 + Lin. 52 =","= Lin. 51 + Lin. 52 =","= Lin. 51 + Lin. 52 =","= Lin. 51 + Lin. 52 ="]
[null,48,null,null,null,"Skolens samlede indbetaling til ATP",{"$f":"\"= Lin. 44 + Lin. 53 =\"","v":"= Lin. 44 + Lin. 53 ="},{"$f":"\"= Lin. 44 + Lin. 53 =\"","v":"= Lin. 44 + Lin. 53 ="},"= Lin. 44 + Lin. 53 =","= Lin. 44 + Lin. 53 =","= Lin. 44 + Lin. 53 =","= Lin. 44 + Lin. 53 =","= Lin. 44 + Lin. 53 =","= Lin. 44 + Lin. 53 =","= Lin. 44 + Lin. 53 =","= Lin. 44 + Lin. 53 =","= Lin. 44 + Lin. 53 =","= Lin. 44 + Lin. 53 =",{"$f":"\"= Lin. 44 + Lin. 53 =\"","v":"= Lin. 44 + Lin. 53 ="},"= Lin. 44 + Lin. 53 =","= Lin. 44 + Lin. 53 =","= Lin. 44 + Lin. 53 =","= Lin. 44 + Lin. 53 =","= Lin. 44 + Lin. 53 =","= Lin. 44 + Lin. 53 =","= Lin. 44 + Lin. 53 =","= Lin. 44 + Lin. 53 =","= Lin. 44 + Lin. 53 =","= Lin. 44 + Lin. 53 =","= Lin. 44 + Lin. 53 ="]
[null,49,null,null,null,"Indbetaling til Gruppeliv"]
[null,50,null,null,null,"Løn til den ansattes disposition",{"$f":"\"= \"&G70&\" - ( \"&G91&\" + \"&G86&\" + \"&G88&\" + \"&G99&\") - SUM(lin 57 : 59) =\"","v":"= 0 - ( 0 + 0 + 0 + 0) - SUM(lin 57 : 59) ="},{"$f":"\"= \"&H70&\" - ( \"&H91&\" + \"&H86&\" + \"&H88&\" + \"&H99&\") - SUM(lin 57 : 59) =\"","v":"= 0 - ( 0 + 0 + 0 + 0) - SUM(lin 57 : 59) ="},"= 0 - ( 0 + 0 + 0 + 0) - SUM(lin 57 : 59) =","= 0 - ( 0 + 0 + 0 + 0) - SUM(lin 57 : 59) =","= 0 - ( 0 + 0 + 0 + 0) - SUM(lin 57 : 59) =","= 0 - ( 0 + 0 + 0 + 0) - SUM(lin 57 : 59) =","= 0 - ( 0 + 0 + 0 + 0) - SUM(lin 57 : 59) =","= 0 - ( 0 + 0 + 0 + 0) - SUM(lin 57 : 59) =","= 0 - ( 0 + 0 + 0 + 0) - SUM(lin 57 : 59) =","= 0 - ( 0 + 0 + 0 + 0) - SUM(lin 57 : 59) =","= 0 - ( 0 + 0 + 0 + 0) - SUM(lin 57 : 59) =","= 0 - ( 0 + 0 + 0 + 0) - SUM(lin 57 : 59) =",{"$f":"\"= \"&S70&\" - ( \"&S91&\" + \"&S86&\" + \"&S88&\" + \"&S99&\") - SUM(lin 57 : 59) =\"","v":"= 0 - ( 0 + 0 + 0 + 0) - SUM(lin 57 : 59) ="},{"$f":"\"= \"&T70&\" - ( \"&T91&\" + \"&T86&\" + \"&T88&\" + \"&T99&\") - SUM(lin 57 : 59) =\"","v":"= 0 - ( 0 + 0 + 0 + 0) - SUM(lin 57 : 59) ="},"= 0 - ( 0 + 0 + 0 + 0) - SUM(lin 57 : 59) =","= 0 - ( 0 + 0 + 0 + 0) - SUM(lin 57 : 59) =","= 0 - ( 0 + 0 + 0 + 0) - SUM(lin 57 : 59) =","= 0 - ( 0 + 0 + 0 + 0) - SUM(lin 57 : 59) =","= 0 - ( 0 + 0 + 0 + 0) - SUM(lin 57 : 59) =","= 0 - ( 0 + 0 + 0 + 0) - SUM(lin 57 : 59) =","= 0 - ( 0 + 0 + 0 + 0) - SUM(lin 57 : 59) =","= 0 - ( 0 + 0 + 0 + 0) - SUM(lin 57 : 59) =","= 0 - ( 0 + 0 + 0 + 0) - SUM(lin 57 : 59) =","= 0 - ( 0 + 0 + 0 + 0) - SUM(lin 57 : 59) ="]
[null,51,null,null,null,{"$f":"\"Feriepengeberegningsgrundlag, jan-dec \"&Aar","v":"Feriepengeberegningsgrundlag, jan-dec "}]
[null,null,null,null,null,{"$f":"\"Feriepengeberegningsgrundlag, jan-jul \"&Aar+1","v":"Feriepengeberegningsgrundlag, jan-jul 1"}]

{"sheet":"U","index":12,"n_rows":204,"n_cols":32,"rows_kept":204,"cut":false,"hidden":false,"merged":[[3,0,27,0],[28,0,29,0],[29,2,31,2],[44,2,46,4],[101,6,101,10],[101,18,101,22],[0,2,2,2],[0,3,2,3],[0,4,2,4]]}
["2022-2023",1,"Pensionsg.","BG-afh.","Regu-leret","Lønberegning for: (navn eller initialer)\n - variable løndele i lin. 30-43.","U",{"$f":"G1","v":"U"},{"$f":"H1","v":"U"},"U","U","U","U","U","U","U","U","U","Q",{"$f":"S1","v":"Q"},{"$f":"T1","v":"Q"},"Q","Q","Q","Q","Q","Q","Q","Q","Q","Udfyld gule felter (alle forudfyldte tal i gule felter er eksempler)"]
[null,{"$f":"B1+1","v":2},null,null,null,"Stillingsbetegnelse","Pædagog",{"$f":"G2","v":"Pædagog"},"Pædagog","Pædagog","Pædagog","Pædagog","Pædagog","Pædagog","Pædagog","Pædagog","Pædagog","Pædagog","Stilling",{"$f":"S2","v":"Stilling"},"Stilling","Stilling","Stilling","Stilling","Stilling","Stilling","Stilling","Stilling","Stilling","Stilling"]
[null,{"$f":"B2+1","v":3},null,null,null,"Måned",{"$f":"\"AUG \"&RIGHT(A1,2)+0","v":"AUG 23"},{"$f":"\"SEP \"&RIGHT(A1,2)+0","v":"SEP 23"},{"$f":"\"OKT \"&RIGHT(A1,2)+0","v":"OKT 23"},{"$f":"\"NOV \"&RIGHT(A1,2)+0","v":"NOV 23"},{"$f":"\"DEC \"&RIGHT(A1,2)+0","v":"DEC 23"},{"$f":"\"JAN \"&RIGHT(A1,2)+1","v":"JAN 24"},{"$f":"\"FEB \"&RIGHT(A1,2)+1","v":"FEB 24"},{"$f":"\"MAR \"&RIGHT(A1,2)+1","v":"MAR 24"},{"$f":"\"APR \"&RIGHT(A1,2)+1","v":"APR 24"},{"$f":"\"MAJ \"&RIGHT(A1,2)+1","v":"MAJ 24"},{"$f":"\"JUN \"&RIGHT(A1,2)+1","v":"JUN 24"},{"$f":"\"JUL \"&RIGHT(A1,2)+1","v":"JUL 24"},{"$f":"G3","v":"AUG 23"},{"$f":"H3","v":"SEP 23"},"OKT 23","NOV 23","DEC 23","JAN 24","FEB 24","MAR 24","APR 24","MAJ 24","JUN 24","JUL 24","ansat d. "]
[null,{"$f":"B3+1","v":4},"sæt 'x'","sæt 'x'","sæt 'x'","Del af måned \nantal kalenderdage/månedens kalenderdage",1,{"$f":"G4","v":1},{"$f":"H4","v":1},1,1,1,1,1,1,1,1,1,{"$f":"G4","v":1},1,1,1,1,1,1,1,1,1,1,1,"Hvis ansat 10 oktober: 21/31\nHvis fratrådt 15. april: 15/30",2]
[null,{"$f":"B4+1","v":5},null,null,null,"Pensionsprocent",null,{"$f":"$G5","v":0},0,0,0,0,0,0,0,0,0,0,{"$f":"G5","v":0},0,0,0,0,0,0,0,0,0,0,0,"Skriv ikke procenttegnet, fx 14,7% - skriv 14,70",3]
[null,{"$f":"B5+1","v":6},null,null,null,"Betales hele pensionen af skolen? JA/NEJ","Ja",{"$f":"G6","v":"Ja"},{"$f":"H6","v":"Ja"},"Ja","Ja","Ja","Ja","Ja","Ja","Ja","Ja","Ja",{"$f":"G6","v":"Ja"},"Ja","Ja","Ja","Ja","Ja","Ja","Ja","Ja","Ja","Ja","Ja","Se ansættelsesbrev",4]
[null,null,null,null,null,"Har den ansatte orlov uden løn men med pension?","Nej",{"$f":"G7","v":"Nej"},"Nej","Nej","Nej","Nej","Nej","Nej","Nej","Nej","Nej","Nej"]
[null,{"$f":"B6+1","v":7},null,null,null,"Beregnes feriedifferende mv. efter Ferieaftalen i staten JA, eller efter Ferieloven NEJ","JA",{"$f":"G8","v":"JA"},"JA","JA","JA","JA","JA","JA","JA","JA","JA","JA",{"$f":"G8","v":"JA"},{"$f":"H8","v":"JA"},"JA","JA","JA","JA","JA","JA","JA","JA","JA","JA","Ferieloven: mindst 20% differende, Ferieaftalen: enhver differende",5]
[null,{"$f":"B8+1","v":8},null,null,null,"Procentregulering +1",1.1553389999999999,1.1553389999999999,1.159197,1.159197,{"$f":"J9","v":1.159197},1.159197,1.159197,1.159197,null,{"$f":"O9","v":0},{"$f":"P9","v":0},{"$f":"Q9","v":0},{"$f":"G9","v":1.1553389999999999},1.1553389999999999,1.159197,1.159197,1.159197,1.159197,1.159197,1.159197,0,0,0,0,null,6]
[null,9,null,null,null,"Skolens stedtillægsområde",null,{"$f":"G10","v":0},0,0,0,0,0,0,0,0,0,0,{"$f":"G10","v":0},0,0,0,0,0,0,0,0,0,0,0]
[null,10,null,null,null,"Beskæftigelsesgrad aktuel (Beskæftigelsesgrad løn beregnes ud fra)",null,{"$f":"G11","v":0},0,0,0,0,0,0,0,{"$f":"O11","v":0},0,0,0,0,0,0,0,0,0,0,0,0,0,0]
[null,{"$f":"B11+1","v":11},"x","x","x","Skalatrin",null,{"$f":"G12","v":0},0,0,0,0,0,0,0,0,0,0,0,0,0,0,0,0,0,0,0,0,0,0,"Statens løntabel eller HK-overenskomst-løntrin"]
[null,12,"x","x","x",{"$f":"\"Fast aftalt årlig løn \"&IF(E13<>\"\",\"i grundbeløb pr. 31.03.2012\",\"(ikke reguleret)\")","v":"Fast aftalt årlig løn i grundbeløb pr. 31.03.2012"},null,0,0,0,0,0,0,0,{"$f":"N13","v":0},0,0,0,0,0,0,0,0,0,0,0,0,0,0,0]
[null,13,"x",null,"x","Årligt sousdheftillæg eller lign. i grundbeløb",null,{"$f":"G14","v":0},0,0,0,0,0,0,0,0,0,0,0,0,0,0,0,0,0,0,0,0,0,0]
[null,14,"x",null,"x","Årligt funktionsstillæg i grundbeløb 1",null,{"$f":"G15","v":0},0,0,0,0,0,0,0,0,0,0,0,0,0,0,0,0,0,0,0,0,0,0,null,"Ja"]
[null,15,"x",null,"x","Årligt funktionsstillæg i grundbeløb 2",null,{"$f":"G16","v":0},0,0,0,0,0,0,0,0,0,0,0,0,0,0,0,0,0,0,0,0,0,0,null,"Nej"]
[null,16,"x",null,"x","Årligt funktionsstillæg i grundbeløb 3",null,{"$f":"G17","v":0},0,0,0,0,0,0,0,0,0,0,0,0,0,0,0,0,0,0,0,0,0,0]
[null,17,"x","x","x","Årligt kvalifikationsstillæg i grundbeløb 1",null,0,0,0,0,0,0,0,0,0,0,0,0,0,0,0,0,0,0,0,0,0,0,0]
[null,18,"x","x","x","Årligt kvalifikationsstillæg i grundbeløb 2",null,0,0,0,0,0,0,0,0,0,0,0,0,0,0,0,0,0,0,0,0,0,0,0]
[null,19,"x","x","x","Årligt kvalifikationsstillæg i grundbeløb 3",null,0,0,0,0,0,0,0,0,0,0,0,0,0,0,0,0,0,0,0,0,0,0,0]
[null,20,"x","x","x","Udligningstillæg i årligt grundbeløb v. 100% BG",null,0,0,0,0,0,0,0,0,0,0,0,0,0,0,0,0,0,0,0,0,0,0,0]
[null,21,null,null,null,"Gruppelivsordning betalt af af skolen som et løntillæg. Skriv det månedlige beløb!",null,0,0,0,0,0,0,0,0,0,0,0,0,0,0,0,0,0,0,0,0,0,0,0,"Spedielt ved virksomhedsoverdragelse"]
[null,22,null,null,"x","Lokalaftalt fast ulempegodtgørelse pr. måned. - (pr. 31. marts 2012)",null,{"$f":"G23","v":0},0,0,0,0,0,0,{"$f":"N23","v":0},0,0,0,0,0,0,0,0,0,0,0,0,0,0,0,"I stedet for variable arbejdstidsbestemte tillæg, iflg lokalaftale"]
[null,23,null,null,null,"Planlagte feriedage",null,null,5,null,null,null,5,null,null,null,null,15,{"$f":"G24","v":0},{"$f":"H24","v":0},5,0,0,0,5,0,0,0,0,15,"Normalt 15 dage i sommerhalvåret og 10 dage i vinterhalvåret"]
[null,24,null,null,null,".. heraf antal feriedage,\nhvortil der ikke er optjent ferieret",null,null,null,null,null,null,null,null,null,null,null,0,0,0,0,0,0,0,0,0,0,0,0,0,"Ferieloven: fradrag 4,8% pr. dag, Ferieaftalen: 4,62% pr. dag"]
[null,25,null,null,null,"Feriedifference pensionsgivende(udregnes i særskilt regneark)",null,null,null,null,null,null,null,null,null,null,null,null,0,0,0,0,0,0,0,0,0,0,0,0,"Benyttes ved beregning af feriedifferende."]
[null,26,null,null,null,"Feriedifference IKKE pensionsgivende(udregnes i særskilt regneark)",null,null,null,null,null,null,null,null,null,null,null,null,0,0,0,0,0,0,0,0,0,0,0,0,"Benyttes ved beregning af feriedifference'"]
[null,27,null,null,null,"Egenbetalte fridage",null,null,null,null,null,null,null,null,null,null,null,null,0,0,0,0,0,0,0,0,0,0,0,0,"Løn- og pensionsfradrag beregnes i lin 60 og 75"]
["Skatteop-lysninger",28,null,null,null,"Skatteprocent",null,{"$f":"G29","v":0},0,0,0,0,0,0,0,0,0,0,0,0,0,0,0,0,0,0,0,0,0,0,"Skriv ikke procenttegnet, fx 42% - skriv 42"]
[null,29,"km-\ntak-ster",{"$f":"LEFT($A$1,4)+1","v":2023},{"$f":"LEFT($A$1,4)+2","v":2024},"Månedligt skattefradrag",null,0,0,0,0,0,0,0,0,0,0,0,0,0,0,0,0,0,0,0,0,0,0,0]
[null,30,null,2.19,null,"Km.godtgørelse, lav sats (skattefri), antal km:",null,null,null,null,null,null,null,null,null,null,null,null,0,0,0,0,0,0,0,0,0,0,0,0]
[null,31,null,3.73,null,"Km.godtgørelse, høj sats (skattefri), antal km:",null,null,null,null,null,null,null,null,null,null,null,null,0,0,0,0,0,0,0,0,0,0,0,0]
[null,32,null,null,null,"Timedagpenge (skattefri) - Beregn selv",null,null,null,null,null,null,null,null,null,null,null,null,0,0,0,0,0,0,0,0,0,0,0,0,"Se løntabel"]
[null,33,null,null,null,"Jubilæumsgratiale (skattefri op til 8.000 kr.)",null,null,null,null,null,null,null,null,null,null,null,null,0,0,0,0,0,0,0,0,0,0,0,0,"Se løntabel"]
[null,34,null,null,null,"Arbejds- og arbejdstidsbestemte tillæg. Beregn selv",null,null,null,null,null,null,null,null,null,null,null,null,0,0,0,0,0,0,0,0,0,0,0,0,"”Natpenge” iflg skema, hvis ikke der er lokalaftalt godtgørelse"]
[null,35,"x",null,null,"Merarbejdsbetaling. Beregn selv",null,null,null,null,null,null,null,null,null,null,null,null,0,0,0,0,0,0,0,0,0,0,0,0,"Efter årsopgørelse eller ved fratræden"]
[null,36,null,null,null,"Overtidsbetaling. Beregn selv",null,null,null,null,null,null,null,null,null,null,null,null,0,0,0,0,0,0,0,0,0,0,0,0,"Efter årsopgørelse eller ved fratræden"]
[null,37,null,null,null,"Særlige feriedage til udbetaling. Beregn selv",null,null,null,null,null,null,null,null,null,null,null,null,{"$f":"G38","v":0},0,0,0,0,0,0,0,0,0,0,0,"Efter årsafslutning eller ved fratræden. Se pjeden \"Ferievejledning\""]
[null,38,null,null,null,{"$f":"\"Særlig ferietillæg \"&IF(G8=\"ja\",\"1,5%\",\"1,0%\"&\"\")","v":"Særlig ferietillæg 1,5%"},null,null,null,null,null,null,null,null,null,0,null,null,0,0,0,0,0,0,0,0,0,0,0,0]
[null,39,"x",null,null,"Resultatlønstillæg",null,null,null,null,null,null,null,null,null,null,null,null,0,0,0,0,0,0,0,0,0,0,0,0]
[null,40,"x",null,null,"Engangs nylønstillæg",null,null,null,null,null,null,null,null,null,null,null,null,0,0,0,0,0,0,0,0,0,0,0,0]
[null,41,"x",null,null,"Praktiklærervederlag",null,null,null,null,null,null,null,null,null,null,null,null,0,0,0,0,0,0,0,0,0,0,0,0,{"$f":"45*5*7.4","v":1665}]
[null,42,null,null,null,"andet",null,null,null,null,null,null,null,null,null,null,null,null,0,0,0,0,0,0,0,0,0,0,0,0]
[null,43,null,null,null,"andet",null,null,null,null,null,null,null,null,null,null,null,null,0,0,0,0,0,0,0,0,0,0,0,0]
[null,44,"Disse tre linjer fradrages i den disponible løn",null,null,"gavekasse",null,{"$f":"G45","v":0},{"$f":"H45","v":0},0,0,0,0,0,0,0,0,0,0,0,0,0,0,0,0,0,0,0,0,0,"Fx: 'Kaffekasse'"]
[null,45,null,null,null,"kaffekasse",null,{"$f":"G46","v":0},0,0,0,0,0,0,0,0,0,0,0,0,0,0,0,0,0,0,0,0,0,0,"Fx: 'Gavekasse'"]
[null,46,null,null,null,"Fagforenings-kontingent",null,{"$f":"G47","v":0},0,0,0,0,0,0,0,0,0,0,0,0,0,0,0,0,0,0,0,0,0,0,"FX: 'Fagforeningskontingent'"]
[{"$f":"A3","v":"1904-01-01"},{"$f":"B47+1","v":47},null,null,null,"Måned",{"$f":"G3","v":"AUG 23"},"SEP 23","OKT 23","NOV 23","DEC 23","JAN 24","FEB 24","MAR 24","APR 24","MAJ 24","JUN 24","JUL 24","AUG 23","SEP 23","OKT 23","NOV 23","DEC 23","JAN 24","FEB 24","MAR 24","APR 24","MAJ 24","JUN 24","JUL 24","SUM"]
[null,48,{"$f":"(C12<>\"\")*1","v":1},1,1,{"$f":"IF(ISNUMBER(G12),\"Skalatrinsløn\",\"HK-løn\")","v":"HK-løn"},{"$f":"IF(G7=\"Ja\",0,ROUND(IF(AND(G$11>0,G12>0),ROUND((ROUND(VLOOKUP(G12,Skalalontabel12,G10,0)*G9,0))/12,2),0)*G11*G4,2))","v":0},0,0,0,0,0,0,0,0,0,0,0,{"$f":"ROUND(IF(AND(S$11>0,S12>0),ROUND((ROUND(VLOOKUP(S12,Skalalontabel12,S10,0)*S9,0))/12,2),0)*S11*S4,2)","v":0},0,0,0,0,0,0,0,0,0,0,0,{"$f":"SUM(G49:R49)","v":0}]
[null,49,1,1,1,"Fast løn",{"$f":"IF(G7=\"Ja\",0,ROUND(IF(G13>0,G13/12)*IF($D13<>\"\",G$11,1)*IF($E13<>\"\",G$9,1)*G4,2))","v":0},0,0,0,0,0,0,0,0,0,0,0,{"$f":"ROUND(IF(S13>0,S13/12)*IF($D13<>\"\",S$11,1)*IF($E13<>\"\",S$9,1)*S4,2)","v":0},0,0,0,0,0,0,0,0,0,0,0,0]
[null,50,1,0,1,"Souscheftillæg ell. lign.",{"$f":"IF(G7=\"Ja\",0,ROUND(IF(AND(G$11>0,G14>0),G14/12)*IF($D14<>\"\",G$11,1)*IF($E14<>\"\",G$9,1)*G4,2))","v":0},0,0,0,0,0,0,0,0,0,0,0,{"$f":"ROUND(IF(AND(S$11>0,S14>0),S14/12)*IF($D14<>\"\",S$11,1)*IF($E14<>\"\",S$9,1)*S4,2)","v":0},0,0,0,0,0,0,0,0,0,0,0,0]
[null,51,1,0,1,"Funktionstillæg 1",{"$f":"IF(G7=\"Ja\",0,ROUND(IF(AND(G$11>0,G15>0),G15/12)*IF($D15<>\"\",G$11,1)*IF($E15<>\"\",G$9,1)*G4,2))","v":0},0,0,0,0,0,0,0,0,0,0,0,{"$f":"ROUND(IF(AND(S$11>0,S15>0),S15/12)*IF($D15<>\"\",S$11,1)*IF($E15<>\"\",S$9,1)*S4,2)","v":0},0,0,0,0,0,0,0,0,0,0,0,0]
[null,52,1,0,1,"Funktionstillæg 2",{"$f":"IF(G7=\"Ja\",0,ROUND(IF(AND(G$11>0,G16>0),G16/12)*IF($D16<>\"\",G$11,1)*IF($E16<>\"\",G$9,1)*G4,2))","v":0},0,0,0,0,0,0,0,0,0,0,0,{"$f":"ROUND(IF(AND(S$11>0,S16>0),S16/12)*IF($D16<>\"\",S$11,1)*IF($E16<>\"\",S$9,1)*S4,2)","v":0},0,0,0,0,0,0,0,0,0,0,0,0]
[null,53,1,0,1,"Funktionstillæg 3",{"$f":"IF(G7=\"Ja\",0,ROUND(IF(AND(G$11>0,G17>0),G17/12)*IF($D17<>\"\",G$11,1)*IF($E17<>\"\",G$9,1)*G4,2))","v":0},0,0,0,0,0,0,0,0,0,0,0,{"$f":"ROUND(IF(AND(S$11>0,S17>0),S17/12)*IF($D17<>\"\",S$11,1)*IF($E17<>\"\",S$9,1)*S4,2)","v":0},0,0,0,0,0,0,0,0,0,0,0,0]
[null,54,1,1,1,"Kvalifikationstillæg 1",{"$f":"IF(G7=\"Ja\",0,ROUND(IF(AND(G$11>0,G18>0),G18/12)*IF($D18<>\"\",G$11,1)*IF($E18<>\"\",G$9,1)*G4,2))","v":0},0,0,0,0,0,0,0,0,0,0,0,{"$f":"ROUND(IF(AND(S$11>0,S18>0),S18/12)*IF($D18<>\"\",S$11,1)*IF($E18<>\"\",S$9,1)*S4,2)","v":0},0,0,0,0,0,0,0,0,0,0,0,0]
[null,55,1,1,1,"Kvalifikationstillæg 2",{"$f":"IF(G7=\"Ja\",0,ROUND(IF(AND(G$11>0,G19>0),G19/12)*IF($D19<>\"\",G$11,1)*IF($E19<>\"\",G$9,1)*G4,2))","v":0},0,0,0,0,0,0,0,0,0,0,0,{"$f":"ROUND(IF(AND(S$11>0,S19>0),S19/12)*IF($D19<>\"\",S$11,1)*IF($E19<>\"\",S$9,1)*S4,2)","v":0},0,0,0,0,0,0,0,0,0,0,0,0]
[null,56,1,1,1,"Kvalifikationstillæg 3",{"$f":"IF(G7=\"Ja\",0,ROUND(IF(AND(G$11>0,G20>0),G20/12)*IF($D20<>\"\",G$11,1)*IF($E20<>\"\",G$9,1)*G$4,2))","v":0},0,0,0,0,0,0,0,0,0,0,0,{"$f":"ROUND(IF(AND(S$11>0,S20>0),S20/12)*IF($D20<>\"\",S$11,1)*IF($E20<>\"\",S$9,1)*S$4,2)","v":0},0,0,0,0,0,0,0,0,0,0,0,0]
[null,57,1,1,1,"Udligningstillæg",{"$f":"IF(G7=\"Ja\",0,ROUND(IF(AND(G$11>0,G21>0),G21/12)*IF($D21<>\"\",G$11,1)*IF($E21<>\"\",G$9,1)*G$4,2))","v":0},0,0,0,0,0,0,0,0,0,0,0,0,0,0,0,0,0,0,0,0,0,0,0,0]
[null,58,null,null,null,"Gruppelivstillæg",{"$f":"IF(G7=\"Ja\",0,ROUND(IF(AND(G$11>0,G22>0),G22)*IF($D22<>\"\",G$11,1)*IF($E22<>\"\",G$9,1)*G$4,2))","v":0},0,0,0,0,0,0,0,0,0,0,0,{"$f":"ROUND(IF(AND(S$11>0,S22>0),S22)*IF($D22<>\"\",S$11,1)*IF($E22<>\"\",S$9,1)*S$4,2)","v":0},0,0,0,0,0,0,0,0,0,0,0,0]
[null,59,null,{"$f":"(D23<>\"\")*1","v":0},{"$f":"(E23<>\"\")*1","v":1},"Lokalaftalt ulempegodtgørelse",{"$f":"IF(G7=\"Ja\",0,ROUND(IF(AND(G$11>0,G23>0),G23)*IF($D23<>\"\",G$11,1)*IF($E23<>\"\",G$9,1)*G$4,2))","v":0},0,0,0,0,0,0,0,0,0,0,0,0,0,0,0,0,0,0,0,0,0,0,0,0]
[null,60,1,null,null,"Lønfradrag for ikke optjent ferie mv.",{"$f":"-ROUND((MAX(0,MIN(S24,S25*1))+S28)*IF(S8=\"JA\",4.62%,4.8%)*(S49+S50+S51+S52+S53+S54+S55+S56+S57+S58+S60)*S$4,2)","v":0},0,0,0,0,0,0,0,0,0,0,0,{"$f":"-ROUND((MAX(0,MIN(S24,S25*1))+S28)*IF(S8=\"JA\",4.62%,4.8%)*(S49+S50+S51+S52+S53+S54+S55+S56+S57+S58+S60)*S$4,2)","v":0},0,0,0,0,0,0,0,0,0,0,0,0]
[null,61,1,null,null,"Feriedifference pensionsgivende(udregnes i særskilt fane)",{"$f":"G26","v":0},{"$f":"H26","v":0},0,0,0,0,0,0,0,0,0,0,{"$f":"S26","v":0},{"$f":"T26","v":0},0,0,0,0,0,0,0,0,0,0,0]
[null,62,null,null,null,"Feriedifference IKKE pensionsgivende(udregnes i særskilt fane)",{"$f":"G27","v":0},0,0,0,0,0,0,0,0,0,0,0,{"$f":"S27","v":0},0,0,0,0,0,0,0,0,0,0,0]
[null,63,null,null,null,"Engangsudbetalinger iflg. specifikation",{"$f":"SUM(G35:G44)","v":0},{"$f":"SUM(H35:H44)","v":0},0,0,0,0,0,0,0,0,0,0,{"$f":"SUM(S35:S44)","v":0},{"$f":"SUM(T35:T44)+MAX(T34*T9-8000,0)","v":0},0,0,0,0,0,0,0,0,0,0,0]
[null,64,null,null,null,"Skattefrie km. Godtgørelse lav sats",{"$f":"G31*$D$31","v":0},{"$f":"H31*$D$31","v":0},0,0,0,0,0,0,0,0,0,0,{"$f":"S31*$D$31","v":0},{"$f":"T31*$D$31","v":0},0,0,0,0,0,0,0,0,0,0]
[null,65,null,null,null,"Skattefrie km. Godtgørelse høj sats",{"$f":"G32*$D$32","v":0},{"$f":"H32*$D$32","v":0},0,0,0,0,0,0,0,0,0,0,{"$f":"S32*$D$32","v":0},{"$f":"T32*$D$32","v":0},0,0,0,0,0,0,0,0,0,0]
[null,{"$f":"B64+1","v":64},null,null,null,"Timedagpenge(skattefrie)",{"$f":"IF(G33>0,G33,0)","v":0},{"$f":"IF(H33>0,H33,0)","v":0},0,0,0,0,0,0,0,0,0,0,{"$f":"IF(S33>0,S33,0)","v":0},{"$f":"IF(T33>0,T33,0)","v":0},0,0,0,0,0,0,0,0,0,0,0]
[null,65,null,null,null,"Skattefri jubilæumsgratiale",{"$f":"MIN(8000,G34*G9)","v":0},0,0,0,0,0,0,0,0,0,0,0,0,0,0,0,0,0,0,0,0,0,0,0]
[null,66,null,null,null,"Skattepligtig jubilæumsgratiaale",{"$f":"IF(G34>0,MAX(G34*G9-8000,0),0)","v":0},0,0,0,0,0,0,0,0,0,0,0,0,0,0,0,0,0,0,0,0,0,0,0]
[null,67,null,null,null,"Bruttoløn (ekskl. pensionstillæg og ATP)",{"$f":"SUM(G49:G69)","v":0},{"$f":"SUM(H49:H67)","v":0},0,0,0,0,0,0,0,0,0,0,{"$f":"SUM(S49:S69)","v":0},{"$f":"SUM(T49:T67)","v":0},0,0,0,0,0,0,0,0,0,0,0]
[null,{"$f":"B70+1","v":68},null,null,null,{"$f":"\"Pensionstillæg af pensionsg. \"&IF(ISNUMBER(G12),\"Skalatrinsløn\",\"HK-løn\")","v":"Pensionstillæg af pensionsg. HK-løn"},{"$f":"IF(G7=\"Ja\",0,ROUND(IF(AND(G$11>0,G12>0),ROUND((ROUND(VLOOKUP(G12,Skalalontabel12,7,0)*G9,0))/12,2),0)*G11*G4*G5/100/3,2))","v":0},0,0,0,0,0,0,0,0,0,0,0,{"$f":"ROUND(IF(AND(S$11>0,S12>0),ROUND((ROUND(VLOOKUP(S12,Skalalontabel12,7,0)*S9,0))/12,2),0)*S11*S4*S5/100/3,2)","v":0},0,0,0,0,0,0,0,0,0,0,0,0]
[null,69,null,null,null,"Pensionstillæg fast løn",{"$f":"ROUND(G50*$C50*G$5/100/3,2)","v":0},0,0,0,0,0,0,0,0,0,0,0,0,0,0,0,0,0,0,0,0,0,0,0,0]
[null,70,null,null,null,"Pensionstillæg souscheftillæg",0,0,0,0,0,0,0,0,0,0,0,0,0,0,0,0,0,0,0,0,0,0,0,0,0]
[null,71,null,null,null,"Pensionstillæg Funktionstillæg 1",0,0,0,0,0,0,0,0,0,0,0,0,0,0,0,0,0,0,0,0,0,0,0,0,0]
[null,72,null,null,null,"Pensionstillæg Funktionstillæg 2",0,0,0,0,0,0,0,0,0,0,0,0,0,0,0,0,0,0,0,0,0,0,0,0,0]
[null,73,null,null,null,"Pensionstillæg Funktionstillæg 3",0,0,0,0,0,0,0,0,0,0,0,0,0,0,0,0,0,0,0,0,0,0,0,0,0]
[null,74,null,null,null,"Pensionstillæg Kvalifikationstillæg 1",0,0,0,0,0,0,0,0,0,0,0,0,0,0,0,0,0,0,0,0,0,0,0,0,0]
[null,75,null,null,null,"Pensionstillæg Kvalifikationstillæg 2",0,0,0,0,0,0,0,0,0,0,0,0,0,0,0,0,0,0,0,0,0,0,0,0,0]
[null,76,null,null,null,"Pensionstillæg Kvalifikationstillæg 3",0,0,0,0,0,0,0,0,0,0,0,0,0,0,0,0,0,0,0,0,0,0,0,0,0]
[null,77,null,null,null,"Pensionstillæg af udligningstillæg",0,0,0,0,0,0,0,0,0,0,0,0,0,0,0,0,0,0,0,0,0,0,0,0,0]
[null,78,null,null,null,"Fradrag i pensionstillæg for ikke optjent ferie mv.",{"$f":"ROUND(G61*$C61*G$5/100/3,2)","v":0},0,0,0,0,0,0,0,0,0,0,0,0,0,0,0,0,0,0,0,0,0,0,0,0]
[null,79,null,null,null,"Pensionstillæg af feriedifference",0,0,0,0,0,0,0,0,0,0,0,0,0,0,0,0,0,0,0,0,0,0,0,0,0]
[null,80,null,null,null,"Pensionstillæg af pensiong. engangstillæg",{"$f":"ROUND(G36*G5/100/3+G40*($C40<>\"\")*G5/100/3+G41*($C41<>\"\")*G5/100/3+G42*($C42<>\"\")*G5/100/3+G43*($C43<>\"\")*G5/100/3+G44*($C44<>\"\")*G5/100/3,2)","v":0},0,0,0,0,0,0,0,0,0,0,0,0,0,0,0,0,0,0,0,0,0,0,0,0]
[null,null,null,null,null,"Ekstra pension hvis orlov uden løn",{"$f":"IF(G7=\"Ja\",SUM(S71:S82)-SUM(G71:G83),0)","v":0},{"$f":"IF(H7=\"Ja\",SUM(T71:T83)-SUM(H71:H83),0)","v":0},{"$f":"IF(I7=\"Ja\",SUM(U71:U82)-SUM(I71:I83),0)","v":0},0,0,0,0,0,0,0,0,0]
[null,{"$f":"B83+1","v":81},null,null,null,"Pensionstillæg i alt",{"$f":"SUM(G71:G84)","v":0},{"$f":"SUM(H71:H84)","v":0},0,0,0,0,0,0,0,0,0,0,{"$f":"SUM(S71:S83)","v":0},{"$f":"SUM(T71:T83)","v":0},0,0,0,0,0,0,0,0,0,0,0]
[null,82,null,null,null,"Egetbidrag til ATP",{"$f":"ROUND(G98/3,2)","v":0},{"$f":"ROUND(H98/3,2)","v":0},0,0,0,0,0,0,0,0,0,0,{"$f":"ROUND(S98/3,2)","v":0},{"$f":"ROUND(T98/3,2)","v":0},0,0,0,0,0,0,0,0,0,0,{"$f":"SUM(G86:R86)","v":0}]
[null,83,null,null,null,"AMB-grundlag",{"$f":"IF(G6=\"nej\",G85*-1)+SUM(G49:G64)-G86+G69","v":0},0,0,0,0,0,0,0,0,0,0,0,{"$f":"IF(S6=\"nej\",S85*-1)+SUM(S49:S64)-S86","v":0},0,0,0,0,0,0,0,0,0,0,0,{"$f":"SUM(G87:R87)","v":0}]
[null,84,null,null,null,"AM-bidrag",{"$f":"ROUND(G87*8%,0)","v":0},{"$f":"ROUND(H87*8%,0)","v":0},0,0,0,0,0,0,0,0,0,0,{"$f":"ROUND(S87*8%,0)","v":0},{"$f":"ROUND(T87*8%,0)","v":0},0,0,0,0,0,0,0,0,0,0,0]
[null,85,null,null,null,"A-indkomst",{"$f":"G87-G88","v":0},{"$f":"H87-H88","v":0},0,0,0,0,0,0,0,0,0,0,{"$f":"S87-S88","v":0},{"$f":"T87-T88","v":0},0,0,0,0,0,0,0,0,0,0,0]
[null,86,null,null,null,"Skattegrundlag",{"$f":"FLOOR(G89-G30,10)","v":0},{"$f":"FLOOR(H89-H30,10)","v":0},0,0,0,0,0,0,0,0,0,0,{"$f":"FLOOR(S89-S30,10)","v":0},{"$f":"FLOOR(T89-T30,10)","v":0},0,0,0,0,0,0,0,0,0,0]
[null,87,null,null,null,"Skat",{"$f":"ROUND(G90*G29/100,0)","v":0},0,0,0,0,0,0,0,0,0,0,0,0,0,0,0,0,0,0,0,0,0,0,0,0]
[null,88,null,null,null,"Feriegodtgørelsesgrundlag ",{"$f":"SUM(G49:G64)","v":0},{"$f":"SUM(H49:H64)","v":0},{"$f":"SUM(I49:I64)","v":0},{"$f":"SUM(J49:J64)","v":0},{"$f":"SUM(K49:K64)","v":0},{"$f":"SUM(L49:L64)","v":0},0,0,0,0,0,0,{"$f":"SUM(S49:S64)","v":0},{"$f":"SUM(T49:T64)","v":0},{"$f":"SUM(U49:U64)","v":0},{"$f":"SUM(V49:V64)","v":0},{"$f":"SUM(W49:W64)","v":0},{"$f":"SUM(X49:X64)","v":0},0,0,0,0,0,0,{"$f":"SUM(H92:P92)","v":0}]
[null,89,null,null,null,{"$f":"\"Feriegodtgørelsesgrundlag, juni-juli \"","v":"Feriegodtgørelsesgrundlag, juni-juli "},null,null,null,null,null,null,null,null,null,null,{"$f":"SUM(Q49:Q64)-Q39","v":0},{"$f":"SUM(R49:R64)-R39","v":0},null,null,null,null,null,null,null,null,null,null,{"$f":"SUM(AC49:AC64)-AC39","v":0},{"$f":"SUM(AD49:AD64)-AD39","v":0},{"$f":"SUM(G93:R93)","v":0}]
[null,90,null,null,null,"Egetbidrag til pensionskasse",{"$f":"G85","v":0},{"$f":"H85","v":0},0,0,0,0,0,0,0,0,0,0,{"$f":"S85","v":0},{"$f":"T85","v":0},0,0,0,0,0,0,0,0,0,0,0]
[null,91,null,null,null,"Arbejdsgiverbidrag til pensionskasse",{"$f":"G94*2","v":0},{"$f":"H94*2","v":0},0,0,0,0,0,0,0,0,0,0,{"$f":"S94*2","v":0},{"$f":"T94*2","v":0},0,0,0,0,0,0,0,0,0,0,0]
[null,92,null,null,null,"Arbejdsgiverbidrag til ATP",{"$f":"G98*2/3","v":0},{"$f":"H98*2/3","v":0},0,0,0,0,0,0,0,0,0,0,{"$f":"S98*2/3","v":0},{"$f":"T98*2/3","v":0},0,0,0,0,0,0,0,0,0,0,0]
[null,93,null,null,null,"Skolens samlede indbetaling til pensionskasse",{"$f":"G94+G95","v":0},{"$f":"H94+H95","v":0},0,0,0,0,0,0,0,0,0,0,{"$f":"S94+S95","v":0},{"$f":"T94+T95","v":0},0,0,0,0,0,0,0,0,0,0,0]
[null,{"$f":"B97+1","v":94},null,null,null,"Skolens samlede indbetaling til ATP",{"$f":"284/3*(((G11*G4)>=9/37)+((G11*G4)>=18/37)+((G11*G4)>=27/37))","v":0},0,0,0,0,{"$f":"297/3*(((L11*L4)>=9/37)+((L11*L4)>=18/37)+((L11*L4)>=27/37))","v":0},{"$f":"297/3*(((M11*M4)>=9/37)+((M11*M4)>=18/37)+((M11*M4)>=27/37))","v":0},0,0,0,0,0,0,0,0,0,0,0,0,0,0,0,0,0,0]
[null,95,null,null,null,"Indbetaling til Gruppeliv",{"$f":"G22","v":0},{"$f":"H22","v":0},0,0,0,0,0,0,0,0,0,0,{"$f":"S22","v":0},{"$f":"T22","v":0},0,0,0,0,0,0,0,0,0,0,0]
[null,96,null,null,null,"Løn til den ansattes disposition",{"$f":"IF(G6=\"nej\",G85*-1)+G70-(G91+G86+G88+G99)-G45-G46-G47","v":0},0,0,0,0,0,0,0,0,0,0,0,0,0,0,0,0,0,0,0,0,0,0,0,{"$f":"SUM(G100:R100)","v":0}]
[null,97,null,null,null,{"$f":"\"Feriepengeberegningsgrundlag, jan-dec \"&Aar","v":"Feriepengeberegningsgrundlag, jan-dec "},{"$f":"(SUM(G49:G64)+G85+G86)*(1-12/260*G24)","v":0},{"$f":"(SUM(H49:H64)+H85+H86)*(1-12/260*H24)","v":0},{"$f":"(SUM(I49:I64)+I85+I86)*(1-12/260*I24)","v":0},{"$f":"(SUM(J49:J64)+J85+J86)*(1-12/260*J24)","v":0},{"$f":"(SUM(K49:K64)+K85+K86)*(1-12/260*K24)","v":0},"Kalenderårets sum benyttes ved fratræden og særlige feriedage",null,null,null,null,null,null,{"$f":"(SUM(S49:S64)+S85+S86)*(1-12/260*S24)","v":0},{"$f":"(SUM(T49:T64)+T85+T86)*(1-12/260*T24)","v":0},{"$f":"(SUM(U49:U64)+U85+U86)*(1-12/260*U24)","v":0},{"$f":"(SUM(V49:V64)+V85+V86)*(1-12/260*V24)","v":0},{"$f":"(SUM(W49:W64)+W85+W86)*(1-12/260*W24)","v":0},"Kalenderårets sum benyttes ved fratræden og særlige feriedage",null,null,null,null,null,null,{"$f":"A101+SUM(G101:K101)","v":0}]
[null,{"$f":"B101+1","v":98},null,null,null,{"$f":"\"Feriepengeberegningsgrundlag, jan-jul \"&Aar","v":"Feriepengeberegningsgrundlag, jan-jul "},"Kalenderårets sum benyttes ved fratræden og særlige feriedage",null,null,null,null,{"$f":"(SUM(L$49:L$64)+L$85+L86)*(1-12/260*L$24)","v":0},{"$f":"(SUM(M$49:M$64)+M$85+M86)*(1-12/260*M$24)","v":0},0,0,0,0,0,"Kalenderårets sum benyttes ved fratræden og særlige feriedage",null,null,null,null,{"$f":"(SUM(X$49:X$64)+X$85+X86)*(1-12/260*X$24)","v":0},{"$f":"(SUM(Y$49:Y$64)+Y$85+Y86)*(1-12/260*Y$24)","v":0},0,0,0,0,0,0]
[null,{"$f":"B102+1","v":99},null,null,null,"BG-afhængige løndele",{"$f":"G49*$D49+G50*$D50+G51*$D51+G52*$D52+G53*$D53+G54*$D54+G55*$D55+G56*$D56+G57*$D57+G58*$D58+G60*$D60","v":0},0,0,0,0,0,0,0,0,0,0,0,0,0,0,0,0,0,0,0,0,0,0,0]
[null,{"$f":"B103+1","v":100},null,null,null,"BG-difference >=20%",{"$f":"IF(G11>0,IF(G11>G26,(G11-G26)/G26>=20%,(G11-G26)/G26<=-20%),\"\")","v":""},"","","","","","","","",{"$f":"IF(P11>0,IF(P11>P27,(P11-P27)/P27>=20%,(P11-P27)/P27<=-20%),\"\")","v":""},{"$f":"IF(Q11>0,IF(Q11>Q27,(Q11-Q27)/Q27>=20%,(Q11-Q27)/Q27<=-20%),\"\")","v":""},{"$f":"IF(R11>0,IF(R11>R27,(R11-R27)/R27>=20%,(R11-R27)/R27<=-20%),\"\")","v":""},{"$f":"IF(S11>0,IF(S11>S26,(S11-S26)/S26>=20%,(S11-S26)/S26<=-20%),\"\")","v":""},"","","","","","","","",{"$f":"IF(AB11>0,IF(AB11>AB27,(AB11-AB27)/AB27>=20%,(AB11-AB27)/AB27<=-20%),\"\")","v":""},{"$f":"IF(AC11>0,IF(AC11>AC27,(AC11-AC27)/AC27>=20%,(AC11-AC27)/AC27<=-20%),\"\")","v":""},{"$f":"IF(AD11>0,IF(AD11>AD27,(AD11-AD27)/AD27>=20%,(AD11-AD27)/AD27<=-20%),\"\")","v":""}]
[]
[]
[]
[]
[]
[]
[]
[]
[]
[]
[]
[]
[]
[]
[]
[]
[]
[]
[]
[]
[]
[]
[]
[]
[]
[]
[]
[]
[]
[]
[]
[]
[]
[]
[]
[]
[]
[]
[]
[]
[]
[]
[]
[]
[]
[]
[]
[]
[]
[null,{"$f":"B153+1","v":1}]
[null,2,null,null,null,{"$f":"IF(ISNUMBER(G1),\"Skalatrinsløn\",\"HK-løn\")","v":"HK-løn"},{"$f":"\"= \"&TEXT(ROUND(VLOOKUP(G12,Skalalontabel12,G10,0)*G9,0),\"#.000\")&\" / 12 * \"&TEXT(G11,\"0,0000\")&\" * \"&TEXT(G$4,\"#0/#0\")&\" =\"","v":{"$error":"#N/A"}},{"$error":"#N/A"},{"$error":"#N/A"},{"$error":"#N/A"},{"$error":"#N/A"},{"$error":"#N/A"},{"$error":"#N/A"},{"$error":"#N/A"},{"$error":"#N/A"},{"$error":"#N/A"},{"$error":"#N/A"},{"$error":"#N/A"},{"$error":"#N/A"},{"$error":"#N/A"},{"$error":"#N/A"},{"$error":"#N/A"},{"$error":"#N/A"},{"$error":"#N/A"},{"$error":"#N/A"},{"$error":"#N/A"},{"$error":"#N/A"},{"$error":"#N/A"},{"$error":"#N/A"},{"$error":"#N/A"}]
[null,3,null,null,null,"Fast løn",{"$f":"\"= \"&TEXT(G13,\"#.000,00\")&\" / 12 \"&IF($D50>0,\" * \"&TEXT(G$11,\"0,0000\"),\"\")&IF($E50>0,\" * \"&G$9,\"\")&\" * \"&TEXT(G$4,\"#0/#0\")&\" =\"","v":"= 000,00 / 12  * 0,0000 * 1,155339 * 1/1 ="},"= 000,00 / 12  * 0,0000 * 1,155339 * 1/1 =","= 000,00 / 12  * 0,0000 * 1,159197 * 1/1 =","= 000,00 / 12  * 0,0000 * 1,159197 * 1/1 =","= 000,00 / 12  * 0,0000 * 1,159197 * 1/1 =","= 000,00 / 12  * 0,0000 * 1,159197 * 1/1 =","= 000,00 / 12  * 0,0000 * 1,159197 * 1/1 =","= 000,00 / 12  * 0,0000 * 1,159197 * 1/1 =","= 000,00 / 12  * 0,0000 *  * 1/1 =","= 000,00 / 12  * 0,0000 * 0 * 1/1 =","= 000,00 / 12  * 0,0000 * 0 * 1/1 =","= 000,00 / 12  * 0,0000 * 0 * 1/1 =","= 000,00 / 12  * 0,0000 * 1,155339 * 1/1 =","= 000,00 / 12  * 0,0000 * 1,155339 * 1/1 =","= 000,00 / 12  * 0,0000 * 1,159197 * 1/1 =","= 000,00 / 12  * 0,0000 * 1,159197 * 1/1 =","= 000,00 / 12  * 0,0000 * 1,159197 * 1/1 =","= 000,00 / 12  * 0,0000 * 1,159197 * 1/1 =","= 000,00 / 12  * 0,0000 * 1,159197 * 1/1 =","= 000,00 / 12  * 0,0000 * 1,159197 * 1/1 =","= 000,00 / 12  * 0,0000 * 0 * 1/1 =","= 000,00 / 12  * 0,0000 * 0 * 1/1 =","= 000,00 / 12  * 0,0000 * 0 * 1/1 =","= 000,00 / 12  * 0,0000 * 0 * 1/1 ="]
[null,4,null,null,null,"Sousdheftillæg","= 000,00 / 12  * 1,155339 * 1/1 =","= 000,00 / 12  * 1,155339 * 1/1 =","= 000,00 / 12  * 1,159197 * 1/1 =","= 000,00 / 12  * 1,159197 * 1/1 =","= 000,00 / 12  * 1,159197 * 1/1 =","= 000,00 / 12  * 1,159197 * 1/1 =","= 000,00 / 12  * 1,159197 * 1/1 =","= 000,00 / 12  * 1,159197 * 1/1 =","= 000,00 / 12  *  * 1/1 =","= 000,00 / 12  * 0 * 1/1 =","= 000,00 / 12  * 0 * 1/1 =","= 000,00 / 12  * 0 * 1/1 =","= 000,00 / 12  * 1,155339 * 1/1 =","= 000,00 / 12  * 1,155339 * 1/1 =","= 000,00 / 12  * 1,159197 * 1/1 =","= 000,00 / 12  * 1,159197 * 1/1 =","= 000,00 / 12  * 1,159197 * 1/1 =","= 000,00 / 12  * 1,159197 * 1/1 =","= 000,00 / 12  * 1,159197 * 1/1 =","= 000,00 / 12  * 1,159197 * 1/1 =","= 000,00 / 12  * 0 * 1/1 =","= 000,00 / 12  * 0 * 1/1 =","= 000,00 / 12  * 0 * 1/1 =","= 000,00 / 12  * 0 * 1/1 ="]
[null,5,null,null,null,"Funktionstillæg 1",{"$f":"\"= \"&TEXT(G15,\"#.000,00\")&\" / 12 \"&IF($D52>0,\" * \"&TEXT(G$11,\"0,0000\"),\"\")&IF($E52>0,\" * \"&G$9,\"\")&\" * \"&TEXT(G$4,\"#0/#0\")&\" =\"","v":"= 000,00 / 12  * 1,155339 * 1/1 ="},{"$f":"\"= \"&TEXT(H15,\"#.000,00\")&\" / 12 \"&IF($D52>0,\" * \"&TEXT(H$11,\"0,0000\"),\"\")&IF($E158>0,\" * \"&H$9,\"\")&\" * \"&TEXT(H$4,\"#0/#0\")&\" =\"","v":"= 000,00 / 12  * 1/1 ="},"= 000,00 / 12  * 1/1 =","= 000,00 / 12  * 1/1 =","= 000,00 / 12  * 1/1 =","= 000,00 / 12  * 1/1 =","= 000,00 / 12  * 1/1 =","= 000,00 / 12  * 1/1 =","= 000,00 / 12  * 1/1 =","= 000,00 / 12  * 1/1 =","= 000,00 / 12  * 1/1 =","= 000,00 / 12  * 1/1 =","= 000,00 / 12  * 1/1 =","= 000,00 / 12  * 1/1 =","= 000,00 / 12  * 1/1 =","= 000,00 / 12  * 1/1 =","= 000,00 / 12  * 1/1 =","= 000,00 / 12  * 1/1 =","= 000,00 / 12  * 1/1 =","= 000,00 / 12  * 1/1 =","= 000,00 / 12  * 1/1 =","= 000,00 / 12  * 1/1 =","= 000,00 / 12  * 1/1 =","= 000,00 / 12  * 1/1 ="]
[null,6,null,null,null,"Funktionstillæg 2",{"$f":"\"= \"&TEXT(G16,\"#.000,00\")&\" / 12 \"&IF($D53>0,\" * \"&TEXT(G$11,\"0,0000\"),\"\")&IF($E53>0,\" * \"&G$9,\"\")&\" * \"&TEXT(G$4,\"#0/#0\")&\" =\"","v":"= 000,00 / 12  * 1,155339 * 1/1 ="},"= 000,00 / 12  * 1,155339 * 1/1 =","= 000,00 / 12  * 1,159197 * 1/1 =","= 000,00 / 12  * 1,159197 * 1/1 =","= 000,00 / 12  * 1,159197 * 1/1 =","= 000,00 / 12  * 1,159197 * 1/1 =","= 000,00 / 12  * 1,159197 * 1/1 =","= 000,00 / 12  * 1,159197 * 1/1 =","= 000,00 / 12  *  * 1/1 =","= 000,00 / 12  * 0 * 1/1 =","= 000,00 / 12  * 0 * 1/1 =","= 000,00 / 12  * 0 * 1/1 =","= 000,00 / 12  * 1,155339 * 1/1 =","= 000,00 / 12  * 1,155339 * 1/1 =","= 000,00 / 12  * 1,159197 * 1/1 =","= 000,00 / 12  * 1,159197 * 1/1 =","= 000,00 / 12  * 1,159197 * 1/1 =","= 000,00 / 12  * 1,159197 * 1/1 =","= 000,00 / 12  * 1,159197 * 1/1 =","= 000,00 / 12  * 1,159197 * 1/1 =","= 000,00 / 12  * 0 * 1/1 =","= 000,00 / 12  * 0 * 1/1 =","= 000,00 / 12  * 0 * 1/1 =","= 000,00 / 12  * 0 * 1/1 ="]
[null,7,null,null,null,"Funktionstillæg 3","= 000,00 / 12  * 1,155339 * 1/1 =","= 000,00 / 12  * 1,155339 * 1/1 =","= 000,00 / 12  * 1,159197 * 1/1 =","= 000,00 / 12  * 1,159197 * 1/1 =","= 000,00 / 12  * 1,159197 * 1/1 =","= 000,00 / 12  * 1,159197 * 1/1 =","= 000,00 / 12  * 1,159197 * 1/1 =","= 000,00 / 12  * 1,159197 * 1/1 =","= 000,00 / 12  *  * 1/1 =","= 000,00 / 12  * 0 * 1/1 =","= 000,00 / 12  * 0 * 1/1 =","= 000,00 / 12  * 0 * 1/1 =","= 000,00 / 12  * 1,155339 * 1/1 =","= 000,00 / 12  * 1,155339 * 1/1 =","= 000,00 / 12  * 1,159197 * 1/1 =","= 000,00 / 12  * 1,159197 * 1/1 =","= 000,00 / 12  * 1,159197 * 1/1 =","= 000,00 / 12  * 1,159197 * 1/1 =","= 000,00 / 12  * 1,159197 * 1/1 =","= 000,00 / 12  * 1,159197 * 1/1 =","= 000,00 / 12  * 0 * 1/1 =","= 000,00 / 12  * 0 * 1/1 =","= 000,00 / 12  * 0 * 1/1 =","= 000,00 / 12  * 0 * 1/1 ="]
[null,8,null,null,null,"Kvalifikationstillæg 1","= 000,00 / 12  * 0,0000 * 1,155339 * 1/1 =","= 000,00 / 12  * 0,0000 * 1,155339 * 1/1 =","= 000,00 / 12  * 0,0000 * 1,159197 * 1/1 =","= 000,00 / 12  * 0,0000 * 1,159197 * 1/1 =","= 000,00 / 12  * 0,0000 * 1,159197 * 1/1 =","= 000,00 / 12  * 0,0000 * 1,159197 * 1/1 =","= 000,00 / 12  * 0,0000 * 1,159197 * 1/1 =","= 000,00 / 12  * 0,0000 * 1,159197 * 1/1 =","= 000,00 / 12  * 0,0000 *  * 1/1 =","= 000,00 / 12  * 0,0000 * 0 * 1/1 =","= 000,00 / 12  * 0,0000 * 0 * 1/1 =","= 000,00 / 12  * 0,0000 * 0 * 1/1 =","= 000,00 / 12  * 0,0000 * 1,155339 * 1/1 =","= 000,00 / 12  * 0,0000 * 1,155339 * 1/1 =","= 000,00 / 12  * 0,0000 * 1,159197 * 1/1 =","= 000,00 / 12  * 0,0000 * 1,159197 * 1/1 =","= 000,00 / 12  * 0,0000 * 1,159197 * 1/1 =","= 000,00 / 12  * 0,0000 * 1,159197 * 1/1 =","= 000,00 / 12  * 0,0000 * 1,159197 * 1/1 =","= 000,00 / 12  * 0,0000 * 1,159197 * 1/1 =","= 000,00 / 12  * 0,0000 * 0 * 1/1 =","= 000,00 / 12  * 0,0000 * 0 * 1/1 =","= 000,00 / 12  * 0,0000 * 0 * 1/1 =","= 000,00 / 12  * 0,0000 * 0 * 1/1 ="]
[null,9,null,null,null,"Kvalifikationstillæg 2","= 000,00 / 12  * 0,0000 * 1,155339 * 1/1 =","= 000,00 / 12  * 0,0000 * 1,155339 * 1/1 =","= 000,00 / 12  * 0,0000 * 1,159197 * 1/1 =","= 000,00 / 12  * 0,0000 * 1,159197 * 1/1 =","= 000,00 / 12  * 0,0000 * 1,159197 * 1/1 =","= 000,00 / 12  * 0,0000 * 1,159197 * 1/1 =","= 000,00 / 12  * 0,0000 * 1,159197 * 1/1 =","= 000,00 / 12  * 0,0000 * 1,159197 * 1/1 =","= 000,00 / 12  * 0,0000 *  * 1/1 =","= 000,00 / 12  * 0,0000 * 0 * 1/1 =","= 000,00 / 12  * 0,0000 * 0 * 1/1 =","= 000,00 / 12  * 0,0000 * 0 * 1/1 =","= 000,00 / 12  * 0,0000 * 1,155339 * 1/1 =","= 000,00 / 12  * 0,0000 * 1,155339 * 1/1 =","= 000,00 / 12  * 0,0000 * 1,159197 * 1/1 =","= 000,00 / 12  * 0,0000 * 1,159197 * 1/1 =","= 000,00 / 12  * 0,0000 * 1,159197 * 1/1 =","= 000,00 / 12  * 0,0000 * 1,159197 * 1/1 =","= 000,00 / 12  * 0,0000 * 1,159197 * 1/1 =","= 000,00 / 12  * 0,0000 * 1,159197 * 1/1 =","= 000,00 / 12  * 0,0000 * 0 * 1/1 =","= 000,00 / 12  * 0,0000 * 0 * 1/1 =","= 000,00 / 12  * 0,0000 * 0 * 1/1 =","= 000,00 / 12  * 0,0000 * 0 * 1/1 ="]
[null,10,null,null,null,"Kvalifikationstillæg 3","= 000,00 / 12  * 0,0000 * 1,155339 * 1/1 =","= 000,00 / 12  * 0,0000 * 1,155339 * 1/1 =","= 000,00 / 12  * 0,0000 * 1,159197 * 1/1 =","= 000,00 / 12  * 0,0000 * 1,159197 * 1/1 =","= 000,00 / 12  * 0,0000 * 1,159197 * 1/1 =","= 000,00 / 12  * 0,0000 * 1,159197 * 1/1 =","= 000,00 / 12  * 0,0000 * 1,159197 * 1/1 =","= 000,00 / 12  * 0,0000 * 1,159197 * 1/1 =","= 000,00 / 12  * 0,0000 *  * 1/1 =","= 000,00 / 12  * 0,0000 * 0 * 1/1 =","= 000,00 / 12  * 0,0000 * 0 * 1/1 =","= 000,00 / 12  * 0,0000 * 0 * 1/1 =","= 000,00 / 12  * 0,0000 * 1,155339 * 1/1 =","= 000,00 / 12  * 0,0000 * 1,155339 * 1/1 =","= 000,00 / 12  * 0,0000 * 1,159197 * 1/1 =","= 000,00 / 12  * 0,0000 * 1,159197 * 1/1 =","= 000,00 / 12  * 0,0000 * 1,159197 * 1/1 =","= 000,00 / 12  * 0,0000 * 1,159197 * 1/1 =","= 000,00 / 12  * 0,0000 * 1,159197 * 1/1 =","= 000,00 / 12  * 0,0000 * 1,159197 * 1/1 =","= 000,00 / 12  * 0,0000 * 0 * 1/1 =","= 000,00 / 12  * 0,0000 * 0 * 1/1 =","= 000,00 / 12  * 0,0000 * 0 * 1/1 =","= 000,00 / 12  * 0,0000 * 0 * 1/1 ="]
[null,11,null,null,null,"Udligningstillæg","= 000,00 / 12  * 0,0000 * 1,155339 * 1/1 =","= 000,00 / 12  * 0,0000 * 1,155339 * 1/1 =","= 000,00 / 12  * 0,0000 * 1,159197 * 1/1 =","= 000,00 / 12  * 0,0000 * 1,159197 * 1/1 =","= 000,00 / 12  * 0,0000 * 1,159197 * 1/1 =","= 000,00 / 12  * 0,0000 * 1,159197 * 1/1 =","= 000,00 / 12  * 0,0000 * 1,159197 * 1/1 =","= 000,00 / 12  * 0,0000 * 1,159197 * 1/1 =","= 000,00 / 12  * 0,0000 *  * 1/1 =","= 000,00 / 12  * 0,0000 * 0 * 1/1 =","= 000,00 / 12  * 0,0000 * 0 * 1/1 =","= 000,00 / 12  * 0,0000 * 0 * 1/1 =","= 000,00 / 12  * 0,0000 * 1,155339 * 1/1 =","= 000,00 / 12  * 0,0000 * 1,155339 * 1/1 =","= 000,00 / 12  * 0,0000 * 1,159197 * 1/1 =","= 000,00 / 12  * 0,0000 * 1,159197 * 1/1 =","= 000,00 / 12  * 0,0000 * 1,159197 * 1/1 =","= 000,00 / 12  * 0,0000 * 1,159197 * 1/1 =","= 000,00 / 12  * 0,0000 * 1,159197 * 1/1 =","= 000,00 / 12  * 0,0000 * 1,159197 * 1/1 =","= 000,00 / 12  * 0,0000 * 0 * 1/1 =","= 000,00 / 12  * 0,0000 * 0 * 1/1 =","= 000,00 / 12  * 0,0000 * 0 * 1/1 =","= 000,00 / 12  * 0,0000 * 0 * 1/1 ="]
[null,12,null,null,null,"Gruppelivstillæg",{"$f":"\"= \"&TEXT(G22,\"#.##0,00\")&\" * \"&TEXT(G$4,\"#0/#0\")&\" =\"","v":"= 0,00 * 1/1 ="},{"$f":"\"= \"&TEXT(H22,\"#.##0,00\")&\" * \"&TEXT(H$4,\"#0/#0\")&\" =\"","v":"= 0,00 * 1/1 ="},"= 0,00 * 1/1 =","= 0,00 * 1/1 =","= 0,00 * 1/1 =","= 0,00 * 1/1 =","= 0,00 * 1/1 =","= 0,00 * 1/1 =","= 0,00 * 1/1 =","= 0,00 * 1/1 =","= 0,00 * 1/1 =","= 0,00 * 1/1 =",{"$f":"\"= \"&TEXT(S22,\"#.##0,00\")&\" * \"&TEXT(S$4,\"#0/#0\")&\" =\"","v":"= 0,00 * 1/1 ="},{"$f":"\"= \"&TEXT(T22,\"#.##0,00\")&\" * \"&TEXT(T$4,\"#0/#0\")&\" =\"","v":"= 0,00 * 1/1 ="},"= 0,00 * 1/1 =","= 0,00 * 1/1 =","= 0,00 * 1/1 =","= 0,00 * 1/1 =","= 0,00 * 1/1 =","= 0,00 * 1/1 =","= 0,00 * 1/1 =","= 0,00 * 1/1 =","= 0,00 * 1/1 =","= 0,00 * 1/1 ="]
[null,13,null,null,null,"Lokalaftalt ulempegodtgørelse",{"$f":"\"= \"&TEXT(G23,\"#,00\")&IF($D60>0,\" * \"&TEXT(G$11,\"0,0000\"),\"\")&IF($E60>0,\" * \"&G$9,\"\")&\" * \"&TEXT(G$4,\"#0/#0\")&\" =\"","v":"= ,00 * 1,155339 * 1/1 ="},"= ,00 * 1,155339 * 1/1 =","= ,00 * 1,159197 * 1/1 =","= ,00 * 1,159197 * 1/1 =","= ,00 * 1,159197 * 1/1 =","= ,00 * 1,159197 * 1/1 =","= ,00 * 1,159197 * 1/1 =","= ,00 * 1,159197 * 1/1 =","= ,00 *  * 1/1 =","= ,00 * 0 * 1/1 =","= ,00 * 0 * 1/1 =","= ,00 * 0 * 1/1 =","= ,00 * 1,155339 * 1/1 =","= ,00 * 1,155339 * 1/1 =","= ,00 * 1,159197 * 1/1 =","= ,00 * 1,159197 * 1/1 =","= ,00 * 1,159197 * 1/1 =","= ,00 * 1,159197 * 1/1 =","= ,00 * 1,159197 * 1/1 =","= ,00 * 1,159197 * 1/1 =","= ,00 * 0 * 1/1 =","= ,00 * 0 * 1/1 =","= ,00 * 0 * 1/1 =","= ,00 * 0 * 1/1 ="]
[null,14,null,null,null,"Lønfradrag for ikke optjent ferie mv.",{"$f":"\"= - \"&MAX(0,MIN(G24,G25*1))+G28&\" * \"&IF(G8=\"JA\",\"4,62%\",\"4,8%\")&\" * SUM(Lin. 1 - Lin 12)\"&\" * \"&TEXT(G$4,\"#0/#0\")&\" =\"","v":"= - 0 * 4,62% * SUM(Lin. 1 - Lin 12) * 1/1 ="},{"$f":"\"= - \"&MAX(0,MIN(H24,H25*1))+H28&\" * \"&IF(H8=\"JA\",\"4,62%\",\"4,8%\")&\" * SUM(Lin. 1 - Lin 12) =\"","v":"= - 0 * 4,62% * SUM(Lin. 1 - Lin 12) ="},"= - 0 * 4,62% * SUM(Lin. 1 - Lin 12) =","= - 0 * 4,62% * SUM(Lin. 1 - Lin 12) =","= - 0 * 4,62% * SUM(Lin. 1 - Lin 12) =","= - 0 * 4,62% * SUM(Lin. 1 - Lin 12) =","= - 0 * 4,62% * SUM(Lin. 1 - Lin 12) =","= - 0 * 4,62% * SUM(Lin. 1 - Lin 12) =","= - 0 * 4,62% * SUM(Lin. 1 - Lin 12) =","= - 0 * 4,62% * SUM(Lin. 1 - Lin 12) =","= - 0 * 4,62% * SUM(Lin. 1 - Lin 12) =","= - 0 * 4,62% * SUM(Lin. 1 - Lin 12) =",{"$f":"\"= - \"&MAX(0,MIN(S24,S25*1))+S28&\" * \"&IF(S8=\"JA\",\"4,62%\",\"4,8%\")&\" * SUM(Lin. 1 - Lin 12)\"&\" * \"&TEXT(S$4,\"#0/#0\")&\" =\"","v":"= - 0 * 4,62% * SUM(Lin. 1 - Lin 12) * 1/1 ="},{"$f":"\"= - \"&MAX(0,MIN(T24,T25*1))+T28&\" * \"&IF(T8=\"JA\",\"4,62%\",\"4,8%\")&\" * SUM(Lin. 1 - Lin 12) =\"","v":"= - 0 * 4,62% * SUM(Lin. 1 - Lin 12) ="},"= - 0 * 4,62% * SUM(Lin. 1 - Lin 12) =","= - 0 * 4,62% * SUM(Lin. 1 - Lin 12) =","= - 0 * 4,62% * SUM(Lin. 1 - Lin 12) =","= - 0 * 4,62% * SUM(Lin. 1 - Lin 12) =","= - 0 * 4,62% * SUM(Lin. 1 - Lin 12) =","= - 0 * 4,62% * SUM(Lin. 1 - Lin 12) =","= - 0 * 4,62% * SUM(Lin. 1 - Lin 12) =","= - 0 * 4,62% * SUM(Lin. 1 - Lin 12) =","= - 0 * 4,62% * SUM(Lin. 1 - Lin 12) =","= - 0 * 4,62% * SUM(Lin. 1 - Lin 12) ="]
[null,16,null,null,null,"Feriedifference. Pensionsgivende",null,{"$f":"\"= \"&IF(LEFT(H8)=\"N\",\"( \"&H26&\" - \"&H11&\") * 4,8% * \"&H103&\" * \"&MAX((H24-H25),0)*H104,\"( \"&H26&\" - \"&H11&\") * 4,62% * \"&H103&\" * \"&MAX((H24-H25),0))&\" =\"","v":"= (  - 0) * 4,62% * 0 * 0 ="},"= (  - 0) * 4,62% * 0 * 5 =","= (  - 0) * 4,62% * 0 * 0 =","= (  - 0) * 4,62% * 0 * 0 =","= (  - 0) * 4,62% * 0 * 0 =","= (  - 0) * 4,62% * 0 * 5 =","= (  - 0) * 4,62% * 0 * 0 =","= (  - 0) * 4,62% * 0 * 0 =",{"$f":"\"= \"&IF(LEFT(P8)=\"N\",\"( \"&ROUND(P27,4)&\" - \"&P11&\") * 4,8% * \"&P103&\" * \"&MAX((P24-P25),0)*P104,\"( \"&ROUND(P27,4)&\" - \"&P11&\") * 4,62% * \"&P103&\" * \"&MAX((P24-P25),0))&\" =\"","v":"= ( 0 - 0) * 4,62% * 0 * 0 ="},{"$f":"\"= \"&IF(LEFT(Q8)=\"N\",\"( \"&ROUND(Q27,4)&\" - \"&Q11&\") * 4,8% * \"&Q103&\" * \"&MAX((Q24-Q25),0)*Q104,\"( \"&ROUND(Q27,4)&\" - \"&Q11&\") * 4,62% * \"&Q103&\" * \"&MAX((Q24-Q25),0))&\" =\"","v":"= ( 0 - 0) * 4,62% * 0 * 0 ="},{"$f":"\"= \"&IF(LEFT(R8)=\"N\",\"( \"&ROUND(R27,4)&\" - \"&R11&\") * 4,8% * \"&R103&\" * \"&MAX((R24-R25),0)*R104,\"( \"&ROUND(R27,4)&\" - \"&R11&\") * 4,62% * \"&R103&\" * \"&MAX((R24-R25),0))&\" =\"","v":"= ( 0 - 0) * 4,62% * 0 * 15 ="},null,{"$f":"\"= \"&IF(LEFT(T8)=\"N\",\"( \"&T26&\" - \"&T11&\") * 4,8% * \"&T103&\" * \"&MAX((T24-T25),0)*T104,\"( \"&T26&\" - \"&T11&\") * 4,62% * \"&T103&\" * \"&MAX((T24-T25),0))&\" =\"","v":"= ( 0 - 0) * 4,62% * 0 * 0 ="},"= ( 0 - 0) * 4,62% * 0 * 5 =","= ( 0 - 0) * 4,62% * 0 * 0 =","= ( 0 - 0) * 4,62% * 0 * 0 =","= ( 0 - 0) * 4,62% * 0 * 0 =","= ( 0 - 0) * 4,62% * 0 * 5 =","= ( 0 - 0) * 4,62% * 0 * 0 =","= ( 0 - 0) * 4,62% * 0 * 0 =",{"$f":"\"= \"&IF(LEFT(AB8)=\"N\",\"( \"&ROUND(AB27,4)&\" - \"&AB11&\") * 4,8% * \"&AB103&\" * \"&MAX((AB24-AB25),0)*AB104,\"( \"&ROUND(AB27,4)&\" - \"&AB11&\") * 4,62% * \"&AB103&\" * \"&MAX((AB24-AB25),0))&\" =\"","v":"= ( 0 - 0) * 4,62% * 0 * 0 ="},{"$f":"\"= \"&IF(LEFT(AC8)=\"N\",\"( \"&ROUND(AC27,4)&\" - \"&AC11&\") * 4,8% * \"&AC103&\" * \"&MAX((AC24-AC25),0)*AC104,\"( \"&ROUND(AC27,4)&\" - \"&AC11&\") * 4,62% * \"&AC103&\" * \"&MAX((AC24-AC25),0))&\" =\"","v":"= ( 0 - 0) * 4,62% * 0 * 0 ="},{"$f":"\"= \"&IF(LEFT(AD8)=\"N\",\"( \"&ROUND(AD27,4)&\" - \"&AD11&\") * 4,8% * \"&AD103&\" * \"&MAX((AD24-AD25),0)*AD104,\"( \"&ROUND(AD27,4)&\" - \"&AD11&\") * 4,62% * \"&AD103&\" * \"&MAX((AD24-AD25),0))&\" =\"","v":"= ( 0 - 0) * 4,62% * 0 * 15 ="}]
[null,17,null,null,null,"Feriedifferende. Ikke pensionsgivende"]
[null,18,null,null,null,"Engangsudbetalinger iflg. specifikation",{"$f":"SUBSTITUTE(TRIM(\"=SUM(\"&MAX(G34-8000,0)&\" \"&G35&\" \"&G36&\" \"&G37&\" \"&G38&\" \"&G40&\" \"&G41&\" \"&G42&\" \"&G43&\" \"&G44&\")\"),\" \",\"; \")&\" =\"","v":"=SUM(0; ) ="},{"$f":"SUBSTITUTE(TRIM(\"=SUM(\"&MAX(H34-8000,0)&\" \"&H35&\" \"&H36&\" \"&H37&\" \"&H38&\" \"&H40&\" \"&H41&\" \"&H42&\" \"&H43&\" \"&H44&\")\"),\" \",\"; \")&\" =\"","v":"=SUM(0; ) ="},"=SUM(0; ) =","=SUM(0; ) =","=SUM(0; ) =","=SUM(0; ) =","=SUM(0; ) =","=SUM(0; ) =","=SUM(0; ) =","=SUM(0; ) =","=SUM(0; ) =","=SUM(0; ) =",{"$f":"SUBSTITUTE(TRIM(\"=SUM(\"&MAX(S34-8000,0)&\" \"&S35&\" \"&S36&\" \"&S37&\" \"&S38&\" \"&S40&\" \"&S41&\" \"&S42&\" \"&S43&\" \"&S44&\")\"),\" \",\"; \")&\" =\"","v":"=SUM(0; 0; 0; 0; 0; 0; 0; 0; 0; 0) ="},{"$f":"SUBSTITUTE(TRIM(\"=SUM(\"&MAX(T34-8000,0)&\" \"&T35&\" \"&T36&\" \"&T37&\" \"&T38&\" \"&T40&\" \"&T41&\" \"&T42&\" \"&T43&\" \"&T44&\")\"),\" \",\"; \")&\" =\"","v":"=SUM(0; 0; 0; 0; 0; 0; 0; 0; 0; 0) ="},"=SUM(0; 0; 0; 0; 0; 0; 0; 0; 0; 0) =","=SUM(0; 0; 0; 0; 0; 0; 0; 0; 0; 0) =","=SUM(0; 0; 0; 0; 0; 0; 0; 0; 0; 0) =","=SUM(0; 0; 0; 0; 0; 0; 0; 0; 0; 0) =","=SUM(0; 0; 0; 0; 0; 0; 0; 0; 0; 0) =","=SUM(0; 0; 0; 0; 0; 0; 0; 0; 0; 0) =","=SUM(0; 0; 0; 0; 0; 0; 0; 0; 0; 0) =","=SUM(0; 0; 0; 0; 0; 0; 0; 0; 0; 0) =","=SUM(0; 0; 0; 0; 0; 0; 0; 0; 0; 0) =","=SUM(0; 0; 0; 0; 0; 0; 0; 0; 0; 0) ="]
[null,19,null,null,null,"Skattefri engangsudbetalinger iflg. spec.",{"$f":"SUBSTITUTE(TRIM(\"=SUM(\"&G31&\" * \"&$D31&\" \"&G32&\" * \"&$D32&\" \"&G33&\" \"&MIN(G34,8000)&\")\"),\" \",\"; \")&\" =\"","v":"=SUM(; *; 2,19; *; 3,73; 8000) ="},{"$f":"SUBSTITUTE(TRIM(\"=SUM(\"&H31&\" * \"&$D31&\" \"&H32&\" * \"&$D32&\" \"&H33&\" \"&MIN(H34,8000)&\")\"),\" \",\"; \")&\" =\"","v":"=SUM(; *; 2,19; *; 3,73; 8000) ="},{"$f":"SUBSTITUTE(TRIM(\"=SUM(\"&I31&\" * \"&$D31&\" \"&I32&\" * \"&$D32&\" \"&I33&\" \"&MIN(I34,8000)&\")\"),\" \",\"; \")&\" =\"","v":"=SUM(; *; 2,19; *; 3,73; 8000) ="},{"$f":"SUBSTITUTE(TRIM(\"=SUM(\"&J31&\" * \"&$D31&\" \"&J32&\" * \"&$D32&\" \"&J33&\" \"&MIN(J34,8000)&\")\"),\" \",\"; \")&\" =\"","v":"=SUM(; *; 2,19; *; 3,73; 8000) ="},{"$f":"SUBSTITUTE(TRIM(\"=SUM(\"&K31&\" * \"&$D31&\" \"&K32&\" * \"&$D32&\" \"&K33&\" \"&MIN(K34,8000)&\")\"),\" \",\"; \")&\" =\"","v":"=SUM(; *; 2,19; *; 3,73; 8000) ="},{"$f":"SUBSTITUTE(TRIM(\"=SUM(\"&L31&\" * \"&$E31&\" \"&L32&\" * \"&$E32&\" \"&L33&\" \"&MIN(L34,8000)&\")\"),\" \",\"; \")&\" =\"","v":"=SUM(; *; *; 8000) ="},{"$f":"SUBSTITUTE(TRIM(\"=SUM(\"&M31&\" * \"&$E31&\" \"&M32&\" * \"&$E32&\" \"&M33&\" \"&MIN(M34,8000)&\")\"),\" \",\"; \")&\" =\"","v":"=SUM(; *; *; 8000) ="},"=SUM(; *; *; 8000) =","=SUM(; *; *; 8000) =","=SUM(; *; *; 8000) =","=SUM(; *; *; 8000) =","=SUM(; *; *; 8000) =",{"$f":"SUBSTITUTE(TRIM(\"=SUM(\"&S31&\" * \"&$D31&\" \"&S32&\" * \"&$D32&\" \"&S33&\" \"&MIN(S34,8000)&\")\"),\" \",\"; \")&\" =\"","v":"=SUM(0; *; 2,19; 0; *; 3,73; 0; 0) ="},{"$f":"SUBSTITUTE(TRIM(\"=SUM(\"&T31&\" * \"&$D31&\" \"&T32&\" * \"&$D32&\" \"&T33&\" \"&MIN(T34,8000)&\")\"),\" \",\"; \")&\" =\"","v":"=SUM(0; *; 2,19; 0; *; 3,73; 0; 0) ="},{"$f":"SUBSTITUTE(TRIM(\"=SUM(\"&U31&\" * \"&$D31&\" \"&U32&\" * \"&$D32&\" \"&U33&\" \"&MIN(U34,8000)&\")\"),\" \",\"; \")&\" =\"","v":"=SUM(0; *; 2,19; 0; *; 3,73; 0; 0) ="},{"$f":"SUBSTITUTE(TRIM(\"=SUM(\"&V31&\" * \"&$D31&\" \"&V32&\" * \"&$D32&\" \"&V33&\" \"&MIN(V34,8000)&\")\"),\" \",\"; \")&\" =\"","v":"=SUM(0; *; 2,19; 0; *; 3,73; 0; 0) ="},{"$f":"SUBSTITUTE(TRIM(\"=SUM(\"&W31&\" * \"&$D31&\" \"&W32&\" * \"&$D32&\" \"&W33&\" \"&MIN(W34,8000)&\")\"),\" \",\"; \")&\" =\"","v":"=SUM(0; *; 2,19; 0; *; 3,73; 0; 0) ="},{"$f":"SUBSTITUTE(TRIM(\"=SUM(\"&X31&\" * \"&$E31&\" \"&X32&\" * \"&$E32&\" \"&X33&\" \"&MIN(X34,8000)&\")\"),\" \",\"; \")&\" =\"","v":"=SUM(0; *; 0; *; 0; 0) ="},{"$f":"SUBSTITUTE(TRIM(\"=SUM(\"&Y31&\" * \"&$E31&\" \"&Y32&\" * \"&$E32&\" \"&Y33&\" \"&MIN(Y34,8000)&\")\"),\" \",\"; \")&\" =\"","v":"=SUM(0; *; 0; *; 0; 0) ="},"=SUM(0; *; 0; *; 0; 0) =","=SUM(0; *; 0; *; 0; 0) =","=SUM(0; *; 0; *; 0; 0) =","=SUM(0; *; 0; *; 0; 0) =","=SUM(0; *; 0; *; 0; 0) ="]
[null,20,null,null,null,"Bruttoløn (ekskl. pensionstillæg og ATP)"]
[null,21,null,null,null,"Pensionstillæg skalatrinsløn eller HK-løn",{"$f":"\"= \"&ROUND(VLOOKUP(G12,Skalalontabel12,7,0)*G$9,0)&\" / 12  * \"&TEXT(G$11,\"0,0000\")&\" * \"&G5&\"% / 3 =\"","v":{"$error":"#N/A"}},{"$error":"#N/A"},{"$error":"#N/A"},{"$error":"#N/A"},{"$error":"#N/A"},{"$error":"#N/A"},{"$error":"#N/A"},{"$error":"#N/A"},{"$error":"#N/A"},{"$error":"#N/A"},{"$error":"#N/A"},{"$error":"#N/A"},{"$error":"#N/A"},{"$error":"#N/A"},{"$error":"#N/A"},{"$error":"#N/A"},{"$error":"#N/A"},{"$error":"#N/A"},{"$error":"#N/A"},{"$error":"#N/A"},{"$error":"#N/A"},{"$error":"#N/A"},{"$error":"#N/A"},{"$error":"#N/A"}]
[null,22,null,null,null,"Pensionstillæg fast løn",{"$f":"IF($C50>0,\"= \"&G50&\" * \"&G$5&\"% / 3 =\")","v":"= 0 * % / 3 ="},{"$f":"IF($C50>0,H50&\" * \"&H$5&\"% / 3 =\")","v":"0 * 0% / 3 ="},"0 * 0% / 3 =","0 * 0% / 3 =","0 * 0% / 3 =","0 * 0% / 3 =","0 * 0% / 3 =","0 * 0% / 3 =","0 * 0% / 3 =","0 * 0% / 3 =","0 * 0% / 3 =","0 * 0% / 3 =",{"$f":"IF($C50>0,\"= \"&S50&\" * \"&S$5&\"% / 3 =\")","v":"= 0 * 0% / 3 ="},{"$f":"IF($C50>0,T50&\" * \"&T$5&\"% / 3 =\")","v":"0 * 0% / 3 ="},"0 * 0% / 3 =","0 * 0% / 3 =","0 * 0% / 3 =","0 * 0% / 3 =","0 * 0% / 3 =","0 * 0% / 3 =","0 * 0% / 3 =","0 * 0% / 3 =","0 * 0% / 3 =","0 * 0% / 3 ="]
[null,23,null,null,null,"Pensionstillæg souscheftillæg","= 0 * % / 3 =","0 * 0% / 3 =","0 * 0% / 3 =","0 * 0% / 3 =","0 * 0% / 3 =","0 * 0% / 3 =","0 * 0% / 3 =","0 * 0% / 3 =","0 * 0% / 3 =","0 * 0% / 3 =","0 * 0% / 3 =","0 * 0% / 3 =","= 0 * 0% / 3 =","0 * 0% / 3 =","0 * 0% / 3 =","0 * 0% / 3 =","0 * 0% / 3 =","0 * 0% / 3 =","0 * 0% / 3 =","0 * 0% / 3 =","0 * 0% / 3 =","0 * 0% / 3 =","0 * 0% / 3 =","0 * 0% / 3 ="]
[null,24,null,null,null,"Pensionstillæg Funktionstillæg 1","= 0 * % / 3 =","0 * 0% / 3 =","0 * 0% / 3 =","0 * 0% / 3 =","0 * 0% / 3 =","0 * 0% / 3 =","0 * 0% / 3 =","0 * 0% / 3 =","0 * 0% / 3 =","0 * 0% / 3 =","0 * 0% / 3 =","0 * 0% / 3 =","= 0 * 0% / 3 =","0 * 0% / 3 =","0 * 0% / 3 =","0 * 0% / 3 =","0 * 0% / 3 =","0 * 0% / 3 =","0 * 0% / 3 =","0 * 0% / 3 =","0 * 0% / 3 =","0 * 0% / 3 =","0 * 0% / 3 =","0 * 0% / 3 ="]
[null,25,null,null,null,"Pensionstillæg Funktionstillæg 2","= 0 * % / 3 =","0 * 0% / 3 =","0 * 0% / 3 =","0 * 0% / 3 =","0 * 0% / 3 =","0 * 0% / 3 =","0 * 0% / 3 =","0 * 0% / 3 =","0 * 0% / 3 =","0 * 0% / 3 =","0 * 0% / 3 =","0 * 0% / 3 =","= 0 * 0% / 3 =","0 * 0% / 3 =","0 * 0% / 3 =","0 * 0% / 3 =","0 * 0% / 3 =","0 * 0% / 3 =","0 * 0% / 3 =","0 * 0% / 3 =","0 * 0% / 3 =","0 * 0% / 3 =","0 * 0% / 3 =","0 * 0% / 3 ="]
[null,26,null,null,null,"Pensionstillæg Funktionstillæg 3","= 0 * % / 3 =","0 * 0% / 3 =","0 * 0% / 3 =","0 * 0% / 3 =","0 * 0% / 3 =","0 * 0% / 3 =","0 * 0% / 3 =","0 * 0% / 3 =","0 * 0% / 3 =","0 * 0% / 3 =","0 * 0% / 3 =","0 * 0% / 3 =","= 0 * 0% / 3 =","0 * 0% / 3 =","0 * 0% / 3 =","0 * 0% / 3 =","0 * 0% / 3 =","0 * 0% / 3 =","0 * 0% / 3 =","0 * 0% / 3 =","0 * 0% / 3 =","0 * 0% / 3 =","0 * 0% / 3 =","0 * 0% / 3 ="]
[null,27,null,null,null,"Pensionstillæg Kvalifikationstillæg 1","= 0 * % / 3 =","0 * 0% / 3 =","0 * 0% / 3 =","0 * 0% / 3 =","0 * 0% / 3 =","0 * 0% / 3 =","0 * 0% / 3 =","0 * 0% / 3 =","0 * 0% / 3 =","0 * 0% / 3 =","0 * 0% / 3 =","0 * 0% / 3 =","= 0 * 0% / 3 =","0 * 0% / 3 =","0 * 0% / 3 =","0 * 0% / 3 =","0 * 0% / 3 =","0 * 0% / 3 =","0 * 0% / 3 =","0 * 0% / 3 =","0 * 0% / 3 =","0 * 0% / 3 =","0 * 0% / 3 =","0 * 0% / 3 ="]
[null,28,null,null,null,"Pensionstillæg Kvalifikationstillæg 2","= 0 * % / 3 =","0 * 0% / 3 =","0 * 0% / 3 =","0 * 0% / 3 =","0 * 0% / 3 =","0 * 0% / 3 =","0 * 0% / 3 =","0 * 0% / 3 =","0 * 0% / 3 =","0 * 0% / 3 =","0 * 0% / 3 =","0 * 0% / 3 =","= 0 * 0% / 3 =","0 * 0% / 3 =","0 * 0% / 3 =","0 * 0% / 3 =","0 * 0% / 3 =","0 * 0% / 3 =","0 * 0% / 3 =","0 * 0% / 3 =","0 * 0% / 3 =","0 * 0% / 3 =","0 * 0% / 3 =","0 * 0% / 3 ="]
[null,29,null,null,null,"Pensionstillæg Kvalifikationstillæg 3","= 0 * % / 3 =","0 * 0% / 3 =","0 * 0% / 3 =","0 * 0% / 3 =","0 * 0% / 3 =","0 * 0% / 3 =","0 * 0% / 3 =","0 * 0% / 3 =","0 * 0% / 3 =","0 * 0% / 3 =","0 * 0% / 3 =","0 * 0% / 3 =","= 0 * 0% / 3 =","0 * 0% / 3 =","0 * 0% / 3 =","0 * 0% / 3 =","0 * 0% / 3 =","0 * 0% / 3 =","0 * 0% / 3 =","0 * 0% / 3 =","0 * 0% / 3 =","0 * 0% / 3 =","0 * 0% / 3 =","0 * 0% / 3 ="]
[null,30,null,null,null,"Pensionstillæg af udligningstillæg","= 0 * % / 3 =","0 * 0% / 3 =","0 * 0% / 3 =","0 * 0% / 3 =","0 * 0% / 3 =","0 * 0% / 3 =","0 * 0% / 3 =","0 * 0% / 3 =","0 * 0% / 3 =","0 * 0% / 3 =","0 * 0% / 3 =","0 * 0% / 3 =","= 0 * 0% / 3 =","0 * 0% / 3 =","0 * 0% / 3 =","0 * 0% / 3 =","0 * 0% / 3 =","0 * 0% / 3 =","0 * 0% / 3 =","0 * 0% / 3 =","0 * 0% / 3 =","0 * 0% / 3 =","0 * 0% / 3 =","0 * 0% / 3 ="]
[null,31,null,null,null,"Fradrag i pensionstillæg for ikke optjent ferie mv.",{"$f":"\"= \"&G61&\" * \"&G$5&\"% / 3 =\"","v":"= 0 * % / 3 ="},"= 0 * 0% / 3 =","= 0 * 0% / 3 =","= 0 * 0% / 3 =","= 0 * 0% / 3 =","= 0 * 0% / 3 =","= 0 * 0% / 3 =","= 0 * 0% / 3 =","= 0 * 0% / 3 =","= 0 * 0% / 3 =","= 0 * 0% / 3 =","= 0 * 0% / 3 =","= 0 * 0% / 3 =","= 0 * 0% / 3 =","= 0 * 0% / 3 =","= 0 * 0% / 3 =","= 0 * 0% / 3 =","= 0 * 0% / 3 =","= 0 * 0% / 3 =","= 0 * 0% / 3 =","= 0 * 0% / 3 =","= 0 * 0% / 3 =","= 0 * 0% / 3 =","= 0 * 0% / 3 ="]
[null,32,null,null,null,"Pensionstillæg af feriedifference","= 0 * % / 3 =","= 0 * 0% / 3 =","= 0 * 0% / 3 =","= 0 * 0% / 3 =","= 0 * 0% / 3 =","= 0 * 0% / 3 =","= 0 * 0% / 3 =","= 0 * 0% / 3 =","= 0 * 0% / 3 =","= 0 * 0% / 3 =","= 0 * 0% / 3 =","= 0 * 0% / 3 =","= 0 * 0% / 3 =","= 0 * 0% / 3 =","= 0 * 0% / 3 =","= 0 * 0% / 3 =","= 0 * 0% / 3 =","= 0 * 0% / 3 =","= 0 * 0% / 3 =","= 0 * 0% / 3 =","= 0 * 0% / 3 =","= 0 * 0% / 3 =","= 0 * 0% / 3 =","= 0 * 0% / 3 ="]
[null,33,null,null,null,"Pensionstillæg af pensiong. engangstillæg",{"$f":"SUBSTITUTE(TRIM(\"=SUM(\"&IF($G36>0,G36&\" \",\"\")&IF($C40<>\"\",G40&\" \",\"\")&IF($C41<>\"\",G41&\" \",\"\")&IF($C42<>\"\",G42&\" \",\"\")&IF($C43<>\"\",G43&\" \",\"\")&IF($C44<>\"\",G44,\"\")&\")\"),\" \",\"; \")&\" * \"&G5&\"% / 3 =\"","v":"=SUM(; ) * % / 3 ="},"=SUM(; ) * 0% / 3 =","=SUM(; ) * 0% / 3 =","=SUM(; ) * 0% / 3 =","=SUM(; ) * 0% / 3 =","=SUM(; ) * 0% / 3 =","=SUM(; ) * 0% / 3 =","=SUM(; ) * 0% / 3 =","=SUM(; ) * 0% / 3 =","=SUM(; ) * 0% / 3 =","=SUM(; ) * 0% / 3 =","=SUM(; ) * 0% / 3 =","=SUM(0; 0; 0; ) * 0% / 3 =","=SUM(0; 0; 0; ) * 0% / 3 =","=SUM(0; 0; 0; ) * 0% / 3 =","=SUM(0; 0; 0; ) * 0% / 3 =","=SUM(0; 0; 0; ) * 0% / 3 =","=SUM(0; 0; 0; ) * 0% / 3 =","=SUM(0; 0; 0; ) * 0% / 3 =","=SUM(0; 0; 0; ) * 0% / 3 =","=SUM(0; 0; 0; ) * 0% / 3 =","=SUM(0; 0; 0; ) * 0% / 3 =","=SUM(0; 0; 0; ) * 0% / 3 =","=SUM(0; 0; 0; ) * 0% / 3 ="]
[null,34,null,null,null,"Ekstra pension ved orlov uden løn","Ekstra pension ved orlov uden løn","Ekstra pension ved orlov uden løn","Ekstra pension ved orlov uden løn","Ekstra pension ved orlov uden løn","Ekstra pension ved orlov uden løn","Ekstra pension ved orlov uden løn","Ekstra pension ved orlov uden løn","Ekstra pension ved orlov uden løn","Ekstra pension ved orlov uden løn","Ekstra pension ved orlov uden løn","Ekstra pension ved orlov uden løn","Ekstra pension ved orlov uden løn"]
[null,35,null,null,null,"Pensionstillæg i alt"]
[null,36,null,null,null,"Egetbidrag til ATP"]
[null,37,null,null,null,"AMB-grundlag",{"$f":"\"= SUM(Lin. 1 - Lin. 14) + SUM(Lin 19 - Lin28) - \"&G86&\" =\"","v":"= SUM(Lin. 1 - Lin. 14) + SUM(Lin 19 - Lin28) - 0 ="},{"$f":"\"= SUM(Lin. 1 - Lin. 14) + SUM(Lin 19 - Lin28) - \"&H86&\" =\"","v":"= SUM(Lin. 1 - Lin. 14) + SUM(Lin 19 - Lin28) - 0 ="},"= SUM(Lin. 1 - Lin. 14) + SUM(Lin 19 - Lin28) - 0 =","= SUM(Lin. 1 - Lin. 14) + SUM(Lin 19 - Lin28) - 0 =","= SUM(Lin. 1 - Lin. 14) + SUM(Lin 19 - Lin28) - 0 =","= SUM(Lin. 1 - Lin. 14) + SUM(Lin 19 - Lin28) - 0 =","= SUM(Lin. 1 - Lin. 14) + SUM(Lin 19 - Lin28) - 0 =","= SUM(Lin. 1 - Lin. 14) + SUM(Lin 19 - Lin28) - 0 =","= SUM(Lin. 1 - Lin. 14) + SUM(Lin 19 - Lin28) - 0 =","= SUM(Lin. 1 - Lin. 14) + SUM(Lin 19 - Lin28) - 0 =","= SUM(Lin. 1 - Lin. 14) + SUM(Lin 19 - Lin28) - 0 =","= SUM(Lin. 1 - Lin. 14) + SUM(Lin 19 - Lin28) - 0 =",{"$f":"\"= SUM(Lin. 1 - Lin. 14) + SUM(Lin 19 - Lin28) - \"&S86&\" =\"","v":"= SUM(Lin. 1 - Lin. 14) + SUM(Lin 19 - Lin28) - 0 ="},{"$f":"\"= SUM(Lin. 1 - Lin. 14) + SUM(Lin 19 - Lin28) - \"&T86&\" =\"","v":"= SUM(Lin. 1 - Lin. 14) + SUM(Lin 19 - Lin28) - 0 ="},"= SUM(Lin. 1 - Lin. 14) + SUM(Lin 19 - Lin28) - 0 =","= SUM(Lin. 1 - Lin. 14) + SUM(Lin 19 - Lin28) - 0 =","= SUM(Lin. 1 - Lin. 14) + SUM(Lin 19 - Lin28) - 0 =","= SUM(Lin. 1 - Lin. 14) + SUM(Lin 19 - Lin28) - 0 =","= SUM(Lin. 1 - Lin. 14) + SUM(Lin 19 - Lin28) - 0 =","= SUM(Lin. 1 - Lin. 14) + SUM(Lin 19 - Lin28) - 0 =","= SUM(Lin. 1 - Lin. 14) + SUM(Lin 19 - Lin28) - 0 =","= SUM(Lin. 1 - Lin. 14) + SUM(Lin 19 - Lin28) - 0 =","= SUM(Lin. 1 - Lin. 14) + SUM(Lin 19 - Lin28) - 0 =","= SUM(Lin. 1 - Lin. 14) + SUM(Lin 19 - Lin28) - 0 ="]
[null,38,null,null,null,"AM-bidrag",{"$f":"\"= \"&G87&\" * 8% (afrundet) =\"","v":"= 0 * 8% (afrundet) ="},{"$f":"\"= \"&H87&\" * 8% (afrundet) =\"","v":"= 0 * 8% (afrundet) ="},"= 0 * 8% (afrundet) =","= 0 * 8% (afrundet) =","= 0 * 8% (afrundet) =","= 0 * 8% (afrundet) =","= 0 * 8% (afrundet) =","= 0 * 8% (afrundet) =","= 0 * 8% (afrundet) =","= 0 * 8% (afrundet) =","= 0 * 8% (afrundet) =","= 0 * 8% (afrundet) =",{"$f":"\"= \"&S87&\" * 8% (afrundet) =\"","v":"= 0 * 8% (afrundet) ="},{"$f":"\"= \"&T87&\" * 8% (afrundet) =\"","v":"= 0 * 8% (afrundet) ="},"= 0 * 8% (afrundet) =","= 0 * 8% (afrundet) =","= 0 * 8% (afrundet) =","= 0 * 8% (afrundet) =","= 0 * 8% (afrundet) =","= 0 * 8% (afrundet) =","= 0 * 8% (afrundet) =","= 0 * 8% (afrundet) =","= 0 * 8% (afrundet) =","= 0 * 8% (afrundet) ="]
[null,39,null,null,null,"A-indkomst",{"$f":"\"= \"&G87&\" - \"&G88&\" =\"","v":"= 0 - 0 ="},{"$f":"\"= \"&H87&\" - \"&H88&\" =\"","v":"= 0 - 0 ="},"= 0 - 0 =","= 0 - 0 =","= 0 - 0 =","= 0 - 0 =","= 0 - 0 =","= 0 - 0 =","= 0 - 0 =","= 0 - 0 =","= 0 - 0 =","= 0 - 0 =",{"$f":"\"= \"&S87&\" - \"&S88&\" =\"","v":"= 0 - 0 ="},{"$f":"\"= \"&T87&\" - \"&T88&\" =\"","v":"= 0 - 0 ="},"= 0 - 0 =","= 0 - 0 =","= 0 - 0 =","= 0 - 0 =","= 0 - 0 =","= 0 - 0 =","= 0 - 0 =","= 0 - 0 =","= 0 - 0 =","= 0 - 0 ="]
[null,40,null,null,null,"Skattegrundlag"]
[null,41,null,null,null,"Skat",{"$f":"\"= (\"&G89&\" - \"&G30&\") (afrundet) * \"&G29&\" / 100 =\"","v":"= (0 - ) (afrundet) *  / 100 ="},{"$f":"\"= (\"&H89&\" - \"&H30&\") (afrundet) * \"&H29&\" / 100 =\"","v":"= (0 - 0) (afrundet) * 0 / 100 ="},"= (0 - 0) (afrundet) * 0 / 100 =","= (0 - 0) (afrundet) * 0 / 100 =","= (0 - 0) (afrundet) * 0 / 100 =","= (0 - 0) (afrundet) * 0 / 100 =","= (0 - 0) (afrundet) * 0 / 100 =","= (0 - 0) (afrundet) * 0 / 100 =","= (0 - 0) (afrundet) * 0 / 100 =","= (0 - 0) (afrundet) * 0 / 100 =","= (0 - 0) (afrundet) * 0 / 100 =","= (0 - 0) (afrundet) * 0 / 100 =",{"$f":"\"= (\"&S89&\" - \"&S30&\") (afrundet) * \"&S29&\" / 100 =\"","v":"= (0 - 0) (afrundet) * 0 / 100 ="},{"$f":"\"= (\"&T89&\" - \"&T30&\") (afrundet) * \"&T29&\" / 100 =\"","v":"= (0 - 0) (afrundet) * 0 / 100 ="},"= (0 - 0) (afrundet) * 0 / 100 =","= (0 - 0) (afrundet) * 0 / 100 =","= (0 - 0) (afrundet) * 0 / 100 =","= (0 - 0) (afrundet) * 0 / 100 =","= (0 - 0) (afrundet) * 0 / 100 =","= (0 - 0) (afrundet) * 0 / 100 =","= (0 - 0) (afrundet) * 0 / 100 =","= (0 - 0) (afrundet) * 0 / 100 =","= (0 - 0) (afrundet) * 0 / 100 =","= (0 - 0) (afrundet) * 0 / 100 ="]
[null,42,null,null,null,"Feriegodtgørelsesgrundlag"]
[null,43,null,null,null,{"$f":"\"Feriegodtgørelsesgrundlag, jan-juli \"&Aar+1","v":"Feriegodtgørelsesgrundlag, jan-juli 1"}]
[null,44,null,null,null,"Egetbidrag til pensionskasse",{"$f":"\"= Lin. 43 =\"","v":"= Lin. 43 ="},{"$f":"\"= Lin. 43 =\"","v":"= Lin. 43 ="},"= Lin. 43 =","= Lin. 43 =","= Lin. 43 =","= Lin. 43 =","= Lin. 43 =","= Lin. 43 =","= Lin. 43 =","= Lin. 43 =","= Lin. 43 =","= Lin. 43 =",{"$f":"\"= Lin. 43 =\"","v":"= Lin. 43 ="},"= Lin. 43 =","= Lin. 43 =","= Lin. 43 =","= Lin. 43 =","= Lin. 43 =","= Lin. 43 =","= Lin. 43 =","= Lin. 43 =","= Lin. 43 =","= Lin. 43 =","= Lin. 43 ="]
[null,45,null,null,null,"Arbejdsgiverbidrag til pensionskasse",{"$f":"\"= Lin. 43 * 2 =\"","v":"= Lin. 43 * 2 ="},{"$f":"\"= Lin. 43 * 2 =\"","v":"= Lin. 43 * 2 ="},"= Lin. 43 * 2 =","= Lin. 43 * 2 =","= Lin. 43 * 2 =","= Lin. 43 * 2 =","= Lin. 43 * 2 =","= Lin. 43 * 2 =","= Lin. 43 * 2 =","= Lin. 43 * 2 =","= Lin. 43 * 2 =","= Lin. 43 * 2 =",{"$f":"\"= Lin. 43 * 2 =\"","v":"= Lin. 43 * 2 ="},"= Lin. 43 * 2 =","= Lin. 43 * 2 =","= Lin. 43 * 2 =","= Lin. 43 * 2 =","= Lin. 43 * 2 =","= Lin. 43 * 2 =","= Lin. 43 * 2 =","= Lin. 43 * 2 =","= Lin. 43 * 2 =","= Lin. 43 * 2 =","= Lin. 43 * 2 ="]
[null,46,null,null,null,"Arbejdsgiverbidrag til ATP",{"$f":"\"= Lin. 44 * 2 =\"","v":"= Lin. 44 * 2 ="},{"$f":"\"= Lin. 44 * 2 =\"","v":"= Lin. 44 * 2 ="},"= Lin. 44 * 2 =","= Lin. 44 * 2 =","= Lin. 44 * 2 =","= Lin. 44 * 2 =","= Lin. 44 * 2 =","= Lin. 44 * 2 =","= Lin. 44 * 2 =","= Lin. 44 * 2 =","= Lin. 44 * 2 =","= Lin. 44 * 2 =",{"$f":"\"= Lin. 44 * 2 =\"","v":"= Lin. 44 * 2 ="},"= Lin. 44 * 2 =","= Lin. 44 * 2 =","= Lin. 44 * 2 =","= Lin. 44 * 2 =","= Lin. 44 * 2 =","= Lin. 44 * 2 =","= Lin. 44 * 2 =","= Lin. 44 * 2 =","= Lin. 44 * 2 =","= Lin. 44 * 2 =","= Lin. 44 * 2 ="]
[null,47,null,null,null,"Skolens samlede indbetaling til pensionskasse",{"$f":"\"= Lin. 51 + Lin. 52 =\"","v":"= Lin. 51 + Lin. 52 ="},{"$f":"\"= Lin. 51 + Lin. 52 =\"","v":"= Lin. 51 + Lin. 52 ="},"= Lin. 51 + Lin. 52 =","= Lin. 51 + Lin. 52 =","= Lin. 51 + Lin. 52 =","= Lin. 51 + Lin. 52 =","= Lin. 51 + Lin. 52 =","= Lin. 51 + Lin. 52 =","= Lin. 51 + Lin. 52 =","= Lin. 51 + Lin. 52 =","= Lin. 51 + Lin. 52 =","= Lin. 51 + Lin. 52 =",{"$f":"\"= Lin. 51 + Lin. 52 =\"","v":"= Lin. 51 + Lin. 52 ="},"= Lin. 51 + Lin. 52 =","= Lin. 51 + Lin. 52 =","= Lin. 51 + Lin. 52 =","= Lin. 51 + Lin. 52 =","= Lin. 51 + Lin. 52 =","= Lin. 51 + Lin. 52 =","= Lin. 51 + Lin. 52 =","= Lin. 51 + Lin. 52 =","= Lin. 51 + Lin. 52 =","= Lin. 51 + Lin. 52 =","= Lin. 51 + Lin. 52 ="]
[null,48,null,null,null,"Skolens samlede indbetaling til ATP",{"$f":"\"= Lin. 44 + Lin. 53 =\"","v":"= Lin. 44 + Lin. 53 ="},{"$f":"\"= Lin. 44 + Lin. 53 =\"","v":"= Lin. 44 + Lin. 53 ="},"= Lin. 44 + Lin. 53 =","= Lin. 44 + Lin. 53 =","= Lin. 44 + Lin. 53 =","= Lin. 44 + Lin. 53 =","= Lin. 44 + Lin. 53 =","= Lin. 44 + Lin. 53 =","= Lin. 44 + Lin. 53 =","= Lin. 44 + Lin. 53 =","= Lin. 44 + Lin. 53 =","= Lin. 44 + Lin. 53 =",{"$f":"\"= Lin. 44 + Lin. 53 =\"","v":"= Lin. 44 + Lin. 53 ="},"= Lin. 44 + Lin. 53 =","= Lin. 44 + Lin. 53 =","= Lin. 44 + Lin. 53 =","= Lin. 44 + Lin. 53 =","= Lin. 44 + Lin. 53 =","= Lin. 44 + Lin. 53 =","= Lin. 44 + Lin. 53 =","= Lin. 44 + Lin. 53 =","= Lin. 44 + Lin. 53 =","= Lin. 44 + Lin. 53 =","= Lin. 44 + Lin. 53 ="]
[null,49,null,null,null,"Indbetaling til Gruppeliv"]
[null,50,null,null,null,"Løn til den ansattes disposition",{"$f":"\"= \"&G70&\" - ( \"&G91&\" + \"&G86&\" + \"&G88&\" + \"&G99&\") - SUM(lin 57 : 59) =\"","v":"= 0 - ( 0 + 0 + 0 + 0) - SUM(lin 57 : 59) ="},{"$f":"\"= \"&H70&\" - ( \"&H91&\" + \"&H86&\" + \"&H88&\" + \"&H99&\") - SUM(lin 57 : 59) =\"","v":"= 0 - ( 0 + 0 + 0 + 0) - SUM(lin 57 : 59) ="},"= 0 - ( 0 + 0 + 0 + 0) - SUM(lin 57 : 59) =","= 0 - ( 0 + 0 + 0 + 0) - SUM(lin 57 : 59) =","= 0 - ( 0 + 0 + 0 + 0) - SUM(lin 57 : 59) =","= 0 - ( 0 + 0 + 0 + 0) - SUM(lin 57 : 59) =","= 0 - ( 0 + 0 + 0 + 0) - SUM(lin 57 : 59) =","= 0 - ( 0 + 0 + 0 + 0) - SUM(lin 57 : 59) =","= 0 - ( 0 + 0 + 0 + 0) - SUM(lin 57 : 59) =","= 0 - ( 0 + 0 + 0 + 0) - SUM(lin 57 : 59) =","= 0 - ( 0 + 0 + 0 + 0) - SUM(lin 57 : 59) =","= 0 - ( 0 + 0 + 0 + 0) - SUM(lin 57 : 59) =",{"$f":"\"= \"&S70&\" - ( \"&S91&\" + \"&S86&\" + \"&S88&\" + \"&S99&\") - SUM(lin 57 : 59) =\"","v":"= 0 - ( 0 + 0 + 0 + 0) - SUM(lin 57 : 59) ="},{"$f":"\"= \"&T70&\" - ( \"&T91&\" + \"&T86&\" + \"&T88&\" + \"&T99&\") - SUM(lin 57 : 59) =\"","v":"= 0 - ( 0 + 0 + 0 + 0) - SUM(lin 57 : 59) ="},"= 0 - ( 0 + 0 + 0 + 0) - SUM(lin 57 : 59) =","= 0 - ( 0 + 0 + 0 + 0) - SUM(lin 57 : 59) =","= 0 - ( 0 + 0 + 0 + 0) - SUM(lin 57 : 59) =","= 0 - ( 0 + 0 + 0 + 0) - SUM(lin 57 : 59) =","= 0 - ( 0 + 0 + 0 + 0) - SUM(lin 57 : 59) =","= 0 - ( 0 + 0 + 0 + 0) - SUM(lin 57 : 59) =","= 0 - ( 0 + 0 + 0 + 0) - SUM(lin 57 : 59) =","= 0 - ( 0 + 0 + 0 + 0) - SUM(lin 57 : 59) =","= 0 - ( 0 + 0 + 0 + 0) - SUM(lin 57 : 59) =","= 0 - ( 0 + 0 + 0 + 0) - SUM(lin 57 : 59) ="]
[null,51,null,null,null,{"$f":"\"Feriepengeberegningsgrundlag, jan-dec \"&Aar","v":"Feriepengeberegningsgrundlag, jan-dec "}]
[null,null,null,null,null,{"$f":"\"Feriepengeberegningsgrundlag, jan-jul \"&Aar+1","v":"Feriepengeberegningsgrundlag, jan-jul 1"}]

{"sheet":"V","index":13,"n_rows":204,"n_cols":32,"rows_kept":204,"cut":false,"hidden":false,"merged":[[3,0,27,0],[28,0,29,0],[29,2,31,2],[44,2,46,4],[101,6,101,10],[101,18,101,22],[0,2,2,2],[0,3,2,3],[0,4,2,4]]}
["2022-2023",1,"Pensionsg.","BG-afh.","Regu-leret","Lønberegning for: (navn eller initialer)\n - variable løndele i lin. 30-43.","V",{"$f":"G1","v":"V"},{"$f":"H1","v":"V"},"V","V","V","V","V","V","V","V","V","Q",{"$f":"S1","v":"Q"},{"$f":"T1","v":"Q"},"Q","Q","Q","Q","Q","Q","Q","Q","Q","Udfyld gule felter (alle forudfyldte tal i gule felter er eksempler)"]
[null,{"$f":"B1+1","v":2},null,null,null,"Stillingsbetegnelse","Pædagog",{"$f":"G2","v":"Pædagog"},"Pædagog","Pædagog","Pædagog","Pædagog","Pædagog","Pædagog","Pædagog","Pædagog","Pædagog","Pædagog","Stilling",{"$f":"S2","v":"Stilling"},"Stilling","Stilling","Stilling","Stilling","Stilling","Stilling","Stilling","Stilling","Stilling","Stilling"]
[null,{"$f":"B2+1","v":3},null,null,null,"Måned",{"$f":"\"AUG \"&RIGHT(A1,2)+0","v":"AUG 23"},{"$f":"\"SEP \"&RIGHT(A1,2)+0","v":"SEP 23"},{"$f":"\"OKT \"&RIGHT(A1,2)+0","v":"OKT 23"},{"$f":"\"NOV \"&RIGHT(A1,2)+0","v":"NOV 23"},{"$f":"\"DEC \"&RIGHT(A1,2)+0","v":"DEC 23"},{"$f":"\"JAN \"&RIGHT(A1,2)+1","v":"JAN 24"},{"$f":"\"FEB \"&RIGHT(A1,2)+1","v":"FEB 24"},{"$f":"\"MAR \"&RIGHT(A1,2)+1","v":"MAR 24"},{"$f":"\"APR \"&RIGHT(A1,2)+1","v":"APR 24"},{"$f":"\"MAJ \"&RIGHT(A1,2)+1","v":"MAJ 24"},{"$f":"\"JUN \"&RIGHT(A1,2)+1","v":"JUN 24"},{"$f":"\"JUL \"&RIGHT(A1,2)+1","v":"JUL 24"},{"$f":"G3","v":"AUG 23"},{"$f":"H3","v":"SEP 23"},"OKT 23","NOV 23","DEC 23","JAN 24","FEB 24","MAR 24","APR 24","MAJ 24","JUN 24","JUL 24","ansat d. "]
[null,{"$f":"B3+1","v":4},"sæt 'x'","sæt 'x'","sæt 'x'","Del af måned \nantal kalenderdage/månedens kalenderdage",1,{"$f":"G4","v":1},{"$f":"H4","v":1},1,1,1,1,1,1,1,1,1,{"$f":"G4","v":1},1,1,1,1,1,1,1,1,1,1,1,"Hvis ansat 10 oktober: 21/31\nHvis fratrådt 15. april: 15/30",2]
[null,{"$f":"B4+1","v":5},null,null,null,"Pensionsprocent",null,{"$f":"$G5","v":0},0,0,0,0,0,0,0,0,0,0,{"$f":"G5","v":0},0,0,0,0,0,0,0,0,0,0,0,"Skriv ikke procenttegnet, fx 14,7% - skriv 14,70",3]
[null,{"$f":"B5+1","v":6},null,null,null,"Betales hele pensionen af skolen? JA/NEJ","Ja",{"$f":"G6","v":"Ja"},{"$f":"H6","v":"Ja"},"Ja","Ja","Ja","Ja","Ja","Ja","Ja","Ja","Ja",{"$f":"G6","v":"Ja"},"Ja","Ja","Ja","Ja","Ja","Ja","Ja","Ja","Ja","Ja","Ja","Se ansættelsesbrev",4]
[null,null,null,null,null,"Har den ansatte orlov uden løn men med pension?","Nej",{"$f":"G7","v":"Nej"},"Nej","Nej","Nej","Nej","Nej","Nej","Nej","Nej","Nej","Nej"]
[null,{"$f":"B6+1","v":7},null,null,null,"Beregnes feriedifferende mv. efter Ferieaftalen i staten JA, eller efter Ferieloven NEJ","JA",{"$f":"G8","v":"JA"},"JA","JA","JA","JA","JA","JA","JA","JA","JA","JA",{"$f":"G8","v":"JA"},{"$f":"H8","v":"JA"},"JA","JA","JA","JA","JA","JA","JA","JA","JA","JA","Ferieloven: mindst 20% differende, Ferieaftalen: enhver differende",5]
[null,{"$f":"B8+1","v":8},null,null,null,"Procentregulering +1",1.1553389999999999,1.1553389999999999,1.159197,1.159197,{"$f":"J9","v":1.159197},1.159197,1.159197,1.159197,null,{"$f":"O9","v":0},{"$f":"P9","v":0},{"$f":"Q9","v":0},{"$f":"G9","v":1.1553389999999999},1.1553389999999999,1.159197,1.159197,1.159197,1.159197,1.159197,1.159197,0,0,0,0,null,6]
[null,9,null,null,null,"Skolens stedtillægsområde",null,{"$f":"G10","v":0},0,0,0,0,0,0,0,0,0,0,{"$f":"G10","v":0},0,0,0,0,0,0,0,0,0,0,0]
[null,10,null,null,null,"Beskæftigelsesgrad aktuel (Beskæftigelsesgrad løn beregnes ud fra)",null,{"$f":"G11","v":0},0,0,0,0,0,0,0,{"$f":"O11","v":0},0,0,0,0,0,0,0,0,0,0,0,0,0,0]
[null,{"$f":"B11+1","v":11},"x","x","x","Skalatrin",null,{"$f":"G12","v":0},0,0,0,0,0,0,0,0,0,0,0,0,0,0,0,0,0,0,0,0,0,0,"Statens løntabel eller HK-overenskomst-løntrin"]
[null,12,"x","x","x",{"$f":"\"Fast aftalt årlig løn \"&IF(E13<>\"\",\"i grundbeløb pr. 31.03.2012\",\"(ikke reguleret)\")","v":"Fast aftalt årlig løn i grundbeløb pr. 31.03.2012"},null,0,0,0,0,0,0,0,{"$f":"N13","v":0},0,0,0,0,0,0,0,0,0,0,0,0,0,0,0]
[null,13,"x",null,"x","Årligt sousdheftillæg eller lign. i grundbeløb",null,{"$f":"G14","v":0},0,0,0,0,0,0,0,0,0,0,0,0,0,0,0,0,0,0,0,0,0,0]
[null,14,"x",null,"x","Årligt funktionsstillæg i grundbeløb 1",null,{"$f":"G15","v":0},0,0,0,0,0,0,0,0,0,0,0,0,0,0,0,0,0,0,0,0,0,0,null,"Ja"]
[null,15,"x",null,"x","Årligt funktionsstillæg i grundbeløb 2",null,{"$f":"G16","v":0},0,0,0,0,0,0,0,0,0,0,0,0,0,0,0,0,0,0,0,0,0,0,null,"Nej"]
[null,16,"x",null,"x","Årligt funktionsstillæg i grundbeløb 3",null,{"$f":"G17","v":0},0,0,0,0,0,0,0,0,0,0,0,0,0,0,0,0,0,0,0,0,0,0]
[null,17,"x","x","x","Årligt kvalifikationsstillæg i grundbeløb 1",null,0,0,0,0,0,0,0,0,0,0,0,0,0,0,0,0,0,0,0,0,0,0,0]
[null,18,"x","x","x","Årligt kvalifikationsstillæg i grundbeløb 2",null,0,0,0,0,0,0,0,0,0,0,0,0,0,0,0,0,0,0,0,0,0,0,0]
[null,19,"x","x","x","Årligt kvalifikationsstillæg i grundbeløb 3",null,0,0,0,0,0,0,0,0,0,0,0,0,0,0,0,0,0,0,0,0,0,0,0]
[null,20,"x","x","x","Udligningstillæg i årligt grundbeløb v. 100% BG",null,0,0,0,0,0,0,0,0,0,0,0,0,0,0,0,0,0,0,0,0,0,0,0]
[null,21,null,null,null,"Gruppelivsordning betalt af af skolen som et løntillæg. Skriv det månedlige beløb!",null,0,0,0,0,0,0,0,0,0,0,0,0,0,0,0,0,0,0,0,0,0,0,0,"Spedielt ved virksomhedsoverdragelse"]
[null,22,null,null,"x","Lokalaftalt fast ulempegodtgørelse pr. måned. - (pr. 31. marts 2012)",null,{"$f":"G23","v":0},0,0,0,0,0,0,{"$f":"N23","v":0},0,0,0,0,0,0,0,0,0,0,0,0,0,0,0,"I stedet for variable arbejdstidsbestemte tillæg, iflg lokalaftale"]
[null,23,null,null,null,"Planlagte feriedage",null,null,5,null,null,null,5,null,null,null,null,15,{"$f":"G24","v":0},{"$f":"H24","v":0},5,0,0,0,5,0,0,0,0,15,"Normalt 15 dage i sommerhalvåret og 10 dage i vinterhalvåret"]
[null,24,null,null,null,".. heraf antal feriedage,\nhvortil der ikke er optjent ferieret",null,null,null,null,null,null,null,null,null,null,null,0,0,0,0,0,0,0,0,0,0,0,0,0,"Ferieloven: fradrag 4,8% pr. dag, Ferieaftalen: 4,62% pr. dag"]
[null,25,null,null,null,"Feriedifference pensionsgivende(udregnes i særskilt regneark)",null,null,null,null,null,null,null,null,null,null,null,null,0,0,0,0,0,0,0,0,0,0,0,0,"Benyttes ved beregning af feriedifferende."]
[null,26,null,null,null,"Feriedifference IKKE pensionsgivende(udregnes i særskilt regneark)",null,null,null,null,null,null,null,null,null,null,null,null,0,0,0,0,0,0,0,0,0,0,0,0,"Benyttes ved beregning af feriedifference'"]
[null,27,null,null,null,"Egenbetalte fridage",null,null,null,null,null,null,null,null,null,null,null,null,0,0,0,0,0,0,0,0,0,0,0,0,"Løn- og pensionsfradrag beregnes i lin 60 og 75"]
["Skatteop-lysninger",28,null,null,null,"Skatteprocent",null,{"$f":"G29","v":0},0,0,0,0,0,0,0,0,0,0,0,0,0,0,0,0,0,0,0,0,0,0,"Skriv ikke procenttegnet, fx 42% - skriv 42"]
[null,29,"km-\ntak-ster",{"$f":"LEFT($A$1,4)+1","v":2023},{"$f":"LEFT($A$1,4)+2","v":2024},"Månedligt skattefradrag",null,0,0,0,0,0,0,0,0,0,0,0,0,0,0,0,0,0,0,0,0,0,0,0]
[null,30,null,2.19,null,"Km.godtgørelse, lav sats (skattefri), antal km:",null,null,null,null,null,null,null,null,null,null,null,null,0,0,0,0,0,0,0,0,0,0,0,0]
[null,31,null,3.73,null,"Km.godtgørelse, høj sats (skattefri), antal km:",null,null,null,null,null,null,null,null,null,null,null,null,0,0,0,0,0,0,0,0,0,0,0,0]
[null,32,null,null,null,"Timedagpenge (skattefri) - Beregn selv",null,null,null,null,null,null,null,null,null,null,null,null,0,0,0,0,0,0,0,0,0,0,0,0,"Se løntabel"]
[null,33,null,null,null,"Jubilæumsgratiale (skattefri op til 8.000 kr.)",null,null,null,null,null,null,null,null,null,null,null,null,0,0,0,0,0,0,0,0,0,0,0,0,"Se løntabel"]
[null,34,null,null,null,"Arbejds- og arbejdstidsbestemte tillæg. Beregn selv",null,null,null,null,null,null,null,null,null,null,null,null,0,0,0,0,0,0,0,0,0,0,0,0,"”Natpenge” iflg skema, hvis ikke der er lokalaftalt godtgørelse"]
[null,35,"x",null,null,"Merarbejdsbetaling. Beregn selv",null,null,null,null,null,null,null,null,null,null,null,null,0,0,0,0,0,0,0,0,0,0,0,0,"Efter årsopgørelse eller ved fratræden"]
[null,36,null,null,null,"Overtidsbetaling. Beregn selv",null,null,null,null,null,null,null,null,null,null,null,null,0,0,0,0,0,0,0,0,0,0,0,0,"Efter årsopgørelse eller ved fratræden"]
[null,37,null,null,null,"Særlige feriedage til udbetaling. Beregn selv",null,null,null,null,null,null,null,null,null,null,null,null,{"$f":"G38","v":0},0,0,0,0,0,0,0,0,0,0,0,"Efter årsafslutning eller ved fratræden. Se pjeden \"Ferievejledning\""]
[null,38,null,null,null,{"$f":"\"Særlig ferietillæg \"&IF(G8=\"ja\",\"1,5%\",\"1,0%\"&\"\")","v":"Særlig ferietillæg 1,5%"},null,null,null,null,null,null,null,null,null,0,null,null,0,0,0,0,0,0,0,0,0,0,0,0]
[null,39,"x",null,null,"Resultatlønstillæg",null,null,null,null,null,null,null,null,null,null,null,null,0,0,0,0,0,0,0,0,0,0,0,0]
[null,40,"x",null,null,"Engangs nylønstillæg",null,null,null,null,null,null,null,null,null,null,null,null,0,0,0,0,0,0,0,0,0,0,0,0]
[null,41,"x",null,null,"Praktiklærervederlag",null,null,null,null,null,null,null,null,null,null,null,null,0,0,0,0,0,0,0,0,0,0,0,0,{"$f":"45*5*7.4","v":1665}]
[null,42,null,null,null,"andet",null,null,null,null,null,null,null,null,null,null,null,null,0,0,0,0,0,0,0,0,0,0,0,0]
[null,43,null,null,null,"andet",null,null,null,null,null,null,null,null,null,null,null,null,0,0,0,0,0,0,0,0,0,0,0,0]
[null,44,"Disse tre linjer fradrages i den disponible løn",null,null,"gavekasse",null,{"$f":"G45","v":0},{"$f":"H45","v":0},0,0,0,0,0,0,0,0,0,0,0,0,0,0,0,0,0,0,0,0,0,"Fx: 'Kaffekasse'"]
[null,45,null,null,null,"kaffekasse",null,{"$f":"G46","v":0},0,0,0,0,0,0,0,0,0,0,0,0,0,0,0,0,0,0,0,0,0,0,"Fx: 'Gavekasse'"]
[null,46,null,null,null,"Fagforenings-kontingent",null,{"$f":"G47","v":0},0,0,0,0,0,0,0,0,0,0,0,0,0,0,0,0,0,0,0,0,0,0,"FX: 'Fagforeningskontingent'"]
[{"$f":"A3","v":"1904-01-01"},{"$f":"B47+1","v":47},null,null,null,"Måned",{"$f":"G3","v":"AUG 23"},"SEP 23","OKT 23","NOV 23","DEC 23","JAN 24","FEB 24","MAR 24","APR 24","MAJ 24","JUN 24","JUL 24","AUG 23","SEP 23","OKT 23","NOV 23","DEC 23","JAN 24","FEB 24","MAR 24","APR 24","MAJ 24","JUN 24","JUL 24","SUM"]
[null,48,{"$f":"(C12<>\"\")*1","v":1},1,1,{"$f":"IF(ISNUMBER(G12),\"Skalatrinsløn\",\"HK-løn\")","v":"HK-løn"},{"$f":"IF(G7=\"Ja\",0,ROUND(IF(AND(G$11>0,G12>0),ROUND((ROUND(VLOOKUP(G12,Skalalontabel12,G10,0)*G9,0))/12,2),0)*G11*G4,2))","v":0},0,0,0,0,0,0,0,0,0,0,0,{"$f":"ROUND(IF(AND(S$11>0,S12>0),ROUND((ROUND(VLOOKUP(S12,Skalalontabel12,S10,0)*S9,0))/12,2),0)*S11*S4,2)","v":0},0,0,0,0,0,0,0,0,0,0,0,{"$f":"SUM(G49:R49)","v":0}]
[null,49,1,1,1,"Fast løn",{"$f":"IF(G7=\"Ja\",0,ROUND(IF(G13>0,G13/12)*IF($D13<>\"\",G$11,1)*IF($E13<>\"\",G$9,1)*G4,2))","v":0},0,0,0,0,0,0,0,0,0,0,0,{"$f":"ROUND(IF(S13>0,S13/12)*IF($D13<>\"\",S$11,1)*IF($E13<>\"\",S$9,1)*S4,2)","v":0},0,0,0,0,0,0,0,0,0,0,0,0]
[null,50,1,0,1,"Souscheftillæg ell. lign.",{"$f":"IF(G7=\"Ja\",0,ROUND(IF(AND(G$11>0,G14>0),G14/12)*IF($D14<>\"\",G$11,1)*IF($E14<>\"\",G$9,1)*G4,2))","v":0},0,0,0,0,0,0,0,0,0,0,0,{"$f":"ROUND(IF(AND(S$11>0,S14>0),S14/12)*IF($D14<>\"\",S$11,1)*IF($E14<>\"\",S$9,1)*S4,2)","v":0},0,0,0,0,0,0,0,0,0,0,0,0]
[null,51,1,0,1,"Funktionstillæg 1",{"$f":"IF(G7=\"Ja\",0,ROUND(IF(AND(G$11>0,G15>0),G15/12)*IF($D15<>\"\",G$11,1)*IF($E15<>\"\",G$9,1)*G4,2))","v":0},0,0,0,0,0,0,0,0,0,0,0,{"$f":"ROUND(IF(AND(S$11>0,S15>0),S15/12)*IF($D15<>\"\",S$11,1)*IF($E15<>\"\",S$9,1)*S4,2)","v":0},0,0,0,0,0,0,0,0,0,0,0,0]
[null,52,1,0,1,"Funktionstillæg 2",{"$f":"IF(G7=\"Ja\",0,ROUND(IF(AND(G$11>0,G16>0),G16/12)*IF($D16<>\"\",G$11,1)*IF($E16<>\"\",G$9,1)*G4,2))","v":0},0,0,0,0,0,0,0,0,0,0,0,{"$f":"ROUND(IF(AND(S$11>0,S16>0),S16/12)*IF($D16<>\"\",S$11,1)*IF($E16<>\"\",S$9,1)*S4,2)","v":0},0,0,0,0,0,0,0,0,0,0,0,0]
[null,53,1,0,1,"Funktionstillæg 3",{"$f":"IF(G7=\"Ja\",0,ROUND(IF(AND(G$11>0,G17>0),G17/12)*IF($D17<>\"\",G$11,1)*IF($E17<>\"\",G$9,1)*G4,2))","v":0},0,0,0,0,0,0,0,0,0,0,0,{"$f":"ROUND(IF(AND(S$11>0,S17>0),S17/12)*IF($D17<>\"\",S$11,1)*IF($E17<>\"\",S$9,1)*S4,2)","v":0},0,0,0,0,0,0,0,0,0,0,0,0]
[null,54,1,1,1,"Kvalifikationstillæg 1",{"$f":"IF(G7=\"Ja\",0,ROUND(IF(AND(G$11>0,G18>0),G18/12)*IF($D18<>\"\",G$11,1)*IF($E18<>\"\",G$9,1)*G4,2))","v":0},0,0,0,0,0,0,0,0,0,0,0,{"$f":"ROUND(IF(AND(S$11>0,S18>0),S18/12)*IF($D18<>\"\",S$11,1)*IF($E18<>\"\",S$9,1)*S4,2)","v":0},0,0,0,0,0,0,0,0,0,0,0,0]
[null,55,1,1,1,"Kvalifikationstillæg 2",{"$f":"IF(G7=\"Ja\",0,ROUND(IF(AND(G$11>0,G19>0),G19/12)*IF($D19<>\"\",G$11,1)*IF($E19<>\"\",G$9,1)*G4,2))","v":0},0,0,0,0,0,0,0,0,0,0,0,{"$f":"ROUND(IF(AND(S$11>0,S19>0),S19/12)*IF($D19<>\"\",S$11,1)*IF($E19<>\"\",S$9,1)*S4,2)","v":0},0,0,0,0,0,0,0,0,0,0,0,0]
[null,56,1,1,1,"Kvalifikationstillæg 3",{"$f":"IF(G7=\"Ja\",0,ROUND(IF(AND(G$11>0,G20>0),G20/12)*IF($D20<>\"\",G$11,1)*IF($E20<>\"\",G$9,1)*G$4,2))","v":0},0,0,0,0,0,0,0,0,0,0,0,{"$f":"ROUND(IF(AND(S$11>0,S20>0),S20/12)*IF($D20<>\"\",S$11,1)*IF($E20<>\"\",S$9,1)*S$4,2)","v":0},0,0,0,0,0,0,0,0,0,0,0,0]
[null,57,1,1,1,"Udligningstillæg",{"$f":"IF(G7=\"Ja\",0,ROUND(IF(AND(G$11>0,G21>0),G21/12)*IF($D21<>\"\",G$11,1)*IF($E21<>\"\",G$9,1)*G$4,2))","v":0},0,0,0,0,0,0,0,0,0,0,0,0,0,0,0,0,0,0,0,0,0,0,0,0]
[null,58,null,null,null,"Gruppelivstillæg",{"$f":"IF(G7=\"Ja\",0,ROUND(IF(AND(G$11>0,G22>0),G22)*IF($D22<>\"\",G$11,1)*IF($E22<>\"\",G$9,1)*G$4,2))","v":0},0,0,0,0,0,0,0,0,0,0,0,{"$f":"ROUND(IF(AND(S$11>0,S22>0),S22)*IF($D22<>\"\",S$11,1)*IF($E22<>\"\",S$9,1)*S$4,2)","v":0},0,0,0,0,0,0,0,0,0,0,0,0]
[null,59,null,{"$f":"(D23<>\"\")*1","v":0},{"$f":"(E23<>\"\")*1","v":1},"Lokalaftalt ulempegodtgørelse",{"$f":"IF(G7=\"Ja\",0,ROUND(IF(AND(G$11>0,G23>0),G23)*IF($D23<>\"\",G$11,1)*IF($E23<>\"\",G$9,1)*G$4,2))","v":0},0,0,0,0,0,0,0,0,0,0,0,0,0,0,0,0,0,0,0,0,0,0,0,0]
[null,60,1,null,null,"Lønfradrag for ikke optjent ferie mv.",{"$f":"-ROUND((MAX(0,MIN(S24,S25*1))+S28)*IF(S8=\"JA\",4.62%,4.8%)*(S49+S50+S51+S52+S53+S54+S55+S56+S57+S58+S60)*S$4,2)","v":0},0,0,0,0,0,0,0,0,0,0,0,{"$f":"-ROUND((MAX(0,MIN(S24,S25*1))+S28)*IF(S8=\"JA\",4.62%,4.8%)*(S49+S50+S51+S52+S53+S54+S55+S56+S57+S58+S60)*S$4,2)","v":0},0,0,0,0,0,0,0,0,0,0,0,0]
[null,61,1,null,null,"Feriedifference pensionsgivende(udregnes i særskilt fane)",{"$f":"G26","v":0},{"$f":"H26","v":0},0,0,0,0,0,0,0,0,0,0,{"$f":"S26","v":0},{"$f":"T26","v":0},0,0,0,0,0,0,0,0,0,0,0]
[null,62,null,null,null,"Feriedifference IKKE pensionsgivende(udregnes i særskilt fane)",{"$f":"G27","v":0},0,0,0,0,0,0,0,0,0,0,0,{"$f":"S27","v":0},0,0,0,0,0,0,0,0,0,0,0]
[null,63,null,null,null,"Engangsudbetalinger iflg. specifikation",{"$f":"SUM(G35:G44)","v":0},{"$f":"SUM(H35:H44)","v":0},0,0,0,0,0,0,0,0,0,0,{"$f":"SUM(S35:S44)","v":0},{"$f":"SUM(T35:T44)+MAX(T34*T9-8000,0)","v":0},0,0,0,0,0,0,0,0,0,0,0]
[null,64,null,null,null,"Skattefrie km. Godtgørelse lav sats",{"$f":"G31*$D$31","v":0},{"$f":"H31*$D$31","v":0},0,0,0,0,0,0,0,0,0,0,{"$f":"S31*$D$31","v":0},{"$f":"T31*$D$31","v":0},0,0,0,0,0,0,0,0,0,0]
[null,65,null,null,null,"Skattefrie km. Godtgørelse høj sats",{"$f":"G32*$D$32","v":0},{"$f":"H32*$D$32","v":0},0,0,0,0,0,0,0,0,0,0,{"$f":"S32*$D$32","v":0},{"$f":"T32*$D$32","v":0},0,0,0,0,0,0,0,0,0,0]
[null,{"$f":"B64+1","v":64},null,null,null,"Timedagpenge(skattefrie)",{"$f":"IF(G33>0,G33,0)","v":0},{"$f":"IF(H33>0,H33,0)","v":0},0,0,0,0,0,0,0,0,0,0,{"$f":"IF(S33>0,S33,0)","v":0},{"$f":"IF(T33>0,T33,0)","v":0},0,0,0,0,0,0,0,0,0,0,0]
[null,65,null,null,null,"Skattefri jubilæumsgratiale",{"$f":"MIN(8000,G34*G9)","v":0},0,0,0,0,0,0,0,0,0,0,0,0,0,0,0,0,0,0,0,0,0,0,0]
[null,66,null,null,null,"Skattepligtig jubilæumsgratiaale",{"$f":"IF(G34>0,MAX(G34*G9-8000,0),0)","v":0},0,0,0,0,0,0,0,0,0,0,0,0,0,0,0,0,0,0,0,0,0,0,0]
[null,67,null,null,null,"Bruttoløn (ekskl. pensionstillæg og ATP)",{"$f":"SUM(G49:G69)","v":0},{"$f":"SUM(H49:H67)","v":0},0,0,0,0,0,0,0,0,0,0,{"$f":"SUM(S49:S69)","v":0},{"$f":"SUM(T49:T67)","v":0},0,0,0,0,0,0,0,0,0,0,0]
[null,{"$f":"B70+1","v":68},null,null,null,{"$f":"\"Pensionstillæg af pensionsg. \"&IF(ISNUMBER(G12),\"Skalatrinsløn\",\"HK-løn\")","v":"Pensionstillæg af pensionsg. HK-løn"},{"$f":"IF(G7=\"Ja\",0,ROUND(IF(AND(G$11>0,G12>0),ROUND((ROUND(VLOOKUP(G12,Skalalontabel12,7,0)*G9,0))/12,2),0)*G11*G4*G5/100/3,2))","v":0},0,0,0,0,0,0,0,0,0,0,0,{"$f":"ROUND(IF(AND(S$11>0,S12>0),ROUND((ROUND(VLOOKUP(S12,Skalalontabel12,7,0)*S9,0))/12,2),0)*S11*S4*S5/100/3,2)","v":0},0,0,0,0,0,0,0,0,0,0,0,0]
[null,69,null,null,null,"Pensionstillæg fast løn",{"$f":"ROUND(G50*$C50*G$5/100/3,2)","v":0},0,0,0,0,0,0,0,0,0,0,0,0,0,0,0,0,0,0,0,0,0,0,0,0]
[null,70,null,null,null,"Pensionstillæg souscheftillæg",0,0,0,0,0,0,0,0,0,0,0,0,0,0,0,0,0,0,0,0,0,0,0,0,0]
[null,71,null,null,null,"Pensionstillæg Funktionstillæg 1",0,0,0,0,0,0,0,0,0,0,0,0,0,0,0,0,0,0,0,0,0,0,0,0,0]
[null,72,null,null,null,"Pensionstillæg Funktionstillæg 2",0,0,0,0,0,0,0,0,0,0,0,0,0,0,0,0,0,0,0,0,0,0,0,0,0]
[null,73,null,null,null,"Pensionstillæg Funktionstillæg 3",0,0,0,0,0,0,0,0,0,0,0,0,0,0,0,0,0,0,0,0,0,0,0,0,0]
[null,74,null,null,null,"Pensionstillæg Kvalifikationstillæg 1",0,0,0,0,0,0,0,0,0,0,0,0,0,0,0,0,0,0,0,0,0,0,0,0,0]
[null,75,null,null,null,"Pensionstillæg Kvalifikationstillæg 2",0,0,0,0,0,0,0,0,0,0,0,0,0,0,0,0,0,0,0,0,0,0,0,0,0]
[null,76,null,null,null,"Pensionstillæg Kvalifikationstillæg 3",0,0,0,0,0,0,0,0,0,0,0,0,0,0,0,0,0,0,0,0,0,0,0,0,0]
[null,77,null,null,null,"Pensionstillæg af udligningstillæg",0,0,0,0,0,0,0,0,0,0,0,0,0,0,0,0,0,0,0,0,0,0,0,0,0]
[null,78,null,null,null,"Fradrag i pensionstillæg for ikke optjent ferie mv.",{"$f":"ROUND(G61*$C61*G$5/100/3,2)","v":0},0,0,0,0,0,0,0,0,0,0,0,0,0,0,0,0,0,0,0,0,0,0,0,0]
[null,79,null,null,null,"Pensionstillæg af feriedifference",0,0,0,0,0,0,0,0,0,0,0,0,0,0,0,0,0,0,0,0,0,0,0,0,0]
[null,80,null,null,null,"Pensionstillæg af pensiong. engangstillæg",{"$f":"ROUND(G36*G5/100/3+G40*($C40<>\"\")*G5/100/3+G41*($C41<>\"\")*G5/100/3+G42*($C42<>\"\")*G5/100/3+G43*($C43<>\"\")*G5/100/3+G44*($C44<>\"\")*G5/100/3,2)","v":0},0,0,0,0,0,0,0,0,0,0,0,0,0,0,0,0,0,0,0,0,0,0,0,0]
[null,null,null,null,null,"Ekstra pension hvis orlov uden løn",{"$f":"IF(G7=\"Ja\",SUM(S71:S82)-SUM(G71:G83),0)","v":0},{"$f":"IF(H7=\"Ja\",SUM(T71:T83)-SUM(H71:H83),0)","v":0},{"$f":"IF(I7=\"Ja\",SUM(U71:U82)-SUM(I71:I83),0)","v":0},0,0,0,0,0,0,0,0,0]
[null,{"$f":"B83+1","v":81},null,null,null,"Pensionstillæg i alt",{"$f":"SUM(G71:G84)","v":0},{"$f":"SUM(H71:H84)","v":0},0,0,0,0,0,0,0,0,0,0,{"$f":"SUM(S71:S83)","v":0},{"$f":"SUM(T71:T83)","v":0},0,0,0,0,0,0,0,0,0,0,0]
[null,82,null,null,null,"Egetbidrag til ATP",{"$f":"ROUND(G98/3,2)","v":0},{"$f":"ROUND(H98/3,2)","v":0},0,0,0,0,0,0,0,0,0,0,{"$f":"ROUND(S98/3,2)","v":0},{"$f":"ROUND(T98/3,2)","v":0},0,0,0,0,0,0,0,0,0,0,{"$f":"SUM(G86:R86)","v":0}]
[null,83,null,null,null,"AMB-grundlag",{"$f":"IF(G6=\"nej\",G85*-1)+SUM(G49:G64)-G86+G69","v":0},0,0,0,0,0,0,0,0,0,0,0,{"$f":"IF(S6=\"nej\",S85*-1)+SUM(S49:S64)-S86","v":0},0,0,0,0,0,0,0,0,0,0,0,{"$f":"SUM(G87:R87)","v":0}]
[null,84,null,null,null,"AM-bidrag",{"$f":"ROUND(G87*8%,0)","v":0},{"$f":"ROUND(H87*8%,0)","v":0},0,0,0,0,0,0,0,0,0,0,{"$f":"ROUND(S87*8%,0)","v":0},{"$f":"ROUND(T87*8%,0)","v":0},0,0,0,0,0,0,0,0,0,0,0]
[null,85,null,null,null,"A-indkomst",{"$f":"G87-G88","v":0},{"$f":"H87-H88","v":0},0,0,0,0,0,0,0,0,0,0,{"$f":"S87-S88","v":0},{"$f":"T87-T88","v":0},0,0,0,0,0,0,0,0,0,0,0]
[null,86,null,null,null,"Skattegrundlag",{"$f":"FLOOR(G89-G30,10)","v":0},{"$f":"FLOOR(H89-H30,10)","v":0},0,0,0,0,0,0,0,0,0,0,{"$f":"FLOOR(S89-S30,10)","v":0},{"$f":"FLOOR(T89-T30,10)","v":0},0,0,0,0,0,0,0,0,0,0]
[null,87,null,null,null,"Skat",{"$f":"ROUND(G90*G29/100,0)","v":0},0,0,0,0,0,0,0,0,0,0,0,0,0,0,0,0,0,0,0,0,0,0,0,0]
[null,88,null,null,null,"Feriegodtgørelsesgrundlag ",{"$f":"SUM(G49:G64)","v":0},{"$f":"SUM(H49:H64)","v":0},{"$f":"SUM(I49:I64)","v":0},{"$f":"SUM(J49:J64)","v":0},{"$f":"SUM(K49:K64)","v":0},{"$f":"SUM(L49:L64)","v":0},0,0,0,0,0,0,{"$f":"SUM(S49:S64)","v":0},{"$f":"SUM(T49:T64)","v":0},{"$f":"SUM(U49:U64)","v":0},{"$f":"SUM(V49:V64)","v":0},{"$f":"SUM(W49:W64)","v":0},{"$f":"SUM(X49:X64)","v":0},0,0,0,0,0,0,{"$f":"SUM(H92:P92)","v":0}]
[null,89,null,null,null,{"$f":"\"Feriegodtgørelsesgrundlag, juni-juli \"","v":"Feriegodtgørelsesgrundlag, juni-juli "},null,null,null,null,null,null,null,null,null,null,{"$f":"SUM(Q49:Q64)-Q39","v":0},{"$f":"SUM(R49:R64)-R39","v":0},null,null,null,null,null,null,null,null,null,null,{"$f":"SUM(AC49:AC64)-AC39","v":0},{"$f":"SUM(AD49:AD64)-AD39","v":0},{"$f":"SUM(G93:R93)","v":0}]
[null,90,null,null,null,"Egetbidrag til pensionskasse",{"$f":"G85","v":0},{"$f":"H85","v":0},0,0,0,0,0,0,0,0,0,0,{"$f":"S85","v":0},{"$f":"T85","v":0},0,0,0,0,0,0,0,0,0,0,0]
[null,91,null,null,null,"Arbejdsgiverbidrag til pensionskasse",{"$f":"G94*2","v":0},{"$f":"H94*2","v":0},0,0,0,0,0,0,0,0,0,0,{"$f":"S94*2","v":0},{"$f":"T94*2","v":0},0,0,0,0,0,0,0,0,0,0,0]
[null,92,null,null,null,"Arbejdsgiverbidrag til ATP",{"$f":"G98*2/3","v":0},{"$f":"H98*2/3","v":0},0,0,0,0,0,0,0,0,0,0,{"$f":"S98*2/3","v":0},{"$f":"T98*2/3","v":0},0,0,0,0,0,0,0,0,0,0,0]
[null,93,null,null,null,"Skolens samlede indbetaling til pensionskasse",{"$f":"G94+G95","v":0},{"$f":"H94+H95","v":0},0,0,0,0,0,0,0,0,0,0,{"$f":"S94+S95","v":0},{"$f":"T94+T95","v":0},0,0,0,0,0,0,0,0,0,0,0]
[null,{"$f":"B97+1","v":94},null,null,null,"Skolens samlede indbetaling til ATP",{"$f":"284/3*(((G11*G4)>=9/37)+((G11*G4)>=18/37)+((G11*G4)>=27/37))","v":0},0,0,0,0,{"$f":"297/3*(((L11*L4)>=9/37)+((L11*L4)>=18/37)+((L11*L4)>=27/37))","v":0},{"$f":"297/3*(((M11*M4)>=9/37)+((M11*M4)>=18/37)+((M11*M4)>=27/37))","v":0},0,0,0,0,0,0,0,0,0,0,0,0,0,0,0,0,0,0]
[null,95,null,null,null,"Indbetaling til Gruppeliv",{"$f":"G22","v":0},{"$f":"H22","v":0},0,0,0,0,0,0,0,0,0,0,{"$f":"S22","v":0},{"$f":"T22","v":0},0,0,0,0,0,0,0,0,0,0,0]
[null,96,null,null,null,"Løn til den ansattes disposition",{"$f":"IF(G6=\"nej\",G85*-1)+G70-(G91+G86+G88+G99)-G45-G46-G47","v":0},0,0,0,0,0,0,0,0,0,0,0,0,0,0,0,0,0,0,0,0,0,0,0,{"$f":"SUM(G100:R100)","v":0}]
[null,97,null,null,null,{"$f":"\"Feriepengeberegningsgrundlag, jan-dec \"&Aar","v":"Feriepengeberegningsgrundlag, jan-dec "},{"$f":"(SUM(G49:G64)+G85+G86)*(1-12/260*G24)","v":0},{"$f":"(SUM(H49:H64)+H85+H86)*(1-12/260*H24)","v":0},{"$f":"(SUM(I49:I64)+I85+I86)*(1-12/260*I24)","v":0},{"$f":"(SUM(J49:J64)+J85+J86)*(1-12/260*J24)","v":0},{"$f":"(SUM(K49:K64)+K85+K86)*(1-12/260*K24)","v":0},"Kalenderårets sum benyttes ved fratræden og særlige feriedage",null,null,null,null,null,null,{"$f":"(SUM(S49:S64)+S85+S86)*(1-12/260*S24)","v":0},{"$f":"(SUM(T49:T64)+T85+T86)*(1-12/260*T24)","v":0},{"$f":"(SUM(U49:U64)+U85+U86)*(1-12/260*U24)","v":0},{"$f":"(SUM(V49:V64)+V85+V86)*(1-12/260*V24)","v":0},{"$f":"(SUM(W49:W64)+W85+W86)*(1-12/260*W24)","v":0},"Kalenderårets sum benyttes ved fratræden og særlige feriedage",null,null,null,null,null,null,{"$f":"A101+SUM(G101:K101)","v":0}]
[null,{"$f":"B101+1","v":98},null,null,null,{"$f":"\"Feriepengeberegningsgrundlag, jan-jul \"&Aar","v":"Feriepengeberegningsgrundlag, jan-jul "},"Kalenderårets sum benyttes ved fratræden og særlige feriedage",null,null,null,null,{"$f":"(SUM(L$49:L$64)+L$85+L86)*(1-12/260*L$24)","v":0},{"$f":"(SUM(M$49:M$64)+M$85+M86)*(1-12/260*M$24)","v":0},0,0,0,0,0,"Kalenderårets sum benyttes ved fratræden og særlige feriedage",null,null,null,null,{"$f":"(SUM(X$49:X$64)+X$85+X86)*(1-12/260*X$24)","v":0},{"$f":"(SUM(Y$49:Y$64)+Y$85+Y86)*(1-12/260*Y$24)","v":0},0,0,0,0,0,0]
[null,{"$f":"B102+1","v":99},null,null,null,"BG-afhængige løndele",{"$f":"G49*$D49+G50*$D50+G51*$D51+G52*$D52+G53*$D53+G54*$D54+G55*$D55+G56*$D56+G57*$D57+G58*$D58+G60*$D60","v":0},0,0,0,0,0,0,0,0,0,0,0,0,0,0,0,0,0,0,0,0,0,0,0]
[null,{"$f":"B103+1","v":100},null,null,null,"BG-difference >=20%",{"$f":"IF(G11>0,IF(G11>G26,(G11-G26)/G26>=20%,(G11-G26)/G26<=-20%),\"\")","v":""},"","","","","","","","",{"$f":"IF(P11>0,IF(P11>P27,(P11-P27)/P27>=20%,(P11-P27)/P27<=-20%),\"\")","v":""},{"$f":"IF(Q11>0,IF(Q11>Q27,(Q11-Q27)/Q27>=20%,(Q11-Q27)/Q27<=-20%),\"\")","v":""},{"$f":"IF(R11>0,IF(R11>R27,(R11-R27)/R27>=20%,(R11-R27)/R27<=-20%),\"\")","v":""},{"$f":"IF(S11>0,IF(S11>S26,(S11-S26)/S26>=20%,(S11-S26)/S26<=-20%),\"\")","v":""},"","","","","","","","",{"$f":"IF(AB11>0,IF(AB11>AB27,(AB11-AB27)/AB27>=20%,(AB11-AB27)/AB27<=-20%),\"\")","v":""},{"$f":"IF(AC11>0,IF(AC11>AC27,(AC11-AC27)/AC27>=20%,(AC11-AC27)/AC27<=-20%),\"\")","v":""},{"$f":"IF(AD11>0,IF(AD11>AD27,(AD11-AD27)/AD27>=20%,(AD11-AD27)/AD27<=-20%),\"\")","v":""}]
[]
[]
[]
[]
[]
[]
[]
[]
[]
[]
[]
[]
[]
[]
[]
[]
[]
[]
[]
[]
[]
[]
[]
[]
[]
[]
[]
[]
[]
[]
[]
[]
[]
[]
[]
[]
[]
[]
[]
[]
[]
[]
[]
[]
[]
[]
[]
[]
[]
[null,{"$f":"B153+1","v":1}]
[null,2,null,null,null,{"$f":"IF(ISNUMBER(G1),\"Skalatrinsløn\",\"HK-løn\")","v":"HK-løn"},{"$f":"\"= \"&TEXT(ROUND(VLOOKUP(G12,Skalalontabel12,G10,0)*G9,0),\"#.000\")&\" / 12 * \"&TEXT(G11,\"0,0000\")&\" * \"&TEXT(G$4,\"#0/#0\")&\" =\"","v":{"$error":"#N/A"}},{"$error":"#N/A"},{"$error":"#N/A"},{"$error":"#N/A"},{"$error":"#N/A"},{"$error":"#N/A"},{"$error":"#N/A"},{"$error":"#N/A"},{"$error":"#N/A"},{"$error":"#N/A"},{"$error":"#N/A"},{"$error":"#N/A"},{"$error":"#N/A"},{"$error":"#N/A"},{"$error":"#N/A"},{"$error":"#N/A"},{"$error":"#N/A"},{"$error":"#N/A"},{"$error":"#N/A"},{"$error":"#N/A"},{"$error":"#N/A"},{"$error":"#N/A"},{"$error":"#N/A"},{"$error":"#N/A"}]
[null,3,null,null,null,"Fast løn",{"$f":"\"= \"&TEXT(G13,\"#.000,00\")&\" / 12 \"&IF($D50>0,\" * \"&TEXT(G$11,\"0,0000\"),\"\")&IF($E50>0,\" * \"&G$9,\"\")&\" * \"&TEXT(G$4,\"#0/#0\")&\" =\"","v":"= 000,00 / 12  * 0,0000 * 1,155339 * 1/1 ="},"= 000,00 / 12  * 0,0000 * 1,155339 * 1/1 =","= 000,00 / 12  * 0,0000 * 1,159197 * 1/1 =","= 000,00 / 12  * 0,0000 * 1,159197 * 1/1 =","= 000,00 / 12  * 0,0000 * 1,159197 * 1/1 =","= 000,00 / 12  * 0,0000 * 1,159197 * 1/1 =","= 000,00 / 12  * 0,0000 * 1,159197 * 1/1 =","= 000,00 / 12  * 0,0000 * 1,159197 * 1/1 =","= 000,00 / 12  * 0,0000 *  * 1/1 =","= 000,00 / 12  * 0,0000 * 0 * 1/1 =","= 000,00 / 12  * 0,0000 * 0 * 1/1 =","= 000,00 / 12  * 0,0000 * 0 * 1/1 =","= 000,00 / 12  * 0,0000 * 1,155339 * 1/1 =","= 000,00 / 12  * 0,0000 * 1,155339 * 1/1 =","= 000,00 / 12  * 0,0000 * 1,159197 * 1/1 =","= 000,00 / 12  * 0,0000 * 1,159197 * 1/1 =","= 000,00 / 12  * 0,0000 * 1,159197 * 1/1 =","= 000,00 / 12  * 0,0000 * 1,159197 * 1/1 =","= 000,00 / 12  * 0,0000 * 1,159197 * 1/1 =","= 000,00 / 12  * 0,0000 * 1,159197 * 1/1 =","= 000,00 / 12  * 0,0000 * 0 * 1/1 =","= 000,00 / 12  * 0,0000 * 0 * 1/1 =","= 000,00 / 12  * 0,0000 * 0 * 1/1 =","= 000,00 / 12  * 0,0000 * 0 * 1/1 ="]
[null,4,null,null,null,"Sousdheftillæg","= 000,00 / 12  * 1,155339 * 1/1 =","= 000,00 / 12  * 1,155339 * 1/1 =","= 000,00 / 12  * 1,159197 * 1/1 =","= 000,00 / 12  * 1,159197 * 1/1 =","= 000,00 / 12  * 1,159197 * 1/1 =","= 000,00 / 12  * 1,159197 * 1/1 =","= 000,00 / 12  * 1,159197 * 1/1 =","= 000,00 / 12  * 1,159197 * 1/1 =","= 000,00 / 12  *  * 1/1 =","= 000,00 / 12  * 0 * 1/1 =","= 000,00 / 12  * 0 * 1/1 =","= 000,00 / 12  * 0 * 1/1 =","= 000,00 / 12  * 1,155339 * 1/1 =","= 000,00 / 12  * 1,155339 * 1/1 =","= 000,00 / 12  * 1,159197 * 1/1 =","= 000,00 / 12  * 1,159197 * 1/1 =","= 000,00 / 12  * 1,159197 * 1/1 =","= 000,00 / 12  * 1,159197 * 1/1 =","= 000,00 / 12  * 1,159197 * 1/1 =","= 000,00 / 12  * 1,159197 * 1/1 =","= 000,00 / 12  * 0 * 1/1 =","= 000,00 / 12  * 0 * 1/1 =","= 000,00 / 12  * 0 * 1/1 =","= 000,00 / 12  * 0 * 1/1 ="]
[null,5,null,null,null,"Funktionstillæg 1",{"$f":"\"= \"&TEXT(G15,\"#.000,00\")&\" / 12 \"&IF($D52>0,\" * \"&TEXT(G$11,\"0,0000\"),\"\")&IF($E52>0,\" * \"&G$9,\"\")&\" * \"&TEXT(G$4,\"#0/#0\")&\" =\"","v":"= 000,00 / 12  * 1,155339 * 1/1 ="},{"$f":"\"= \"&TEXT(H15,\"#.000,00\")&\" / 12 \"&IF($D52>0,\" * \"&TEXT(H$11,\"0,0000\"),\"\")&IF($E158>0,\" * \"&H$9,\"\")&\" * \"&TEXT(H$4,\"#0/#0\")&\" =\"","v":"= 000,00 / 12  * 1/1 ="},"= 000,00 / 12  * 1/1 =","= 000,00 / 12  * 1/1 =","= 000,00 / 12  * 1/1 =","= 000,00 / 12  * 1/1 =","= 000,00 / 12  * 1/1 =","= 000,00 / 12  * 1/1 =","= 000,00 / 12  * 1/1 =","= 000,00 / 12  * 1/1 =","= 000,00 / 12  * 1/1 =","= 000,00 / 12  * 1/1 =","= 000,00 / 12  * 1/1 =","= 000,00 / 12  * 1/1 =","= 000,00 / 12  * 1/1 =","= 000,00 / 12  * 1/1 =","= 000,00 / 12  * 1/1 =","= 000,00 / 12  * 1/1 =","= 000,00 / 12  * 1/1 =","= 000,00 / 12  * 1/1 =","= 000,00 / 12  * 1/1 =","= 000,00 / 12  * 1/1 =","= 000,00 / 12  * 1/1 =","= 000,00 / 12  * 1/1 ="]
[null,6,null,null,null,"Funktionstillæg 2",{"$f":"\"= \"&TEXT(G16,\"#.000,00\")&\" / 12 \"&IF($D53>0,\" * \"&TEXT(G$11,\"0,0000\"),\"\")&IF($E53>0,\" * \"&G$9,\"\")&\" * \"&TEXT(G$4,\"#0/#0\")&\" =\"","v":"= 000,00 / 12  * 1,155339 * 1/1 ="},"= 000,00 / 12  * 1,155339 * 1/1 =","= 000,00 / 12  * 1,159197 * 1/1 =","= 000,00 / 12  * 1,159197 * 1/1 =","= 000,00 / 12  * 1,159197 * 1/1 =","= 000,00 / 12  * 1,159197 * 1/1 =","= 000,00 / 12  * 1,159197 * 1/1 =","= 000,00 / 12  * 1,159197 * 1/1 =","= 000,00 / 12  *  * 1/1 =","= 000,00 / 12  * 0 * 1/1 =","= 000,00 / 12  * 0 * 1/1 =","= 000,00 / 12  * 0 * 1/1 =","= 000,00 / 12  * 1,155339 * 1/1 =","= 000,00 / 12  * 1,155339 * 1/1 =","= 000,00 / 12  * 1,159197 * 1/1 =","= 000,00 / 12  * 1,159197 * 1/1 =","= 000,00 / 12  * 1,159197 * 1/1 =","= 000,00 / 12  * 1,159197 * 1/1 =","= 000,00 / 12  * 1,159197 * 1/1 =","= 000,00 / 12  * 1,159197 * 1/1 =","= 000,00 / 12  * 0 * 1/1 =","= 000,00 / 12  * 0 * 1/1 =","= 000,00 / 12  * 0 * 1/1 =","= 000,00 / 12  * 0 * 1/1 ="]
[null,7,null,null,null,"Funktionstillæg 3","= 000,00 / 12  * 1,155339 * 1/1 =","= 000,00 / 12  * 1,155339 * 1/1 =","= 000,00 / 12  * 1,159197 * 1/1 =","= 000,00 / 12  * 1,159197 * 1/1 =","= 000,00 / 12  * 1,159197 * 1/1 =","= 000,00 / 12  * 1,159197 * 1/1 =","= 000,00 / 12  * 1,159197 * 1/1 =","= 000,00 / 12  * 1,159197 * 1/1 =","= 000,00 / 12  *  * 1/1 =","= 000,00 / 12  * 0 * 1/1 =","= 000,00 / 12  * 0 * 1/1 =","= 000,00 / 12  * 0 * 1/1 =","= 000,00 / 12  * 1,155339 * 1/1 =","= 000,00 / 12  * 1,155339 * 1/1 =","= 000,00 / 12  * 1,159197 * 1/1 =","= 000,00 / 12  * 1,159197 * 1/1 =","= 000,00 / 12  * 1,159197 * 1/1 =","= 000,00 / 12  * 1,159197 * 1/1 =","= 000,00 / 12  * 1,159197 * 1/1 =","= 000,00 / 12  * 1,159197 * 1/1 =","= 000,00 / 12  * 0 * 1/1 =","= 000,00 / 12  * 0 * 1/1 =","= 000,00 / 12  * 0 * 1/1 =","= 000,00 / 12  * 0 * 1/1 ="]
[null,8,null,null,null,"Kvalifikationstillæg 1","= 000,00 / 12  * 0,0000 * 1,155339 * 1/1 =","= 000,00 / 12  * 0,0000 * 1,155339 * 1/1 =","= 000,00 / 12  * 0,0000 * 1,159197 * 1/1 =","= 000,00 / 12  * 0,0000 * 1,159197 * 1/1 =","= 000,00 / 12  * 0,0000 * 1,159197 * 1/1 =","= 000,00 / 12  * 0,0000 * 1,159197 * 1/1 =","= 000,00 / 12  * 0,0000 * 1,159197 * 1/1 =","= 000,00 / 12  * 0,0000 * 1,159197 * 1/1 =","= 000,00 / 12  * 0,0000 *  * 1/1 =","= 000,00 / 12  * 0,0000 * 0 * 1/1 =","= 000,00 / 12  * 0,0000 * 0 * 1/1 =","= 000,00 / 12  * 0,0000 * 0 * 1/1 =","= 000,00 / 12  * 0,0000 * 1,155339 * 1/1 =","= 000,00 / 12  * 0,0000 * 1,155339 * 1/1 =","= 000,00 / 12  * 0,0000 * 1,159197 * 1/1 =","= 000,00 / 12  * 0,0000 * 1,159197 * 1/1 =","= 000,00 / 12  * 0,0000 * 1,159197 * 1/1 =","= 000,00 / 12  * 0,0000 * 1,159197 * 1/1 =","= 000,00 / 12  * 0,0000 * 1,159197 * 1/1 =","= 000,00 / 12  * 0,0000 * 1,159197 * 1/1 =","= 000,00 / 12  * 0,0000 * 0 * 1/1 =","= 000,00 / 12  * 0,0000 * 0 * 1/1 =","= 000,00 / 12  * 0,0000 * 0 * 1/1 =","= 000,00 / 12  * 0,0000 * 0 * 1/1 ="]
[null,9,null,null,null,"Kvalifikationstillæg 2","= 000,00 / 12  * 0,0000 * 1,155339 * 1/1 =","= 000,00 / 12  * 0,0000 * 1,155339 * 1/1 =","= 000,00 / 12  * 0,0000 * 1,159197 * 1/1 =","= 000,00 / 12  * 0,0000 * 1,159197 * 1/1 =","= 000,00 / 12  * 0,0000 * 1,159197 * 1/1 =","= 000,00 / 12  * 0,0000 * 1,159197 * 1/1 =","= 000,00 / 12  * 0,0000 * 1,159197 * 1/1 =","= 000,00 / 12  * 0,0000 * 1,159197 * 1/1 =","= 000,00 / 12  * 0,0000 *  * 1/1 =","= 000,00 / 12  * 0,0000 * 0 * 1/1 =","= 000,00 / 12  * 0,0000 * 0 * 1/1 =","= 000,00 / 12  * 0,0000 * 0 * 1/1 =","= 000,00 / 12  * 0,0000 * 1,155339 * 1/1 =","= 000,00 / 12  * 0,0000 * 1,155339 * 1/1 =","= 000,00 / 12  * 0,0000 * 1,159197 * 1/1 =","= 000,00 / 12  * 0,0000 * 1,159197 * 1/1 =","= 000,00 / 12  * 0,0000 * 1,159197 * 1/1 =","= 000,00 / 12  * 0,0000 * 1,159197 * 1/1 =","= 000,00 / 12  * 0,0000 * 1,159197 * 1/1 =","= 000,00 / 12  * 0,0000 * 1,159197 * 1/1 =","= 000,00 / 12  * 0,0000 * 0 * 1/1 =","= 000,00 / 12  * 0,0000 * 0 * 1/1 =","= 000,00 / 12  * 0,0000 * 0 * 1/1 =","= 000,00 / 12  * 0,0000 * 0 * 1/1 ="]
[null,10,null,null,null,"Kvalifikationstillæg 3","= 000,00 / 12  * 0,0000 * 1,155339 * 1/1 =","= 000,00 / 12  * 0,0000 * 1,155339 * 1/1 =","= 000,00 / 12  * 0,0000 * 1,159197 * 1/1 =","= 000,00 / 12  * 0,0000 * 1,159197 * 1/1 =","= 000,00 / 12  * 0,0000 * 1,159197 * 1/1 =","= 000,00 / 12  * 0,0000 * 1,159197 * 1/1 =","= 000,00 / 12  * 0,0000 * 1,159197 * 1/1 =","= 000,00 / 12  * 0,0000 * 1,159197 * 1/1 =","= 000,00 / 12  * 0,0000 *  * 1/1 =","= 000,00 / 12  * 0,0000 * 0 * 1/1 =","= 000,00 / 12  * 0,0000 * 0 * 1/1 =","= 000,00 / 12  * 0,0000 * 0 * 1/1 =","= 000,00 / 12  * 0,0000 * 1,155339 * 1/1 =","= 000,00 / 12  * 0,0000 * 1,155339 * 1/1 =","= 000,00 / 12  * 0,0000 * 1,159197 * 1/1 =","= 000,00 / 12  * 0,0000 * 1,159197 * 1/1 =","= 000,00 / 12  * 0,0000 * 1,159197 * 1/1 =","= 000,00 / 12  * 0,0000 * 1,159197 * 1/1 =","= 000,00 / 12  * 0,0000 * 1,159197 * 1/1 =","= 000,00 / 12  * 0,0000 * 1,159197 * 1/1 =","= 000,00 / 12  * 0,0000 * 0 * 1/1 =","= 000,00 / 12  * 0,0000 * 0 * 1/1 =","= 000,00 / 12  * 0,0000 * 0 * 1/1 =","= 000,00 / 12  * 0,0000 * 0 * 1/1 ="]
[null,11,null,null,null,"Udligningstillæg","= 000,00 / 12  * 0,0000 * 1,155339 * 1/1 =","= 000,00 / 12  * 0,0000 * 1,155339 * 1/1 =","= 000,00 / 12  * 0,0000 * 1,159197 * 1/1 =","= 000,00 / 12  * 0,0000 * 1,159197 * 1/1 =","= 000,00 / 12  * 0,0000 * 1,159197 * 1/1 =","= 000,00 / 12  * 0,0000 * 1,159197 * 1/1 =","= 000,00 / 12  * 0,0000 * 1,159197 * 1/1 =","= 000,00 / 12  * 0,0000 * 1,159197 * 1/1 =","= 000,00 / 12  * 0,0000 *  * 1/1 =","= 000,00 / 12  * 0,0000 * 0 * 1/1 =","= 000,00 / 12  * 0,0000 * 0 * 1/1 =","= 000,00 / 12  * 0,0000 * 0 * 1/1 =","= 000,00 / 12  * 0,0000 * 1,155339 * 1/1 =","= 000,00 / 12  * 0,0000 * 1,155339 * 1/1 =","= 000,00 / 12  * 0,0000 * 1,159197 * 1/1 =","= 000,00 / 12  * 0,0000 * 1,159197 * 1/1 =","= 000,00 / 12  * 0,0000 * 1,159197 * 1/1 =","= 000,00 / 12  * 0,0000 * 1,159197 * 1/1 =","= 000,00 / 12  * 0,0000 * 1,159197 * 1/1 =","= 000,00 / 12  * 0,0000 * 1,159197 * 1/1 =","= 000,00 / 12  * 0,0000 * 0 * 1/1 =","= 000,00 / 12  * 0,0000 * 0 * 1/1 =","= 000,00 / 12  * 0,0000 * 0 * 1/1 =","= 000,00 / 12  * 0,0000 * 0 * 1/1 ="]
[null,12,null,null,null,"Gruppelivstillæg",{"$f":"\"= \"&TEXT(G22,\"#.##0,00\")&\" * \"&TEXT(G$4,\"#0/#0\")&\" =\"","v":"= 0,00 * 1/1 ="},{"$f":"\"= \"&TEXT(H22,\"#.##0,00\")&\" * \"&TEXT(H$4,\"#0/#0\")&\" =\"","v":"= 0,00 * 1/1 ="},"= 0,00 * 1/1 =","= 0,00 * 1/1 =","= 0,00 * 1/1 =","= 0,00 * 1/1 =","= 0,00 * 1/1 =","= 0,00 * 1/1 =","= 0,00 * 1/1 =","= 0,00 * 1/1 =","= 0,00 * 1/1 =","= 0,00 * 1/1 =",{"$f":"\"= \"&TEXT(S22,\"#.##0,00\")&\" * \"&TEXT(S$4,\"#0/#0\")&\" =\"","v":"= 0,00 * 1/1 ="},{"$f":"\"= \"&TEXT(T22,\"#.##0,00\")&\" * \"&TEXT(T$4,\"#0/#0\")&\" =\"","v":"= 0,00 * 1/1 ="},"= 0,00 * 1/1 =","= 0,00 * 1/1 =","= 0,00 * 1/1 =","= 0,00 * 1/1 =","= 0,00 * 1/1 =","= 0,00 * 1/1 =","= 0,00 * 1/1 =","= 0,00 * 1/1 =","= 0,00 * 1/1 =","= 0,00 * 1/1 ="]
[null,13,null,null,null,"Lokalaftalt ulempegodtgørelse",{"$f":"\"= \"&TEXT(G23,\"#,00\")&IF($D60>0,\" * \"&TEXT(G$11,\"0,0000\"),\"\")&IF($E60>0,\" * \"&G$9,\"\")&\" * \"&TEXT(G$4,\"#0/#0\")&\" =\"","v":"= ,00 * 1,155339 * 1/1 ="},"= ,00 * 1,155339 * 1/1 =","= ,00 * 1,159197 * 1/1 =","= ,00 * 1,159197 * 1/1 =","= ,00 * 1,159197 * 1/1 =","= ,00 * 1,159197 * 1/1 =","= ,00 * 1,159197 * 1/1 =","= ,00 * 1,159197 * 1/1 =","= ,00 *  * 1/1 =","= ,00 * 0 * 1/1 =","= ,00 * 0 * 1/1 =","= ,00 * 0 * 1/1 =","= ,00 * 1,155339 * 1/1 =","= ,00 * 1,155339 * 1/1 =","= ,00 * 1,159197 * 1/1 =","= ,00 * 1,159197 * 1/1 =","= ,00 * 1,159197 * 1/1 =","= ,00 * 1,159197 * 1/1 =","= ,00 * 1,159197 * 1/1 =","= ,00 * 1,159197 * 1/1 =","= ,00 * 0 * 1/1 =","= ,00 * 0 * 1/1 =","= ,00 * 0 * 1/1 =","= ,00 * 0 * 1/1 ="]
[null,14,null,null,null,"Lønfradrag for ikke optjent ferie mv.",{"$f":"\"= - \"&MAX(0,MIN(G24,G25*1))+G28&\" * \"&IF(G8=\"JA\",\"4,62%\",\"4,8%\")&\" * SUM(Lin. 1 - Lin 12)\"&\" * \"&TEXT(G$4,\"#0/#0\")&\" =\"","v":"= - 0 * 4,62% * SUM(Lin. 1 - Lin 12) * 1/1 ="},{"$f":"\"= - \"&MAX(0,MIN(H24,H25*1))+H28&\" * \"&IF(H8=\"JA\",\"4,62%\",\"4,8%\")&\" * SUM(Lin. 1 - Lin 12) =\"","v":"= - 0 * 4,62% * SUM(Lin. 1 - Lin 12) ="},"= - 0 * 4,62% * SUM(Lin. 1 - Lin 12) =","= - 0 * 4,62% * SUM(Lin. 1 - Lin 12) =","= - 0 * 4,62% * SUM(Lin. 1 - Lin 12) =","= - 0 * 4,62% * SUM(Lin. 1 - Lin 12) =","= - 0 * 4,62% * SUM(Lin. 1 - Lin 12) =","= - 0 * 4,62% * SUM(Lin. 1 - Lin 12) =","= - 0 * 4,62% * SUM(Lin. 1 - Lin 12) =","= - 0 * 4,62% * SUM(Lin. 1 - Lin 12) =","= - 0 * 4,62% * SUM(Lin. 1 - Lin 12) =","= - 0 * 4,62% * SUM(Lin. 1 - Lin 12) =",{"$f":"\"= - \"&MAX(0,MIN(S24,S25*1))+S28&\" * \"&IF(S8=\"JA\",\"4,62%\",\"4,8%\")&\" * SUM(Lin. 1 - Lin 12)\"&\" * \"&TEXT(S$4,\"#0/#0\")&\" =\"","v":"= - 0 * 4,62% * SUM(Lin. 1 - Lin 12) * 1/1 ="},{"$f":"\"= - \"&MAX(0,MIN(T24,T25*1))+T28&\" * \"&IF(T8=\"JA\",\"4,62%\",\"4,8%\")&\" * SUM(Lin. 1 - Lin 12) =\"","v":"= - 0 * 4,62% * SUM(Lin. 1 - Lin 12) ="},"= - 0 * 4,62% * SUM(Lin. 1 - Lin 12) =","= - 0 * 4,62% * SUM(Lin. 1 - Lin 12) =","= - 0 * 4,62% * SUM(Lin. 1 - Lin 12) =","= - 0 * 4,62% * SUM(Lin. 1 - Lin 12) =","= - 0 * 4,62% * SUM(Lin. 1 - Lin 12) =","= - 0 * 4,62% * SUM(Lin. 1 - Lin 12) =","= - 0 * 4,62% * SUM(Lin. 1 - Lin 12) =","= - 0 * 4,62% * SUM(Lin. 1 - Lin 12) =","= - 0 * 4,62% * SUM(Lin. 1 - Lin 12) =","= - 0 * 4,62% * SUM(Lin. 1 - Lin 12) ="]
[null,16,null,null,null,"Feriedifference. Pensionsgivende",null,{"$f":"\"= \"&IF(LEFT(H8)=\"N\",\"( \"&H26&\" - \"&H11&\") * 4,8% * \"&H103&\" * \"&MAX((H24-H25),0)*H104,\"( \"&H26&\" - \"&H11&\") * 4,62% * \"&H103&\" * \"&MAX((H24-H25),0))&\" =\"","v":"= (  - 0) * 4,62% * 0 * 0 ="},"= (  - 0) * 4,62% * 0 * 5 =","= (  - 0) * 4,62% * 0 * 0 =","= (  - 0) * 4,62% * 0 * 0 =","= (  - 0) * 4,62% * 0 * 0 =","= (  - 0) * 4,62% * 0 * 5 =","= (  - 0) * 4,62% * 0 * 0 =","= (  - 0) * 4,62% * 0 * 0 =",{"$f":"\"= \"&IF(LEFT(P8)=\"N\",\"( \"&ROUND(P27,4)&\" - \"&P11&\") * 4,8% * \"&P103&\" * \"&MAX((P24-P25),0)*P104,\"( \"&ROUND(P27,4)&\" - \"&P11&\") * 4,62% * \"&P103&\" * \"&MAX((P24-P25),0))&\" =\"","v":"= ( 0 - 0) * 4,62% * 0 * 0 ="},{"$f":"\"= \"&IF(LEFT(Q8)=\"N\",\"( \"&ROUND(Q27,4)&\" - \"&Q11&\") * 4,8% * \"&Q103&\" * \"&MAX((Q24-Q25),0)*Q104,\"( \"&ROUND(Q27,4)&\" - \"&Q11&\") * 4,62% * \"&Q103&\" * \"&MAX((Q24-Q25),0))&\" =\"","v":"= ( 0 - 0) * 4,62% * 0 * 0 ="},{"$f":"\"= \"&IF(LEFT(R8)=\"N\",\"( \"&ROUND(R27,4)&\" - \"&R11&\") * 4,8% * \"&R103&\" * \"&MAX((R24-R25),0)*R104,\"( \"&ROUND(R27,4)&\" - \"&R11&\") * 4,62% * \"&R103&\" * \"&MAX((R24-R25),0))&\" =\"","v":"= ( 0 - 0) * 4,62% * 0 * 15 ="},null,{"$f":"\"= \"&IF(LEFT(T8)=\"N\",\"( \"&T26&\" - \"&T11&\") * 4,8% * \"&T103&\" * \"&MAX((T24-T25),0)*T104,\"( \"&T26&\" - \"&T11&\") * 4,62% * \"&T103&\" * \"&MAX((T24-T25),0))&\" =\"","v":"= ( 0 - 0) * 4,62% * 0 * 0 ="},"= ( 0 - 0) * 4,62% * 0 * 5 =","= ( 0 - 0) * 4,62% * 0 * 0 =","= ( 0 - 0) * 4,62% * 0 * 0 =","= ( 0 - 0) * 4,62% * 0 * 0 =","= ( 0 - 0) * 4,62% * 0 * 5 =","= ( 0 - 0) * 4,62% * 0 * 0 =","= ( 0 - 0) * 4,62% * 0 * 0 =",{"$f":"\"= \"&IF(LEFT(AB8)=\"N\",\"( \"&ROUND(AB27,4)&\" - \"&AB11&\") * 4,8% * \"&AB103&\" * \"&MAX((AB24-AB25),0)*AB104,\"( \"&ROUND(AB27,4)&\" - \"&AB11&\") * 4,62% * \"&AB103&\" * \"&MAX((AB24-AB25),0))&\" =\"","v":"= ( 0 - 0) * 4,62% * 0 * 0 ="},{"$f":"\"= \"&IF(LEFT(AC8)=\"N\",\"( \"&ROUND(AC27,4)&\" - \"&AC11&\") * 4,8% * \"&AC103&\" * \"&MAX((AC24-AC25),0)*AC104,\"( \"&ROUND(AC27,4)&\" - \"&AC11&\") * 4,62% * \"&AC103&\" * \"&MAX((AC24-AC25),0))&\" =\"","v":"= ( 0 - 0) * 4,62% * 0 * 0 ="},{"$f":"\"= \"&IF(LEFT(AD8)=\"N\",\"( \"&ROUND(AD27,4)&\" - \"&AD11&\") * 4,8% * \"&AD103&\" * \"&MAX((AD24-AD25),0)*AD104,\"( \"&ROUND(AD27,4)&\" - \"&AD11&\") * 4,62% * \"&AD103&\" * \"&MAX((AD24-AD25),0))&\" =\"","v":"= ( 0 - 0) * 4,62% * 0 * 15 ="}]
[null,17,null,null,null,"Feriedifferende. Ikke pensionsgivende"]
[null,18,null,null,null,"Engangsudbetalinger iflg. specifikation",{"$f":"SUBSTITUTE(TRIM(\"=SUM(\"&MAX(G34-8000,0)&\" \"&G35&\" \"&G36&\" \"&G37&\" \"&G38&\" \"&G40&\" \"&G41&\" \"&G42&\" \"&G43&\" \"&G44&\")\"),\" \",\"; \")&\" =\"","v":"=SUM(0; ) ="},{"$f":"SUBSTITUTE(TRIM(\"=SUM(\"&MAX(H34-8000,0)&\" \"&H35&\" \"&H36&\" \"&H37&\" \"&H38&\" \"&H40&\" \"&H41&\" \"&H42&\" \"&H43&\" \"&H44&\")\"),\" \",\"; \")&\" =\"","v":"=SUM(0; ) ="},"=SUM(0; ) =","=SUM(0; ) =","=SUM(0; ) =","=SUM(0; ) =","=SUM(0; ) =","=SUM(0; ) =","=SUM(0; ) =","=SUM(0; ) =","=SUM(0; ) =","=SUM(0; ) =",{"$f":"SUBSTITUTE(TRIM(\"=SUM(\"&MAX(S34-8000,0)&\" \"&S35&\" \"&S36&\" \"&S37&\" \"&S38&\" \"&S40&\" \"&S41&\" \"&S42&\" \"&S43&\" \"&S44&\")\"),\" \",\"; \")&\" =\"","v":"=SUM(0; 0; 0; 0; 0; 0; 0; 0; 0; 0) ="},{"$f":"SUBSTITUTE(TRIM(\"=SUM(\"&MAX(T34-8000,0)&\" \"&T35&\" \"&T36&\" \"&T37&\" \"&T38&\" \"&T40&\" \"&T41&\" \"&T42&\" \"&T43&\" \"&T44&\")\"),\" \",\"; \")&\" =\"","v":"=SUM(0; 0; 0; 0; 0; 0; 0; 0; 0; 0) ="},"=SUM(0; 0; 0; 0; 0; 0; 0; 0; 0; 0) =","=SUM(0; 0; 0; 0; 0; 0; 0; 0; 0; 0) =","=SUM(0; 0; 0; 0; 0; 0; 0; 0; 0; 0) =","=SUM(0; 0; 0; 0; 0; 0; 0; 0; 0; 0) =","=SUM(0; 0; 0; 0; 0; 0; 0; 0; 0; 0) =","=SUM(0; 0; 0; 0; 0; 0; 0; 0; 0; 0) =","=SUM(0; 0; 0; 0; 0; 0; 0; 0; 0; 0) =","=SUM(0; 0; 0; 0; 0; 0; 0; 0; 0; 0) =","=SUM(0; 0; 0; 0; 0; 0; 0; 0; 0; 0) =","=SUM(0; 0; 0; 0; 0; 0; 0; 0; 0; 0) ="]
[null,19,null,null,null,"Skattefri engangsudbetalinger iflg. spec.",{"$f":"SUBSTITUTE(TRIM(\"=SUM(\"&G31&\" * \"&$D31&\" \"&G32&\" * \"&$D32&\" \"&G33&\" \"&MIN(G34,8000)&\")\"),\" \",\"; \")&\" =\"","v":"=SUM(; *; 2,19; *; 3,73; 8000) ="},{"$f":"SUBSTITUTE(TRIM(\"=SUM(\"&H31&\" * \"&$D31&\" \"&H32&\" * \"&$D32&\" \"&H33&\" \"&MIN(H34,8000)&\")\"),\" \",\"; \")&\" =\"","v":"=SUM(; *; 2,19; *; 3,73; 8000) ="},{"$f":"SUBSTITUTE(TRIM(\"=SUM(\"&I31&\" * \"&$D31&\" \"&I32&\" * \"&$D32&\" \"&I33&\" \"&MIN(I34,8000)&\")\"),\" \",\"; \")&\" =\"","v":"=SUM(; *; 2,19; *; 3,73; 8000) ="},{"$f":"SUBSTITUTE(TRIM(\"=SUM(\"&J31&\" * \"&$D31&\" \"&J32&\" * \"&$D32&\" \"&J33&\" \"&MIN(J34,8000)&\")\"),\" \",\"; \")&\" =\"","v":"=SUM(; *; 2,19; *; 3,73; 8000) ="},{"$f":"SUBSTITUTE(TRIM(\"=SUM(\"&K31&\" * \"&$D31&\" \"&K32&\" * \"&$D32&\" \"&K33&\" \"&MIN(K34,8000)&\")\"),\" \",\"; \")&\" =\"","v":"=SUM(; *; 2,19; *; 3,73; 8000) ="},{"$f":"SUBSTITUTE(TRIM(\"=SUM(\"&L31&\" * \"&$E31&\" \"&L32&\" * \"&$E32&\" \"&L33&\" \"&MIN(L34,8000)&\")\"),\" \",\"; \")&\" =\"","v":"=SUM(; *; *; 8000) ="},{"$f":"SUBSTITUTE(TRIM(\"=SUM(\"&M31&\" * \"&$E31&\" \"&M32&\" * \"&$E32&\" \"&M33&\" \"&MIN(M34,8000)&\")\"),\" \",\"; \")&\" =\"","v":"=SUM(; *; *; 8000) ="},"=SUM(; *; *; 8000) =","=SUM(; *; *; 8000) =","=SUM(; *; *; 8000) =","=SUM(; *; *; 8000) =","=SUM(; *; *; 8000) =",{"$f":"SUBSTITUTE(TRIM(\"=SUM(\"&S31&\" * \"&$D31&\" \"&S32&\" * \"&$D32&\" \"&S33&\" \"&MIN(S34,8000)&\")\"),\" \",\"; \")&\" =\"","v":"=SUM(0; *; 2,19; 0; *; 3,73; 0; 0) ="},{"$f":"SUBSTITUTE(TRIM(\"=SUM(\"&T31&\" * \"&$D31&\" \"&T32&\" * \"&$D32&\" \"&T33&\" \"&MIN(T34,8000)&\")\"),\" \",\"; \")&\" =\"","v":"=SUM(0; *; 2,19; 0; *; 3,73; 0; 0) ="},{"$f":"SUBSTITUTE(TRIM(\"=SUM(\"&U31&\" * \"&$D31&\" \"&U32&\" * \"&$D32&\" \"&U33&\" \"&MIN(U34,8000)&\")\"),\" \",\"; \")&\" =\"","v":"=SUM(0; *; 2,19; 0; *; 3,73; 0; 0) ="},{"$f":"SUBSTITUTE(TRIM(\"=SUM(\"&V31&\" * \"&$D31&\" \"&V32&\" * \"&$D32&\" \"&V33&\" \"&MIN(V34,8000)&\")\"),\" \",\"; \")&\" =\"","v":"=SUM(0; *; 2,19; 0; *; 3,73; 0; 0) ="},{"$f":"SUBSTITUTE(TRIM(\"=SUM(\"&W31&\" * \"&$D31&\" \"&W32&\" * \"&$D32&\" \"&W33&\" \"&MIN(W34,8000)&\")\"),\" \",\"; \")&\" =\"","v":"=SUM(0; *; 2,19; 0; *; 3,73; 0; 0) ="},{"$f":"SUBSTITUTE(TRIM(\"=SUM(\"&X31&\" * \"&$E31&\" \"&X32&\" * \"&$E32&\" \"&X33&\" \"&MIN(X34,8000)&\")\"),\" \",\"; \")&\" =\"","v":"=SUM(0; *; 0; *; 0; 0) ="},{"$f":"SUBSTITUTE(TRIM(\"=SUM(\"&Y31&\" * \"&$E31&\" \"&Y32&\" * \"&$E32&\" \"&Y33&\" \"&MIN(Y34,8000)&\")\"),\" \",\"; \")&\" =\"","v":"=SUM(0; *; 0; *; 0; 0) ="},"=SUM(0; *; 0; *; 0; 0) =","=SUM(0; *; 0; *; 0; 0) =","=SUM(0; *; 0; *; 0; 0) =","=SUM(0; *; 0; *; 0; 0) =","=SUM(0; *; 0; *; 0; 0) ="]
[null,20,null,null,null,"Bruttoløn (ekskl. pensionstillæg og ATP)"]
[null,21,null,null,null,"Pensionstillæg skalatrinsløn eller HK-løn",{"$f":"\"= \"&ROUND(VLOOKUP(G12,Skalalontabel12,7,0)*G$9,0)&\" / 12  * \"&TEXT(G$11,\"0,0000\")&\" * \"&G5&\"% / 3 =\"","v":{"$error":"#N/A"}},{"$error":"#N/A"},{"$error":"#N/A"},{"$error":"#N/A"},{"$error":"#N/A"},{"$error":"#N/A"},{"$error":"#N/A"},{"$error":"#N/A"},{"$error":"#N/A"},{"$error":"#N/A"},{"$error":"#N/A"},{"$error":"#N/A"},{"$error":"#N/A"},{"$error":"#N/A"},{"$error":"#N/A"},{"$error":"#N/A"},{"$error":"#N/A"},{"$error":"#N/A"},{"$error":"#N/A"},{"$error":"#N/A"},{"$error":"#N/A"},{"$error":"#N/A"},{"$error":"#N/A"},{"$error":"#N/A"}]
[null,22,null,null,null,"Pensionstillæg fast løn",{"$f":"IF($C50>0,\"= \"&G50&\" * \"&G$5&\"% / 3 =\")","v":"= 0 * % / 3 ="},{"$f":"IF($C50>0,H50&\" * \"&H$5&\"% / 3 =\")","v":"0 * 0% / 3 ="},"0 * 0% / 3 =","0 * 0% / 3 =","0 * 0% / 3 =","0 * 0% / 3 =","0 * 0% / 3 =","0 * 0% / 3 =","0 * 0% / 3 =","0 * 0% / 3 =","0 * 0% / 3 =","0 * 0% / 3 =",{"$f":"IF($C50>0,\"= \"&S50&\" * \"&S$5&\"% / 3 =\")","v":"= 0 * 0% / 3 ="},{"$f":"IF($C50>0,T50&\" * \"&T$5&\"% / 3 =\")","v":"0 * 0% / 3 ="},"0 * 0% / 3 =","0 * 0% / 3 =","0 * 0% / 3 =","0 * 0% / 3 =","0 * 0% / 3 =","0 * 0% / 3 =","0 * 0% / 3 =","0 * 0% / 3 =","0 * 0% / 3 =","0 * 0% / 3 ="]
[null,23,null,null,null,"Pensionstillæg souscheftillæg","= 0 * % / 3 =","0 * 0% / 3 =","0 * 0% / 3 =","0 * 0% / 3 =","0 * 0% / 3 =","0 * 0% / 3 =","0 * 0% / 3 =","0 * 0% / 3 =","0 * 0% / 3 =","0 * 0% / 3 =","0 * 0% / 3 =","0 * 0% / 3 =","= 0 * 0% / 3 =","0 * 0% / 3 =","0 * 0% / 3 =","0 * 0% / 3 =","0 * 0% / 3 =","0 * 0% / 3 =","0 * 0% / 3 =","0 * 0% / 3 =","0 * 0% / 3 =","0 * 0% / 3 =","0 * 0% / 3 =","0 * 0% / 3 ="]
[null,24,null,null,null,"Pensionstillæg Funktionstillæg 1","= 0 * % / 3 =","0 * 0% / 3 =","0 * 0% / 3 =","0 * 0% / 3 =","0 * 0% / 3 =","0 * 0% / 3 =","0 * 0% / 3 =","0 * 0% / 3 =","0 * 0% / 3 =","0 * 0% / 3 =","0 * 0% / 3 =","0 * 0% / 3 =","= 0 * 0% / 3 =","0 * 0% / 3 =","0 * 0% / 3 =","0 * 0% / 3 =","0 * 0% / 3 =","0 * 0% / 3 =","0 * 0% / 3 =","0 * 0% / 3 =","0 * 0% / 3 =","0 * 0% / 3 =","0 * 0% / 3 =","0 * 0% / 3 ="]
[null,25,null,null,null,"Pensionstillæg Funktionstillæg 2","= 0 * % / 3 =","0 * 0% / 3 =","0 * 0% / 3 =","0 * 0% / 3 =","0 * 0% / 3 =","0 * 0% / 3 =","0 * 0% / 3 =","0 * 0% / 3 =","0 * 0% / 3 =","0 * 0% / 3 =","0 * 0% / 3 =","0 * 0% / 3 =","= 0 * 0% / 3 =","0 * 0% / 3 =","0 * 0% / 3 =","0 * 0% / 3 =","0 * 0% / 3 =","0 * 0% / 3 =","0 * 0% / 3 =","0 * 0% / 3 =","0 * 0% / 3 =","0 * 0% / 3 =","0 * 0% / 3 =","0 * 0% / 3 ="]
[null,26,null,null,null,"Pensionstillæg Funktionstillæg 3","= 0 * % / 3 =","0 * 0% / 3 =","0 * 0% / 3 =","0 * 0% / 3 =","0 * 0% / 3 =","0 * 0% / 3 =","0 * 0% / 3 =","0 * 0% / 3 =","0 * 0% / 3 =","0 * 0% / 3 =","0 * 0% / 3 =","0 * 0% / 3 =","= 0 * 0% / 3 =","0 * 0% / 3 =","0 * 0% / 3 =","0 * 0% / 3 =","0 * 0% / 3 =","0 * 0% / 3 =","0 * 0% / 3 =","0 * 0% / 3 =","0 * 0% / 3 =","0 * 0% / 3 =","0 * 0% / 3 =","0 * 0% / 3 ="]
[null,27,null,null,null,"Pensionstillæg Kvalifikationstillæg 1","= 0 * % / 3 =","0 * 0% / 3 =","0 * 0% / 3 =","0 * 0% / 3 =","0 * 0% / 3 =","0 * 0% / 3 =","0 * 0% / 3 =","0 * 0% / 3 =","0 * 0% / 3 =","0 * 0% / 3 =","0 * 0% / 3 =","0 * 0% / 3 =","= 0 * 0% / 3 =","0 * 0% / 3 =","0 * 0% / 3 =","0 * 0% / 3 =","0 * 0% / 3 =","0 * 0% / 3 =","0 * 0% / 3 =","0 * 0% / 3 =","0 * 0% / 3 =","0 * 0% / 3 =","0 * 0% / 3 =","0 * 0% / 3 ="]
[null,28,null,null,null,"Pensionstillæg Kvalifikationstillæg 2","= 0 * % / 3 =","0 * 0% / 3 =","0 * 0% / 3 =","0 * 0% / 3 =","0 * 0% / 3 =","0 * 0% / 3 =","0 * 0% / 3 =","0 * 0% / 3 =","0 * 0% / 3 =","0 * 0% / 3 =","0 * 0% / 3 =","0 * 0% / 3 =","= 0 * 0% / 3 =","0 * 0% / 3 =","0 * 0% / 3 =","0 * 0% / 3 =","0 * 0% / 3 =","0 * 0% / 3 =","0 * 0% / 3 =","0 * 0% / 3 =","0 * 0% / 3 =","0 * 0% / 3 =","0 * 0% / 3 =","0 * 0% / 3 ="]
[null,29,null,null,null,"Pensionstillæg Kvalifikationstillæg 3","= 0 * % / 3 =","0 * 0% / 3 =","0 * 0% / 3 =","0 * 0% / 3 =","0 * 0% / 3 =","0 * 0% / 3 =","0 * 0% / 3 =","0 * 0% / 3 =","0 * 0% / 3 =","0 * 0% / 3 =","0 * 0% / 3 =","0 * 0% / 3 =","= 0 * 0% / 3 =","0 * 0% / 3 =","0 * 0% / 3 =","0 * 0% / 3 =","0 * 0% / 3 =","0 * 0% / 3 =","0 * 0% / 3 =","0 * 0% / 3 =","0 * 0% / 3 =","0 * 0% / 3 =","0 * 0% / 3 =","0 * 0% / 3 ="]
[null,30,null,null,null,"Pensionstillæg af udligningstillæg","= 0 * % / 3 =","0 * 0% / 3 =","0 * 0% / 3 =","0 * 0% / 3 =","0 * 0% / 3 =","0 * 0% / 3 =","0 * 0% / 3 =","0 * 0% / 3 =","0 * 0% / 3 =","0 * 0% / 3 =","0 * 0% / 3 =","0 * 0% / 3 =","= 0 * 0% / 3 =","0 * 0% / 3 =","0 * 0% / 3 =","0 * 0% / 3 =","0 * 0% / 3 =","0 * 0% / 3 =","0 * 0% / 3 =","0 * 0% / 3 =","0 * 0% / 3 =","0 * 0% / 3 =","0 * 0% / 3 =","0 * 0% / 3 ="]
[null,31,null,null,null,"Fradrag i pensionstillæg for ikke optjent ferie mv.",{"$f":"\"= \"&G61&\" * \"&G$5&\"% / 3 =\"","v":"= 0 * % / 3 ="},"= 0 * 0% / 3 =","= 0 * 0% / 3 =","= 0 * 0% / 3 =","= 0 * 0% / 3 =","= 0 * 0% / 3 =","= 0 * 0% / 3 =","= 0 * 0% / 3 =","= 0 * 0% / 3 =","= 0 * 0% / 3 =","= 0 * 0% / 3 =","= 0 * 0% / 3 =","= 0 * 0% / 3 =","= 0 * 0% / 3 =","= 0 * 0% / 3 =","= 0 * 0% / 3 =","= 0 * 0% / 3 =","= 0 * 0% / 3 =","= 0 * 0% / 3 =","= 0 * 0% / 3 =","= 0 * 0% / 3 =","= 0 * 0% / 3 =","= 0 * 0% / 3 =","= 0 * 0% / 3 ="]
[null,32,null,null,null,"Pensionstillæg af feriedifference","= 0 * % / 3 =","= 0 * 0% / 3 =","= 0 * 0% / 3 =","= 0 * 0% / 3 =","= 0 * 0% / 3 =","= 0 * 0% / 3 =","= 0 * 0% / 3 =","= 0 * 0% / 3 =","= 0 * 0% / 3 =","= 0 * 0% / 3 =","= 0 * 0% / 3 =","= 0 * 0% / 3 =","= 0 * 0% / 3 =","= 0 * 0% / 3 =","= 0 * 0% / 3 =","= 0 * 0% / 3 =","= 0 * 0% / 3 =","= 0 * 0% / 3 =","= 0 * 0% / 3 =","= 0 * 0% / 3 =","= 0 * 0% / 3 =","= 0 * 0% / 3 =","= 0 * 0% / 3 =","= 0 * 0% / 3 ="]
[null,33,null,null,null,"Pensionstillæg af pensiong. engangstillæg",{"$f":"SUBSTITUTE(TRIM(\"=SUM(\"&IF($G36>0,G36&\" \",\"\")&IF($C40<>\"\",G40&\" \",\"\")&IF($C41<>\"\",G41&\" \",\"\")&IF($C42<>\"\",G42&\" \",\"\")&IF($C43<>\"\",G43&\" \",\"\")&IF($C44<>\"\",G44,\"\")&\")\"),\" \",\"; \")&\" * \"&G5&\"% / 3 =\"","v":"=SUM(; ) * % / 3 ="},"=SUM(; ) * 0% / 3 =","=SUM(; ) * 0% / 3 =","=SUM(; ) * 0% / 3 =","=SUM(; ) * 0% / 3 =","=SUM(; ) * 0% / 3 =","=SUM(; ) * 0% / 3 =","=SUM(; ) * 0% / 3 =","=SUM(; ) * 0% / 3 =","=SUM(; ) * 0% / 3 =","=SUM(; ) * 0% / 3 =","=SUM(; ) * 0% / 3 =","=SUM(0; 0; 0; ) * 0% / 3 =","=SUM(0; 0; 0; ) * 0% / 3 =","=SUM(0; 0; 0; ) * 0% / 3 =","=SUM(0; 0; 0; ) * 0% / 3 =","=SUM(0; 0; 0; ) * 0% / 3 =","=SUM(0; 0; 0; ) * 0% / 3 =","=SUM(0; 0; 0; ) * 0% / 3 =","=SUM(0; 0; 0; ) * 0% / 3 =","=SUM(0; 0; 0; ) * 0% / 3 =","=SUM(0; 0; 0; ) * 0% / 3 =","=SUM(0; 0; 0; ) * 0% / 3 =","=SUM(0; 0; 0; ) * 0% / 3 ="]
[null,34,null,null,null,"Ekstra pension ved orlov uden løn","Ekstra pension ved orlov uden løn","Ekstra pension ved orlov uden løn","Ekstra pension ved orlov uden løn","Ekstra pension ved orlov uden løn","Ekstra pension ved orlov uden løn","Ekstra pension ved orlov uden løn","Ekstra pension ved orlov uden løn","Ekstra pension ved orlov uden løn","Ekstra pension ved orlov uden løn","Ekstra pension ved orlov uden løn","Ekstra pension ved orlov uden løn","Ekstra pension ved orlov uden løn"]
[null,35,null,null,null,"Pensionstillæg i alt"]
[null,36,null,null,null,"Egetbidrag til ATP"]
[null,37,null,null,null,"AMB-grundlag",{"$f":"\"= SUM(Lin. 1 - Lin. 14) + SUM(Lin 19 - Lin28) - \"&G86&\" =\"","v":"= SUM(Lin. 1 - Lin. 14) + SUM(Lin 19 - Lin28) - 0 ="},{"$f":"\"= SUM(Lin. 1 - Lin. 14) + SUM(Lin 19 - Lin28) - \"&H86&\" =\"","v":"= SUM(Lin. 1 - Lin. 14) + SUM(Lin 19 - Lin28) - 0 ="},"= SUM(Lin. 1 - Lin. 14) + SUM(Lin 19 - Lin28) - 0 =","= SUM(Lin. 1 - Lin. 14) + SUM(Lin 19 - Lin28) - 0 =","= SUM(Lin. 1 - Lin. 14) + SUM(Lin 19 - Lin28) - 0 =","= SUM(Lin. 1 - Lin. 14) + SUM(Lin 19 - Lin28) - 0 =","= SUM(Lin. 1 - Lin. 14) + SUM(Lin 19 - Lin28) - 0 =","= SUM(Lin. 1 - Lin. 14) + SUM(Lin 19 - Lin28) - 0 =","= SUM(Lin. 1 - Lin. 14) + SUM(Lin 19 - Lin28) - 0 =","= SUM(Lin. 1 - Lin. 14) + SUM(Lin 19 - Lin28) - 0 =","= SUM(Lin. 1 - Lin. 14) + SUM(Lin 19 - Lin28) - 0 =","= SUM(Lin. 1 - Lin. 14) + SUM(Lin 19 - Lin28) - 0 =",{"$f":"\"= SUM(Lin. 1 - Lin. 14) + SUM(Lin 19 - Lin28) - \"&S86&\" =\"","v":"= SUM(Lin. 1 - Lin. 14) + SUM(Lin 19 - Lin28) - 0 ="},{"$f":"\"= SUM(Lin. 1 - Lin. 14) + SUM(Lin 19 - Lin28) - \"&T86&\" =\"","v":"= SUM(Lin. 1 - Lin. 14) + SUM(Lin 19 - Lin28) - 0 ="},"= SUM(Lin. 1 - Lin. 14) + SUM(Lin 19 - Lin28) - 0 =","= SUM(Lin. 1 - Lin. 14) + SUM(Lin 19 - Lin28) - 0 =","= SUM(Lin. 1 - Lin. 14) + SUM(Lin 19 - Lin28) - 0 =","= SUM(Lin. 1 - Lin. 14) + SUM(Lin 19 - Lin28) - 0 =","= SUM(Lin. 1 - Lin. 14) + SUM(Lin 19 - Lin28) - 0 =","= SUM(Lin. 1 - Lin. 14) + SUM(Lin 19 - Lin28) - 0 =","= SUM(Lin. 1 - Lin. 14) + SUM(Lin 19 - Lin28) - 0 =","= SUM(Lin. 1 - Lin. 14) + SUM(Lin 19 - Lin28) - 0 =","= SUM(Lin. 1 - Lin. 14) + SUM(Lin 19 - Lin28) - 0 =","= SUM(Lin. 1 - Lin. 14) + SUM(Lin 19 - Lin28) - 0 ="]
[null,38,null,null,null,"AM-bidrag",{"$f":"\"= \"&G87&\" * 8% (afrundet) =\"","v":"= 0 * 8% (afrundet) ="},{"$f":"\"= \"&H87&\" * 8% (afrundet) =\"","v":"= 0 * 8% (afrundet) ="},"= 0 * 8% (afrundet) =","= 0 * 8% (afrundet) =","= 0 * 8% (afrundet) =","= 0 * 8% (afrundet) =","= 0 * 8% (afrundet) =","= 0 * 8% (afrundet) =","= 0 * 8% (afrundet) =","= 0 * 8% (afrundet) =","= 0 * 8% (afrundet) =","= 0 * 8% (afrundet) =",{"$f":"\"= \"&S87&\" * 8% (afrundet) =\"","v":"= 0 * 8% (afrundet) ="},{"$f":"\"= \"&T87&\" * 8% (afrundet) =\"","v":"= 0 * 8% (afrundet) ="},"= 0 * 8% (afrundet) =","= 0 * 8% (afrundet) =","= 0 * 8% (afrundet) =","= 0 * 8% (afrundet) =","= 0 * 8% (afrundet) =","= 0 * 8% (afrundet) =","= 0 * 8% (afrundet) =","= 0 * 8% (afrundet) =","= 0 * 8% (afrundet) =","= 0 * 8% (afrundet) ="]
[null,39,null,null,null,"A-indkomst",{"$f":"\"= \"&G87&\" - \"&G88&\" =\"","v":"= 0 - 0 ="},{"$f":"\"= \"&H87&\" - \"&H88&\" =\"","v":"= 0 - 0 ="},"= 0 - 0 =","= 0 - 0 =","= 0 - 0 =","= 0 - 0 =","= 0 - 0 =","= 0 - 0 =","= 0 - 0 =","= 0 - 0 =","= 0 - 0 =","= 0 - 0 =",{"$f":"\"= \"&S87&\" - \"&S88&\" =\"","v":"= 0 - 0 ="},{"$f":"\"= \"&T87&\" - \"&T88&\" =\"","v":"= 0 - 0 ="},"= 0 - 0 =","= 0 - 0 =","= 0 - 0 =","= 0 - 0 =","= 0 - 0 =","= 0 - 0 =","= 0 - 0 =","= 0 - 0 =","= 0 - 0 =","= 0 - 0 ="]
[null,40,null,null,null,"Skattegrundlag"]
[null,41,null,null,null,"Skat",{"$f":"\"= (\"&G89&\" - \"&G30&\") (afrundet) * \"&G29&\" / 100 =\"","v":"= (0 - ) (afrundet) *  / 100 ="},{"$f":"\"= (\"&H89&\" - \"&H30&\") (afrundet) * \"&H29&\" / 100 =\"","v":"= (0 - 0) (afrundet) * 0 / 100 ="},"= (0 - 0) (afrundet) * 0 / 100 =","= (0 - 0) (afrundet) * 0 / 100 =","= (0 - 0) (afrundet) * 0 / 100 =","= (0 - 0) (afrundet) * 0 / 100 =","= (0 - 0) (afrundet) * 0 / 100 =","= (0 - 0) (afrundet) * 0 / 100 =","= (0 - 0) (afrundet) * 0 / 100 =","= (0 - 0) (afrundet) * 0 / 100 =","= (0 - 0) (afrundet) * 0 / 100 =","= (0 - 0) (afrundet) * 0 / 100 =",{"$f":"\"= (\"&S89&\" - \"&S30&\") (afrundet) * \"&S29&\" / 100 =\"","v":"= (0 - 0) (afrundet) * 0 / 100 ="},{"$f":"\"= (\"&T89&\" - \"&T30&\") (afrundet) * \"&T29&\" / 100 =\"","v":"= (0 - 0) (afrundet) * 0 / 100 ="},"= (0 - 0) (afrundet) * 0 / 100 =","= (0 - 0) (afrundet) * 0 / 100 =","= (0 - 0) (afrundet) * 0 / 100 =","= (0 - 0) (afrundet) * 0 / 100 =","= (0 - 0) (afrundet) * 0 / 100 =","= (0 - 0) (afrundet) * 0 / 100 =","= (0 - 0) (afrundet) * 0 / 100 =","= (0 - 0) (afrundet) * 0 / 100 =","= (0 - 0) (afrundet) * 0 / 100 =","= (0 - 0) (afrundet) * 0 / 100 ="]
[null,42,null,null,null,"Feriegodtgørelsesgrundlag"]
[null,43,null,null,null,{"$f":"\"Feriegodtgørelsesgrundlag, jan-juli \"&Aar+1","v":"Feriegodtgørelsesgrundlag, jan-juli 1"}]
[null,44,null,null,null,"Egetbidrag til pensionskasse",{"$f":"\"= Lin. 43 =\"","v":"= Lin. 43 ="},{"$f":"\"= Lin. 43 =\"","v":"= Lin. 43 ="},"= Lin. 43 =","= Lin. 43 =","= Lin. 43 =","= Lin. 43 =","= Lin. 43 =","= Lin. 43 =","= Lin. 43 =","= Lin. 43 =","= Lin. 43 =","= Lin. 43 =",{"$f":"\"= Lin. 43 =\"","v":"= Lin. 43 ="},"= Lin. 43 =","= Lin. 43 =","= Lin. 43 =","= Lin. 43 =","= Lin. 43 =","= Lin. 43 =","= Lin. 43 =","= Lin. 43 =","= Lin. 43 =","= Lin. 43 =","= Lin. 43 ="]
[null,45,null,null,null,"Arbejdsgiverbidrag til pensionskasse",{"$f":"\"= Lin. 43 * 2 =\"","v":"= Lin. 43 * 2 ="},{"$f":"\"= Lin. 43 * 2 =\"","v":"= Lin. 43 * 2 ="},"= Lin. 43 * 2 =","= Lin. 43 * 2 =","= Lin. 43 * 2 =","= Lin. 43 * 2 =","= Lin. 43 * 2 =","= Lin. 43 * 2 =","= Lin. 43 * 2 =","= Lin. 43 * 2 =","= Lin. 43 * 2 =","= Lin. 43 * 2 =",{"$f":"\"= Lin. 43 * 2 =\"","v":"= Lin. 43 * 2 ="},"= Lin. 43 * 2 =","= Lin. 43 * 2 =","= Lin. 43 * 2 =","= Lin. 43 * 2 =","= Lin. 43 * 2 =","= Lin. 43 * 2 =","= Lin. 43 * 2 =","= Lin. 43 * 2 =","= Lin. 43 * 2 =","= Lin. 43 * 2 =","= Lin. 43 * 2 ="]
[null,46,null,null,null,"Arbejdsgiverbidrag til ATP",{"$f":"\"= Lin. 44 * 2 =\"","v":"= Lin. 44 * 2 ="},{"$f":"\"= Lin. 44 * 2 =\"","v":"= Lin. 44 * 2 ="},"= Lin. 44 * 2 =","= Lin. 44 * 2 =","= Lin. 44 * 2 =","= Lin. 44 * 2 =","= Lin. 44 * 2 =","= Lin. 44 * 2 =","= Lin. 44 * 2 =","= Lin. 44 * 2 =","= Lin. 44 * 2 =","= Lin. 44 * 2 =",{"$f":"\"= Lin. 44 * 2 =\"","v":"= Lin. 44 * 2 ="},"= Lin. 44 * 2 =","= Lin. 44 * 2 =","= Lin. 44 * 2 =","= Lin. 44 * 2 =","= Lin. 44 * 2 =","= Lin. 44 * 2 =","= Lin. 44 * 2 =","= Lin. 44 * 2 =","= Lin. 44 * 2 =","= Lin. 44 * 2 =","= Lin. 44 * 2 ="]
[null,47,null,null,null,"Skolens samlede indbetaling til pensionskasse",{"$f":"\"= Lin. 51 + Lin. 52 =\"","v":"= Lin. 51 + Lin. 52 ="},{"$f":"\"= Lin. 51 + Lin. 52 =\"","v":"= Lin. 51 + Lin. 52 ="},"= Lin. 51 + Lin. 52 =","= Lin. 51 + Lin. 52 =","= Lin. 51 + Lin. 52 =","= Lin. 51 + Lin. 52 =","= Lin. 51 + Lin. 52 =","= Lin. 51 + Lin. 52 =","= Lin. 51 + Lin. 52 =","= Lin. 51 + Lin. 52 =","= Lin. 51 + Lin. 52 =","= Lin. 51 + Lin. 52 =",{"$f":"\"= Lin. 51 + Lin. 52 =\"","v":"= Lin. 51 + Lin. 52 ="},"= Lin. 51 + Lin. 52 =","= Lin. 51 + Lin. 52 =","= Lin. 51 + Lin. 52 =","= Lin. 51 + Lin. 52 =","= Lin. 51 + Lin. 52 =","= Lin. 51 + Lin. 52 =","= Lin. 51 + Lin. 52 =","= Lin. 51 + Lin. 52 =","= Lin. 51 + Lin. 52 =","= Lin. 51 + Lin. 52 =","= Lin. 51 + Lin. 52 ="]
[null,48,null,null,null,"Skolens samlede indbetaling til ATP",{"$f":"\"= Lin. 44 + Lin. 53 =\"","v":"= Lin. 44 + Lin. 53 ="},{"$f":"\"= Lin. 44 + Lin. 53 =\"","v":"= Lin. 44 + Lin. 53 ="},"= Lin. 44 + Lin. 53 =","= Lin. 44 + Lin. 53 =","= Lin. 44 + Lin. 53 =","= Lin. 44 + Lin. 53 =","= Lin. 44 + Lin. 53 =","= Lin. 44 + Lin. 53 =","= Lin. 44 + Lin. 53 =","= Lin. 44 + Lin. 53 =","= Lin. 44 + Lin. 53 =","= Lin. 44 + Lin. 53 =",{"$f":"\"= Lin. 44 + Lin. 53 =\"","v":"= Lin. 44 + Lin. 53 ="},"= Lin. 44 + Lin. 53 =","= Lin. 44 + Lin. 53 =","= Lin. 44 + Lin. 53 =","= Lin. 44 + Lin. 53 =","= Lin. 44 + Lin. 53 =","= Lin. 44 + Lin. 53 =","= Lin. 44 + Lin. 53 =","= Lin. 44 + Lin. 53 =","= Lin. 44 + Lin. 53 =","= Lin. 44 + Lin. 53 =","= Lin. 44 + Lin. 53 ="]
[null,49,null,null,null,"Indbetaling til Gruppeliv"]
[null,50,null,null,null,"Løn til den ansattes disposition",{"$f":"\"= \"&G70&\" - ( \"&G91&\" + \"&G86&\" + \"&G88&\" + \"&G99&\") - SUM(lin 57 : 59) =\"","v":"= 0 - ( 0 + 0 + 0 + 0) - SUM(lin 57 : 59) ="},{"$f":"\"= \"&H70&\" - ( \"&H91&\" + \"&H86&\" + \"&H88&\" + \"&H99&\") - SUM(lin 57 : 59) =\"","v":"= 0 - ( 0 + 0 + 0 + 0) - SUM(lin 57 : 59) ="},"= 0 - ( 0 + 0 + 0 + 0) - SUM(lin 57 : 59) =","= 0 - ( 0 + 0 + 0 + 0) - SUM(lin 57 : 59) =","= 0 - ( 0 + 0 + 0 + 0) - SUM(lin 57 : 59) =","= 0 - ( 0 + 0 + 0 + 0) - SUM(lin 57 : 59) =","= 0 - ( 0 + 0 + 0 + 0) - SUM(lin 57 : 59) =","= 0 - ( 0 + 0 + 0 + 0) - SUM(lin 57 : 59) =","= 0 - ( 0 + 0 + 0 + 0) - SUM(lin 57 : 59) =","= 0 - ( 0 + 0 + 0 + 0) - SUM(lin 57 : 59) =","= 0 - ( 0 + 0 + 0 + 0) - SUM(lin 57 : 59) =","= 0 - ( 0 + 0 + 0 + 0) - SUM(lin 57 : 59) =",{"$f":"\"= \"&S70&\" - ( \"&S91&\" + \"&S86&\" + \"&S88&\" + \"&S99&\") - SUM(lin 57 : 59) =\"","v":"= 0 - ( 0 + 0 + 0 + 0) - SUM(lin 57 : 59) ="},{"$f":"\"= \"&T70&\" - ( \"&T91&\" + \"&T86&\" + \"&T88&\" + \"&T99&\") - SUM(lin 57 : 59) =\"","v":"= 0 - ( 0 + 0 + 0 + 0) - SUM(lin 57 : 59) ="},"= 0 - ( 0 + 0 + 0 + 0) - SUM(lin 57 : 59) =","= 0 - ( 0 + 0 + 0 + 0) - SUM(lin 57 : 59) =","= 0 - ( 0 + 0 + 0 + 0) - SUM(lin 57 : 59) =","= 0 - ( 0 + 0 + 0 + 0) - SUM(lin 57 : 59) =","= 0 - ( 0 + 0 + 0 + 0) - SUM(lin 57 : 59) =","= 0 - ( 0 + 0 + 0 + 0) - SUM(lin 57 : 59) =","= 0 - ( 0 + 0 + 0 + 0) - SUM(lin 57 : 59) =","= 0 - ( 0 + 0 + 0 + 0) - SUM(lin 57 : 59) =","= 0 - ( 0 + 0 + 0 + 0) - SUM(lin 57 : 59) =","= 0 - ( 0 + 0 + 0 + 0) - SUM(lin 57 : 59) ="]
[null,51,null,null,null,{"$f":"\"Feriepengeberegningsgrundlag, jan-dec \"&Aar","v":"Feriepengeberegningsgrundlag, jan-dec "}]
[null,null,null,null,null,{"$f":"\"Feriepengeberegningsgrundlag, jan-jul \"&Aar+1","v":"Feriepengeberegningsgrundlag, jan-jul 1"}]

{"sheet":"W","index":14,"n_rows":204,"n_cols":32,"rows_kept":204,"cut":false,"hidden":false,"merged":[[3,0,27,0],[28,0,29,0],[29,2,31,2],[44,2,46,4],[101,6,101,10],[101,18,101,22],[0,2,2,2],[0,3,2,3],[0,4,2,4]]}
["2022-2023",1,"Pensionsg.","BG-afh.","Regu-leret","Lønberegning for: (navn eller initialer)\n - variable løndele i lin. 30-43.","W",{"$f":"G1","v":"W"},{"$f":"H1","v":"W"},"W","W","W","W","W","W","W","W","W","Q",{"$f":"S1","v":"Q"},{"$f":"T1","v":"Q"},"Q","Q","Q","Q","Q","Q","Q","Q","Q","Udfyld gule felter (alle forudfyldte tal i gule felter er eksempler)"]
[null,{"$f":"B1+1","v":2},null,null,null,"Stillingsbetegnelse","Pædagog",{"$f":"G2","v":"Pædagog"},"Pædagog","Pædagog","Pædagog","Pædagog","Pædagog","Pædagog","Pædagog","Pædagog","Pædagog","Pædagog","Stilling",{"$f":"S2","v":"Stilling"},"Stilling","Stilling","Stilling","Stilling","Stilling","Stilling","Stilling","Stilling","Stilling","Stilling"]
[null,{"$f":"B2+1","v":3},null,null,null,"Måned",{"$f":"\"AUG \"&RIGHT(A1,2)+0","v":"AUG 23"},{"$f":"\"SEP \"&RIGHT(A1,2)+0","v":"SEP 23"},{"$f":"\"OKT \"&RIGHT(A1,2)+0","v":"OKT 23"},{"$f":"\"NOV \"&RIGHT(A1,2)+0","v":"NOV 23"},{"$f":"\"DEC \"&RIGHT(A1,2)+0","v":"DEC 23"},{"$f":"\"JAN \"&RIGHT(A1,2)+1","v":"JAN 24"},{"$f":"\"FEB \"&RIGHT(A1,2)+1","v":"FEB 24"},{"$f":"\"MAR \"&RIGHT(A1,2)+1","v":"MAR 24"},{"$f":"\"APR \"&RIGHT(A1,2)+1","v":"APR 24"},{"$f":"\"MAJ \"&RIGHT(A1,2)+1","v":"MAJ 24"},{"$f":"\"JUN \"&RIGHT(A1,2)+1","v":"JUN 24"},{"$f":"\"JUL \"&RIGHT(A1,2)+1","v":"JUL 24"},{"$f":"G3","v":"AUG 23"},{"$f":"H3","v":"SEP 23"},"OKT 23","NOV 23","DEC 23","JAN 24","FEB 24","MAR 24","APR 24","MAJ 24","JUN 24","JUL 24","ansat d. "]
[null,{"$f":"B3+1","v":4},"sæt 'x'","sæt 'x'","sæt 'x'","Del af måned \nantal kalenderdage/månedens kalenderdage",1,{"$f":"G4","v":1},{"$f":"H4","v":1},1,1,1,1,1,1,1,1,1,{"$f":"G4","v":1},1,1,1,1,1,1,1,1,1,1,1,"Hvis ansat 10 oktober: 21/31\nHvis fratrådt 15. april: 15/30",2]
[null,{"$f":"B4+1","v":5},null,null,null,"Pensionsprocent",null,{"$f":"$G5","v":0},0,0,0,0,0,0,0,0,0,0,{"$f":"G5","v":0},0,0,0,0,0,0,0,0,0,0,0,"Skriv ikke procenttegnet, fx 14,7% - skriv 14,70",3]
[null,{"$f":"B5+1","v":6},null,null,null,"Betales hele pensionen af skolen? JA/NEJ","Ja",{"$f":"G6","v":"Ja"},{"$f":"H6","v":"Ja"},"Ja","Ja","Ja","Ja","Ja","Ja","Ja","Ja","Ja",{"$f":"G6","v":"Ja"},"Ja","Ja","Ja","Ja","Ja","Ja","Ja","Ja","Ja","Ja","Ja","Se ansættelsesbrev",4]
[null,null,null,null,null,"Har den ansatte orlov uden løn men med pension?","Nej",{"$f":"G7","v":"Nej"},"Nej","Nej","Nej","Nej","Nej","Nej","Nej","Nej","Nej","Nej"]
[null,{"$f":"B6+1","v":7},null,null,null,"Beregnes feriedifferende mv. efter Ferieaftalen i staten JA, eller efter Ferieloven NEJ","JA",{"$f":"G8","v":"JA"},"JA","JA","JA","JA","JA","JA","JA","JA","JA","JA",{"$f":"G8","v":"JA"},{"$f":"H8","v":"JA"},"JA","JA","JA","JA","JA","JA","JA","JA","JA","JA","Ferieloven: mindst 20% differende, Ferieaftalen: enhver differende",5]
[null,{"$f":"B8+1","v":8},null,null,null,"Procentregulering +1",1.1553389999999999,1.1553389999999999,1.159197,1.159197,{"$f":"J9","v":1.159197},1.159197,1.159197,1.159197,null,{"$f":"O9","v":0},{"$f":"P9","v":0},{"$f":"Q9","v":0},{"$f":"G9","v":1.1553389999999999},1.1553389999999999,1.159197,1.159197,1.159197,1.159197,1.159197,1.159197,0,0,0,0,null,6]
[null,9,null,null,null,"Skolens stedtillægsområde",null,{"$f":"G10","v":0},0,0,0,0,0,0,0,0,0,0,{"$f":"G10","v":0},0,0,0,0,0,0,0,0,0,0,0]
[null,10,null,null,null,"Beskæftigelsesgrad aktuel (Beskæftigelsesgrad løn beregnes ud fra)",null,{"$f":"G11","v":0},0,0,0,0,0,0,0,{"$f":"O11","v":0},0,0,0,0,0,0,0,0,0,0,0,0,0,0]
[null,{"$f":"B11+1","v":11},"x","x","x","Skalatrin",null,{"$f":"G12","v":0},0,0,0,0,0,0,0,0,0,0,0,0,0,0,0,0,0,0,0,0,0,0,"Statens løntabel eller HK-overenskomst-løntrin"]
[null,12,"x","x","x",{"$f":"\"Fast aftalt årlig løn \"&IF(E13<>\"\",\"i grundbeløb pr. 31.03.2012\",\"(ikke reguleret)\")","v":"Fast aftalt årlig løn i grundbeløb pr. 31.03.2012"},null,0,0,0,0,0,0,0,{"$f":"N13","v":0},0,0,0,0,0,0,0,0,0,0,0,0,0,0,0]
[null,13,"x",null,"x","Årligt sousdheftillæg eller lign. i grundbeløb",null,{"$f":"G14","v":0},0,0,0,0,0,0,0,0,0,0,0,0,0,0,0,0,0,0,0,0,0,0]
[null,14,"x",null,"x","Årligt funktionsstillæg i grundbeløb 1",null,{"$f":"G15","v":0},0,0,0,0,0,0,0,0,0,0,0,0,0,0,0,0,0,0,0,0,0,0,null,"Ja"]
[null,15,"x",null,"x","Årligt funktionsstillæg i grundbeløb 2",null,{"$f":"G16","v":0},0,0,0,0,0,0,0,0,0,0,0,0,0,0,0,0,0,0,0,0,0,0,null,"Nej"]
[null,16,"x",null,"x","Årligt funktionsstillæg i grundbeløb 3",null,{"$f":"G17","v":0},0,0,0,0,0,0,0,0,0,0,0,0,0,0,0,0,0,0,0,0,0,0]
[null,17,"x","x","x","Årligt kvalifikationsstillæg i grundbeløb 1",null,0,0,0,0,0,0,0,0,0,0,0,0,0,0,0,0,0,0,0,0,0,0,0]
[null,18,"x","x","x","Årligt kvalifikationsstillæg i grundbeløb 2",null,0,0,0,0,0,0,0,0,0,0,0,0,0,0,0,0,0,0,0,0,0,0,0]
[null,19,"x","x","x","Årligt kvalifikationsstillæg i grundbeløb 3",null,0,0,0,0,0,0,0,0,0,0,0,0,0,0,0,0,0,0,0,0,0,0,0]
[null,20,"x","x","x","Udligningstillæg i årligt grundbeløb v. 100% BG",null,0,0,0,0,0,0,0,0,0,0,0,0,0,0,0,0,0,0,0,0,0,0,0]
[null,21,null,null,null,"Gruppelivsordning betalt af af skolen som et løntillæg. Skriv det månedlige beløb!",null,0,0,0,0,0,0,0,0,0,0,0,0,0,0,0,0,0,0,0,0,0,0,0,"Spedielt ved virksomhedsoverdragelse"]
[null,22,null,null,"x","Lokalaftalt fast ulempegodtgørelse pr. måned. - (pr. 31. marts 2012)",null,{"$f":"G23","v":0},0,0,0,0,0,0,{"$f":"N23","v":0},0,0,0,0,0,0,0,0,0,0,0,0,0,0,0,"I stedet for variable arbejdstidsbestemte tillæg, iflg lokalaftale"]
[null,23,null,null,null,"Planlagte feriedage",null,null,5,null,null,null,5,null,null,null,null,15,{"$f":"G24","v":0},{"$f":"H24","v":0},5,0,0,0,5,0,0,0,0,15,"Normalt 15 dage i sommerhalvåret og 10 dage i vinterhalvåret"]
[null,24,null,null,null,".. heraf antal feriedage,\nhvortil der ikke er optjent ferieret",null,null,null,null,null,null,null,null,null,null,null,0,0,0,0,0,0,0,0,0,0,0,0,0,"Ferieloven: fradrag 4,8% pr. dag, Ferieaftalen: 4,62% pr. dag"]
[null,25,null,null,null,"Feriedifference pensionsgivende(udregnes i særskilt regneark)",null,null,null,null,null,null,null,null,null,null,null,null,0,0,0,0,0,0,0,0,0,0,0,0,"Benyttes ved beregning af feriedifferende."]
[null,26,null,null,null,"Feriedifference IKKE pensionsgivende(udregnes i særskilt regneark)",null,null,null,null,null,null,null,null,null,null,null,null,0,0,0,0,0,0,0,0,0,0,0,0,"Benyttes ved beregning af feriedifference'"]
[null,27,null,null,null,"Egenbetalte fridage",null,null,null,null,null,null,null,null,null,null,null,null,0,0,0,0,0,0,0,0,0,0,0,0,"Løn- og pensionsfradrag beregnes i lin 60 og 75"]
["Skatteop-lysninger",28,null,null,null,"Skatteprocent",null,{"$f":"G29","v":0},0,0,0,0,0,0,0,0,0,0,0,0,0,0,0,0,0,0,0,0,0,0,"Skriv ikke procenttegnet, fx 42% - skriv 42"]
[null,29,"km-\ntak-ster",{"$f":"LEFT($A$1,4)+1","v":2023},{"$f":"LEFT($A$1,4)+2","v":2024},"Månedligt skattefradrag",null,0,0,0,0,0,0,0,0,0,0,0,0,0,0,0,0,0,0,0,0,0,0,0]
[null,30,null,2.19,null,"Km.godtgørelse, lav sats (skattefri), antal km:",null,null,null,null,null,null,null,null,null,null,null,null,0,0,0,0,0,0,0,0,0,0,0,0]
[null,31,null,3.73,null,"Km.godtgørelse, høj sats (skattefri), antal km:",null,null,null,null,null,null,null,null,null,null,null,null,0,0,0,0,0,0,0,0,0,0,0,0]
[null,32,null,null,null,"Timedagpenge (skattefri) - Beregn selv",null,null,null,null,null,null,null,null,null,null,null,null,0,0,0,0,0,0,0,0,0,0,0,0,"Se løntabel"]
[null,33,null,null,null,"Jubilæumsgratiale (skattefri op til 8.000 kr.)",null,null,null,null,null,null,null,null,null,null,null,null,0,0,0,0,0,0,0,0,0,0,0,0,"Se løntabel"]
[null,34,null,null,null,"Arbejds- og arbejdstidsbestemte tillæg. Beregn selv",null,null,null,null,null,null,null,null,null,null,null,null,0,0,0,0,0,0,0,0,0,0,0,0,"”Natpenge” iflg skema, hvis ikke der er lokalaftalt godtgørelse"]
[null,35,"x",null,null,"Merarbejdsbetaling. Beregn selv",null,null,null,null,null,null,null,null,null,null,null,null,0,0,0,0,0,0,0,0,0,0,0,0,"Efter årsopgørelse eller ved fratræden"]
[null,36,null,null,null,"Overtidsbetaling. Beregn selv",null,null,null,null,null,null,null,null,null,null,null,null,0,0,0,0,0,0,0,0,0,0,0,0,"Efter årsopgørelse eller ved fratræden"]
[null,37,null,null,null,"Særlige feriedage til udbetaling. Beregn selv",null,null,null,null,null,null,null,null,null,null,null,null,{"$f":"G38","v":0},0,0,0,0,0,0,0,0,0,0,0,"Efter årsafslutning eller ved fratræden. Se pjeden \"Ferievejledning\""]
[null,38,null,null,null,{"$f":"\"Særlig ferietillæg \"&IF(G8=\"ja\",\"1,5%\",\"1,0%\"&\"\")","v":"Særlig ferietillæg 1,5%"},null,null,null,null,null,null,null,null,null,0,null,null,0,0,0,0,0,0,0,0,0,0,0,0]
[null,39,"x",null,null,"Resultatlønstillæg",null,null,null,null,null,null,null,null,null,null,null,null,0,0,0,0,0,0,0,0,0,0,0,0]
[null,40,"x",null,null,"Engangs nylønstillæg",null,null,null,null,null,null,null,null,null,null,null,null,0,0,0,0,0,0,0,0,0,0,0,0]
[null,41,"x",null,null,"Praktiklærervederlag",null,null,null,null,null,null,null,null,null,null,null,null,0,0,0,0,0,0,0,0,0,0,0,0,{"$f":"45*5*7.4","v":1665}]
[null,42,null,null,null,"andet",null,null,null,null,null,null,null,null,null,null,null,null,0,0,0,0,0,0,0,0,0,0,0,0]
[null,43,null,null,null,"andet",null,null,null,null,null,null,null,null,null,null,null,null,0,0,0,0,0,0,0,0,0,0,0,0]
[null,44,"Disse tre linjer fradrages i den disponible løn",null,null,"gavekasse",null,{"$f":"G45","v":0},{"$f":"H45","v":0},0,0,0,0,0,0,0,0,0,0,0,0,0,0,0,0,0,0,0,0,0,"Fx: 'Kaffekasse'"]
[null,45,null,null,null,"kaffekasse",null,{"$f":"G46","v":0},0,0,0,0,0,0,0,0,0,0,0,0,0,0,0,0,0,0,0,0,0,0,"Fx: 'Gavekasse'"]
[null,46,null,null,null,"Fagforenings-kontingent",null,{"$f":"G47","v":0},0,0,0,0,0,0,0,0,0,0,0,0,0,0,0,0,0,0,0,0,0,0,"FX: 'Fagforeningskontingent'"]
[{"$f":"A3","v":"1904-01-01"},{"$f":"B47+1","v":47},null,null,null,"Måned",{"$f":"G3","v":"AUG 23"},"SEP 23","OKT 23","NOV 23","DEC 23","JAN 24","FEB 24","MAR 24","APR 24","MAJ 24","JUN 24","JUL 24","AUG 23","SEP 23","OKT 23","NOV 23","DEC 23","JAN 24","FEB 24","MAR 24","APR 24","MAJ 24","JUN 24","JUL 24","SUM"]
[null,48,{"$f":"(C12<>\"\")*1","v":1},1,1,{"$f":"IF(ISNUMBER(G12),\"Skalatrinsløn\",\"HK-løn\")","v":"HK-løn"},{"$f":"IF(G7=\"Ja\",0,ROUND(IF(AND(G$11>0,G12>0),ROUND((ROUND(VLOOKUP(G12,Skalalontabel12,G10,0)*G9,0))/12,2),0)*G11*G4,2))","v":0},0,0,0,0,0,0,0,0,0,0,0,{"$f":"ROUND(IF(AND(S$11>0,S12>0),ROUND((ROUND(VLOOKUP(S12,Skalalontabel12,S10,0)*S9,0))/12,2),0)*S11*S4,2)","v":0},0,0,0,0,0,0,0,0,0,0,0,{"$f":"SUM(G49:R49)","v":0}]
[null,49,1,1,1,"Fast løn",{"$f":"IF(G7=\"Ja\",0,ROUND(IF(G13>0,G13/12)*IF($D13<>\"\",G$11,1)*IF($E13<>\"\",G$9,1)*G4,2))","v":0},0,0,0,0,0,0,0,0,0,0,0,{"$f":"ROUND(IF(S13>0,S13/12)*IF($D13<>\"\",S$11,1)*IF($E13<>\"\",S$9,1)*S4,2)","v":0},0,0,0,0,0,0,0,0,0,0,0,0]
[null,50,1,0,1,"Souscheftillæg ell. lign.",{"$f":"IF(G7=\"Ja\",0,ROUND(IF(AND(G$11>0,G14>0),G14/12)*IF($D14<>\"\",G$11,1)*IF($E14<>\"\",G$9,1)*G4,2))","v":0},0,0,0,0,0,0,0,0,0,0,0,{"$f":"ROUND(IF(AND(S$11>0,S14>0),S14/12)*IF($D14<>\"\",S$11,1)*IF($E14<>\"\",S$9,1)*S4,2)","v":0},0,0,0,0,0,0,0,0,0,0,0,0]
[null,51,1,0,1,"Funktionstillæg 1",{"$f":"IF(G7=\"Ja\",0,ROUND(IF(AND(G$11>0,G15>0),G15/12)*IF($D15<>\"\",G$11,1)*IF($E15<>\"\",G$9,1)*G4,2))","v":0},0,0,0,0,0,0,0,0,0,0,0,{"$f":"ROUND(IF(AND(S$11>0,S15>0),S15/12)*IF($D15<>\"\",S$11,1)*IF($E15<>\"\",S$9,1)*S4,2)","v":0},0,0,0,0,0,0,0,0,0,0,0,0]
[null,52,1,0,1,"Funktionstillæg 2",{"$f":"IF(G7=\"Ja\",0,ROUND(IF(AND(G$11>0,G16>0),G16/12)*IF($D16<>\"\",G$11,1)*IF($E16<>\"\",G$9,1)*G4,2))","v":0},0,0,0,0,0,0,0,0,0,0,0,{"$f":"ROUND(IF(AND(S$11>0,S16>0),S16/12)*IF($D16<>\"\",S$11,1)*IF($E16<>\"\",S$9,1)*S4,2)","v":0},0,0,0,0,0,0,0,0,0,0,0,0]
[null,53,1,0,1,"Funktionstillæg 3",{"$f":"IF(G7=\"Ja\",0,ROUND(IF(AND(G$11>0,G17>0),G17/12)*IF($D17<>\"\",G$11,1)*IF($E17<>\"\",G$9,1)*G4,2))","v":0},0,0,0,0,0,0,0,0,0,0,0,{"$f":"ROUND(IF(AND(S$11>0,S17>0),S17/12)*IF($D17<>\"\",S$11,1)*IF($E17<>\"\",S$9,1)*S4,2)","v":0},0,0,0,0,0,0,0,0,0,0,0,0]
[null,54,1,1,1,"Kvalifikationstillæg 1",{"$f":"IF(G7=\"Ja\",0,ROUND(IF(AND(G$11>0,G18>0),G18/12)*IF($D18<>\"\",G$11,1)*IF($E18<>\"\",G$9,1)*G4,2))","v":0},0,0,0,0,0,0,0,0,0,0,0,{"$f":"ROUND(IF(AND(S$11>0,S18>0),S18/12)*IF($D18<>\"\",S$11,1)*IF($E18<>\"\",S$9,1)*S4,2)","v":0},0,0,0,0,0,0,0,0,0,0,0,0]
[null,55,1,1,1,"Kvalifikationstillæg 2",{"$f":"IF(G7=\"Ja\",0,ROUND(IF(AND(G$11>0,G19>0),G19/12)*IF($D19<>\"\",G$11,1)*IF($E19<>\"\",G$9,1)*G4,2))","v":0},0,0,0,0,0,0,0,0,0,0,0,{"$f":"ROUND(IF(AND(S$11>0,S19>0),S19/12)*IF($D19<>\"\",S$11,1)*IF($E19<>\"\",S$9,1)*S4,2)","v":0},0,0,0,0,0,0,0,0,0,0,0,0]
[null,56,1,1,1,"Kvalifikationstillæg 3",{"$f":"IF(G7=\"Ja\",0,ROUND(IF(AND(G$11>0,G20>0),G20/12)*IF($D20<>\"\",G$11,1)*IF($E20<>\"\",G$9,1)*G$4,2))","v":0},0,0,0,0,0,0,0,0,0,0,0,{"$f":"ROUND(IF(AND(S$11>0,S20>0),S20/12)*IF($D20<>\"\",S$11,1)*IF($E20<>\"\",S$9,1)*S$4,2)","v":0},0,0,0,0,0,0,0,0,0,0,0,0]
[null,57,1,1,1,"Udligningstillæg",{"$f":"IF(G7=\"Ja\",0,ROUND(IF(AND(G$11>0,G21>0),G21/12)*IF($D21<>\"\",G$11,1)*IF($E21<>\"\",G$9,1)*G$4,2))","v":0},0,0,0,0,0,0,0,0,0,0,0,0,0,0,0,0,0,0,0,0,0,0,0,0]
[null,58,null,null,null,"Gruppelivstillæg",{"$f":"IF(G7=\"Ja\",0,ROUND(IF(AND(G$11>0,G22>0),G22)*IF($D22<>\"\",G$11,1)*IF($E22<>\"\",G$9,1)*G$4,2))","v":0},0,0,0,0,0,0,0,0,0,0,0,{"$f":"ROUND(IF(AND(S$11>0,S22>0),S22)*IF($D22<>\"\",S$11,1)*IF($E22<>\"\",S$9,1)*S$4,2)","v":0},0,0,0,0,0,0,0,0,0,0,0,0]
[null,59,null,{"$f":"(D23<>\"\")*1","v":0},{"$f":"(E23<>\"\")*1","v":1},"Lokalaftalt ulempegodtgørelse",{"$f":"IF(G7=\"Ja\",0,ROUND(IF(AND(G$11>0,G23>0),G23)*IF($D23<>\"\",G$11,1)*IF($E23<>\"\",G$9,1)*G$4,2))","v":0},0,0,0,0,0,0,0,0,0,0,0,0,0,0,0,0,0,0,0,0,0,0,0,0]
[null,60,1,null,null,"Lønfradrag for ikke optjent ferie mv.",{"$f":"-ROUND((MAX(0,MIN(S24,S25*1))+S28)*IF(S8=\"JA\",4.62%,4.8%)*(S49+S50+S51+S52+S53+S54+S55+S56+S57+S58+S60)*S$4,2)","v":0},0,0,0,0,0,0,0,0,0,0,0,{"$f":"-ROUND((MAX(0,MIN(S24,S25*1))+S28)*IF(S8=\"JA\",4.62%,4.8%)*(S49+S50+S51+S52+S53+S54+S55+S56+S57+S58+S60)*S$4,2)","v":0},0,0,0,0,0,0,0,0,0,0,0,0]
[null,61,1,null,null,"Feriedifference pensionsgivende(udregnes i særskilt fane)",{"$f":"G26","v":0},{"$f":"H26","v":0},0,0,0,0,0,0,0,0,0,0,{"$f":"S26","v":0},{"$f":"T26","v":0},0,0,0,0,0,0,0,0,0,0,0]
[null,62,null,null,null,"Feriedifference IKKE pensionsgivende(udregnes i særskilt fane)",{"$f":"G27","v":0},0,0,0,0,0,0,0,0,0,0,0,{"$f":"S27","v":0},0,0,0,0,0,0,0,0,0,0,0]
[null,63,null,null,null,"Engangsudbetalinger iflg. specifikation",{"$f":"SUM(G35:G44)","v":0},{"$f":"SUM(H35:H44)","v":0},0,0,0,0,0,0,0,0,0,0,{"$f":"SUM(S35:S44)","v":0},{"$f":"SUM(T35:T44)+MAX(T34*T9-8000,0)","v":0},0,0,0,0,0,0,0,0,0,0,0]
[null,64,null,null,null,"Skattefrie km. Godtgørelse lav sats",{"$f":"G31*$D$31","v":0},{"$f":"H31*$D$31","v":0},0,0,0,0,0,0,0,0,0,0,{"$f":"S31*$D$31","v":0},{"$f":"T31*$D$31","v":0},0,0,0,0,0,0,0,0,0,0]
[null,65,null,null,null,"Skattefrie km. Godtgørelse høj sats",{"$f":"G32*$D$32","v":0},{"$f":"H32*$D$32","v":0},0,0,0,0,0,0,0,0,0,0,{"$f":"S32*$D$32","v":0},{"$f":"T32*$D$32","v":0},0,0,0,0,0,0,0,0,0,0]
[null,{"$f":"B64+1","v":64},null,null,null,"Timedagpenge(skattefrie)",{"$f":"IF(G33>0,G33,0)","v":0},{"$f":"IF(H33>0,H33,0)","v":0},0,0,0,0,0,0,0,0,0,0,{"$f":"IF(S33>0,S33,0)","v":0},{"$f":"IF(T33>0,T33,0)","v":0},0,0,0,0,0,0,0,0,0,0,0]
[null,65,null,null,null,"Skattefri jubilæumsgratiale",{"$f":"MIN(8000,G34*G9)","v":0},0,0,0,0,0,0,0,0,0,0,0,0,0,0,0,0,0,0,0,0,0,0,0]
[null,66,null,null,null,"Skattepligtig jubilæumsgratiaale",{"$f":"IF(G34>0,MAX(G34*G9-8000,0),0)","v":0},0,0,0,0,0,0,0,0,0,0,0,0,0,0,0,0,0,0,0,0,0,0,0]
[null,67,null,null,null,"Bruttoløn (ekskl. pensionstillæg og ATP)",{"$f":"SUM(G49:G69)","v":0},{"$f":"SUM(H49:H67)","v":0},0,0,0,0,0,0,0,0,0,0,{"$f":"SUM(S49:S69)","v":0},{"$f":"SUM(T49:T67)","v":0},0,0,0,0,0,0,0,0,0,0,0]
[null,{"$f":"B70+1","v":68},null,null,null,{"$f":"\"Pensionstillæg af pensionsg. \"&IF(ISNUMBER(G12),\"Skalatrinsløn\",\"HK-løn\")","v":"Pensionstillæg af pensionsg. HK-løn"},{"$f":"IF(G7=\"Ja\",0,ROUND(IF(AND(G$11>0,G12>0),ROUND((ROUND(VLOOKUP(G12,Skalalontabel12,7,0)*G9,0))/12,2),0)*G11*G4*G5/100/3,2))","v":0},0,0,0,0,0,0,0,0,0,0,0,{"$f":"ROUND(IF(AND(S$11>0,S12>0),ROUND((ROUND(VLOOKUP(S12,Skalalontabel12,7,0)*S9,0))/12,2),0)*S11*S4*S5/100/3,2)","v":0},0,0,0,0,0,0,0,0,0,0,0,0]
[null,69,null,null,null,"Pensionstillæg fast løn",{"$f":"ROUND(G50*$C50*G$5/100/3,2)","v":0},0,0,0,0,0,0,0,0,0,0,0,0,0,0,0,0,0,0,0,0,0,0,0,0]
[null,70,null,null,null,"Pensionstillæg souscheftillæg",0,0,0,0,0,0,0,0,0,0,0,0,0,0,0,0,0,0,0,0,0,0,0,0,0]
[null,71,null,null,null,"Pensionstillæg Funktionstillæg 1",0,0,0,0,0,0,0,0,0,0,0,0,0,0,0,0,0,0,0,0,0,0,0,0,0]
[null,72,null,null,null,"Pensionstillæg Funktionstillæg 2",0,0,0,0,0,0,0,0,0,0,0,0,0,0,0,0,0,0,0,0,0,0,0,0,0]
[null,73,null,null,null,"Pensionstillæg Funktionstillæg 3",0,0,0,0,0,0,0,0,0,0,0,0,0,0,0,0,0,0,0,0,0,0,0,0,0]
[null,74,null,null,null,"Pensionstillæg Kvalifikationstillæg 1",0,0,0,0,0,0,0,0,0,0,0,0,0,0,0,0,0,0,0,0,0,0,0,0,0]
[null,75,null,null,null,"Pensionstillæg Kvalifikationstillæg 2",0,0,0,0,0,0,0,0,0,0,0,0,0,0,0,0,0,0,0,0,0,0,0,0,0]
[null,76,null,null,null,"Pensionstillæg Kvalifikationstillæg 3",0,0,0,0,0,0,0,0,0,0,0,0,0,0,0,0,0,0,0,0,0,0,0,0,0]
[null,77,null,null,null,"Pensionstillæg af udligningstillæg",0,0,0,0,0,0,0,0,0,0,0,0,0,0,0,0,0,0,0,0,0,0,0,0,0]
[null,78,null,null,null,"Fradrag i pensionstillæg for ikke optjent ferie mv.",{"$f":"ROUND(G61*$C61*G$5/100/3,2)","v":0},0,0,0,0,0,0,0,0,0,0,0,0,0,0,0,0,0,0,0,0,0,0,0,0]
[null,79,null,null,null,"Pensionstillæg af feriedifference",0,0,0,0,0,0,0,0,0,0,0,0,0,0,0,0,0,0,0,0,0,0,0,0,0]
[null,80,null,null,null,"Pensionstillæg af pensiong. engangstillæg",{"$f":"ROUND(G36*G5/100/3+G40*($C40<>\"\")*G5/100/3+G41*($C41<>\"\")*G5/100/3+G42*($C42<>\"\")*G5/100/3+G43*($C43<>\"\")*G5/100/3+G44*($C44<>\"\")*G5/100/3,2)","v":0},0,0,0,0,0,0,0,0,0,0,0,0,0,0,0,0,0,0,0,0,0,0,0,0]
[null,null,null,null,null,"Ekstra pension hvis orlov uden løn",{"$f":"IF(G7=\"Ja\",SUM(S71:S82)-SUM(G71:G83),0)","v":0},{"$f":"IF(H7=\"Ja\",SUM(T71:T83)-SUM(H71:H83),0)","v":0},{"$f":"IF(I7=\"Ja\",SUM(U71:U82)-SUM(I71:I83),0)","v":0},0,0,0,0,0,0,0,0,0]
[null,{"$f":"B83+1","v":81},null,null,null,"Pensionstillæg i alt",{"$f":"SUM(G71:G84)","v":0},{"$f":"SUM(H71:H84)","v":0},0,0,0,0,0,0,0,0,0,0,{"$f":"SUM(S71:S83)","v":0},{"$f":"SUM(T71:T83)","v":0},0,0,0,0,0,0,0,0,0,0,0]
[null,82,null,null,null,"Egetbidrag til ATP",{"$f":"ROUND(G98/3,2)","v":0},{"$f":"ROUND(H98/3,2)","v":0},0,0,0,0,0,0,0,0,0,0,{"$f":"ROUND(S98/3,2)","v":0},{"$f":"ROUND(T98/3,2)","v":0},0,0,0,0,0,0,0,0,0,0,{"$f":"SUM(G86:R86)","v":0}]
[null,83,null,null,null,"AMB-grundlag",{"$f":"IF(G6=\"nej\",G85*-1)+SUM(G49:G64)-G86+G69","v":0},0,0,0,0,0,0,0,0,0,0,0,{"$f":"IF(S6=\"nej\",S85*-1)+SUM(S49:S64)-S86","v":0},0,0,0,0,0,0,0,0,0,0,0,{"$f":"SUM(G87:R87)","v":0}]
[null,84,null,null,null,"AM-bidrag",{"$f":"ROUND(G87*8%,0)","v":0},{"$f":"ROUND(H87*8%,0)","v":0},0,0,0,0,0,0,0,0,0,0,{"$f":"ROUND(S87*8%,0)","v":0},{"$f":"ROUND(T87*8%,0)","v":0},0,0,0,0,0,0,0,0,0,0,0]
[null,85,null,null,null,"A-indkomst",{"$f":"G87-G88","v":0},{"$f":"H87-H88","v":0},0,0,0,0,0,0,0,0,0,0,{"$f":"S87-S88","v":0},{"$f":"T87-T88","v":0},0,0,0,0,0,0,0,0,0,0,0]
[null,86,null,null,null,"Skattegrundlag",{"$f":"FLOOR(G89-G30,10)","v":0},{"$f":"FLOOR(H89-H30,10)","v":0},0,0,0,0,0,0,0,0,0,0,{"$f":"FLOOR(S89-S30,10)","v":0},{"$f":"FLOOR(T89-T30,10)","v":0},0,0,0,0,0,0,0,0,0,0]
[null,87,null,null,null,"Skat",{"$f":"ROUND(G90*G29/100,0)","v":0},0,0,0,0,0,0,0,0,0,0,0,0,0,0,0,0,0,0,0,0,0,0,0,0]
[null,88,null,null,null,"Feriegodtgørelsesgrundlag ",{"$f":"SUM(G49:G64)","v":0},{"$f":"SUM(H49:H64)","v":0},{"$f":"SUM(I49:I64)","v":0},{"$f":"SUM(J49:J64)","v":0},{"$f":"SUM(K49:K64)","v":0},{"$f":"SUM(L49:L64)","v":0},0,0,0,0,0,0,{"$f":"SUM(S49:S64)","v":0},{"$f":"SUM(T49:T64)","v":0},{"$f":"SUM(U49:U64)","v":0},{"$f":"SUM(V49:V64)","v":0},{"$f":"SUM(W49:W64)","v":0},{"$f":"SUM(X49:X64)","v":0},0,0,0,0,0,0,{"$f":"SUM(H92:P92)","v":0}]
[null,89,null,null,null,{"$f":"\"Feriegodtgørelsesgrundlag, juni-juli \"","v":"Feriegodtgørelsesgrundlag, juni-juli "},null,null,null,null,null,null,null,null,null,null,{"$f":"SUM(Q49:Q64)-Q39","v":0},{"$f":"SUM(R49:R64)-R39","v":0},null,null,null,null,null,null,null,null,null,null,{"$f":"SUM(AC49:AC64)-AC39","v":0},{"$f":"SUM(AD49:AD64)-AD39","v":0},{"$f":"SUM(G93:R93)","v":0}]
[null,90,null,null,null,"Egetbidrag til pensionskasse",{"$f":"G85","v":0},{"$f":"H85","v":0},0,0,0,0,0,0,0,0,0,0,{"$f":"S85","v":0},{"$f":"T85","v":0},0,0,0,0,0,0,0,0,0,0,0]
[null,91,null,null,null,"Arbejdsgiverbidrag til pensionskasse",{"$f":"G94*2","v":0},{"$f":"H94*2","v":0},0,0,0,0,0,0,0,0,0,0,{"$f":"S94*2","v":0},{"$f":"T94*2","v":0},0,0,0,0,0,0,0,0,0,0,0]
[null,92,null,null,null,"Arbejdsgiverbidrag til ATP",{"$f":"G98*2/3","v":0},{"$f":"H98*2/3","v":0},0,0,0,0,0,0,0,0,0,0,{"$f":"S98*2/3","v":0},{"$f":"T98*2/3","v":0},0,0,0,0,0,0,0,0,0,0,0]
[null,93,null,null,null,"Skolens samlede indbetaling til pensionskasse",{"$f":"G94+G95","v":0},{"$f":"H94+H95","v":0},0,0,0,0,0,0,0,0,0,0,{"$f":"S94+S95","v":0},{"$f":"T94+T95","v":0},0,0,0,0,0,0,0,0,0,0,0]
[null,{"$f":"B97+1","v":94},null,null,null,"Skolens samlede indbetaling til ATP",{"$f":"284/3*(((G11*G4)>=9/37)+((G11*G4)>=18/37)+((G11*G4)>=27/37))","v":0},0,0,0,0,{"$f":"297/3*(((L11*L4)>=9/37)+((L11*L4)>=18/37)+((L11*L4)>=27/37))","v":0},{"$f":"297/3*(((M11*M4)>=9/37)+((M11*M4)>=18/37)+((M11*M4)>=27/37))","v":0},0,0,0,0,0,0,0,0,0,0,0,0,0,0,0,0,0,0]
[null,95,null,null,null,"Indbetaling til Gruppeliv",{"$f":"G22","v":0},{"$f":"H22","v":0},0,0,0,0,0,0,0,0,0,0,{"$f":"S22","v":0},{"$f":"T22","v":0},0,0,0,0,0,0,0,0,0,0,0]
[null,96,null,null,null,"Løn til den ansattes disposition",{"$f":"IF(G6=\"nej\",G85*-1)+G70-(G91+G86+G88+G99)-G45-G46-G47","v":0},0,0,0,0,0,0,0,0,0,0,0,0,0,0,0,0,0,0,0,0,0,0,0,{"$f":"SUM(G100:R100)","v":0}]
[null,97,null,null,null,{"$f":"\"Feriepengeberegningsgrundlag, jan-dec \"&Aar","v":"Feriepengeberegningsgrundlag, jan-dec "},{"$f":"(SUM(G49:G64)+G85+G86)*(1-12/260*G24)","v":0},{"$f":"(SUM(H49:H64)+H85+H86)*(1-12/260*H24)","v":0},{"$f":"(SUM(I49:I64)+I85+I86)*(1-12/260*I24)","v":0},{"$f":"(SUM(J49:J64)+J85+J86)*(1-12/260*J24)","v":0},{"$f":"(SUM(K49:K64)+K85+K86)*(1-12/260*K24)","v":0},"Kalenderårets sum benyttes ved fratræden og særlige feriedage",null,null,null,null,null,null,{"$f":"(SUM(S49:S64)+S85+S86)*(1-12/260*S24)","v":0},{"$f":"(SUM(T49:T64)+T85+T86)*(1-12/260*T24)","v":0},{"$f":"(SUM(U49:U64)+U85+U86)*(1-12/260*U24)","v":0},{"$f":"(SUM(V49:V64)+V85+V86)*(1-12/260*V24)","v":0},{"$f":"(SUM(W49:W64)+W85+W86)*(1-12/260*W24)","v":0},"Kalenderårets sum benyttes ved fratræden og særlige feriedage",null,null,null,null,null,null,{"$f":"A101+SUM(G101:K101)","v":0}]
[null,{"$f":"B101+1","v":98},null,null,null,{"$f":"\"Feriepengeberegningsgrundlag, jan-jul \"&Aar","v":"Feriepengeberegningsgrundlag, jan-jul "},"Kalenderårets sum benyttes ved fratræden og særlige feriedage",null,null,null,null,{"$f":"(SUM(L$49:L$64)+L$85+L86)*(1-12/260*L$24)","v":0},{"$f":"(SUM(M$49:M$64)+M$85+M86)*(1-12/260*M$24)","v":0},0,0,0,0,0,"Kalenderårets sum benyttes ved fratræden og særlige feriedage",null,null,null,null,{"$f":"(SUM(X$49:X$64)+X$85+X86)*(1-12/260*X$24)","v":0},{"$f":"(SUM(Y$49:Y$64)+Y$85+Y86)*(1-12/260*Y$24)","v":0},0,0,0,0,0,0]
[null,{"$f":"B102+1","v":99},null,null,null,"BG-afhængige løndele",{"$f":"G49*$D49+G50*$D50+G51*$D51+G52*$D52+G53*$D53+G54*$D54+G55*$D55+G56*$D56+G57*$D57+G58*$D58+G60*$D60","v":0},0,0,0,0,0,0,0,0,0,0,0,0,0,0,0,0,0,0,0,0,0,0,0]
[null,{"$f":"B103+1","v":100},null,null,null,"BG-difference >=20%",{"$f":"IF(G11>0,IF(G11>G26,(G11-G26)/G26>=20%,(G11-G26)/G26<=-20%),\"\")","v":""},"","","","","","","","",{"$f":"IF(P11>0,IF(P11>P27,(P11-P27)/P27>=20%,(P11-P27)/P27<=-20%),\"\")","v":""},{"$f":"IF(Q11>0,IF(Q11>Q27,(Q11-Q27)/Q27>=20%,(Q11-Q27)/Q27<=-20%),\"\")","v":""},{"$f":"IF(R11>0,IF(R11>R27,(R11-R27)/R27>=20%,(R11-R27)/R27<=-20%),\"\")","v":""},{"$f":"IF(S11>0,IF(S11>S26,(S11-S26)/S26>=20%,(S11-S26)/S26<=-20%),\"\")","v":""},"","","","","","","","",{"$f":"IF(AB11>0,IF(AB11>AB27,(AB11-AB27)/AB27>=20%,(AB11-AB27)/AB27<=-20%),\"\")","v":""},{"$f":"IF(AC11>0,IF(AC11>AC27,(AC11-AC27)/AC27>=20%,(AC11-AC27)/AC27<=-20%),\"\")","v":""},{"$f":"IF(AD11>0,IF(AD11>AD27,(AD11-AD27)/AD27>=20%,(AD11-AD27)/AD27<=-20%),\"\")","v":""}]
[]
[]
[]
[]
[]
[]
[]
[]
[]
[]
[]
[]
[]
[]
[]
[]
[]
[]
[]
[]
[]
[]
[]
[]
[]
[]
[]
[]
[]
[]
[]
[]
[]
[]
[]
[]
[]
[]
[]
[]
[]
[]
[]
[]
[]
[]
[]
[]
[]
[null,{"$f":"B153+1","v":1}]
[null,2,null,null,null,{"$f":"IF(ISNUMBER(G1),\"Skalatrinsløn\",\"HK-løn\")","v":"HK-løn"},{"$f":"\"= \"&TEXT(ROUND(VLOOKUP(G12,Skalalontabel12,G10,0)*G9,0),\"#.000\")&\" / 12 * \"&TEXT(G11,\"0,0000\")&\" * \"&TEXT(G$4,\"#0/#0\")&\" =\"","v":{"$error":"#N/A"}},{"$error":"#N/A"},{"$error":"#N/A"},{"$error":"#N/A"},{"$error":"#N/A"},{"$error":"#N/A"},{"$error":"#N/A"},{"$error":"#N/A"},{"$error":"#N/A"},{"$error":"#N/A"},{"$error":"#N/A"},{"$error":"#N/A"},{"$error":"#N/A"},{"$error":"#N/A"},{"$error":"#N/A"},{"$error":"#N/A"},{"$error":"#N/A"},{"$error":"#N/A"},{"$error":"#N/A"},{"$error":"#N/A"},{"$error":"#N/A"},{"$error":"#N/A"},{"$error":"#N/A"},{"$error":"#N/A"}]
[null,3,null,null,null,"Fast løn",{"$f":"\"= \"&TEXT(G13,\"#.000,00\")&\" / 12 \"&IF($D50>0,\" * \"&TEXT(G$11,\"0,0000\"),\"\")&IF($E50>0,\" * \"&G$9,\"\")&\" * \"&TEXT(G$4,\"#0/#0\")&\" =\"","v":"= 000,00 / 12  * 0,0000 * 1,155339 * 1/1 ="},"= 000,00 / 12  * 0,0000 * 1,155339 * 1/1 =","= 000,00 / 12  * 0,0000 * 1,159197 * 1/1 =","= 000,00 / 12  * 0,0000 * 1,159197 * 1/1 =","= 000,00 / 12  * 0,0000 * 1,159197 * 1/1 =","= 000,00 / 12  * 0,0000 * 1,159197 * 1/1 =","= 000,00 / 12  * 0,0000 * 1,159197 * 1/1 =","= 000,00 / 12  * 0,0000 * 1,159197 * 1/1 =","= 000,00 / 12  * 0,0000 *  * 1/1 =","= 000,00 / 12  * 0,0000 * 0 * 1/1 =","= 000,00 / 12  * 0,0000 * 0 * 1/1 =","= 000,00 / 12  * 0,0000 * 0 * 1/1 =","= 000,00 / 12  * 0,0000 * 1,155339 * 1/1 =","= 000,00 / 12  * 0,0000 * 1,155339 * 1/1 =","= 000,00 / 12  * 0,0000 * 1,159197 * 1/1 =","= 000,00 / 12  * 0,0000 * 1,159197 * 1/1 =","= 000,00 / 12  * 0,0000 * 1,159197 * 1/1 =","= 000,00 / 12  * 0,0000 * 1,159197 * 1/1 =","= 000,00 / 12  * 0,0000 * 1,159197 * 1/1 =","= 000,00 / 12  * 0,0000 * 1,159197 * 1/1 =","= 000,00 / 12  * 0,0000 * 0 * 1/1 =","= 000,00 / 12  * 0,0000 * 0 * 1/1 =","= 000,00 / 12  * 0,0000 * 0 * 1/1 =","= 000,00 / 12  * 0,0000 * 0 * 1/1 ="]
[null,4,null,null,null,"Sousdheftillæg","= 000,00 / 12  * 1,155339 * 1/1 =","= 000,00 / 12  * 1,155339 * 1/1 =","= 000,00 / 12  * 1,159197 * 1/1 =","= 000,00 / 12  * 1,159197 * 1/1 =","= 000,00 / 12  * 1,159197 * 1/1 =","= 000,00 / 12  * 1,159197 * 1/1 =","= 000,00 / 12  * 1,159197 * 1/1 =","= 000,00 / 12  * 1,159197 * 1/1 =","= 000,00 / 12  *  * 1/1 =","= 000,00 / 12  * 0 * 1/1 =","= 000,00 / 12  * 0 * 1/1 =","= 000,00 / 12  * 0 * 1/1 =","= 000,00 / 12  * 1,155339 * 1/1 =","= 000,00 / 12  * 1,155339 * 1/1 =","= 000,00 / 12  * 1,159197 * 1/1 =","= 000,00 / 12  * 1,159197 * 1/1 =","= 000,00 / 12  * 1,159197 * 1/1 =","= 000,00 / 12  * 1,159197 * 1/1 =","= 000,00 / 12  * 1,159197 * 1/1 =","= 000,00 / 12  * 1,159197 * 1/1 =","= 000,00 / 12  * 0 * 1/1 =","= 000,00 / 12  * 0 * 1/1 =","= 000,00 / 12  * 0 * 1/1 =","= 000,00 / 12  * 0 * 1/1 ="]
[null,5,null,null,null,"Funktionstillæg 1",{"$f":"\"= \"&TEXT(G15,\"#.000,00\")&\" / 12 \"&IF($D52>0,\" * \"&TEXT(G$11,\"0,0000\"),\"\")&IF($E52>0,\" * \"&G$9,\"\")&\" * \"&TEXT(G$4,\"#0/#0\")&\" =\"","v":"= 000,00 / 12  * 1,155339 * 1/1 ="},{"$f":"\"= \"&TEXT(H15,\"#.000,00\")&\" / 12 \"&IF($D52>0,\" * \"&TEXT(H$11,\"0,0000\"),\"\")&IF($E158>0,\" * \"&H$9,\"\")&\" * \"&TEXT(H$4,\"#0/#0\")&\" =\"","v":"= 000,00 / 12  * 1/1 ="},"= 000,00 / 12  * 1/1 =","= 000,00 / 12  * 1/1 =","= 000,00 / 12  * 1/1 =","= 000,00 / 12  * 1/1 =","= 000,00 / 12  * 1/1 =","= 000,00 / 12  * 1/1 =","= 000,00 / 12  * 1/1 =","= 000,00 / 12  * 1/1 =","= 000,00 / 12  * 1/1 =","= 000,00 / 12  * 1/1 =","= 000,00 / 12  * 1/1 =","= 000,00 / 12  * 1/1 =","= 000,00 / 12  * 1/1 =","= 000,00 / 12  * 1/1 =","= 000,00 / 12  * 1/1 =","= 000,00 / 12  * 1/1 =","= 000,00 / 12  * 1/1 =","= 000,00 / 12  * 1/1 =","= 000,00 / 12  * 1/1 =","= 000,00 / 12  * 1/1 =","= 000,00 / 12  * 1/1 =","= 000,00 / 12  * 1/1 ="]
[null,6,null,null,null,"Funktionstillæg 2",{"$f":"\"= \"&TEXT(G16,\"#.000,00\")&\" / 12 \"&IF($D53>0,\" * \"&TEXT(G$11,\"0,0000\"),\"\")&IF($E53>0,\" * \"&G$9,\"\")&\" * \"&TEXT(G$4,\"#0/#0\")&\" =\"","v":"= 000,00 / 12  * 1,155339 * 1/1 ="},"= 000,00 / 12  * 1,155339 * 1/1 =","= 000,00 / 12  * 1,159197 * 1/1 =","= 000,00 / 12  * 1,159197 * 1/1 =","= 000,00 / 12  * 1,159197 * 1/1 =","= 000,00 / 12  * 1,159197 * 1/1 =","= 000,00 / 12  * 1,159197 * 1/1 =","= 000,00 / 12  * 1,159197 * 1/1 =","= 000,00 / 12  *  * 1/1 =","= 000,00 / 12  * 0 * 1/1 =","= 000,00 / 12  * 0 * 1/1 =","= 000,00 / 12  * 0 * 1/1 =","= 000,00 / 12  * 1,155339 * 1/1 =","= 000,00 / 12  * 1,155339 * 1/1 =","= 000,00 / 12  * 1,159197 * 1/1 =","= 000,00 / 12  * 1,159197 * 1/1 =","= 000,00 / 12  * 1,159197 * 1/1 =","= 000,00 / 12  * 1,159197 * 1/1 =","= 000,00 / 12  * 1,159197 * 1/1 =","= 000,00 / 12  * 1,159197 * 1/1 =","= 000,00 / 12  * 0 * 1/1 =","= 000,00 / 12  * 0 * 1/1 =","= 000,00 / 12  * 0 * 1/1 =","= 000,00 / 12  * 0 * 1/1 ="]
[null,7,null,null,null,"Funktionstillæg 3","= 000,00 / 12  * 1,155339 * 1/1 =","= 000,00 / 12  * 1,155339 * 1/1 =","= 000,00 / 12  * 1,159197 * 1/1 =","= 000,00 / 12  * 1,159197 * 1/1 =","= 000,00 / 12  * 1,159197 * 1/1 =","= 000,00 / 12  * 1,159197 * 1/1 =","= 000,00 / 12  * 1,159197 * 1/1 =","= 000,00 / 12  * 1,159197 * 1/1 =","= 000,00 / 12  *  * 1/1 =","= 000,00 / 12  * 0 * 1/1 =","= 000,00 / 12  * 0 * 1/1 =","= 000,00 / 12  * 0 * 1/1 =","= 000,00 / 12  * 1,155339 * 1/1 =","= 000,00 / 12  * 1,155339 * 1/1 =","= 000,00 / 12  * 1,159197 * 1/1 =","= 000,00 / 12  * 1,159197 * 1/1 =","= 000,00 / 12  * 1,159197 * 1/1 =","= 000,00 / 12  * 1,159197 * 1/1 =","= 000,00 / 12  * 1,159197 * 1/1 =","= 000,00 / 12  * 1,159197 * 1/1 =","= 000,00 / 12  * 0 * 1/1 =","= 000,00 / 12  * 0 * 1/1 =","= 000,00 / 12  * 0 * 1/1 =","= 000,00 / 12  * 0 * 1/1 ="]
[null,8,null,null,null,"Kvalifikationstillæg 1","= 000,00 / 12  * 0,0000 * 1,155339 * 1/1 =","= 000,00 / 12  * 0,0000 * 1,155339 * 1/1 =","= 000,00 / 12  * 0,0000 * 1,159197 * 1/1 =","= 000,00 / 12  * 0,0000 * 1,159197 * 1/1 =","= 000,00 / 12  * 0,0000 * 1,159197 * 1/1 =","= 000,00 / 12  * 0,0000 * 1,159197 * 1/1 =","= 000,00 / 12  * 0,0000 * 1,159197 * 1/1 =","= 000,00 / 12  * 0,0000 * 1,159197 * 1/1 =","= 000,00 / 12  * 0,0000 *  * 1/1 =","= 000,00 / 12  * 0,0000 * 0 * 1/1 =","= 000,00 / 12  * 0,0000 * 0 * 1/1 =","= 000,00 / 12  * 0,0000 * 0 * 1/1 =","= 000,00 / 12  * 0,0000 * 1,155339 * 1/1 =","= 000,00 / 12  * 0,0000 * 1,155339 * 1/1 =","= 000,00 / 12  * 0,0000 * 1,159197 * 1/1 =","= 000,00 / 12  * 0,0000 * 1,159197 * 1/1 =","= 000,00 / 12  * 0,0000 * 1,159197 * 1/1 =","= 000,00 / 12  * 0,0000 * 1,159197 * 1/1 =","= 000,00 / 12  * 0,0000 * 1,159197 * 1/1 =","= 000,00 / 12  * 0,0000 * 1,159197 * 1/1 =","= 000,00 / 12  * 0,0000 * 0 * 1/1 =","= 000,00 / 12  * 0,0000 * 0 * 1/1 =","= 000,00 / 12  * 0,0000 * 0 * 1/1 =","= 000,00 / 12  * 0,0000 * 0 * 1/1 ="]
[null,9,null,null,null,"Kvalifikationstillæg 2","= 000,00 / 12  * 0,0000 * 1,155339 * 1/1 =","= 000,00 / 12  * 0,0000 * 1,155339 * 1/1 =","= 000,00 / 12  * 0,0000 * 1,159197 * 1/1 =","= 000,00 / 12  * 0,0000 * 1,159197 * 1/1 =","= 000,00 / 12  * 0,0000 * 1,159197 * 1/1 =","= 000,00 / 12  * 0,0000 * 1,159197 * 1/1 =","= 000,00 / 12  * 0,0000 * 1,159197 * 1/1 =","= 000,00 / 12  * 0,0000 * 1,159197 * 1/1 =","= 000,00 / 12  * 0,0000 *  * 1/1 =","= 000,00 / 12  * 0,0000 * 0 * 1/1 =","= 000,00 / 12  * 0,0000 * 0 * 1/1 =","= 000,00 / 12  * 0,0000 * 0 * 1/1 =","= 000,00 / 12  * 0,0000 * 1,155339 * 1/1 =","= 000,00 / 12  * 0,0000 * 1,155339 * 1/1 =","= 000,00 / 12  * 0,0000 * 1,159197 * 1/1 =","= 000,00 / 12  * 0,0000 * 1,159197 * 1/1 =","= 000,00 / 12  * 0,0000 * 1,159197 * 1/1 =","= 000,00 / 12  * 0,0000 * 1,159197 * 1/1 =","= 000,00 / 12  * 0,0000 * 1,159197 * 1/1 =","= 000,00 / 12  * 0,0000 * 1,159197 * 1/1 =","= 000,00 / 12  * 0,0000 * 0 * 1/1 =","= 000,00 / 12  * 0,0000 * 0 * 1/1 =","= 000,00 / 12  * 0,0000 * 0 * 1/1 =","= 000,00 / 12  * 0,0000 * 0 * 1/1 ="]
[null,10,null,null,null,"Kvalifikationstillæg 3","= 000,00 / 12  * 0,0000 * 1,155339 * 1/1 =","= 000,00 / 12  * 0,0000 * 1,155339 * 1/1 =","= 000,00 / 12  * 0,0000 * 1,159197 * 1/1 =","= 000,00 / 12  * 0,0000 * 1,159197 * 1/1 =","= 000,00 / 12  * 0,0000 * 1,159197 * 1/1 =","= 000,00 / 12  * 0,0000 * 1,159197 * 1/1 =","= 000,00 / 12  * 0,0000 * 1,159197 * 1/1 =","= 000,00 / 12  * 0,0000 * 1,159197 * 1/1 =","= 000,00 / 12  * 0,0000 *  * 1/1 =","= 000,00 / 12  * 0,0000 * 0 * 1/1 =","= 000,00 / 12  * 0,0000 * 0 * 1/1 =","= 000,00 / 12  * 0,0000 * 0 * 1/1 =","= 000,00 / 12  * 0,0000 * 1,155339 * 1/1 =","= 000,00 / 12  * 0,0000 * 1,155339 * 1/1 =","= 000,00 / 12  * 0,0000 * 1,159197 * 1/1 =","= 000,00 / 12  * 0,0000 * 1,159197 * 1/1 =","= 000,00 / 12  * 0,0000 * 1,159197 * 1/1 =","= 000,00 / 12  * 0,0000 * 1,159197 * 1/1 =","= 000,00 / 12  * 0,0000 * 1,159197 * 1/1 =","= 000,00 / 12  * 0,0000 * 1,159197 * 1/1 =","= 000,00 / 12  * 0,0000 * 0 * 1/1 =","= 000,00 / 12  * 0,0000 * 0 * 1/1 =","= 000,00 / 12  * 0,0000 * 0 * 1/1 =","= 000,00 / 12  * 0,0000 * 0 * 1/1 ="]
[null,11,null,null,null,"Udligningstillæg","= 000,00 / 12  * 0,0000 * 1,155339 * 1/1 =","= 000,00 / 12  * 0,0000 * 1,155339 * 1/1 =","= 000,00 / 12  * 0,0000 * 1,159197 * 1/1 =","= 000,00 / 12  * 0,0000 * 1,159197 * 1/1 =","= 000,00 / 12  * 0,0000 * 1,159197 * 1/1 =","= 000,00 / 12  * 0,0000 * 1,159197 * 1/1 =","= 000,00 / 12  * 0,0000 * 1,159197 * 1/1 =","= 000,00 / 12  * 0,0000 * 1,159197 * 1/1 =","= 000,00 / 12  * 0,0000 *  * 1/1 =","= 000,00 / 12  * 0,0000 * 0 * 1/1 =","= 000,00 / 12  * 0,0000 * 0 * 1/1 =","= 000,00 / 12  * 0,0000 * 0 * 1/1 =","= 000,00 / 12  * 0,0000 * 1,155339 * 1/1 =","= 000,00 / 12  * 0,0000 * 1,155339 * 1/1 =","= 000,00 / 12  * 0,0000 * 1,159197 * 1/1 =","= 000,00 / 12  * 0,0000 * 1,159197 * 1/1 =","= 000,00 / 12  * 0,0000 * 1,159197 * 1/1 =","= 000,00 / 12  * 0,0000 * 1,159197 * 1/1 =","= 000,00 / 12  * 0,0000 * 1,159197 * 1/1 =","= 000,00 / 12  * 0,0000 * 1,159197 * 1/1 =","= 000,00 / 12  * 0,0000 * 0 * 1/1 =","= 000,00 / 12  * 0,0000 * 0 * 1/1 =","= 000,00 / 12  * 0,0000 * 0 * 1/1 =","= 000,00 / 12  * 0,0000 * 0 * 1/1 ="]
[null,12,null,null,null,"Gruppelivstillæg",{"$f":"\"= \"&TEXT(G22,\"#.##0,00\")&\" * \"&TEXT(G$4,\"#0/#0\")&\" =\"","v":"= 0,00 * 1/1 ="},{"$f":"\"= \"&TEXT(H22,\"#.##0,00\")&\" * \"&TEXT(H$4,\"#0/#0\")&\" =\"","v":"= 0,00 * 1/1 ="},"= 0,00 * 1/1 =","= 0,00 * 1/1 =","= 0,00 * 1/1 =","= 0,00 * 1/1 =","= 0,00 * 1/1 =","= 0,00 * 1/1 =","= 0,00 * 1/1 =","= 0,00 * 1/1 =","= 0,00 * 1/1 =","= 0,00 * 1/1 =",{"$f":"\"= \"&TEXT(S22,\"#.##0,00\")&\" * \"&TEXT(S$4,\"#0/#0\")&\" =\"","v":"= 0,00 * 1/1 ="},{"$f":"\"= \"&TEXT(T22,\"#.##0,00\")&\" * \"&TEXT(T$4,\"#0/#0\")&\" =\"","v":"= 0,00 * 1/1 ="},"= 0,00 * 1/1 =","= 0,00 * 1/1 =","= 0,00 * 1/1 =","= 0,00 * 1/1 =","= 0,00 * 1/1 =","= 0,00 * 1/1 =","= 0,00 * 1/1 =","= 0,00 * 1/1 =","= 0,00 * 1/1 =","= 0,00 * 1/1 ="]
[null,13,null,null,null,"Lokalaftalt ulempegodtgørelse",{"$f":"\"= \"&TEXT(G23,\"#,00\")&IF($D60>0,\" * \"&TEXT(G$11,\"0,0000\"),\"\")&IF($E60>0,\" * \"&G$9,\"\")&\" * \"&TEXT(G$4,\"#0/#0\")&\" =\"","v":"= ,00 * 1,155339 * 1/1 ="},"= ,00 * 1,155339 * 1/1 =","= ,00 * 1,159197 * 1/1 =","= ,00 * 1,159197 * 1/1 =","= ,00 * 1,159197 * 1/1 =","= ,00 * 1,159197 * 1/1 =","= ,00 * 1,159197 * 1/1 =","= ,00 * 1,159197 * 1/1 =","= ,00 *  * 1/1 =","= ,00 * 0 * 1/1 =","= ,00 * 0 * 1/1 =","= ,00 * 0 * 1/1 =","= ,00 * 1,155339 * 1/1 =","= ,00 * 1,155339 * 1/1 =","= ,00 * 1,159197 * 1/1 =","= ,00 * 1,159197 * 1/1 =","= ,00 * 1,159197 * 1/1 =","= ,00 * 1,159197 * 1/1 =","= ,00 * 1,159197 * 1/1 =","= ,00 * 1,159197 * 1/1 =","= ,00 * 0 * 1/1 =","= ,00 * 0 * 1/1 =","= ,00 * 0 * 1/1 =","= ,00 * 0 * 1/1 ="]
[null,14,null,null,null,"Lønfradrag for ikke optjent ferie mv.",{"$f":"\"= - \"&MAX(0,MIN(G24,G25*1))+G28&\" * \"&IF(G8=\"JA\",\"4,62%\",\"4,8%\")&\" * SUM(Lin. 1 - Lin 12)\"&\" * \"&TEXT(G$4,\"#0/#0\")&\" =\"","v":"= - 0 * 4,62% * SUM(Lin. 1 - Lin 12) * 1/1 ="},{"$f":"\"= - \"&MAX(0,MIN(H24,H25*1))+H28&\" * \"&IF(H8=\"JA\",\"4,62%\",\"4,8%\")&\" * SUM(Lin. 1 - Lin 12) =\"","v":"= - 0 * 4,62% * SUM(Lin. 1 - Lin 12) ="},"= - 0 * 4,62% * SUM(Lin. 1 - Lin 12) =","= - 0 * 4,62% * SUM(Lin. 1 - Lin 12) =","= - 0 * 4,62% * SUM(Lin. 1 - Lin 12) =","= - 0 * 4,62% * SUM(Lin. 1 - Lin 12) =","= - 0 * 4,62% * SUM(Lin. 1 - Lin 12) =","= - 0 * 4,62% * SUM(Lin. 1 - Lin 12) =","= - 0 * 4,62% * SUM(Lin. 1 - Lin 12) =","= - 0 * 4,62% * SUM(Lin. 1 - Lin 12) =","= - 0 * 4,62% * SUM(Lin. 1 - Lin 12) =","= - 0 * 4,62% * SUM(Lin. 1 - Lin 12) =",{"$f":"\"= - \"&MAX(0,MIN(S24,S25*1))+S28&\" * \"&IF(S8=\"JA\",\"4,62%\",\"4,8%\")&\" * SUM(Lin. 1 - Lin 12)\"&\" * \"&TEXT(S$4,\"#0/#0\")&\" =\"","v":"= - 0 * 4,62% * SUM(Lin. 1 - Lin 12) * 1/1 ="},{"$f":"\"= - \"&MAX(0,MIN(T24,T25*1))+T28&\" * \"&IF(T8=\"JA\",\"4,62%\",\"4,8%\")&\" * SUM(Lin. 1 - Lin 12) =\"","v":"= - 0 * 4,62% * SUM(Lin. 1 - Lin 12) ="},"= - 0 * 4,62% * SUM(Lin. 1 - Lin 12) =","= - 0 * 4,62% * SUM(Lin. 1 - Lin 12) =","= - 0 * 4,62% * SUM(Lin. 1 - Lin 12) =","= - 0 * 4,62% * SUM(Lin. 1 - Lin 12) =","= - 0 * 4,62% * SUM(Lin. 1 - Lin 12) =","= - 0 * 4,62% * SUM(Lin. 1 - Lin 12) =","= - 0 * 4,62% * SUM(Lin. 1 - Lin 12) =","= - 0 * 4,62% * SUM(Lin. 1 - Lin 12) =","= - 0 * 4,62% * SUM(Lin. 1 - Lin 12) =","= - 0 * 4,62% * SUM(Lin. 1 - Lin 12) ="]
[null,16,null,null,null,"Feriedifference. Pensionsgivende",null,{"$f":"\"= \"&IF(LEFT(H8)=\"N\",\"( \"&H26&\" - \"&H11&\") * 4,8% * \"&H103&\" * \"&MAX((H24-H25),0)*H104,\"( \"&H26&\" - \"&H11&\") * 4,62% * \"&H103&\" * \"&MAX((H24-H25),0))&\" =\"","v":"= (  - 0) * 4,62% * 0 * 0 ="},"= (  - 0) * 4,62% * 0 * 5 =","= (  - 0) * 4,62% * 0 * 0 =","= (  - 0) * 4,62% * 0 * 0 =","= (  - 0) * 4,62% * 0 * 0 =","= (  - 0) * 4,62% * 0 * 5 =","= (  - 0) * 4,62% * 0 * 0 =","= (  - 0) * 4,62% * 0 * 0 =",{"$f":"\"= \"&IF(LEFT(P8)=\"N\",\"( \"&ROUND(P27,4)&\" - \"&P11&\") * 4,8% * \"&P103&\" * \"&MAX((P24-P25),0)*P104,\"( \"&ROUND(P27,4)&\" - \"&P11&\") * 4,62% * \"&P103&\" * \"&MAX((P24-P25),0))&\" =\"","v":"= ( 0 - 0) * 4,62% * 0 * 0 ="},{"$f":"\"= \"&IF(LEFT(Q8)=\"N\",\"( \"&ROUND(Q27,4)&\" - \"&Q11&\") * 4,8% * \"&Q103&\" * \"&MAX((Q24-Q25),0)*Q104,\"( \"&ROUND(Q27,4)&\" - \"&Q11&\") * 4,62% * \"&Q103&\" * \"&MAX((Q24-Q25),0))&\" =\"","v":"= ( 0 - 0) * 4,62% * 0 * 0 ="},{"$f":"\"= \"&IF(LEFT(R8)=\"N\",\"( \"&ROUND(R27,4)&\" - \"&R11&\") * 4,8% * \"&R103&\" * \"&MAX((R24-R25),0)*R104,\"( \"&ROUND(R27,4)&\" - \"&R11&\") * 4,62% * \"&R103&\" * \"&MAX((R24-R25),0))&\" =\"","v":"= ( 0 - 0) * 4,62% * 0 * 15 ="},null,{"$f":"\"= \"&IF(LEFT(T8)=\"N\",\"( \"&T26&\" - \"&T11&\") * 4,8% * \"&T103&\" * \"&MAX((T24-T25),0)*T104,\"( \"&T26&\" - \"&T11&\") * 4,62% * \"&T103&\" * \"&MAX((T24-T25),0))&\" =\"","v":"= ( 0 - 0) * 4,62% * 0 * 0 ="},"= ( 0 - 0) * 4,62% * 0 * 5 =","= ( 0 - 0) * 4,62% * 0 * 0 =","= ( 0 - 0) * 4,62% * 0 * 0 =","= ( 0 - 0) * 4,62% * 0 * 0 =","= ( 0 - 0) * 4,62% * 0 * 5 =","= ( 0 - 0) * 4,62% * 0 * 0 =","= ( 0 - 0) * 4,62% * 0 * 0 =",{"$f":"\"= \"&IF(LEFT(AB8)=\"N\",\"( \"&ROUND(AB27,4)&\" - \"&AB11&\") * 4,8% * \"&AB103&\" * \"&MAX((AB24-AB25),0)*AB104,\"( \"&ROUND(AB27,4)&\" - \"&AB11&\") * 4,62% * \"&AB103&\" * \"&MAX((AB24-AB25),0))&\" =\"","v":"= ( 0 - 0) * 4,62% * 0 * 0 ="},{"$f":"\"= \"&IF(LEFT(AC8)=\"N\",\"( \"&ROUND(AC27,4)&\" - \"&AC11&\") * 4,8% * \"&AC103&\" * \"&MAX((AC24-AC25),0)*AC104,\"( \"&ROUND(AC27,4)&\" - \"&AC11&\") * 4,62% * \"&AC103&\" * \"&MAX((AC24-AC25),0))&\" =\"","v":"= ( 0 - 0) * 4,62% * 0 * 0 ="},{"$f":"\"= \"&IF(LEFT(AD8)=\"N\",\"( \"&ROUND(AD27,4)&\" - \"&AD11&\") * 4,8% * \"&AD103&\" * \"&MAX((AD24-AD25),0)*AD104,\"( \"&ROUND(AD27,4)&\" - \"&AD11&\") * 4,62% * \"&AD103&\" * \"&MAX((AD24-AD25),0))&\" =\"","v":"= ( 0 - 0) * 4,62% * 0 * 15 ="}]
[null,17,null,null,null,"Feriedifferende. Ikke pensionsgivende"]
[null,18,null,null,null,"Engangsudbetalinger iflg. specifikation",{"$f":"SUBSTITUTE(TRIM(\"=SUM(\"&MAX(G34-8000,0)&\" \"&G35&\" \"&G36&\" \"&G37&\" \"&G38&\" \"&G40&\" \"&G41&\" \"&G42&\" \"&G43&\" \"&G44&\")\"),\" \",\"; \")&\" =\"","v":"=SUM(0; ) ="},{"$f":"SUBSTITUTE(TRIM(\"=SUM(\"&MAX(H34-8000,0)&\" \"&H35&\" \"&H36&\" \"&H37&\" \"&H38&\" \"&H40&\" \"&H41&\" \"&H42&\" \"&H43&\" \"&H44&\")\"),\" \",\"; \")&\" =\"","v":"=SUM(0; ) ="},"=SUM(0; ) =","=SUM(0; ) =","=SUM(0; ) =","=SUM(0; ) =","=SUM(0; ) =","=SUM(0; ) =","=SUM(0; ) =","=SUM(0; ) =","=SUM(0; ) =","=SUM(0; ) =",{"$f":"SUBSTITUTE(TRIM(\"=SUM(\"&MAX(S34-8000,0)&\" \"&S35&\" \"&S36&\" \"&S37&\" \"&S38&\" \"&S40&\" \"&S41&\" \"&S42&\" \"&S43&\" \"&S44&\")\"),\" \",\"; \")&\" =\"","v":"=SUM(0; 0; 0; 0; 0; 0; 0; 0; 0; 0) ="},{"$f":"SUBSTITUTE(TRIM(\"=SUM(\"&MAX(T34-8000,0)&\" \"&T35&\" \"&T36&\" \"&T37&\" \"&T38&\" \"&T40&\" \"&T41&\" \"&T42&\" \"&T43&\" \"&T44&\")\"),\" \",\"; \")&\" =\"","v":"=SUM(0; 0; 0; 0; 0; 0; 0; 0; 0; 0) ="},"=SUM(0; 0; 0; 0; 0; 0; 0; 0; 0; 0) =","=SUM(0; 0; 0; 0; 0; 0; 0; 0; 0; 0) =","=SUM(0; 0; 0; 0; 0; 0; 0; 0; 0; 0) =","=SUM(0; 0; 0; 0; 0; 0; 0; 0; 0; 0) =","=SUM(0; 0; 0; 0; 0; 0; 0; 0; 0; 0) =","=SUM(0; 0; 0; 0; 0; 0; 0; 0; 0; 0) =","=SUM(0; 0; 0; 0; 0; 0; 0; 0; 0; 0) =","=SUM(0; 0; 0; 0; 0; 0; 0; 0; 0; 0) =","=SUM(0; 0; 0; 0; 0; 0; 0; 0; 0; 0) =","=SUM(0; 0; 0; 0; 0; 0; 0; 0; 0; 0) ="]
[null,19,null,null,null,"Skattefri engangsudbetalinger iflg. spec.",{"$f":"SUBSTITUTE(TRIM(\"=SUM(\"&G31&\" * \"&$D31&\" \"&G32&\" * \"&$D32&\" \"&G33&\" \"&MIN(G34,8000)&\")\"),\" \",\"; \")&\" =\"","v":"=SUM(; *; 2,19; *; 3,73; 8000) ="},{"$f":"SUBSTITUTE(TRIM(\"=SUM(\"&H31&\" * \"&$D31&\" \"&H32&\" * \"&$D32&\" \"&H33&\" \"&MIN(H34,8000)&\")\"),\" \",\"; \")&\" =\"","v":"=SUM(; *; 2,19; *; 3,73; 8000) ="},{"$f":"SUBSTITUTE(TRIM(\"=SUM(\"&I31&\" * \"&$D31&\" \"&I32&\" * \"&$D32&\" \"&I33&\" \"&MIN(I34,8000)&\")\"),\" \",\"; \")&\" =\"","v":"=SUM(; *; 2,19; *; 3,73; 8000) ="},{"$f":"SUBSTITUTE(TRIM(\"=SUM(\"&J31&\" * \"&$D31&\" \"&J32&\" * \"&$D32&\" \"&J33&\" \"&MIN(J34,8000)&\")\"),\" \",\"; \")&\" =\"","v":"=SUM(; *; 2,19; *; 3,73; 8000) ="},{"$f":"SUBSTITUTE(TRIM(\"=SUM(\"&K31&\" * \"&$D31&\" \"&K32&\" * \"&$D32&\" \"&K33&\" \"&MIN(K34,8000)&\")\"),\" \",\"; \")&\" =\"","v":"=SUM(; *; 2,19; *; 3,73; 8000) ="},{"$f":"SUBSTITUTE(TRIM(\"=SUM(\"&L31&\" * \"&$E31&\" \"&L32&\" * \"&$E32&\" \"&L33&\" \"&MIN(L34,8000)&\")\"),\" \",\"; \")&\" =\"","v":"=SUM(; *; *; 8000) ="},{"$f":"SUBSTITUTE(TRIM(\"=SUM(\"&M31&\" * \"&$E31&\" \"&M32&\" * \"&$E32&\" \"&M33&\" \"&MIN(M34,8000)&\")\"),\" \",\"; \")&\" =\"","v":"=SUM(; *; *; 8000) ="},"=SUM(; *; *; 8000) =","=SUM(; *; *; 8000) =","=SUM(; *; *; 8000) =","=SUM(; *; *; 8000) =","=SUM(; *; *; 8000) =",{"$f":"SUBSTITUTE(TRIM(\"=SUM(\"&S31&\" * \"&$D31&\" \"&S32&\" * \"&$D32&\" \"&S33&\" \"&MIN(S34,8000)&\")\"),\" \",\"; \")&\" =\"","v":"=SUM(0; *; 2,19; 0; *; 3,73; 0; 0) ="},{"$f":"SUBSTITUTE(TRIM(\"=SUM(\"&T31&\" * \"&$D31&\" \"&T32&\" * \"&$D32&\" \"&T33&\" \"&MIN(T34,8000)&\")\"),\" \",\"; \")&\" =\"","v":"=SUM(0; *; 2,19; 0; *; 3,73; 0; 0) ="},{"$f":"SUBSTITUTE(TRIM(\"=SUM(\"&U31&\" * \"&$D31&\" \"&U32&\" * \"&$D32&\" \"&U33&\" \"&MIN(U34,8000)&\")\"),\" \",\"; \")&\" =\"","v":"=SUM(0; *; 2,19; 0; *; 3,73; 0; 0) ="},{"$f":"SUBSTITUTE(TRIM(\"=SUM(\"&V31&\" * \"&$D31&\" \"&V32&\" * \"&$D32&\" \"&V33&\" \"&MIN(V34,8000)&\")\"),\" \",\"; \")&\" =\"","v":"=SUM(0; *; 2,19; 0; *; 3,73; 0; 0) ="},{"$f":"SUBSTITUTE(TRIM(\"=SUM(\"&W31&\" * \"&$D31&\" \"&W32&\" * \"&$D32&\" \"&W33&\" \"&MIN(W34,8000)&\")\"),\" \",\"; \")&\" =\"","v":"=SUM(0; *; 2,19; 0; *; 3,73; 0; 0) ="},{"$f":"SUBSTITUTE(TRIM(\"=SUM(\"&X31&\" * \"&$E31&\" \"&X32&\" * \"&$E32&\" \"&X33&\" \"&MIN(X34,8000)&\")\"),\" \",\"; \")&\" =\"","v":"=SUM(0; *; 0; *; 0; 0) ="},{"$f":"SUBSTITUTE(TRIM(\"=SUM(\"&Y31&\" * \"&$E31&\" \"&Y32&\" * \"&$E32&\" \"&Y33&\" \"&MIN(Y34,8000)&\")\"),\" \",\"; \")&\" =\"","v":"=SUM(0; *; 0; *; 0; 0) ="},"=SUM(0; *; 0; *; 0; 0) =","=SUM(0; *; 0; *; 0; 0) =","=SUM(0; *; 0; *; 0; 0) =","=SUM(0; *; 0; *; 0; 0) =","=SUM(0; *; 0; *; 0; 0) ="]
[null,20,null,null,null,"Bruttoløn (ekskl. pensionstillæg og ATP)"]
[null,21,null,null,null,"Pensionstillæg skalatrinsløn eller HK-løn",{"$f":"\"= \"&ROUND(VLOOKUP(G12,Skalalontabel12,7,0)*G$9,0)&\" / 12  * \"&TEXT(G$11,\"0,0000\")&\" * \"&G5&\"% / 3 =\"","v":{"$error":"#N/A"}},{"$error":"#N/A"},{"$error":"#N/A"},{"$error":"#N/A"},{"$error":"#N/A"},{"$error":"#N/A"},{"$error":"#N/A"},{"$error":"#N/A"},{"$error":"#N/A"},{"$error":"#N/A"},{"$error":"#N/A"},{"$error":"#N/A"},{"$error":"#N/A"},{"$error":"#N/A"},{"$error":"#N/A"},{"$error":"#N/A"},{"$error":"#N/A"},{"$error":"#N/A"},{"$error":"#N/A"},{"$error":"#N/A"},{"$error":"#N/A"},{"$error":"#N/A"},{"$error":"#N/A"},{"$error":"#N/A"}]
[null,22,null,null,null,"Pensionstillæg fast løn",{"$f":"IF($C50>0,\"= \"&G50&\" * \"&G$5&\"% / 3 =\")","v":"= 0 * % / 3 ="},{"$f":"IF($C50>0,H50&\" * \"&H$5&\"% / 3 =\")","v":"0 * 0% / 3 ="},"0 * 0% / 3 =","0 * 0% / 3 =","0 * 0% / 3 =","0 * 0% / 3 =","0 * 0% / 3 =","0 * 0% / 3 =","0 * 0% / 3 =","0 * 0% / 3 =","0 * 0% / 3 =","0 * 0% / 3 =",{"$f":"IF($C50>0,\"= \"&S50&\" * \"&S$5&\"% / 3 =\")","v":"= 0 * 0% / 3 ="},{"$f":"IF($C50>0,T50&\" * \"&T$5&\"% / 3 =\")","v":"0 * 0% / 3 ="},"0 * 0% / 3 =","0 * 0% / 3 =","0 * 0% / 3 =","0 * 0% / 3 =","0 * 0% / 3 =","0 * 0% / 3 =","0 * 0% / 3 =","0 * 0% / 3 =","0 * 0% / 3 =","0 * 0% / 3 ="]
[null,23,null,null,null,"Pensionstillæg souscheftillæg","= 0 * % / 3 =","0 * 0% / 3 =","0 * 0% / 3 =","0 * 0% / 3 =","0 * 0% / 3 =","0 * 0% / 3 =","0 * 0% / 3 =","0 * 0% / 3 =","0 * 0% / 3 =","0 * 0% / 3 =","0 * 0% / 3 =","0 * 0% / 3 =","= 0 * 0% / 3 =","0 * 0% / 3 =","0 * 0% / 3 =","0 * 0% / 3 =","0 * 0% / 3 =","0 * 0% / 3 =","0 * 0% / 3 =","0 * 0% / 3 =","0 * 0% / 3 =","0 * 0% / 3 =","0 * 0% / 3 =","0 * 0% / 3 ="]
[null,24,null,null,null,"Pensionstillæg Funktionstillæg 1","= 0 * % / 3 =","0 * 0% / 3 =","0 * 0% / 3 =","0 * 0% / 3 =","0 * 0% / 3 =","0 * 0% / 3 =","0 * 0% / 3 =","0 * 0% / 3 =","0 * 0% / 3 =","0 * 0% / 3 =","0 * 0% / 3 =","0 * 0% / 3 =","= 0 * 0% / 3 =","0 * 0% / 3 =","0 * 0% / 3 =","0 * 0% / 3 =","0 * 0% / 3 =","0 * 0% / 3 =","0 * 0% / 3 =","0 * 0% / 3 =","0 * 0% / 3 =","0 * 0% / 3 =","0 * 0% / 3 =","0 * 0% / 3 ="]
[null,25,null,null,null,"Pensionstillæg Funktionstillæg 2","= 0 * % / 3 =","0 * 0% / 3 =","0 * 0% / 3 =","0 * 0% / 3 =","0 * 0% / 3 =","0 * 0% / 3 =","0 * 0% / 3 =","0 * 0% / 3 =","0 * 0% / 3 =","0 * 0% / 3 =","0 * 0% / 3 =","0 * 0% / 3 =","= 0 * 0% / 3 =","0 * 0% / 3 =","0 * 0% / 3 =","0 * 0% / 3 =","0 * 0% / 3 =","0 * 0% / 3 =","0 * 0% / 3 =","0 * 0% / 3 =","0 * 0% / 3 =","0 * 0% / 3 =","0 * 0% / 3 =","0 * 0% / 3 ="]
[null,26,null,null,null,"Pensionstillæg Funktionstillæg 3","= 0 * % / 3 =","0 * 0% / 3 =","0 * 0% / 3 =","0 * 0% / 3 =","0 * 0% / 3 =","0 * 0% / 3 =","0 * 0% / 3 =","0 * 0% / 3 =","0 * 0% / 3 =","0 * 0% / 3 =","0 * 0% / 3 =","0 * 0% / 3 =","= 0 * 0% / 3 =","0 * 0% / 3 =","0 * 0% / 3 =","0 * 0% / 3 =","0 * 0% / 3 =","0 * 0% / 3 =","0 * 0% / 3 =","0 * 0% / 3 =","0 * 0% / 3 =","0 * 0% / 3 =","0 * 0% / 3 =","0 * 0% / 3 ="]
[null,27,null,null,null,"Pensionstillæg Kvalifikationstillæg 1","= 0 * % / 3 =","0 * 0% / 3 =","0 * 0% / 3 =","0 * 0% / 3 =","0 * 0% / 3 =","0 * 0% / 3 =","0 * 0% / 3 =","0 * 0% / 3 =","0 * 0% / 3 =","0 * 0% / 3 =","0 * 0% / 3 =","0 * 0% / 3 =","= 0 * 0% / 3 =","0 * 0% / 3 =","0 * 0% / 3 =","0 * 0% / 3 =","0 * 0% / 3 =","0 * 0% / 3 =","0 * 0% / 3 =","0 * 0% / 3 =","0 * 0% / 3 =","0 * 0% / 3 =","0 * 0% / 3 =","0 * 0% / 3 ="]
[null,28,null,null,null,"Pensionstillæg Kvalifikationstillæg 2","= 0 * % / 3 =","0 * 0% / 3 =","0 * 0% / 3 =","0 * 0% / 3 =","0 * 0% / 3 =","0 * 0% / 3 =","0 * 0% / 3 =","0 * 0% / 3 =","0 * 0% / 3 =","0 * 0% / 3 =","0 * 0% / 3 =","0 * 0% / 3 =","= 0 * 0% / 3 =","0 * 0% / 3 =","0 * 0% / 3 =","0 * 0% / 3 =","0 * 0% / 3 =","0 * 0% / 3 =","0 * 0% / 3 =","0 * 0% / 3 =","0 * 0% / 3 =","0 * 0% / 3 =","0 * 0% / 3 =","0 * 0% / 3 ="]
[null,29,null,null,null,"Pensionstillæg Kvalifikationstillæg 3","= 0 * % / 3 =","0 * 0% / 3 =","0 * 0% / 3 =","0 * 0% / 3 =","0 * 0% / 3 =","0 * 0% / 3 =","0 * 0% / 3 =","0 * 0% / 3 =","0 * 0% / 3 =","0 * 0% / 3 =","0 * 0% / 3 =","0 * 0% / 3 =","= 0 * 0% / 3 =","0 * 0% / 3 =","0 * 0% / 3 =","0 * 0% / 3 =","0 * 0% / 3 =","0 * 0% / 3 =","0 * 0% / 3 =","0 * 0% / 3 =","0 * 0% / 3 =","0 * 0% / 3 =","0 * 0% / 3 =","0 * 0% / 3 ="]
[null,30,null,null,null,"Pensionstillæg af udligningstillæg","= 0 * % / 3 =","0 * 0% / 3 =","0 * 0% / 3 =","0 * 0% / 3 =","0 * 0% / 3 =","0 * 0% / 3 =","0 * 0% / 3 =","0 * 0% / 3 =","0 * 0% / 3 =","0 * 0% / 3 =","0 * 0% / 3 =","0 * 0% / 3 =","= 0 * 0% / 3 =","0 * 0% / 3 =","0 * 0% / 3 =","0 * 0% / 3 =","0 * 0% / 3 =","0 * 0% / 3 =","0 * 0% / 3 =","0 * 0% / 3 =","0 * 0% / 3 =","0 * 0% / 3 =","0 * 0% / 3 =","0 * 0% / 3 ="]
[null,31,null,null,null,"Fradrag i pensionstillæg for ikke optjent ferie mv.",{"$f":"\"= \"&G61&\" * \"&G$5&\"% / 3 =\"","v":"= 0 * % / 3 ="},"= 0 * 0% / 3 =","= 0 * 0% / 3 =","= 0 * 0% / 3 =","= 0 * 0% / 3 =","= 0 * 0% / 3 =","= 0 * 0% / 3 =","= 0 * 0% / 3 =","= 0 * 0% / 3 =","= 0 * 0% / 3 =","= 0 * 0% / 3 =","= 0 * 0% / 3 =","= 0 * 0% / 3 =","= 0 * 0% / 3 =","= 0 * 0% / 3 =","= 0 * 0% / 3 =","= 0 * 0% / 3 =","= 0 * 0% / 3 =","= 0 * 0% / 3 =","= 0 * 0% / 3 =","= 0 * 0% / 3 =","= 0 * 0% / 3 =","= 0 * 0% / 3 =","= 0 * 0% / 3 ="]
[null,32,null,null,null,"Pensionstillæg af feriedifference","= 0 * % / 3 =","= 0 * 0% / 3 =","= 0 * 0% / 3 =","= 0 * 0% / 3 =","= 0 * 0% / 3 =","= 0 * 0% / 3 =","= 0 * 0% / 3 =","= 0 * 0% / 3 =","= 0 * 0% / 3 =","= 0 * 0% / 3 =","= 0 * 0% / 3 =","= 0 * 0% / 3 =","= 0 * 0% / 3 =","= 0 * 0% / 3 =","= 0 * 0% / 3 =","= 0 * 0% / 3 =","= 0 * 0% / 3 =","= 0 * 0% / 3 =","= 0 * 0% / 3 =","= 0 * 0% / 3 =","= 0 * 0% / 3 =","= 0 * 0% / 3 =","= 0 * 0% / 3 =","= 0 * 0% / 3 ="]
[null,33,null,null,null,"Pensionstillæg af pensiong. engangstillæg",{"$f":"SUBSTITUTE(TRIM(\"=SUM(\"&IF($G36>0,G36&\" \",\"\")&IF($C40<>\"\",G40&\" \",\"\")&IF($C41<>\"\",G41&\" \",\"\")&IF($C42<>\"\",G42&\" \",\"\")&IF($C43<>\"\",G43&\" \",\"\")&IF($C44<>\"\",G44,\"\")&\")\"),\" \",\"; \")&\" * \"&G5&\"% / 3 =\"","v":"=SUM(; ) * % / 3 ="},"=SUM(; ) * 0% / 3 =","=SUM(; ) * 0% / 3 =","=SUM(; ) * 0% / 3 =","=SUM(; ) * 0% / 3 =","=SUM(; ) * 0% / 3 =","=SUM(; ) * 0% / 3 =","=SUM(; ) * 0% / 3 =","=SUM(; ) * 0% / 3 =","=SUM(; ) * 0% / 3 =","=SUM(; ) * 0% / 3 =","=SUM(; ) * 0% / 3 =","=SUM(0; 0; 0; ) * 0% / 3 =","=SUM(0; 0; 0; ) * 0% / 3 =","=SUM(0; 0; 0; ) * 0% / 3 =","=SUM(0; 0; 0; ) * 0% / 3 =","=SUM(0; 0; 0; ) * 0% / 3 =","=SUM(0; 0; 0; ) * 0% / 3 =","=SUM(0; 0; 0; ) * 0% / 3 =","=SUM(0; 0; 0; ) * 0% / 3 =","=SUM(0; 0; 0; ) * 0% / 3 =","=SUM(0; 0; 0; ) * 0% / 3 =","=SUM(0; 0; 0; ) * 0% / 3 =","=SUM(0; 0; 0; ) * 0% / 3 ="]
[null,34,null,null,null,"Ekstra pension ved orlov uden løn","Ekstra pension ved orlov uden løn","Ekstra pension ved orlov uden løn","Ekstra pension ved orlov uden løn","Ekstra pension ved orlov uden løn","Ekstra pension ved orlov uden løn","Ekstra pension ved orlov uden løn","Ekstra pension ved orlov uden løn","Ekstra pension ved orlov uden løn","Ekstra pension ved orlov uden løn","Ekstra pension ved orlov uden løn","Ekstra pension ved orlov uden løn","Ekstra pension ved orlov uden løn"]
[null,35,null,null,null,"Pensionstillæg i alt"]
[null,36,null,null,null,"Egetbidrag til ATP"]
[null,37,null,null,null,"AMB-grundlag",{"$f":"\"= SUM(Lin. 1 - Lin. 14) + SUM(Lin 19 - Lin28) - \"&G86&\" =\"","v":"= SUM(Lin. 1 - Lin. 14) + SUM(Lin 19 - Lin28) - 0 ="},{"$f":"\"= SUM(Lin. 1 - Lin. 14) + SUM(Lin 19 - Lin28) - \"&H86&\" =\"","v":"= SUM(Lin. 1 - Lin. 14) + SUM(Lin 19 - Lin28) - 0 ="},"= SUM(Lin. 1 - Lin. 14) + SUM(Lin 19 - Lin28) - 0 =","= SUM(Lin. 1 - Lin. 14) + SUM(Lin 19 - Lin28) - 0 =","= SUM(Lin. 1 - Lin. 14) + SUM(Lin 19 - Lin28) - 0 =","= SUM(Lin. 1 - Lin. 14) + SUM(Lin 19 - Lin28) - 0 =","= SUM(Lin. 1 - Lin. 14) + SUM(Lin 19 - Lin28) - 0 =","= SUM(Lin. 1 - Lin. 14) + SUM(Lin 19 - Lin28) - 0 =","= SUM(Lin. 1 - Lin. 14) + SUM(Lin 19 - Lin28) - 0 =","= SUM(Lin. 1 - Lin. 14) + SUM(Lin 19 - Lin28) - 0 =","= SUM(Lin. 1 - Lin. 14) + SUM(Lin 19 - Lin28) - 0 =","= SUM(Lin. 1 - Lin. 14) + SUM(Lin 19 - Lin28) - 0 =",{"$f":"\"= SUM(Lin. 1 - Lin. 14) + SUM(Lin 19 - Lin28) - \"&S86&\" =\"","v":"= SUM(Lin. 1 - Lin. 14) + SUM(Lin 19 - Lin28) - 0 ="},{"$f":"\"= SUM(Lin. 1 - Lin. 14) + SUM(Lin 19 - Lin28) - \"&T86&\" =\"","v":"= SUM(Lin. 1 - Lin. 14) + SUM(Lin 19 - Lin28) - 0 ="},"= SUM(Lin. 1 - Lin. 14) + SUM(Lin 19 - Lin28) - 0 =","= SUM(Lin. 1 - Lin. 14) + SUM(Lin 19 - Lin28) - 0 =","= SUM(Lin. 1 - Lin. 14) + SUM(Lin 19 - Lin28) - 0 =","= SUM(Lin. 1 - Lin. 14) + SUM(Lin 19 - Lin28) - 0 =","= SUM(Lin. 1 - Lin. 14) + SUM(Lin 19 - Lin28) - 0 =","= SUM(Lin. 1 - Lin. 14) + SUM(Lin 19 - Lin28) - 0 =","= SUM(Lin. 1 - Lin. 14) + SUM(Lin 19 - Lin28) - 0 =","= SUM(Lin. 1 - Lin. 14) + SUM(Lin 19 - Lin28) - 0 =","= SUM(Lin. 1 - Lin. 14) + SUM(Lin 19 - Lin28) - 0 =","= SUM(Lin. 1 - Lin. 14) + SUM(Lin 19 - Lin28) - 0 ="]
[null,38,null,null,null,"AM-bidrag",{"$f":"\"= \"&G87&\" * 8% (afrundet) =\"","v":"= 0 * 8% (afrundet) ="},{"$f":"\"= \"&H87&\" * 8% (afrundet) =\"","v":"= 0 * 8% (afrundet) ="},"= 0 * 8% (afrundet) =","= 0 * 8% (afrundet) =","= 0 * 8% (afrundet) =","= 0 * 8% (afrundet) =","= 0 * 8% (afrundet) =","= 0 * 8% (afrundet) =","= 0 * 8% (afrundet) =","= 0 * 8% (afrundet) =","= 0 * 8% (afrundet) =","= 0 * 8% (afrundet) =",{"$f":"\"= \"&S87&\" * 8% (afrundet) =\"","v":"= 0 * 8% (afrundet) ="},{"$f":"\"= \"&T87&\" * 8% (afrundet) =\"","v":"= 0 * 8% (afrundet) ="},"= 0 * 8% (afrundet) =","= 0 * 8% (afrundet) =","= 0 * 8% (afrundet) =","= 0 * 8% (afrundet) =","= 0 * 8% (afrundet) =","= 0 * 8% (afrundet) =","= 0 * 8% (afrundet) =","= 0 * 8% (afrundet) =","= 0 * 8% (afrundet) =","= 0 * 8% (afrundet) ="]
[null,39,null,null,null,"A-indkomst",{"$f":"\"= \"&G87&\" - \"&G88&\" =\"","v":"= 0 - 0 ="},{"$f":"\"= \"&H87&\" - \"&H88&\" =\"","v":"= 0 - 0 ="},"= 0 - 0 =","= 0 - 0 =","= 0 - 0 =","= 0 - 0 =","= 0 - 0 =","= 0 - 0 =","= 0 - 0 =","= 0 - 0 =","= 0 - 0 =","= 0 - 0 =",{"$f":"\"= \"&S87&\" - \"&S88&\" =\"","v":"= 0 - 0 ="},{"$f":"\"= \"&T87&\" - \"&T88&\" =\"","v":"= 0 - 0 ="},"= 0 - 0 =","= 0 - 0 =","= 0 - 0 =","= 0 - 0 =","= 0 - 0 =","= 0 - 0 =","= 0 - 0 =","= 0 - 0 =","= 0 - 0 =","= 0 - 0 ="]
[null,40,null,null,null,"Skattegrundlag"]
[null,41,null,null,null,"Skat",{"$f":"\"= (\"&G89&\" - \"&G30&\") (afrundet) * \"&G29&\" / 100 =\"","v":"= (0 - ) (afrundet) *  / 100 ="},{"$f":"\"= (\"&H89&\" - \"&H30&\") (afrundet) * \"&H29&\" / 100 =\"","v":"= (0 - 0) (afrundet) * 0 / 100 ="},"= (0 - 0) (afrundet) * 0 / 100 =","= (0 - 0) (afrundet) * 0 / 100 =","= (0 - 0) (afrundet) * 0 / 100 =","= (0 - 0) (afrundet) * 0 / 100 =","= (0 - 0) (afrundet) * 0 / 100 =","= (0 - 0) (afrundet) * 0 / 100 =","= (0 - 0) (afrundet) * 0 / 100 =","= (0 - 0) (afrundet) * 0 / 100 =","= (0 - 0) (afrundet) * 0 / 100 =","= (0 - 0) (afrundet) * 0 / 100 =",{"$f":"\"= (\"&S89&\" - \"&S30&\") (afrundet) * \"&S29&\" / 100 =\"","v":"= (0 - 0) (afrundet) * 0 / 100 ="},{"$f":"\"= (\"&T89&\" - \"&T30&\") (afrundet) * \"&T29&\" / 100 =\"","v":"= (0 - 0) (afrundet) * 0 / 100 ="},"= (0 - 0) (afrundet) * 0 / 100 =","= (0 - 0) (afrundet) * 0 / 100 =","= (0 - 0) (afrundet) * 0 / 100 =","= (0 - 0) (afrundet) * 0 / 100 =","= (0 - 0) (afrundet) * 0 / 100 =","= (0 - 0) (afrundet) * 0 / 100 =","= (0 - 0) (afrundet) * 0 / 100 =","= (0 - 0) (afrundet) * 0 / 100 =","= (0 - 0) (afrundet) * 0 / 100 =","= (0 - 0) (afrundet) * 0 / 100 ="]
[null,42,null,null,null,"Feriegodtgørelsesgrundlag"]
[null,43,null,null,null,{"$f":"\"Feriegodtgørelsesgrundlag, jan-juli \"&Aar+1","v":"Feriegodtgørelsesgrundlag, jan-juli 1"}]
[null,44,null,null,null,"Egetbidrag til pensionskasse",{"$f":"\"= Lin. 43 =\"","v":"= Lin. 43 ="},{"$f":"\"= Lin. 43 =\"","v":"= Lin. 43 ="},"= Lin. 43 =","= Lin. 43 =","= Lin. 43 =","= Lin. 43 =","= Lin. 43 =","= Lin. 43 =","= Lin. 43 =","= Lin. 43 =","= Lin. 43 =","= Lin. 43 =",{"$f":"\"= Lin. 43 =\"","v":"= Lin. 43 ="},"= Lin. 43 =","= Lin. 43 =","= Lin. 43 =","= Lin. 43 =","= Lin. 43 =","= Lin. 43 =","= Lin. 43 =","= Lin. 43 =","= Lin. 43 =","= Lin. 43 =","= Lin. 43 ="]
[null,45,null,null,null,"Arbejdsgiverbidrag til pensionskasse",{"$f":"\"= Lin. 43 * 2 =\"","v":"= Lin. 43 * 2 ="},{"$f":"\"= Lin. 43 * 2 =\"","v":"= Lin. 43 * 2 ="},"= Lin. 43 * 2 =","= Lin. 43 * 2 =","= Lin. 43 * 2 =","= Lin. 43 * 2 =","= Lin. 43 * 2 =","= Lin. 43 * 2 =","= Lin. 43 * 2 =","= Lin. 43 * 2 =","= Lin. 43 * 2 =","= Lin. 43 * 2 =",{"$f":"\"= Lin. 43 * 2 =\"","v":"= Lin. 43 * 2 ="},"= Lin. 43 * 2 =","= Lin. 43 * 2 =","= Lin. 43 * 2 =","= Lin. 43 * 2 =","= Lin. 43 * 2 =","= Lin. 43 * 2 =","= Lin. 43 * 2 =","= Lin. 43 * 2 =","= Lin. 43 * 2 =","= Lin. 43 * 2 =","= Lin. 43 * 2 ="]
[null,46,null,null,null,"Arbejdsgiverbidrag til ATP",{"$f":"\"= Lin. 44 * 2 =\"","v":"= Lin. 44 * 2 ="},{"$f":"\"= Lin. 44 * 2 =\"","v":"= Lin. 44 * 2 ="},"= Lin. 44 * 2 =","= Lin. 44 * 2 =","= Lin. 44 * 2 =","= Lin. 44 * 2 =","= Lin. 44 * 2 =","= Lin. 44 * 2 =","= Lin. 44 * 2 =","= Lin. 44 * 2 =","= Lin. 44 * 2 =","= Lin. 44 * 2 =",{"$f":"\"= Lin. 44 * 2 =\"","v":"= Lin. 44 * 2 ="},"= Lin. 44 * 2 =","= Lin. 44 * 2 =","= Lin. 44 * 2 =","= Lin. 44 * 2 =","= Lin. 44 * 2 =","= Lin. 44 * 2 =","= Lin. 44 * 2 =","= Lin. 44 * 2 =","= Lin. 44 * 2 =","= Lin. 44 * 2 =","= Lin. 44 * 2 ="]
[null,47,null,null,null,"Skolens samlede indbetaling til pensionskasse",{"$f":"\"= Lin. 51 + Lin. 52 =\"","v":"= Lin. 51 + Lin. 52 ="},{"$f":"\"= Lin. 51 + Lin. 52 =\"","v":"= Lin. 51 + Lin. 52 ="},"= Lin. 51 + Lin. 52 =","= Lin. 51 + Lin. 52 =","= Lin. 51 + Lin. 52 =","= Lin. 51 + Lin. 52 =","= Lin. 51 + Lin. 52 =","= Lin. 51 + Lin. 52 =","= Lin. 51 + Lin. 52 =","= Lin. 51 + Lin. 52 =","= Lin. 51 + Lin. 52 =","= Lin. 51 + Lin. 52 =",{"$f":"\"= Lin. 51 + Lin. 52 =\"","v":"= Lin. 51 + Lin. 52 ="},"= Lin. 51 + Lin. 52 =","= Lin. 51 + Lin. 52 =","= Lin. 51 + Lin. 52 =","= Lin. 51 + Lin. 52 =","= Lin. 51 + Lin. 52 =","= Lin. 51 + Lin. 52 =","= Lin. 51 + Lin. 52 =","= Lin. 51 + Lin. 52 =","= Lin. 51 + Lin. 52 =","= Lin. 51 + Lin. 52 =","= Lin. 51 + Lin. 52 ="]
[null,48,null,null,null,"Skolens samlede indbetaling til ATP",{"$f":"\"= Lin. 44 + Lin. 53 =\"","v":"= Lin. 44 + Lin. 53 ="},{"$f":"\"= Lin. 44 + Lin. 53 =\"","v":"= Lin. 44 + Lin. 53 ="},"= Lin. 44 + Lin. 53 =","= Lin. 44 + Lin. 53 =","= Lin. 44 + Lin. 53 =","= Lin. 44 + Lin. 53 =","= Lin. 44 + Lin. 53 =","= Lin. 44 + Lin. 53 =","= Lin. 44 + Lin. 53 =","= Lin. 44 + Lin. 53 =","= Lin. 44 + Lin. 53 =","= Lin. 44 + Lin. 53 =",{"$f":"\"= Lin. 44 + Lin. 53 =\"","v":"= Lin. 44 + Lin. 53 ="},"= Lin. 44 + Lin. 53 =","= Lin. 44 + Lin. 53 =","= Lin. 44 + Lin. 53 =","= Lin. 44 + Lin. 53 =","= Lin. 44 + Lin. 53 =","= Lin. 44 + Lin. 53 =","= Lin. 44 + Lin. 53 =","= Lin. 44 + Lin. 53 =","= Lin. 44 + Lin. 53 =","= Lin. 44 + Lin. 53 =","= Lin. 44 + Lin. 53 ="]
[null,49,null,null,null,"Indbetaling til Gruppeliv"]
[null,50,null,null,null,"Løn til den ansattes disposition",{"$f":"\"= \"&G70&\" - ( \"&G91&\" + \"&G86&\" + \"&G88&\" + \"&G99&\") - SUM(lin 57 : 59) =\"","v":"= 0 - ( 0 + 0 + 0 + 0) - SUM(lin 57 : 59) ="},{"$f":"\"= \"&H70&\" - ( \"&H91&\" + \"&H86&\" + \"&H88&\" + \"&H99&\") - SUM(lin 57 : 59) =\"","v":"= 0 - ( 0 + 0 + 0 + 0) - SUM(lin 57 : 59) ="},"= 0 - ( 0 + 0 + 0 + 0) - SUM(lin 57 : 59) =","= 0 - ( 0 + 0 + 0 + 0) - SUM(lin 57 : 59) =","= 0 - ( 0 + 0 + 0 + 0) - SUM(lin 57 : 59) =","= 0 - ( 0 + 0 + 0 + 0) - SUM(lin 57 : 59) =","= 0 - ( 0 + 0 + 0 + 0) - SUM(lin 57 : 59) =","= 0 - ( 0 + 0 + 0 + 0) - SUM(lin 57 : 59) =","= 0 - ( 0 + 0 + 0 + 0) - SUM(lin 57 : 59) =","= 0 - ( 0 + 0 + 0 + 0) - SUM(lin 57 : 59) =","= 0 - ( 0 + 0 + 0 + 0) - SUM(lin 57 : 59) =","= 0 - ( 0 + 0 + 0 + 0) - SUM(lin 57 : 59) =",{"$f":"\"= \"&S70&\" - ( \"&S91&\" + \"&S86&\" + \"&S88&\" + \"&S99&\") - SUM(lin 57 : 59) =\"","v":"= 0 - ( 0 + 0 + 0 + 0) - SUM(lin 57 : 59) ="},{"$f":"\"= \"&T70&\" - ( \"&T91&\" + \"&T86&\" + \"&T88&\" + \"&T99&\") - SUM(lin 57 : 59) =\"","v":"= 0 - ( 0 + 0 + 0 + 0) - SUM(lin 57 : 59) ="},"= 0 - ( 0 + 0 + 0 + 0) - SUM(lin 57 : 59) =","= 0 - ( 0 + 0 + 0 + 0) - SUM(lin 57 : 59) =","= 0 - ( 0 + 0 + 0 + 0) - SUM(lin 57 : 59) =","= 0 - ( 0 + 0 + 0 + 0) - SUM(lin 57 : 59) =","= 0 - ( 0 + 0 + 0 + 0) - SUM(lin 57 : 59) =","= 0 - ( 0 + 0 + 0 + 0) - SUM(lin 57 : 59) =","= 0 - ( 0 + 0 + 0 + 0) - SUM(lin 57 : 59) =","= 0 - ( 0 + 0 + 0 + 0) - SUM(lin 57 : 59) =","= 0 - ( 0 + 0 + 0 + 0) - SUM(lin 57 : 59) =","= 0 - ( 0 + 0 + 0 + 0) - SUM(lin 57 : 59) ="]
[null,51,null,null,null,{"$f":"\"Feriepengeberegningsgrundlag, jan-dec \"&Aar","v":"Feriepengeberegningsgrundlag, jan-dec "}]
[null,null,null,null,null,{"$f":"\"Feriepengeberegningsgrundlag, jan-jul \"&Aar+1","v":"Feriepengeberegningsgrundlag, jan-jul 1"}]

{"sheet":"X","index":15,"n_rows":204,"n_cols":32,"rows_kept":204,"cut":false,"hidden":false,"merged":[[3,0,27,0],[28,0,29,0],[29,2,31,2],[44,2,46,4],[101,6,101,10],[101,18,101,22],[0,2,2,2],[0,3,2,3],[0,4,2,4]]}
["2022-2023",1,"Pensionsg.","BG-afh.","Regu-leret","Lønberegning for: (navn eller initialer)\n - variable løndele i lin. 30-43.","X",{"$f":"G1","v":"X"},{"$f":"H1","v":"X"},"X","X","X","X","X","X","X","X","X","Q",{"$f":"S1","v":"Q"},{"$f":"T1","v":"Q"},"Q","Q","Q","Q","Q","Q","Q","Q","Q","Udfyld gule felter (alle forudfyldte tal i gule felter er eksempler)"]
[null,{"$f":"B1+1","v":2},null,null,null,"Stillingsbetegnelse","Pædagog",{"$f":"G2","v":"Pædagog"},"Pædagog","Pædagog","Pædagog","Pædagog","Pædagog","Pædagog","Pædagog","Pædagog","Pædagog","Pædagog","Stilling",{"$f":"S2","v":"Stilling"},"Stilling","Stilling","Stilling","Stilling","Stilling","Stilling","Stilling","Stilling","Stilling","Stilling"]
[null,{"$f":"B2+1","v":3},null,null,null,"Måned",{"$f":"\"AUG \"&RIGHT(A1,2)+0","v":"AUG 23"},{"$f":"\"SEP \"&RIGHT(A1,2)+0","v":"SEP 23"},{"$f":"\"OKT \"&RIGHT(A1,2)+0","v":"OKT 23"},{"$f":"\"NOV \"&RIGHT(A1,2)+0","v":"NOV 23"},{"$f":"\"DEC \"&RIGHT(A1,2)+0","v":"DEC 23"},{"$f":"\"JAN \"&RIGHT(A1,2)+1","v":"JAN 24"},{"$f":"\"FEB \"&RIGHT(A1,2)+1","v":"FEB 24"},{"$f":"\"MAR \"&RIGHT(A1,2)+1","v":"MAR 24"},{"$f":"\"APR \"&RIGHT(A1,2)+1","v":"APR 24"},{"$f":"\"MAJ \"&RIGHT(A1,2)+1","v":"MAJ 24"},{"$f":"\"JUN \"&RIGHT(A1,2)+1","v":"JUN 24"},{"$f":"\"JUL \"&RIGHT(A1,2)+1","v":"JUL 24"},{"$f":"G3","v":"AUG 23"},{"$f":"H3","v":"SEP 23"},"OKT 23","NOV 23","DEC 23","JAN 24","FEB 24","MAR 24","APR 24","MAJ 24","JUN 24","JUL 24","ansat d. "]
[null,{"$f":"B3+1","v":4},"sæt 'x'","sæt 'x'","sæt 'x'","Del af måned \nantal kalenderdage/månedens kalenderdage",1,{"$f":"G4","v":1},{"$f":"H4","v":1},1,1,1,1,1,1,1,1,1,{"$f":"G4","v":1},1,1,1,1,1,1,1,1,1,1,1,"Hvis ansat 10 oktober: 21/31\nHvis fratrådt 15. april: 15/30",2]
[null,{"$f":"B4+1","v":5},null,null,null,"Pensionsprocent",null,{"$f":"$G5","v":0},0,0,0,0,0,0,0,0,0,0,{"$f":"G5","v":0},0,0,0,0,0,0,0,0,0,0,0,"Skriv ikke procenttegnet, fx 14,7% - skriv 14,70",3]
[null,{"$f":"B5+1","v":6},null,null,null,"Betales hele pensionen af skolen? JA/NEJ","Ja",{"$f":"G6","v":"Ja"},{"$f":"H6","v":"Ja"},"Ja","Ja","Ja","Ja","Ja","Ja","Ja","Ja","Ja",{"$f":"G6","v":"Ja"},"Ja","Ja","Ja","Ja","Ja","Ja","Ja","Ja","Ja","Ja","Ja","Se ansættelsesbrev",4]
[null,null,null,null,null,"Har den ansatte orlov uden løn men med pension?","Nej",{"$f":"G7","v":"Nej"},"Nej","Nej","Nej","Nej","Nej","Nej","Nej","Nej","Nej","Nej"]
[null,{"$f":"B6+1","v":7},null,null,null,"Beregnes feriedifferende mv. efter Ferieaftalen i staten JA, eller efter Ferieloven NEJ","JA",{"$f":"G8","v":"JA"},"JA","JA","JA","JA","JA","JA","JA","JA","JA","JA",{"$f":"G8","v":"JA"},{"$f":"H8","v":"JA"},"JA","JA","JA","JA","JA","JA","JA","JA","JA","JA","Ferieloven: mindst 20% differende, Ferieaftalen: enhver differende",5]
[null,{"$f":"B8+1","v":8},null,null,null,"Procentregulering +1",1.1553389999999999,1.1553389999999999,1.159197,1.159197,{"$f":"J9","v":1.159197},1.159197,1.159197,1.159197,null,{"$f":"O9","v":0},{"$f":"P9","v":0},{"$f":"Q9","v":0},{"$f":"G9","v":1.1553389999999999},1.1553389999999999,1.159197,1.159197,1.159197,1.159197,1.159197,1.159197,0,0,0,0,null,6]
[null,9,null,null,null,"Skolens stedtillægsområde",null,{"$f":"G10","v":0},0,0,0,0,0,0,0,0,0,0,{"$f":"G10","v":0},0,0,0,0,0,0,0,0,0,0,0]
[null,10,null,null,null,"Beskæftigelsesgrad aktuel (Beskæftigelsesgrad løn beregnes ud fra)",null,{"$f":"G11","v":0},0,0,0,0,0,0,0,{"$f":"O11","v":0},0,0,0,0,0,0,0,0,0,0,0,0,0,0]
[null,{"$f":"B11+1","v":11},"x","x","x","Skalatrin",null,{"$f":"G12","v":0},0,0,0,0,0,0,0,0,0,0,0,0,0,0,0,0,0,0,0,0,0,0,"Statens løntabel eller HK-overenskomst-løntrin"]
[null,12,"x","x","x",{"$f":"\"Fast aftalt årlig løn \"&IF(E13<>\"\",\"i grundbeløb pr. 31.03.2012\",\"(ikke reguleret)\")","v":"Fast aftalt årlig løn i grundbeløb pr. 31.03.2012"},null,0,0,0,0,0,0,0,{"$f":"N13","v":0},0,0,0,0,0,0,0,0,0,0,0,0,0,0,0]
[null,13,"x",null,"x","Årligt sousdheftillæg eller lign. i grundbeløb",null,{"$f":"G14","v":0},0,0,0,0,0,0,0,0,0,0,0,0,0,0,0,0,0,0,0,0,0,0]
[null,14,"x",null,"x","Årligt funktionsstillæg i grundbeløb 1",null,{"$f":"G15","v":0},0,0,0,0,0,0,0,0,0,0,0,0,0,0,0,0,0,0,0,0,0,0,null,"Ja"]
[null,15,"x",null,"x","Årligt funktionsstillæg i grundbeløb 2",null,{"$f":"G16","v":0},0,0,0,0,0,0,0,0,0,0,0,0,0,0,0,0,0,0,0,0,0,0,null,"Nej"]
[null,16,"x",null,"x","Årligt funktionsstillæg i grundbeløb 3",null,{"$f":"G17","v":0},0,0,0,0,0,0,0,0,0,0,0,0,0,0,0,0,0,0,0,0,0,0]
[null,17,"x","x","x","Årligt kvalifikationsstillæg i grundbeløb 1",null,0,0,0,0,0,0,0,0,0,0,0,0,0,0,0,0,0,0,0,0,0,0,0]
[null,18,"x","x","x","Årligt kvalifikationsstillæg i grundbeløb 2",null,0,0,0,0,0,0,0,0,0,0,0,0,0,0,0,0,0,0,0,0,0,0,0]
[null,19,"x","x","x","Årligt kvalifikationsstillæg i grundbeløb 3",null,0,0,0,0,0,0,0,0,0,0,0,0,0,0,0,0,0,0,0,0,0,0,0]
[null,20,"x","x","x","Udligningstillæg i årligt grundbeløb v. 100% BG",null,0,0,0,0,0,0,0,0,0,0,0,0,0,0,0,0,0,0,0,0,0,0,0]
[null,21,null,null,null,"Gruppelivsordning betalt af af skolen som et løntillæg. Skriv det månedlige beløb!",null,0,0,0,0,0,0,0,0,0,0,0,0,0,0,0,0,0,0,0,0,0,0,0,"Spedielt ved virksomhedsoverdragelse"]
[null,22,null,null,"x","Lokalaftalt fast ulempegodtgørelse pr. måned. - (pr. 31. marts 2012)",null,{"$f":"G23","v":0},0,0,0,0,0,0,{"$f":"N23","v":0},0,0,0,0,0,0,0,0,0,0,0,0,0,0,0,"I stedet for variable arbejdstidsbestemte tillæg, iflg lokalaftale"]
[null,23,null,null,null,"Planlagte feriedage",null,null,5,null,null,null,5,null,null,null,null,15,{"$f":"G24","v":0},{"$f":"H24","v":0},5,0,0,0,5,0,0,0,0,15,"Normalt 15 dage i sommerhalvåret og 10 dage i vinterhalvåret"]
[null,24,null,null,null,".. heraf antal feriedage,\nhvortil der ikke er optjent ferieret",null,null,null,null,null,null,null,null,null,null,null,0,0,0,0,0,0,0,0,0,0,0,0,0,"Ferieloven: fradrag 4,8% pr. dag, Ferieaftalen: 4,62% pr. dag"]
[null,25,null,null,null,"Feriedifference pensionsgivende(udregnes i særskilt regneark)",null,null,null,null,null,null,null,null,null,null,null,null,0,0,0,0,0,0,0,0,0,0,0,0,"Benyttes ved beregning af feriedifferende."]
[null,26,null,null,null,"Feriedifference IKKE pensionsgivende(udregnes i særskilt regneark)",null,null,null,null,null,null,null,null,null,null,null,null,0,0,0,0,0,0,0,0,0,0,0,0,"Benyttes ved beregning af feriedifference'"]
[null,27,null,null,null,"Egenbetalte fridage",null,null,null,null,null,null,null,null,null,null,null,null,0,0,0,0,0,0,0,0,0,0,0,0,"Løn- og pensionsfradrag beregnes i lin 60 og 75"]
["Skatteop-lysninger",28,null,null,null,"Skatteprocent",null,{"$f":"G29","v":0},0,0,0,0,0,0,0,0,0,0,0,0,0,0,0,0,0,0,0,0,0,0,"Skriv ikke procenttegnet, fx 42% - skriv 42"]
[null,29,"km-\ntak-ster",{"$f":"LEFT($A$1,4)+1","v":2023},{"$f":"LEFT($A$1,4)+2","v":2024},"Månedligt skattefradrag",null,0,0,0,0,0,0,0,0,0,0,0,0,0,0,0,0,0,0,0,0,0,0,0]
[null,30,null,2.19,null,"Km.godtgørelse, lav sats (skattefri), antal km:",null,null,null,null,null,null,null,null,null,null,null,null,0,0,0,0,0,0,0,0,0,0,0,0]
[null,31,null,3.73,null,"Km.godtgørelse, høj sats (skattefri), antal km:",null,null,null,null,null,null,null,null,null,null,null,null,0,0,0,0,0,0,0,0,0,0,0,0]
[null,32,null,null,null,"Timedagpenge (skattefri) - Beregn selv",null,null,null,null,null,null,null,null,null,null,null,null,0,0,0,0,0,0,0,0,0,0,0,0,"Se løntabel"]
[null,33,null,null,null,"Jubilæumsgratiale (skattefri op til 8.000 kr.)",null,null,null,null,null,null,null,null,null,null,null,null,0,0,0,0,0,0,0,0,0,0,0,0,"Se løntabel"]
[null,34,null,null,null,"Arbejds- og arbejdstidsbestemte tillæg. Beregn selv",null,null,null,null,null,null,null,null,null,null,null,null,0,0,0,0,0,0,0,0,0,0,0,0,"”Natpenge” iflg skema, hvis ikke der er lokalaftalt godtgørelse"]
[null,35,"x",null,null,"Merarbejdsbetaling. Beregn selv",null,null,null,null,null,null,null,null,null,null,null,null,0,0,0,0,0,0,0,0,0,0,0,0,"Efter årsopgørelse eller ved fratræden"]
[null,36,null,null,null,"Overtidsbetaling. Beregn selv",null,null,null,null,null,null,null,null,null,null,null,null,0,0,0,0,0,0,0,0,0,0,0,0,"Efter årsopgørelse eller ved fratræden"]
[null,37,null,null,null,"Særlige feriedage til udbetaling. Beregn selv",null,null,null,null,null,null,null,null,null,null,null,null,{"$f":"G38","v":0},0,0,0,0,0,0,0,0,0,0,0,"Efter årsafslutning eller ved fratræden. Se pjeden \"Ferievejledning\""]
[null,38,null,null,null,{"$f":"\"Særlig ferietillæg \"&IF(G8=\"ja\",\"1,5%\",\"1,0%\"&\"\")","v":"Særlig ferietillæg 1,5%"},null,null,null,null,null,null,null,null,null,0,null,null,0,0,0,0,0,0,0,0,0,0,0,0]
[null,39,"x",null,null,"Resultatlønstillæg",null,null,null,null,null,null,null,null,null,null,null,null,0,0,0,0,0,0,0,0,0,0,0,0]
[null,40,"x",null,null,"Engangs nylønstillæg",null,null,null,null,null,null,null,null,null,null,null,null,0,0,0,0,0,0,0,0,0,0,0,0]
[null,41,"x",null,null,"Praktiklærervederlag",null,null,null,null,null,null,null,null,null,null,null,null,0,0,0,0,0,0,0,0,0,0,0,0,{"$f":"45*5*7.4","v":1665}]
[null,42,null,null,null,"andet",null,null,null,null,null,null,null,null,null,null,null,null,0,0,0,0,0,0,0,0,0,0,0,0]
[null,43,null,null,null,"andet",null,null,null,null,null,null,null,null,null,null,null,null,0,0,0,0,0,0,0,0,0,0,0,0]
[null,44,"Disse tre linjer fradrages i den disponible løn",null,null,"gavekasse",null,{"$f":"G45","v":0},{"$f":"H45","v":0},0,0,0,0,0,0,0,0,0,0,0,0,0,0,0,0,0,0,0,0,0,"Fx: 'Kaffekasse'"]
[null,45,null,null,null,"kaffekasse",null,{"$f":"G46","v":0},0,0,0,0,0,0,0,0,0,0,0,0,0,0,0,0,0,0,0,0,0,0,"Fx: 'Gavekasse'"]
[null,46,null,null,null,"Fagforenings-kontingent",null,{"$f":"G47","v":0},0,0,0,0,0,0,0,0,0,0,0,0,0,0,0,0,0,0,0,0,0,0,"FX: 'Fagforeningskontingent'"]
[{"$f":"A3","v":"1904-01-01"},{"$f":"B47+1","v":47},null,null,null,"Måned",{"$f":"G3","v":"AUG 23"},"SEP 23","OKT 23","NOV 23","DEC 23","JAN 24","FEB 24","MAR 24","APR 24","MAJ 24","JUN 24","JUL 24","AUG 23","SEP 23","OKT 23","NOV 23","DEC 23","JAN 24","FEB 24","MAR 24","APR 24","MAJ 24","JUN 24","JUL 24","SUM"]
[null,48,{"$f":"(C12<>\"\")*1","v":1},1,1,{"$f":"IF(ISNUMBER(G12),\"Skalatrinsløn\",\"HK-løn\")","v":"HK-løn"},{"$f":"IF(G7=\"Ja\",0,ROUND(IF(AND(G$11>0,G12>0),ROUND((ROUND(VLOOKUP(G12,Skalalontabel12,G10,0)*G9,0))/12,2),0)*G11*G4,2))","v":0},0,0,0,0,0,0,0,0,0,0,0,{"$f":"ROUND(IF(AND(S$11>0,S12>0),ROUND((ROUND(VLOOKUP(S12,Skalalontabel12,S10,0)*S9,0))/12,2),0)*S11*S4,2)","v":0},0,0,0,0,0,0,0,0,0,0,0,{"$f":"SUM(G49:R49)","v":0}]
[null,49,1,1,1,"Fast løn",{"$f":"IF(G7=\"Ja\",0,ROUND(IF(G13>0,G13/12)*IF($D13<>\"\",G$11,1)*IF($E13<>\"\",G$9,1)*G4,2))","v":0},0,0,0,0,0,0,0,0,0,0,0,{"$f":"ROUND(IF(S13>0,S13/12)*IF($D13<>\"\",S$11,1)*IF($E13<>\"\",S$9,1)*S4,2)","v":0},0,0,0,0,0,0,0,0,0,0,0,0]
[null,50,1,0,1,"Souscheftillæg ell. lign.",{"$f":"IF(G7=\"Ja\",0,ROUND(IF(AND(G$11>0,G14>0),G14/12)*IF($D14<>\"\",G$11,1)*IF($E14<>\"\",G$9,1)*G4,2))","v":0},0,0,0,0,0,0,0,0,0,0,0,{"$f":"ROUND(IF(AND(S$11>0,S14>0),S14/12)*IF($D14<>\"\",S$11,1)*IF($E14<>\"\",S$9,1)*S4,2)","v":0},0,0,0,0,0,0,0,0,0,0,0,0]
[null,51,1,0,1,"Funktionstillæg 1",{"$f":"IF(G7=\"Ja\",0,ROUND(IF(AND(G$11>0,G15>0),G15/12)*IF($D15<>\"\",G$11,1)*IF($E15<>\"\",G$9,1)*G4,2))","v":0},0,0,0,0,0,0,0,0,0,0,0,{"$f":"ROUND(IF(AND(S$11>0,S15>0),S15/12)*IF($D15<>\"\",S$11,1)*IF($E15<>\"\",S$9,1)*S4,2)","v":0},0,0,0,0,0,0,0,0,0,0,0,0]
[null,52,1,0,1,"Funktionstillæg 2",{"$f":"IF(G7=\"Ja\",0,ROUND(IF(AND(G$11>0,G16>0),G16/12)*IF($D16<>\"\",G$11,1)*IF($E16<>\"\",G$9,1)*G4,2))","v":0},0,0,0,0,0,0,0,0,0,0,0,{"$f":"ROUND(IF(AND(S$11>0,S16>0),S16/12)*IF($D16<>\"\",S$11,1)*IF($E16<>\"\",S$9,1)*S4,2)","v":0},0,0,0,0,0,0,0,0,0,0,0,0]
[null,53,1,0,1,"Funktionstillæg 3",{"$f":"IF(G7=\"Ja\",0,ROUND(IF(AND(G$11>0,G17>0),G17/12)*IF($D17<>\"\",G$11,1)*IF($E17<>\"\",G$9,1)*G4,2))","v":0},0,0,0,0,0,0,0,0,0,0,0,{"$f":"ROUND(IF(AND(S$11>0,S17>0),S17/12)*IF($D17<>\"\",S$11,1)*IF($E17<>\"\",S$9,1)*S4,2)","v":0},0,0,0,0,0,0,0,0,0,0,0,0]
[null,54,1,1,1,"Kvalifikationstillæg 1",{"$f":"IF(G7=\"Ja\",0,ROUND(IF(AND(G$11>0,G18>0),G18/12)*IF($D18<>\"\",G$11,1)*IF($E18<>\"\",G$9,1)*G4,2))","v":0},0,0,0,0,0,0,0,0,0,0,0,{"$f":"ROUND(IF(AND(S$11>0,S18>0),S18/12)*IF($D18<>\"\",S$11,1)*IF($E18<>\"\",S$9,1)*S4,2)","v":0},0,0,0,0,0,0,0,0,0,0,0,0]
[null,55,1,1,1,"Kvalifikationstillæg 2",{"$f":"IF(G7=\"Ja\",0,ROUND(IF(AND(G$11>0,G19>0),G19/12)*IF($D19<>\"\",G$11,1)*IF($E19<>\"\",G$9,1)*G4,2))","v":0},0,0,0,0,0,0,0,0,0,0,0,{"$f":"ROUND(IF(AND(S$11>0,S19>0),S19/12)*IF($D19<>\"\",S$11,1)*IF($E19<>\"\",S$9,1)*S4,2)","v":0},0,0,0,0,0,0,0,0,0,0,0,0]
[null,56,1,1,1,"Kvalifikationstillæg 3",{"$f":"IF(G7=\"Ja\",0,ROUND(IF(AND(G$11>0,G20>0),G20/12)*IF($D20<>\"\",G$11,1)*IF($E20<>\"\",G$9,1)*G$4,2))","v":0},0,0,0,0,0,0,0,0,0,0,0,{"$f":"ROUND(IF(AND(S$11>0,S20>0),S20/12)*IF($D20<>\"\",S$11,1)*IF($E20<>\"\",S$9,1)*S$4,2)","v":0},0,0,0,0,0,0,0,0,0,0,0,0]
[null,57,1,1,1,"Udligningstillæg",{"$f":"IF(G7=\"Ja\",0,ROUND(IF(AND(G$11>0,G21>0),G21/12)*IF($D21<>\"\",G$11,1)*IF($E21<>\"\",G$9,1)*G$4,2))","v":0},0,0,0,0,0,0,0,0,0,0,0,0,0,0,0,0,0,0,0,0,0,0,0,0]
[null,58,null,null,null,"Gruppelivstillæg",{"$f":"IF(G7=\"Ja\",0,ROUND(IF(AND(G$11>0,G22>0),G22)*IF($D22<>\"\",G$11,1)*IF($E22<>\"\",G$9,1)*G$4,2))","v":0},0,0,0,0,0,0,0,0,0,0,0,{"$f":"ROUND(IF(AND(S$11>0,S22>0),S22)*IF($D22<>\"\",S$11,1)*IF($E22<>\"\",S$9,1)*S$4,2)","v":0},0,0,0,0,0,0,0,0,0,0,0,0]
[null,59,null,{"$f":"(D23<>\"\")*1","v":0},{"$f":"(E23<>\"\")*1","v":1},"Lokalaftalt ulempegodtgørelse",{"$f":"IF(G7=\"Ja\",0,ROUND(IF(AND(G$11>0,G23>0),G23)*IF($D23<>\"\",G$11,1)*IF($E23<>\"\",G$9,1)*G$4,2))","v":0},0,0,0,0,0,0,0,0,0,0,0,0,0,0,0,0,0,0,0,0,0,0,0,0]
[null,60,1,null,null,"Lønfradrag for ikke optjent ferie mv.",{"$f":"-ROUND((MAX(0,MIN(S24,S25*1))+S28)*IF(S8=\"JA\",4.62%,4.8%)*(S49+S50+S51+S52+S53+S54+S55+S56+S57+S58+S60)*S$4,2)","v":0},0,0,0,0,0,0,0,0,0,0,0,{"$f":"-ROUND((MAX(0,MIN(S24,S25*1))+S28)*IF(S8=\"JA\",4.62%,4.8%)*(S49+S50+S51+S52+S53+S54+S55+S56+S57+S58+S60)*S$4,2)","v":0},0,0,0,0,0,0,0,0,0,0,0,0]
[null,61,1,null,null,"Feriedifference pensionsgivende(udregnes i særskilt fane)",{"$f":"G26","v":0},{"$f":"H26","v":0},0,0,0,0,0,0,0,0,0,0,{"$f":"S26","v":0},{"$f":"T26","v":0},0,0,0,0,0,0,0,0,0,0,0]
[null,62,null,null,null,"Feriedifference IKKE pensionsgivende(udregnes i særskilt fane)",{"$f":"G27","v":0},0,0,0,0,0,0,0,0,0,0,0,{"$f":"S27","v":0},0,0,0,0,0,0,0,0,0,0,0]
[null,63,null,null,null,"Engangsudbetalinger iflg. specifikation",{"$f":"SUM(G35:G44)","v":0},{"$f":"SUM(H35:H44)","v":0},0,0,0,0,0,0,0,0,0,0,{"$f":"SUM(S35:S44)","v":0},{"$f":"SUM(T35:T44)+MAX(T34*T9-8000,0)","v":0},0,0,0,0,0,0,0,0,0,0,0]
[null,64,null,null,null,"Skattefrie km. Godtgørelse lav sats",{"$f":"G31*$D$31","v":0},{"$f":"H31*$D$31","v":0},0,0,0,0,0,0,0,0,0,0,{"$f":"S31*$D$31","v":0},{"$f":"T31*$D$31","v":0},0,0,0,0,0,0,0,0,0,0]
[null,65,null,null,null,"Skattefrie km. Godtgørelse høj sats",{"$f":"G32*$D$32","v":0},{"$f":"H32*$D$32","v":0},0,0,0,0,0,0,0,0,0,0,{"$f":"S32*$D$32","v":0},{"$f":"T32*$D$32","v":0},0,0,0,0,0,0,0,0,0,0]
[null,{"$f":"B64+1","v":64},null,null,null,"Timedagpenge(skattefrie)",{"$f":"IF(G33>0,G33,0)","v":0},{"$f":"IF(H33>0,H33,0)","v":0},0,0,0,0,0,0,0,0,0,0,{"$f":"IF(S33>0,S33,0)","v":0},{"$f":"IF(T33>0,T33,0)","v":0},0,0,0,0,0,0,0,0,0,0,0]
[null,65,null,null,null,"Skattefri jubilæumsgratiale",{"$f":"MIN(8000,G34*G9)","v":0},0,0,0,0,0,0,0,0,0,0,0,0,0,0,0,0,0,0,0,0,0,0,0]
[null,66,null,null,null,"Skattepligtig jubilæumsgratiaale",{"$f":"IF(G34>0,MAX(G34*G9-8000,0),0)","v":0},0,0,0,0,0,0,0,0,0,0,0,0,0,0,0,0,0,0,0,0,0,0,0]
[null,67,null,null,null,"Bruttoløn (ekskl. pensionstillæg og ATP)",{"$f":"SUM(G49:G69)","v":0},{"$f":"SUM(H49:H67)","v":0},0,0,0,0,0,0,0,0,0,0,{"$f":"SUM(S49:S69)","v":0},{"$f":"SUM(T49:T67)","v":0},0,0,0,0,0,0,0,0,0,0,0]
[null,{"$f":"B70+1","v":68},null,null,null,{"$f":"\"Pensionstillæg af pensionsg. \"&IF(ISNUMBER(G12),\"Skalatrinsløn\",\"HK-løn\")","v":"Pensionstillæg af pensionsg. HK-løn"},{"$f":"IF(G7=\"Ja\",0,ROUND(IF(AND(G$11>0,G12>0),ROUND((ROUND(VLOOKUP(G12,Skalalontabel12,7,0)*G9,0))/12,2),0)*G11*G4*G5/100/3,2))","v":0},0,0,0,0,0,0,0,0,0,0,0,{"$f":"ROUND(IF(AND(S$11>0,S12>0),ROUND((ROUND(VLOOKUP(S12,Skalalontabel12,7,0)*S9,0))/12,2),0)*S11*S4*S5/100/3,2)","v":0},0,0,0,0,0,0,0,0,0,0,0,0]
[null,69,null,null,null,"Pensionstillæg fast løn",{"$f":"ROUND(G50*$C50*G$5/100/3,2)","v":0},0,0,0,0,0,0,0,0,0,0,0,0,0,0,0,0,0,0,0,0,0,0,0,0]
[null,70,null,null,null,"Pensionstillæg souscheftillæg",0,0,0,0,0,0,0,0,0,0,0,0,0,0,0,0,0,0,0,0,0,0,0,0,0]
[null,71,null,null,null,"Pensionstillæg Funktionstillæg 1",0,0,0,0,0,0,0,0,0,0,0,0,0,0,0,0,0,0,0,0,0,0,0,0,0]
[null,72,null,null,null,"Pensionstillæg Funktionstillæg 2",0,0,0,0,0,0,0,0,0,0,0,0,0,0,0,0,0,0,0,0,0,0,0,0,0]
[null,73,null,null,null,"Pensionstillæg Funktionstillæg 3",0,0,0,0,0,0,0,0,0,0,0,0,0,0,0,0,0,0,0,0,0,0,0,0,0]
[null,74,null,null,null,"Pensionstillæg Kvalifikationstillæg 1",0,0,0,0,0,0,0,0,0,0,0,0,0,0,0,0,0,0,0,0,0,0,0,0,0]
[null,75,null,null,null,"Pensionstillæg Kvalifikationstillæg 2",0,0,0,0,0,0,0,0,0,0,0,0,0,0,0,0,0,0,0,0,0,0,0,0,0]
[null,76,null,null,null,"Pensionstillæg Kvalifikationstillæg 3",0,0,0,0,0,0,0,0,0,0,0,0,0,0,0,0,0,0,0,0,0,0,0,0,0]
[null,77,null,null,null,"Pensionstillæg af udligningstillæg",0,0,0,0,0,0,0,0,0,0,0,0,0,0,0,0,0,0,0,0,0,0,0,0,0]
[null,78,null,null,null,"Fradrag i pensionstillæg for ikke optjent ferie mv.",{"$f":"ROUND(G61*$C61*G$5/100/3,2)","v":0},0,0,0,0,0,0,0,0,0,0,0,0,0,0,0,0,0,0,0,0,0,0,0,0]
[null,79,null,null,null,"Pensionstillæg af feriedifference",0,0,0,0,0,0,0,0,0,0,0,0,0,0,0,0,0,0,0,0,0,0,0,0,0]
[null,80,null,null,null,"Pensionstillæg af pensiong. engangstillæg",{"$f":"ROUND(G36*G5/100/3+G40*($C40<>\"\")*G5/100/3+G41*($C41<>\"\")*G5/100/3+G42*($C42<>\"\")*G5/100/3+G43*($C43<>\"\")*G5/100/3+G44*($C44<>\"\")*G5/100/3,2)","v":0},0,0,0,0,0,0,0,0,0,0,0,0,0,0,0,0,0,0,0,0,0,0,0,0]
[null,null,null,null,null,"Ekstra pension hvis orlov uden løn",{"$f":"IF(G7=\"Ja\",SUM(S71:S82)-SUM(G71:G83),0)","v":0},{"$f":"IF(H7=\"Ja\",SUM(T71:T83)-SUM(H71:H83),0)","v":0},{"$f":"IF(I7=\"Ja\",SUM(U71:U82)-SUM(I71:I83),0)","v":0},0,0,0,0,0,0,0,0,0]
[null,{"$f":"B83+1","v":81},null,null,null,"Pensionstillæg i alt",{"$f":"SUM(G71:G84)","v":0},{"$f":"SUM(H71:H84)","v":0},0,0,0,0,0,0,0,0,0,0,{"$f":"SUM(S71:S83)","v":0},{"$f":"SUM(T71:T83)","v":0},0,0,0,0,0,0,0,0,0,0,0]
[null,82,null,null,null,"Egetbidrag til ATP",{"$f":"ROUND(G98/3,2)","v":0},{"$f":"ROUND(H98/3,2)","v":0},0,0,0,0,0,0,0,0,0,0,{"$f":"ROUND(S98/3,2)","v":0},{"$f":"ROUND(T98/3,2)","v":0},0,0,0,0,0,0,0,0,0,0,{"$f":"SUM(G86:R86)","v":0}]
[null,83,null,null,null,"AMB-grundlag",{"$f":"IF(G6=\"nej\",G85*-1)+SUM(G49:G64)-G86+G69","v":0},0,0,0,0,0,0,0,0,0,0,0,{"$f":"IF(S6=\"nej\",S85*-1)+SUM(S49:S64)-S86","v":0},0,0,0,0,0,0,0,0,0,0,0,{"$f":"SUM(G87:R87)","v":0}]
[null,84,null,null,null,"AM-bidrag",{"$f":"ROUND(G87*8%,0)","v":0},{"$f":"ROUND(H87*8%,0)","v":0},0,0,0,0,0,0,0,0,0,0,{"$f":"ROUND(S87*8%,0)","v":0},{"$f":"ROUND(T87*8%,0)","v":0},0,0,0,0,0,0,0,0,0,0,0]
[null,85,null,null,null,"A-indkomst",{"$f":"G87-G88","v":0},{"$f":"H87-H88","v":0},0,0,0,0,0,0,0,0,0,0,{"$f":"S87-S88","v":0},{"$f":"T87-T88","v":0},0,0,0,0,0,0,0,0,0,0,0]
[null,86,null,null,null,"Skattegrundlag",{"$f":"FLOOR(G89-G30,10)","v":0},{"$f":"FLOOR(H89-H30,10)","v":0},0,0,0,0,0,0,0,0,0,0,{"$f":"FLOOR(S89-S30,10)","v":0},{"$f":"FLOOR(T89-T30,10)","v":0},0,0,0,0,0,0,0,0,0,0]
[null,87,null,null,null,"Skat",{"$f":"ROUND(G90*G29/100,0)","v":0},0,0,0,0,0,0,0,0,0,0,0,0,0,0,0,0,0,0,0,0,0,0,0,0]
[null,88,null,null,null,"Feriegodtgørelsesgrundlag ",{"$f":"SUM(G49:G64)","v":0},{"$f":"SUM(H49:H64)","v":0},{"$f":"SUM(I49:I64)","v":0},{"$f":"SUM(J49:J64)","v":0},{"$f":"SUM(K49:K64)","v":0},{"$f":"SUM(L49:L64)","v":0},0,0,0,0,0,0,{"$f":"SUM(S49:S64)","v":0},{"$f":"SUM(T49:T64)","v":0},{"$f":"SUM(U49:U64)","v":0},{"$f":"SUM(V49:V64)","v":0},{"$f":"SUM(W49:W64)","v":0},{"$f":"SUM(X49:X64)","v":0},0,0,0,0,0,0,{"$f":"SUM(H92:P92)","v":0}]
[null,89,null,null,null,{"$f":"\"Feriegodtgørelsesgrundlag, juni-juli \"","v":"Feriegodtgørelsesgrundlag, juni-juli "},null,null,null,null,null,null,null,null,null,null,{"$f":"SUM(Q49:Q64)-Q39","v":0},{"$f":"SUM(R49:R64)-R39","v":0},null,null,null,null,null,null,null,null,null,null,{"$f":"SUM(AC49:AC64)-AC39","v":0},{"$f":"SUM(AD49:AD64)-AD39","v":0},{"$f":"SUM(G93:R93)","v":0}]
[null,90,null,null,null,"Egetbidrag til pensionskasse",{"$f":"G85","v":0},{"$f":"H85","v":0},0,0,0,0,0,0,0,0,0,0,{"$f":"S85","v":0},{"$f":"T85","v":0},0,0,0,0,0,0,0,0,0,0,0]
[null,91,null,null,null,"Arbejdsgiverbidrag til pensionskasse",{"$f":"G94*2","v":0},{"$f":"H94*2","v":0},0,0,0,0,0,0,0,0,0,0,{"$f":"S94*2","v":0},{"$f":"T94*2","v":0},0,0,0,0,0,0,0,0,0,0,0]
[null,92,null,null,null,"Arbejdsgiverbidrag til ATP",{"$f":"G98*2/3","v":0},{"$f":"H98*2/3","v":0},0,0,0,0,0,0,0,0,0,0,{"$f":"S98*2/3","v":0},{"$f":"T98*2/3","v":0},0,0,0,0,0,0,0,0,0,0,0]
[null,93,null,null,null,"Skolens samlede indbetaling til pensionskasse",{"$f":"G94+G95","v":0},{"$f":"H94+H95","v":0},0,0,0,0,0,0,0,0,0,0,{"$f":"S94+S95","v":0},{"$f":"T94+T95","v":0},0,0,0,0,0,0,0,0,0,0,0]
[null,{"$f":"B97+1","v":94},null,null,null,"Skolens samlede indbetaling til ATP",{"$f":"284/3*(((G11*G4)>=9/37)+((G11*G4)>=18/37)+((G11*G4)>=27/37))","v":0},0,0,0,0,{"$f":"297/3*(((L11*L4)>=9/37)+((L11*L4)>=18/37)+((L11*L4)>=27/37))","v":0},{"$f":"297/3*(((M11*M4)>=9/37)+((M11*M4)>=18/37)+((M11*M4)>=27/37))","v":0},0,0,0,0,0,0,0,0,0,0,0,0,0,0,0,0,0,0]
[null,95,null,null,null,"Indbetaling til Gruppeliv",{"$f":"G22","v":0},{"$f":"H22","v":0},0,0,0,0,0,0,0,0,0,0,{"$f":"S22","v":0},{"$f":"T22","v":0},0,0,0,0,0,0,0,0,0,0,0]
[null,96,null,null,null,"Løn til den ansattes disposition",{"$f":"IF(G6=\"nej\",G85*-1)+G70-(G91+G86+G88+G99)-G45-G46-G47","v":0},0,0,0,0,0,0,0,0,0,0,0,0,0,0,0,0,0,0,0,0,0,0,0,{"$f":"SUM(G100:R100)","v":0}]
[null,97,null,null,null,{"$f":"\"Feriepengeberegningsgrundlag, jan-dec \"&Aar","v":"Feriepengeberegningsgrundlag, jan-dec "},{"$f":"(SUM(G49:G64)+G85+G86)*(1-12/260*G24)","v":0},{"$f":"(SUM(H49:H64)+H85+H86)*(1-12/260*H24)","v":0},{"$f":"(SUM(I49:I64)+I85+I86)*(1-12/260*I24)","v":0},{"$f":"(SUM(J49:J64)+J85+J86)*(1-12/260*J24)","v":0},{"$f":"(SUM(K49:K64)+K85+K86)*(1-12/260*K24)","v":0},"Kalenderårets sum benyttes ved fratræden og særlige feriedage",null,null,null,null,null,null,{"$f":"(SUM(S49:S64)+S85+S86)*(1-12/260*S24)","v":0},{"$f":"(SUM(T49:T64)+T85+T86)*(1-12/260*T24)","v":0},{"$f":"(SUM(U49:U64)+U85+U86)*(1-12/260*U24)","v":0},{"$f":"(SUM(V49:V64)+V85+V86)*(1-12/260*V24)","v":0},{"$f":"(SUM(W49:W64)+W85+W86)*(1-12/260*W24)","v":0},"Kalenderårets sum benyttes ved fratræden og særlige feriedage",null,null,null,null,null,null,{"$f":"A101+SUM(G101:K101)","v":0}]
[null,{"$f":"B101+1","v":98},null,null,null,{"$f":"\"Feriepengeberegningsgrundlag, jan-jul \"&Aar","v":"Feriepengeberegningsgrundlag, jan-jul "},"Kalenderårets sum benyttes ved fratræden og særlige feriedage",null,null,null,null,{"$f":"(SUM(L$49:L$64)+L$85+L86)*(1-12/260*L$24)","v":0},{"$f":"(SUM(M$49:M$64)+M$85+M86)*(1-12/260*M$24)","v":0},0,0,0,0,0,"Kalenderårets sum benyttes ved fratræden og særlige feriedage",null,null,null,null,{"$f":"(SUM(X$49:X$64)+X$85+X86)*(1-12/260*X$24)","v":0},{"$f":"(SUM(Y$49:Y$64)+Y$85+Y86)*(1-12/260*Y$24)","v":0},0,0,0,0,0,0]
[null,{"$f":"B102+1","v":99},null,null,null,"BG-afhængige løndele",{"$f":"G49*$D49+G50*$D50+G51*$D51+G52*$D52+G53*$D53+G54*$D54+G55*$D55+G56*$D56+G57*$D57+G58*$D58+G60*$D60","v":0},0,0,0,0,0,0,0,0,0,0,0,0,0,0,0,0,0,0,0,0,0,0,0]
[null,{"$f":"B103+1","v":100},null,null,null,"BG-difference >=20%",{"$f":"IF(G11>0,IF(G11>G26,(G11-G26)/G26>=20%,(G11-G26)/G26<=-20%),\"\")","v":""},"","","","","","","","",{"$f":"IF(P11>0,IF(P11>P27,(P11-P27)/P27>=20%,(P11-P27)/P27<=-20%),\"\")","v":""},{"$f":"IF(Q11>0,IF(Q11>Q27,(Q11-Q27)/Q27>=20%,(Q11-Q27)/Q27<=-20%),\"\")","v":""},{"$f":"IF(R11>0,IF(R11>R27,(R11-R27)/R27>=20%,(R11-R27)/R27<=-20%),\"\")","v":""},{"$f":"IF(S11>0,IF(S11>S26,(S11-S26)/S26>=20%,(S11-S26)/S26<=-20%),\"\")","v":""},"","","","","","","","",{"$f":"IF(AB11>0,IF(AB11>AB27,(AB11-AB27)/AB27>=20%,(AB11-AB27)/AB27<=-20%),\"\")","v":""},{"$f":"IF(AC11>0,IF(AC11>AC27,(AC11-AC27)/AC27>=20%,(AC11-AC27)/AC27<=-20%),\"\")","v":""},{"$f":"IF(AD11>0,IF(AD11>AD27,(AD11-AD27)/AD27>=20%,(AD11-AD27)/AD27<=-20%),\"\")","v":""}]
[]
[]
[]
[]
[]
[]
[]
[]
[]
[]
[]
[]
[]
[]
[]
[]
[]
[]
[]
[]
[]
[]
[]
[]
[]
[]
[]
[]
[]
[]
[]
[]
[]
[]
[]
[]
[]
[]
[]
[]
[]
[]
[]
[]
[]
[]
[]
[]
[]
[null,{"$f":"B153+1","v":1}]
[null,2,null,null,null,{"$f":"IF(ISNUMBER(G1),\"Skalatrinsløn\",\"HK-løn\")","v":"HK-løn"},{"$f":"\"= \"&TEXT(ROUND(VLOOKUP(G12,Skalalontabel12,G10,0)*G9,0),\"#.000\")&\" / 12 * \"&TEXT(G11,\"0,0000\")&\" * \"&TEXT(G$4,\"#0/#0\")&\" =\"","v":{"$error":"#N/A"}},{"$error":"#N/A"},{"$error":"#N/A"},{"$error":"#N/A"},{"$error":"#N/A"},{"$error":"#N/A"},{"$error":"#N/A"},{"$error":"#N/A"},{"$error":"#N/A"},{"$error":"#N/A"},{"$error":"#N/A"},{"$error":"#N/A"},{"$error":"#N/A"},{"$error":"#N/A"},{"$error":"#N/A"},{"$error":"#N/A"},{"$error":"#N/A"},{"$error":"#N/A"},{"$error":"#N/A"},{"$error":"#N/A"},{"$error":"#N/A"},{"$error":"#N/A"},{"$error":"#N/A"},{"$error":"#N/A"}]
[null,3,null,null,null,"Fast løn",{"$f":"\"= \"&TEXT(G13,\"#.000,00\")&\" / 12 \"&IF($D50>0,\" * \"&TEXT(G$11,\"0,0000\"),\"\")&IF($E50>0,\" * \"&G$9,\"\")&\" * \"&TEXT(G$4,\"#0/#0\")&\" =\"","v":"= 000,00 / 12  * 0,0000 * 1,155339 * 1/1 ="},"= 000,00 / 12  * 0,0000 * 1,155339 * 1/1 =","= 000,00 / 12  * 0,0000 * 1,159197 * 1/1 =","= 000,00 / 12  * 0,0000 * 1,159197 * 1/1 =","= 000,00 / 12  * 0,0000 * 1,159197 * 1/1 =","= 000,00 / 12  * 0,0000 * 1,159197 * 1/1 =","= 000,00 / 12  * 0,0000 * 1,159197 * 1/1 =","= 000,00 / 12  * 0,0000 * 1,159197 * 1/1 =","= 000,00 / 12  * 0,0000 *  * 1/1 =","= 000,00 / 12  * 0,0000 * 0 * 1/1 =","= 000,00 / 12  * 0,0000 * 0 * 1/1 =","= 000,00 / 12  * 0,0000 * 0 * 1/1 =","= 000,00 / 12  * 0,0000 * 1,155339 * 1/1 =","= 000,00 / 12  * 0,0000 * 1,155339 * 1/1 =","= 000,00 / 12  * 0,0000 * 1,159197 * 1/1 =","= 000,00 / 12  * 0,0000 * 1,159197 * 1/1 =","= 000,00 / 12  * 0,0000 * 1,159197 * 1/1 =","= 000,00 / 12  * 0,0000 * 1,159197 * 1/1 =","= 000,00 / 12  * 0,0000 * 1,159197 * 1/1 =","= 000,00 / 12  * 0,0000 * 1,159197 * 1/1 =","= 000,00 / 12  * 0,0000 * 0 * 1/1 =","= 000,00 / 12  * 0,0000 * 0 * 1/1 =","= 000,00 / 12  * 0,0000 * 0 * 1/1 =","= 000,00 / 12  * 0,0000 * 0 * 1/1 ="]
[null,4,null,null,null,"Sousdheftillæg","= 000,00 / 12  * 1,155339 * 1/1 =","= 000,00 / 12  * 1,155339 * 1/1 =","= 000,00 / 12  * 1,159197 * 1/1 =","= 000,00 / 12  * 1,159197 * 1/1 =","= 000,00 / 12  * 1,159197 * 1/1 =","= 000,00 / 12  * 1,159197 * 1/1 =","= 000,00 / 12  * 1,159197 * 1/1 =","= 000,00 / 12  * 1,159197 * 1/1 =","= 000,00 / 12  *  * 1/1 =","= 000,00 / 12  * 0 * 1/1 =","= 000,00 / 12  * 0 * 1/1 =","= 000,00 / 12  * 0 * 1/1 =","= 000,00 / 12  * 1,155339 * 1/1 =","= 000,00 / 12  * 1,155339 * 1/1 =","= 000,00 / 12  * 1,159197 * 1/1 =","= 000,00 / 12  * 1,159197 * 1/1 =","= 000,00 / 12  * 1,159197 * 1/1 =","= 000,00 / 12  * 1,159197 * 1/1 =","= 000,00 / 12  * 1,159197 * 1/1 =","= 000,00 / 12  * 1,159197 * 1/1 =","= 000,00 / 12  * 0 * 1/1 =","= 000,00 / 12  * 0 * 1/1 =","= 000,00 / 12  * 0 * 1/1 =","= 000,00 / 12  * 0 * 1/1 ="]
[null,5,null,null,null,"Funktionstillæg 1",{"$f":"\"= \"&TEXT(G15,\"#.000,00\")&\" / 12 \"&IF($D52>0,\" * \"&TEXT(G$11,\"0,0000\"),\"\")&IF($E52>0,\" * \"&G$9,\"\")&\" * \"&TEXT(G$4,\"#0/#0\")&\" =\"","v":"= 000,00 / 12  * 1,155339 * 1/1 ="},{"$f":"\"= \"&TEXT(H15,\"#.000,00\")&\" / 12 \"&IF($D52>0,\" * \"&TEXT(H$11,\"0,0000\"),\"\")&IF($E158>0,\" * \"&H$9,\"\")&\" * \"&TEXT(H$4,\"#0/#0\")&\" =\"","v":"= 000,00 / 12  * 1/1 ="},"= 000,00 / 12  * 1/1 =","= 000,00 / 12  * 1/1 =","= 000,00 / 12  * 1/1 =","= 000,00 / 12  * 1/1 =","= 000,00 / 12  * 1/1 =","= 000,00 / 12  * 1/1 =","= 000,00 / 12  * 1/1 =","= 000,00 / 12  * 1/1 =","= 000,00 / 12  * 1/1 =","= 000,00 / 12  * 1/1 =","= 000,00 / 12  * 1/1 =","= 000,00 / 12  * 1/1 =","= 000,00 / 12  * 1/1 =","= 000,00 / 12  * 1/1 =","= 000,00 / 12  * 1/1 =","= 000,00 / 12  * 1/1 =","= 000,00 / 12  * 1/1 =","= 000,00 / 12  * 1/1 =","= 000,00 / 12  * 1/1 =","= 000,00 / 12  * 1/1 =","= 000,00 / 12  * 1/1 =","= 000,00 / 12  * 1/1 ="]
[null,6,null,null,null,"Funktionstillæg 2",{"$f":"\"= \"&TEXT(G16,\"#.000,00\")&\" / 12 \"&IF($D53>0,\" * \"&TEXT(G$11,\"0,0000\"),\"\")&IF($E53>0,\" * \"&G$9,\"\")&\" * \"&TEXT(G$4,\"#0/#0\")&\" =\"","v":"= 000,00 / 12  * 1,155339 * 1/1 ="},"= 000,00 / 12  * 1,155339 * 1/1 =","= 000,00 / 12  * 1,159197 * 1/1 =","= 000,00 / 12  * 1,159197 * 1/1 =","= 000,00 / 12  * 1,159197 * 1/1 =","= 000,00 / 12  * 1,159197 * 1/1 =","= 000,00 / 12  * 1,159197 * 1/1 =","= 000,00 / 12  * 1,159197 * 1/1 =","= 000,00 / 12  *  * 1/1 =","= 000,00 / 12  * 0 * 1/1 =","= 000,00 / 12  * 0 * 1/1 =","= 000,00 / 12  * 0 * 1/1 =","= 000,00 / 12  * 1,155339 * 1/1 =","= 000,00 / 12  * 1,155339 * 1/1 =","= 000,00 / 12  * 1,159197 * 1/1 =","= 000,00 / 12  * 1,159197 * 1/1 =","= 000,00 / 12  * 1,159197 * 1/1 =","= 000,00 / 12  * 1,159197 * 1/1 =","= 000,00 / 12  * 1,159197 * 1/1 =","= 000,00 / 12  * 1,159197 * 1/1 =","= 000,00 / 12  * 0 * 1/1 =","= 000,00 / 12  * 0 * 1/1 =","= 000,00 / 12  * 0 * 1/1 =","= 000,00 / 12  * 0 * 1/1 ="]
[null,7,null,null,null,"Funktionstillæg 3","= 000,00 / 12  * 1,155339 * 1/1 =","= 000,00 / 12  * 1,155339 * 1/1 =","= 000,00 / 12  * 1,159197 * 1/1 =","= 000,00 / 12  * 1,159197 * 1/1 =","= 000,00 / 12  * 1,159197 * 1/1 =","= 000,00 / 12  * 1,159197 * 1/1 =","= 000,00 / 12  * 1,159197 * 1/1 =","= 000,00 / 12  * 1,159197 * 1/1 =","= 000,00 / 12  *  * 1/1 =","= 000,00 / 12  * 0 * 1/1 =","= 000,00 / 12  * 0 * 1/1 =","= 000,00 / 12  * 0 * 1/1 =","= 000,00 / 12  * 1,155339 * 1/1 =","= 000,00 / 12  * 1,155339 * 1/1 =","= 000,00 / 12  * 1,159197 * 1/1 =","= 000,00 / 12  * 1,159197 * 1/1 =","= 000,00 / 12  * 1,159197 * 1/1 =","= 000,00 / 12  * 1,159197 * 1/1 =","= 000,00 / 12  * 1,159197 * 1/1 =","= 000,00 / 12  * 1,159197 * 1/1 =","= 000,00 / 12  * 0 * 1/1 =","= 000,00 / 12  * 0 * 1/1 =","= 000,00 / 12  * 0 * 1/1 =","= 000,00 / 12  * 0 * 1/1 ="]
[null,8,null,null,null,"Kvalifikationstillæg 1","= 000,00 / 12  * 0,0000 * 1,155339 * 1/1 =","= 000,00 / 12  * 0,0000 * 1,155339 * 1/1 =","= 000,00 / 12  * 0,0000 * 1,159197 * 1/1 =","= 000,00 / 12  * 0,0000 * 1,159197 * 1/1 =","= 000,00 / 12  * 0,0000 * 1,159197 * 1/1 =","= 000,00 / 12  * 0,0000 * 1,159197 * 1/1 =","= 000,00 / 12  * 0,0000 * 1,159197 * 1/1 =","= 000,00 / 12  * 0,0000 * 1,159197 * 1/1 =","= 000,00 / 12  * 0,0000 *  * 1/1 =","= 000,00 / 12  * 0,0000 * 0 * 1/1 =","= 000,00 / 12  * 0,0000 * 0 * 1/1 =","= 000,00 / 12  * 0,0000 * 0 * 1/1 =","= 000,00 / 12  * 0,0000 * 1,155339 * 1/1 =","= 000,00 / 12  * 0,0000 * 1,155339 * 1/1 =","= 000,00 / 12  * 0,0000 * 1,159197 * 1/1 =","= 000,00 / 12  * 0,0000 * 1,159197 * 1/1 =","= 000,00 / 12  * 0,0000 * 1,159197 * 1/1 =","= 000,00 / 12  * 0,0000 * 1,159197 * 1/1 =","= 000,00 / 12  * 0,0000 * 1,159197 * 1/1 =","= 000,00 / 12  * 0,0000 * 1,159197 * 1/1 =","= 000,00 / 12  * 0,0000 * 0 * 1/1 =","= 000,00 / 12  * 0,0000 * 0 * 1/1 =","= 000,00 / 12  * 0,0000 * 0 * 1/1 =","= 000,00 / 12  * 0,0000 * 0 * 1/1 ="]
[null,9,null,null,null,"Kvalifikationstillæg 2","= 000,00 / 12  * 0,0000 * 1,155339 * 1/1 =","= 000,00 / 12  * 0,0000 * 1,155339 * 1/1 =","= 000,00 / 12  * 0,0000 * 1,159197 * 1/1 =","= 000,00 / 12  * 0,0000 * 1,159197 * 1/1 =","= 000,00 / 12  * 0,0000 * 1,159197 * 1/1 =","= 000,00 / 12  * 0,0000 * 1,159197 * 1/1 =","= 000,00 / 12  * 0,0000 * 1,159197 * 1/1 =","= 000,00 / 12  * 0,0000 * 1,159197 * 1/1 =","= 000,00 / 12  * 0,0000 *  * 1/1 =","= 000,00 / 12  * 0,0000 * 0 * 1/1 =","= 000,00 / 12  * 0,0000 * 0 * 1/1 =","= 000,00 / 12  * 0,0000 * 0 * 1/1 =","= 000,00 / 12  * 0,0000 * 1,155339 * 1/1 =","= 000,00 / 12  * 0,0000 * 1,155339 * 1/1 =","= 000,00 / 12  * 0,0000 * 1,159197 * 1/1 =","= 000,00 / 12  * 0,0000 * 1,159197 * 1/1 =","= 000,00 / 12  * 0,0000 * 1,159197 * 1/1 =","= 000,00 / 12  * 0,0000 * 1,159197 * 1/1 =","= 000,00 / 12  * 0,0000 * 1,159197 * 1/1 =","= 000,00 / 12  * 0,0000 * 1,159197 * 1/1 =","= 000,00 / 12  * 0,0000 * 0 * 1/1 =","= 000,00 / 12  * 0,0000 * 0 * 1/1 =","= 000,00 / 12  * 0,0000 * 0 * 1/1 =","= 000,00 / 12  * 0,0000 * 0 * 1/1 ="]
[null,10,null,null,null,"Kvalifikationstillæg 3","= 000,00 / 12  * 0,0000 * 1,155339 * 1/1 =","= 000,00 / 12  * 0,0000 * 1,155339 * 1/1 =","= 000,00 / 12  * 0,0000 * 1,159197 * 1/1 =","= 000,00 / 12  * 0,0000 * 1,159197 * 1/1 =","= 000,00 / 12  * 0,0000 * 1,159197 * 1/1 =","= 000,00 / 12  * 0,0000 * 1,159197 * 1/1 =","= 000,00 / 12  * 0,0000 * 1,159197 * 1/1 =","= 000,00 / 12  * 0,0000 * 1,159197 * 1/1 =","= 000,00 / 12  * 0,0000 *  * 1/1 =","= 000,00 / 12  * 0,0000 * 0 * 1/1 =","= 000,00 / 12  * 0,0000 * 0 * 1/1 =","= 000,00 / 12  * 0,0000 * 0 * 1/1 =","= 000,00 / 12  * 0,0000 * 1,155339 * 1/1 =","= 000,00 / 12  * 0,0000 * 1,155339 * 1/1 =","= 000,00 / 12  * 0,0000 * 1,159197 * 1/1 =","= 000,00 / 12  * 0,0000 * 1,159197 * 1/1 =","= 000,00 / 12  * 0,0000 * 1,159197 * 1/1 =","= 000,00 / 12  * 0,0000 * 1,159197 * 1/1 =","= 000,00 / 12  * 0,0000 * 1,159197 * 1/1 =","= 000,00 / 12  * 0,0000 * 1,159197 * 1/1 =","= 000,00 / 12  * 0,0000 * 0 * 1/1 =","= 000,00 / 12  * 0,0000 * 0 * 1/1 =","= 000,00 / 12  * 0,0000 * 0 * 1/1 =","= 000,00 / 12  * 0,0000 * 0 * 1/1 ="]
[null,11,null,null,null,"Udligningstillæg","= 000,00 / 12  * 0,0000 * 1,155339 * 1/1 =","= 000,00 / 12  * 0,0000 * 1,155339 * 1/1 =","= 000,00 / 12  * 0,0000 * 1,159197 * 1/1 =","= 000,00 / 12  * 0,0000 * 1,159197 * 1/1 =","= 000,00 / 12  * 0,0000 * 1,159197 * 1/1 =","= 000,00 / 12  * 0,0000 * 1,159197 * 1/1 =","= 000,00 / 12  * 0,0000 * 1,159197 * 1/1 =","= 000,00 / 12  * 0,0000 * 1,159197 * 1/1 =","= 000,00 / 12  * 0,0000 *  * 1/1 =","= 000,00 / 12  * 0,0000 * 0 * 1/1 =","= 000,00 / 12  * 0,0000 * 0 * 1/1 =","= 000,00 / 12  * 0,0000 * 0 * 1/1 =","= 000,00 / 12  * 0,0000 * 1,155339 * 1/1 =","= 000,00 / 12  * 0,0000 * 1,155339 * 1/1 =","= 000,00 / 12  * 0,0000 * 1,159197 * 1/1 =","= 000,00 / 12  * 0,0000 * 1,159197 * 1/1 =","= 000,00 / 12  * 0,0000 * 1,159197 * 1/1 =","= 000,00 / 12  * 0,0000 * 1,159197 * 1/1 =","= 000,00 / 12  * 0,0000 * 1,159197 * 1/1 =","= 000,00 / 12  * 0,0000 * 1,159197 * 1/1 =","= 000,00 / 12  * 0,0000 * 0 * 1/1 =","= 000,00 / 12  * 0,0000 * 0 * 1/1 =","= 000,00 / 12  * 0,0000 * 0 * 1/1 =","= 000,00 / 12  * 0,0000 * 0 * 1/1 ="]
[null,12,null,null,null,"Gruppelivstillæg",{"$f":"\"= \"&TEXT(G22,\"#.##0,00\")&\" * \"&TEXT(G$4,\"#0/#0\")&\" =\"","v":"= 0,00 * 1/1 ="},{"$f":"\"= \"&TEXT(H22,\"#.##0,00\")&\" * \"&TEXT(H$4,\"#0/#0\")&\" =\"","v":"= 0,00 * 1/1 ="},"= 0,00 * 1/1 =","= 0,00 * 1/1 =","= 0,00 * 1/1 =","= 0,00 * 1/1 =","= 0,00 * 1/1 =","= 0,00 * 1/1 =","= 0,00 * 1/1 =","= 0,00 * 1/1 =","= 0,00 * 1/1 =","= 0,00 * 1/1 =",{"$f":"\"= \"&TEXT(S22,\"#.##0,00\")&\" * \"&TEXT(S$4,\"#0/#0\")&\" =\"","v":"= 0,00 * 1/1 ="},{"$f":"\"= \"&TEXT(T22,\"#.##0,00\")&\" * \"&TEXT(T$4,\"#0/#0\")&\" =\"","v":"= 0,00 * 1/1 ="},"= 0,00 * 1/1 =","= 0,00 * 1/1 =","= 0,00 * 1/1 =","= 0,00 * 1/1 =","= 0,00 * 1/1 =","= 0,00 * 1/1 =","= 0,00 * 1/1 =","= 0,00 * 1/1 =","= 0,00 * 1/1 =","= 0,00 * 1/1 ="]
[null,13,null,null,null,"Lokalaftalt ulempegodtgørelse",{"$f":"\"= \"&TEXT(G23,\"#,00\")&IF($D60>0,\" * \"&TEXT(G$11,\"0,0000\"),\"\")&IF($E60>0,\" * \"&G$9,\"\")&\" * \"&TEXT(G$4,\"#0/#0\")&\" =\"","v":"= ,00 * 1,155339 * 1/1 ="},"= ,00 * 1,155339 * 1/1 =","= ,00 * 1,159197 * 1/1 =","= ,00 * 1,159197 * 1/1 =","= ,00 * 1,159197 * 1/1 =","= ,00 * 1,159197 * 1/1 =","= ,00 * 1,159197 * 1/1 =","= ,00 * 1,159197 * 1/1 =","= ,00 *  * 1/1 =","= ,00 * 0 * 1/1 =","= ,00 * 0 * 1/1 =","= ,00 * 0 * 1/1 =","= ,00 * 1,155339 * 1/1 =","= ,00 * 1,155339 * 1/1 =","= ,00 * 1,159197 * 1/1 =","= ,00 * 1,159197 * 1/1 =","= ,00 * 1,159197 * 1/1 =","= ,00 * 1,159197 * 1/1 =","= ,00 * 1,159197 * 1/1 =","= ,00 * 1,159197 * 1/1 =","= ,00 * 0 * 1/1 =","= ,00 * 0 * 1/1 =","= ,00 * 0 * 1/1 =","= ,00 * 0 * 1/1 ="]
[null,14,null,null,null,"Lønfradrag for ikke optjent ferie mv.",{"$f":"\"= - \"&MAX(0,MIN(G24,G25*1))+G28&\" * \"&IF(G8=\"JA\",\"4,62%\",\"4,8%\")&\" * SUM(Lin. 1 - Lin 12)\"&\" * \"&TEXT(G$4,\"#0/#0\")&\" =\"","v":"= - 0 * 4,62% * SUM(Lin. 1 - Lin 12) * 1/1 ="},{"$f":"\"= - \"&MAX(0,MIN(H24,H25*1))+H28&\" * \"&IF(H8=\"JA\",\"4,62%\",\"4,8%\")&\" * SUM(Lin. 1 - Lin 12) =\"","v":"= - 0 * 4,62% * SUM(Lin. 1 - Lin 12) ="},"= - 0 * 4,62% * SUM(Lin. 1 - Lin 12) =","= - 0 * 4,62% * SUM(Lin. 1 - Lin 12) =","= - 0 * 4,62% * SUM(Lin. 1 - Lin 12) =","= - 0 * 4,62% * SUM(Lin. 1 - Lin 12) =","= - 0 * 4,62% * SUM(Lin. 1 - Lin 12) =","= - 0 * 4,62% * SUM(Lin. 1 - Lin 12) =","= - 0 * 4,62% * SUM(Lin. 1 - Lin 12) =","= - 0 * 4,62% * SUM(Lin. 1 - Lin 12) =","= - 0 * 4,62% * SUM(Lin. 1 - Lin 12) =","= - 0 * 4,62% * SUM(Lin. 1 - Lin 12) =",{"$f":"\"= - \"&MAX(0,MIN(S24,S25*1))+S28&\" * \"&IF(S8=\"JA\",\"4,62%\",\"4,8%\")&\" * SUM(Lin. 1 - Lin 12)\"&\" * \"&TEXT(S$4,\"#0/#0\")&\" =\"","v":"= - 0 * 4,62% * SUM(Lin. 1 - Lin 12) * 1/1 ="},{"$f":"\"= - \"&MAX(0,MIN(T24,T25*1))+T28&\" * \"&IF(T8=\"JA\",\"4,62%\",\"4,8%\")&\" * SUM(Lin. 1 - Lin 12) =\"","v":"= - 0 * 4,62% * SUM(Lin. 1 - Lin 12) ="},"= - 0 * 4,62% * SUM(Lin. 1 - Lin 12) =","= - 0 * 4,62% * SUM(Lin. 1 - Lin 12) =","= - 0 * 4,62% * SUM(Lin. 1 - Lin 12) =","= - 0 * 4,62% * SUM(Lin. 1 - Lin 12) =","= - 0 * 4,62% * SUM(Lin. 1 - Lin 12) =","= - 0 * 4,62% * SUM(Lin. 1 - Lin 12) =","= - 0 * 4,62% * SUM(Lin. 1 - Lin 12) =","= - 0 * 4,62% * SUM(Lin. 1 - Lin 12) =","= - 0 * 4,62% * SUM(Lin. 1 - Lin 12) =","= - 0 * 4,62% * SUM(Lin. 1 - Lin 12) ="]
[null,16,null,null,null,"Feriedifference. Pensionsgivende",null,{"$f":"\"= \"&IF(LEFT(H8)=\"N\",\"( \"&H26&\" - \"&H11&\") * 4,8% * \"&H103&\" * \"&MAX((H24-H25),0)*H104,\"( \"&H26&\" - \"&H11&\") * 4,62% * \"&H103&\" * \"&MAX((H24-H25),0))&\" =\"","v":"= (  - 0) * 4,62% * 0 * 0 ="},"= (  - 0) * 4,62% * 0 * 5 =","= (  - 0) * 4,62% * 0 * 0 =","= (  - 0) * 4,62% * 0 * 0 =","= (  - 0) * 4,62% * 0 * 0 =","= (  - 0) * 4,62% * 0 * 5 =","= (  - 0) * 4,62% * 0 * 0 =","= (  - 0) * 4,62% * 0 * 0 =",{"$f":"\"= \"&IF(LEFT(P8)=\"N\",\"( \"&ROUND(P27,4)&\" - \"&P11&\") * 4,8% * \"&P103&\" * \"&MAX((P24-P25),0)*P104,\"( \"&ROUND(P27,4)&\" - \"&P11&\") * 4,62% * \"&P103&\" * \"&MAX((P24-P25),0))&\" =\"","v":"= ( 0 - 0) * 4,62% * 0 * 0 ="},{"$f":"\"= \"&IF(LEFT(Q8)=\"N\",\"( \"&ROUND(Q27,4)&\" - \"&Q11&\") * 4,8% * \"&Q103&\" * \"&MAX((Q24-Q25),0)*Q104,\"( \"&ROUND(Q27,4)&\" - \"&Q11&\") * 4,62% * \"&Q103&\" * \"&MAX((Q24-Q25),0))&\" =\"","v":"= ( 0 - 0) * 4,62% * 0 * 0 ="},{"$f":"\"= \"&IF(LEFT(R8)=\"N\",\"( \"&ROUND(R27,4)&\" - \"&R11&\") * 4,8% * \"&R103&\" * \"&MAX((R24-R25),0)*R104,\"( \"&ROUND(R27,4)&\" - \"&R11&\") * 4,62% * \"&R103&\" * \"&MAX((R24-R25),0))&\" =\"","v":"= ( 0 - 0) * 4,62% * 0 * 15 ="},null,{"$f":"\"= \"&IF(LEFT(T8)=\"N\",\"( \"&T26&\" - \"&T11&\") * 4,8% * \"&T103&\" * \"&MAX((T24-T25),0)*T104,\"( \"&T26&\" - \"&T11&\") * 4,62% * \"&T103&\" * \"&MAX((T24-T25),0))&\" =\"","v":"= ( 0 - 0) * 4,62% * 0 * 0 ="},"= ( 0 - 0) * 4,62% * 0 * 5 =","= ( 0 - 0) * 4,62% * 0 * 0 =","= ( 0 - 0) * 4,62% * 0 * 0 =","= ( 0 - 0) * 4,62% * 0 * 0 =","= ( 0 - 0) * 4,62% * 0 * 5 =","= ( 0 - 0) * 4,62% * 0 * 0 =","= ( 0 - 0) * 4,62% * 0 * 0 =",{"$f":"\"= \"&IF(LEFT(AB8)=\"N\",\"( \"&ROUND(AB27,4)&\" - \"&AB11&\") * 4,8% * \"&AB103&\" * \"&MAX((AB24-AB25),0)*AB104,\"( \"&ROUND(AB27,4)&\" - \"&AB11&\") * 4,62% * \"&AB103&\" * \"&MAX((AB24-AB25),0))&\" =\"","v":"= ( 0 - 0) * 4,62% * 0 * 0 ="},{"$f":"\"= \"&IF(LEFT(AC8)=\"N\",\"( \"&ROUND(AC27,4)&\" - \"&AC11&\") * 4,8% * \"&AC103&\" * \"&MAX((AC24-AC25),0)*AC104,\"( \"&ROUND(AC27,4)&\" - \"&AC11&\") * 4,62% * \"&AC103&\" * \"&MAX((AC24-AC25),0))&\" =\"","v":"= ( 0 - 0) * 4,62% * 0 * 0 ="},{"$f":"\"= \"&IF(LEFT(AD8)=\"N\",\"( \"&ROUND(AD27,4)&\" - \"&AD11&\") * 4,8% * \"&AD103&\" * \"&MAX((AD24-AD25),0)*AD104,\"( \"&ROUND(AD27,4)&\" - \"&AD11&\") * 4,62% * \"&AD103&\" * \"&MAX((AD24-AD25),0))&\" =\"","v":"= ( 0 - 0) * 4,62% * 0 * 15 ="}]
[null,17,null,null,null,"Feriedifferende. Ikke pensionsgivende"]
[null,18,null,null,null,"Engangsudbetalinger iflg. specifikation",{"$f":"SUBSTITUTE(TRIM(\"=SUM(\"&MAX(G34-8000,0)&\" \"&G35&\" \"&G36&\" \"&G37&\" \"&G38&\" \"&G40&\" \"&G41&\" \"&G42&\" \"&G43&\" \"&G44&\")\"),\" \",\"; \")&\" =\"","v":"=SUM(0; ) ="},{"$f":"SUBSTITUTE(TRIM(\"=SUM(\"&MAX(H34-8000,0)&\" \"&H35&\" \"&H36&\" \"&H37&\" \"&H38&\" \"&H40&\" \"&H41&\" \"&H42&\" \"&H43&\" \"&H44&\")\"),\" \",\"; \")&\" =\"","v":"=SUM(0; ) ="},"=SUM(0; ) =","=SUM(0; ) =","=SUM(0; ) =","=SUM(0; ) =","=SUM(0; ) =","=SUM(0; ) =","=SUM(0; ) =","=SUM(0; ) =","=SUM(0; ) =","=SUM(0; ) =",{"$f":"SUBSTITUTE(TRIM(\"=SUM(\"&MAX(S34-8000,0)&\" \"&S35&\" \"&S36&\" \"&S37&\" \"&S38&\" \"&S40&\" \"&S41&\" \"&S42&\" \"&S43&\" \"&S44&\")\"),\" \",\"; \")&\" =\"","v":"=SUM(0; 0; 0; 0; 0; 0; 0; 0; 0; 0) ="},{"$f":"SUBSTITUTE(TRIM(\"=SUM(\"&MAX(T34-8000,0)&\" \"&T35&\" \"&T36&\" \"&T37&\" \"&T38&\" \"&T40&\" \"&T41&\" \"&T42&\" \"&T43&\" \"&T44&\")\"),\" \",\"; \")&\" =\"","v":"=SUM(0; 0; 0; 0; 0; 0; 0; 0; 0; 0) ="},"=SUM(0; 0; 0; 0; 0; 0; 0; 0; 0; 0) =","=SUM(0; 0; 0; 0; 0; 0; 0; 0; 0; 0) =","=SUM(0; 0; 0; 0; 0; 0; 0; 0; 0; 0) =","=SUM(0; 0; 0; 0; 0; 0; 0; 0; 0; 0) =","=SUM(0; 0; 0; 0; 0; 0; 0; 0; 0; 0) =","=SUM(0; 0; 0; 0; 0; 0; 0; 0; 0; 0) =","=SUM(0; 0; 0; 0; 0; 0; 0; 0; 0; 0) =","=SUM(0; 0; 0; 0; 0; 0; 0; 0; 0; 0) =","=SUM(0; 0; 0; 0; 0; 0; 0; 0; 0; 0) =","=SUM(0; 0; 0; 0; 0; 0; 0; 0; 0; 0) ="]
[null,19,null,null,null,"Skattefri engangsudbetalinger iflg. spec.",{"$f":"SUBSTITUTE(TRIM(\"=SUM(\"&G31&\" * \"&$D31&\" \"&G32&\" * \"&$D32&\" \"&G33&\" \"&MIN(G34,8000)&\")\"),\" \",\"; \")&\" =\"","v":"=SUM(; *; 2,19; *; 3,73; 8000) ="},{"$f":"SUBSTITUTE(TRIM(\"=SUM(\"&H31&\" * \"&$D31&\" \"&H32&\" * \"&$D32&\" \"&H33&\" \"&MIN(H34,8000)&\")\"),\" \",\"; \")&\" =\"","v":"=SUM(; *; 2,19; *; 3,73; 8000) ="},{"$f":"SUBSTITUTE(TRIM(\"=SUM(\"&I31&\" * \"&$D31&\" \"&I32&\" * \"&$D32&\" \"&I33&\" \"&MIN(I34,8000)&\")\"),\" \",\"; \")&\" =\"","v":"=SUM(; *; 2,19; *; 3,73; 8000) ="},{"$f":"SUBSTITUTE(TRIM(\"=SUM(\"&J31&\" * \"&$D31&\" \"&J32&\" * \"&$D32&\" \"&J33&\" \"&MIN(J34,8000)&\")\"),\" \",\"; \")&\" =\"","v":"=SUM(; *; 2,19; *; 3,73; 8000) ="},{"$f":"SUBSTITUTE(TRIM(\"=SUM(\"&K31&\" * \"&$D31&\" \"&K32&\" * \"&$D32&\" \"&K33&\" \"&MIN(K34,8000)&\")\"),\" \",\"; \")&\" =\"","v":"=SUM(; *; 2,19; *; 3,73; 8000) ="},{"$f":"SUBSTITUTE(TRIM(\"=SUM(\"&L31&\" * \"&$E31&\" \"&L32&\" * \"&$E32&\" \"&L33&\" \"&MIN(L34,8000)&\")\"),\" \",\"; \")&\" =\"","v":"=SUM(; *; *; 8000) ="},{"$f":"SUBSTITUTE(TRIM(\"=SUM(\"&M31&\" * \"&$E31&\" \"&M32&\" * \"&$E32&\" \"&M33&\" \"&MIN(M34,8000)&\")\"),\" \",\"; \")&\" =\"","v":"=SUM(; *; *; 8000) ="},"=SUM(; *; *; 8000) =","=SUM(; *; *; 8000) =","=SUM(; *; *; 8000) =","=SUM(; *; *; 8000) =","=SUM(; *; *; 8000) =",{"$f":"SUBSTITUTE(TRIM(\"=SUM(\"&S31&\" * \"&$D31&\" \"&S32&\" * \"&$D32&\" \"&S33&\" \"&MIN(S34,8000)&\")\"),\" \",\"; \")&\" =\"","v":"=SUM(0; *; 2,19; 0; *; 3,73; 0; 0) ="},{"$f":"SUBSTITUTE(TRIM(\"=SUM(\"&T31&\" * \"&$D31&\" \"&T32&\" * \"&$D32&\" \"&T33&\" \"&MIN(T34,8000)&\")\"),\" \",\"; \")&\" =\"","v":"=SUM(0; *; 2,19; 0; *; 3,73; 0; 0) ="},{"$f":"SUBSTITUTE(TRIM(\"=SUM(\"&U31&\" * \"&$D31&\" \"&U32&\" * \"&$D32&\" \"&U33&\" \"&MIN(U34,8000)&\")\"),\" \",\"; \")&\" =\"","v":"=SUM(0; *; 2,19; 0; *; 3,73; 0; 0) ="},{"$f":"SUBSTITUTE(TRIM(\"=SUM(\"&V31&\" * \"&$D31&\" \"&V32&\" * \"&$D32&\" \"&V33&\" \"&MIN(V34,8000)&\")\"),\" \",\"; \")&\" =\"","v":"=SUM(0; *; 2,19; 0; *; 3,73; 0; 0) ="},{"$f":"SUBSTITUTE(TRIM(\"=SUM(\"&W31&\" * \"&$D31&\" \"&W32&\" * \"&$D32&\" \"&W33&\" \"&MIN(W34,8000)&\")\"),\" \",\"; \")&\" =\"","v":"=SUM(0; *; 2,19; 0; *; 3,73; 0; 0) ="},{"$f":"SUBSTITUTE(TRIM(\"=SUM(\"&X31&\" * \"&$E31&\" \"&X32&\" * \"&$E32&\" \"&X33&\" \"&MIN(X34,8000)&\")\"),\" \",\"; \")&\" =\"","v":"=SUM(0; *; 0; *; 0; 0) ="},{"$f":"SUBSTITUTE(TRIM(\"=SUM(\"&Y31&\" * \"&$E31&\" \"&Y32&\" * \"&$E32&\" \"&Y33&\" \"&MIN(Y34,8000)&\")\"),\" \",\"; \")&\" =\"","v":"=SUM(0; *; 0; *; 0; 0) ="},"=SUM(0; *; 0; *; 0; 0) =","=SUM(0; *; 0; *; 0; 0) =","=SUM(0; *; 0; *; 0; 0) =","=SUM(0; *; 0; *; 0; 0) =","=SUM(0; *; 0; *; 0; 0) ="]
[null,20,null,null,null,"Bruttoløn (ekskl. pensionstillæg og ATP)"]
[null,21,null,null,null,"Pensionstillæg skalatrinsløn eller HK-løn",{"$f":"\"= \"&ROUND(VLOOKUP(G12,Skalalontabel12,7,0)*G$9,0)&\" / 12  * \"&TEXT(G$11,\"0,0000\")&\" * \"&G5&\"% / 3 =\"","v":{"$error":"#N/A"}},{"$error":"#N/A"},{"$error":"#N/A"},{"$error":"#N/A"},{"$error":"#N/A"},{"$error":"#N/A"},{"$error":"#N/A"},{"$error":"#N/A"},{"$error":"#N/A"},{"$error":"#N/A"},{"$error":"#N/A"},{"$error":"#N/A"},{"$error":"#N/A"},{"$error":"#N/A"},{"$error":"#N/A"},{"$error":"#N/A"},{"$error":"#N/A"},{"$error":"#N/A"},{"$error":"#N/A"},{"$error":"#N/A"},{"$error":"#N/A"},{"$error":"#N/A"},{"$error":"#N/A"},{"$error":"#N/A"}]
[null,22,null,null,null,"Pensionstillæg fast løn",{"$f":"IF($C50>0,\"= \"&G50&\" * \"&G$5&\"% / 3 =\")","v":"= 0 * % / 3 ="},{"$f":"IF($C50>0,H50&\" * \"&H$5&\"% / 3 =\")","v":"0 * 0% / 3 ="},"0 * 0% / 3 =","0 * 0% / 3 =","0 * 0% / 3 =","0 * 0% / 3 =","0 * 0% / 3 =","0 * 0% / 3 =","0 * 0% / 3 =","0 * 0% / 3 =","0 * 0% / 3 =","0 * 0% / 3 =",{"$f":"IF($C50>0,\"= \"&S50&\" * \"&S$5&\"% / 3 =\")","v":"= 0 * 0% / 3 ="},{"$f":"IF($C50>0,T50&\" * \"&T$5&\"% / 3 =\")","v":"0 * 0% / 3 ="},"0 * 0% / 3 =","0 * 0% / 3 =","0 * 0% / 3 =","0 * 0% / 3 =","0 * 0% / 3 =","0 * 0% / 3 =","0 * 0% / 3 =","0 * 0% / 3 =","0 * 0% / 3 =","0 * 0% / 3 ="]
[null,23,null,null,null,"Pensionstillæg souscheftillæg","= 0 * % / 3 =","0 * 0% / 3 =","0 * 0% / 3 =","0 * 0% / 3 =","0 * 0% / 3 =","0 * 0% / 3 =","0 * 0% / 3 =","0 * 0% / 3 =","0 * 0% / 3 =","0 * 0% / 3 =","0 * 0% / 3 =","0 * 0% / 3 =","= 0 * 0% / 3 =","0 * 0% / 3 =","0 * 0% / 3 =","0 * 0% / 3 =","0 * 0% / 3 =","0 * 0% / 3 =","0 * 0% / 3 =","0 * 0% / 3 =","0 * 0% / 3 =","0 * 0% / 3 =","0 * 0% / 3 =","0 * 0% / 3 ="]
[null,24,null,null,null,"Pensionstillæg Funktionstillæg 1","= 0 * % / 3 =","0 * 0% / 3 =","0 * 0% / 3 =","0 * 0% / 3 =","0 * 0% / 3 =","0 * 0% / 3 =","0 * 0% / 3 =","0 * 0% / 3 =","0 * 0% / 3 =","0 * 0% / 3 =","0 * 0% / 3 =","0 * 0% / 3 =","= 0 * 0% / 3 =","0 * 0% / 3 =","0 * 0% / 3 =","0 * 0% / 3 =","0 * 0% / 3 =","0 * 0% / 3 =","0 * 0% / 3 =","0 * 0% / 3 =","0 * 0% / 3 =","0 * 0% / 3 =","0 * 0% / 3 =","0 * 0% / 3 ="]
[null,25,null,null,null,"Pensionstillæg Funktionstillæg 2","= 0 * % / 3 =","0 * 0% / 3 =","0 * 0% / 3 =","0 * 0% / 3 =","0 * 0% / 3 =","0 * 0% / 3 =","0 * 0% / 3 =","0 * 0% / 3 =","0 * 0% / 3 =","0 * 0% / 3 =","0 * 0% / 3 =","0 * 0% / 3 =","= 0 * 0% / 3 =","0 * 0% / 3 =","0 * 0% / 3 =","0 * 0% / 3 =","0 * 0% / 3 =","0 * 0% / 3 =","0 * 0% / 3 =","0 * 0% / 3 =","0 * 0% / 3 =","0 * 0% / 3 =","0 * 0% / 3 =","0 * 0% / 3 ="]
[null,26,null,null,null,"Pensionstillæg Funktionstillæg 3","= 0 * % / 3 =","0 * 0% / 3 =","0 * 0% / 3 =","0 * 0% / 3 =","0 * 0% / 3 =","0 * 0% / 3 =","0 * 0% / 3 =","0 * 0% / 3 =","0 * 0% / 3 =","0 * 0% / 3 =","0 * 0% / 3 =","0 * 0% / 3 =","= 0 * 0% / 3 =","0 * 0% / 3 =","0 * 0% / 3 =","0 * 0% / 3 =","0 * 0% / 3 =","0 * 0% / 3 =","0 * 0% / 3 =","0 * 0% / 3 =","0 * 0% / 3 =","0 * 0% / 3 =","0 * 0% / 3 =","0 * 0% / 3 ="]
[null,27,null,null,null,"Pensionstillæg Kvalifikationstillæg 1","= 0 * % / 3 =","0 * 0% / 3 =","0 * 0% / 3 =","0 * 0% / 3 =","0 * 0% / 3 =","0 * 0% / 3 =","0 * 0% / 3 =","0 * 0% / 3 =","0 * 0% / 3 =","0 * 0% / 3 =","0 * 0% / 3 =","0 * 0% / 3 =","= 0 * 0% / 3 =","0 * 0% / 3 =","0 * 0% / 3 =","0 * 0% / 3 =","0 * 0% / 3 =","0 * 0% / 3 =","0 * 0% / 3 =","0 * 0% / 3 =","0 * 0% / 3 =","0 * 0% / 3 =","0 * 0% / 3 =","0 * 0% / 3 ="]
[null,28,null,null,null,"Pensionstillæg Kvalifikationstillæg 2","= 0 * % / 3 =","0 * 0% / 3 =","0 * 0% / 3 =","0 * 0% / 3 =","0 * 0% / 3 =","0 * 0% / 3 =","0 * 0% / 3 =","0 * 0% / 3 =","0 * 0% / 3 =","0 * 0% / 3 =","0 * 0% / 3 =","0 * 0% / 3 =","= 0 * 0% / 3 =","0 * 0% / 3 =","0 * 0% / 3 =","0 * 0% / 3 =","0 * 0% / 3 =","0 * 0% / 3 =","0 * 0% / 3 =","0 * 0% / 3 =","0 * 0% / 3 =","0 * 0% / 3 =","0 * 0% / 3 =","0 * 0% / 3 ="]
[null,29,null,null,null,"Pensionstillæg Kvalifikationstillæg 3","= 0 * % / 3 =","0 * 0% / 3 =","0 * 0% / 3 =","0 * 0% / 3 =","0 * 0% / 3 =","0 * 0% / 3 =","0 * 0% / 3 =","0 * 0% / 3 =","0 * 0% / 3 =","0 * 0% / 3 =","0 * 0% / 3 =","0 * 0% / 3 =","= 0 * 0% / 3 =","0 * 0% / 3 =","0 * 0% / 3 =","0 * 0% / 3 =","0 * 0% / 3 =","0 * 0% / 3 =","0 * 0% / 3 =","0 * 0% / 3 =","0 * 0% / 3 =","0 * 0% / 3 =","0 * 0% / 3 =","0 * 0% / 3 ="]
[null,30,null,null,null,"Pensionstillæg af udligningstillæg","= 0 * % / 3 =","0 * 0% / 3 =","0 * 0% / 3 =","0 * 0% / 3 =","0 * 0% / 3 =","0 * 0% / 3 =","0 * 0% / 3 =","0 * 0% / 3 =","0 * 0% / 3 =","0 * 0% / 3 =","0 * 0% / 3 =","0 * 0% / 3 =","= 0 * 0% / 3 =","0 * 0% / 3 =","0 * 0% / 3 =","0 * 0% / 3 =","0 * 0% / 3 =","0 * 0% / 3 =","0 * 0% / 3 =","0 * 0% / 3 =","0 * 0% / 3 =","0 * 0% / 3 =","0 * 0% / 3 =","0 * 0% / 3 ="]
[null,31,null,null,null,"Fradrag i pensionstillæg for ikke optjent ferie mv.",{"$f":"\"= \"&G61&\" * \"&G$5&\"% / 3 =\"","v":"= 0 * % / 3 ="},"= 0 * 0% / 3 =","= 0 * 0% / 3 =","= 0 * 0% / 3 =","= 0 * 0% / 3 =","= 0 * 0% / 3 =","= 0 * 0% / 3 =","= 0 * 0% / 3 =","= 0 * 0% / 3 =","= 0 * 0% / 3 =","= 0 * 0% / 3 =","= 0 * 0% / 3 =","= 0 * 0% / 3 =","= 0 * 0% / 3 =","= 0 * 0% / 3 =","= 0 * 0% / 3 =","= 0 * 0% / 3 =","= 0 * 0% / 3 =","= 0 * 0% / 3 =","= 0 * 0% / 3 =","= 0 * 0% / 3 =","= 0 * 0% / 3 =","= 0 * 0% / 3 =","= 0 * 0% / 3 ="]
[null,32,null,null,null,"Pensionstillæg af feriedifference","= 0 * % / 3 =","= 0 * 0% / 3 =","= 0 * 0% / 3 =","= 0 * 0% / 3 =","= 0 * 0% / 3 =","= 0 * 0% / 3 =","= 0 * 0% / 3 =","= 0 * 0% / 3 =","= 0 * 0% / 3 =","= 0 * 0% / 3 =","= 0 * 0% / 3 =","= 0 * 0% / 3 =","= 0 * 0% / 3 =","= 0 * 0% / 3 =","= 0 * 0% / 3 =","= 0 * 0% / 3 =","= 0 * 0% / 3 =","= 0 * 0% / 3 =","= 0 * 0% / 3 =","= 0 * 0% / 3 =","= 0 * 0% / 3 =","= 0 * 0% / 3 =","= 0 * 0% / 3 =","= 0 * 0% / 3 ="]
[null,33,null,null,null,"Pensionstillæg af pensiong. engangstillæg",{"$f":"SUBSTITUTE(TRIM(\"=SUM(\"&IF($G36>0,G36&\" \",\"\")&IF($C40<>\"\",G40&\" \",\"\")&IF($C41<>\"\",G41&\" \",\"\")&IF($C42<>\"\",G42&\" \",\"\")&IF($C43<>\"\",G43&\" \",\"\")&IF($C44<>\"\",G44,\"\")&\")\"),\" \",\"; \")&\" * \"&G5&\"% / 3 =\"","v":"=SUM(; ) * % / 3 ="},"=SUM(; ) * 0% / 3 =","=SUM(; ) * 0% / 3 =","=SUM(; ) * 0% / 3 =","=SUM(; ) * 0% / 3 =","=SUM(; ) * 0% / 3 =","=SUM(; ) * 0% / 3 =","=SUM(; ) * 0% / 3 =","=SUM(; ) * 0% / 3 =","=SUM(; ) * 0% / 3 =","=SUM(; ) * 0% / 3 =","=SUM(; ) * 0% / 3 =","=SUM(0; 0; 0; ) * 0% / 3 =","=SUM(0; 0; 0; ) * 0% / 3 =","=SUM(0; 0; 0; ) * 0% / 3 =","=SUM(0; 0; 0; ) * 0% / 3 =","=SUM(0; 0; 0; ) * 0% / 3 =","=SUM(0; 0; 0; ) * 0% / 3 =","=SUM(0; 0; 0; ) * 0% / 3 =","=SUM(0; 0; 0; ) * 0% / 3 =","=SUM(0; 0; 0; ) * 0% / 3 =","=SUM(0; 0; 0; ) * 0% / 3 =","=SUM(0; 0; 0; ) * 0% / 3 =","=SUM(0; 0; 0; ) * 0% / 3 ="]
[null,34,null,null,null,"Ekstra pension ved orlov uden løn","Ekstra pension ved orlov uden løn","Ekstra pension ved orlov uden løn","Ekstra pension ved orlov uden løn","Ekstra pension ved orlov uden løn","Ekstra pension ved orlov uden løn","Ekstra pension ved orlov uden løn","Ekstra pension ved orlov uden løn","Ekstra pension ved orlov uden løn","Ekstra pension ved orlov uden løn","Ekstra pension ved orlov uden løn","Ekstra pension ved orlov uden løn","Ekstra pension ved orlov uden løn"]
[null,35,null,null,null,"Pensionstillæg i alt"]
[null,36,null,null,null,"Egetbidrag til ATP"]
[null,37,null,null,null,"AMB-grundlag",{"$f":"\"= SUM(Lin. 1 - Lin. 14) + SUM(Lin 19 - Lin28) - \"&G86&\" =\"","v":"= SUM(Lin. 1 - Lin. 14) + SUM(Lin 19 - Lin28) - 0 ="},{"$f":"\"= SUM(Lin. 1 - Lin. 14) + SUM(Lin 19 - Lin28) - \"&H86&\" =\"","v":"= SUM(Lin. 1 - Lin. 14) + SUM(Lin 19 - Lin28) - 0 ="},"= SUM(Lin. 1 - Lin. 14) + SUM(Lin 19 - Lin28) - 0 =","= SUM(Lin. 1 - Lin. 14) + SUM(Lin 19 - Lin28) - 0 =","= SUM(Lin. 1 - Lin. 14) + SUM(Lin 19 - Lin28) - 0 =","= SUM(Lin. 1 - Lin. 14) + SUM(Lin 19 - Lin28) - 0 =","= SUM(Lin. 1 - Lin. 14) + SUM(Lin 19 - Lin28) - 0 =","= SUM(Lin. 1 - Lin. 14) + SUM(Lin 19 - Lin28) - 0 =","= SUM(Lin. 1 - Lin. 14) + SUM(Lin 19 - Lin28) - 0 =","= SUM(Lin. 1 - Lin. 14) + SUM(Lin 19 - Lin28) - 0 =","= SUM(Lin. 1 - Lin. 14) + SUM(Lin 19 - Lin28) - 0 =","= SUM(Lin. 1 - Lin. 14) + SUM(Lin 19 - Lin28) - 0 =",{"$f":"\"= SUM(Lin. 1 - Lin. 14) + SUM(Lin 19 - Lin28) - \"&S86&\" =\"","v":"= SUM(Lin. 1 - Lin. 14) + SUM(Lin 19 - Lin28) - 0 ="},{"$f":"\"= SUM(Lin. 1 - Lin. 14) + SUM(Lin 19 - Lin28) - \"&T86&\" =\"","v":"= SUM(Lin. 1 - Lin. 14) + SUM(Lin 19 - Lin28) - 0 ="},"= SUM(Lin. 1 - Lin. 14) + SUM(Lin 19 - Lin28) - 0 =","= SUM(Lin. 1 - Lin. 14) + SUM(Lin 19 - Lin28) - 0 =","= SUM(Lin. 1 - Lin. 14) + SUM(Lin 19 - Lin28) - 0 =","= SUM(Lin. 1 - Lin. 14) + SUM(Lin 19 - Lin28) - 0 =","= SUM(Lin. 1 - Lin. 14) + SUM(Lin 19 - Lin28) - 0 =","= SUM(Lin. 1 - Lin. 14) + SUM(Lin 19 - Lin28) - 0 =","= SUM(Lin. 1 - Lin. 14) + SUM(Lin 19 - Lin28) - 0 =","= SUM(Lin. 1 - Lin. 14) + SUM(Lin 19 - Lin28) - 0 =","= SUM(Lin. 1 - Lin. 14) + SUM(Lin 19 - Lin28) - 0 =","= SUM(Lin. 1 - Lin. 14) + SUM(Lin 19 - Lin28) - 0 ="]
[null,38,null,null,null,"AM-bidrag",{"$f":"\"= \"&G87&\" * 8% (afrundet) =\"","v":"= 0 * 8% (afrundet) ="},{"$f":"\"= \"&H87&\" * 8% (afrundet) =\"","v":"= 0 * 8% (afrundet) ="},"= 0 * 8% (afrundet) =","= 0 * 8% (afrundet) =","= 0 * 8% (afrundet) =","= 0 * 8% (afrundet) =","= 0 * 8% (afrundet) =","= 0 * 8% (afrundet) =","= 0 * 8% (afrundet) =","= 0 * 8% (afrundet) =","= 0 * 8% (afrundet) =","= 0 * 8% (afrundet) =",{"$f":"\"= \"&S87&\" * 8% (afrundet) =\"","v":"= 0 * 8% (afrundet) ="},{"$f":"\"= \"&T87&\" * 8% (afrundet) =\"","v":"= 0 * 8% (afrundet) ="},"= 0 * 8% (afrundet) =","= 0 * 8% (afrundet) =","= 0 * 8% (afrundet) =","= 0 * 8% (afrundet) =","= 0 * 8% (afrundet) =","= 0 * 8% (afrundet) =","= 0 * 8% (afrundet) =","= 0 * 8% (afrundet) =","= 0 * 8% (afrundet) =","= 0 * 8% (afrundet) ="]
[null,39,null,null,null,"A-indkomst",{"$f":"\"= \"&G87&\" - \"&G88&\" =\"","v":"= 0 - 0 ="},{"$f":"\"= \"&H87&\" - \"&H88&\" =\"","v":"= 0 - 0 ="},"= 0 - 0 =","= 0 - 0 =","= 0 - 0 =","= 0 - 0 =","= 0 - 0 =","= 0 - 0 =","= 0 - 0 =","= 0 - 0 =","= 0 - 0 =","= 0 - 0 =",{"$f":"\"= \"&S87&\" - \"&S88&\" =\"","v":"= 0 - 0 ="},{"$f":"\"= \"&T87&\" - \"&T88&\" =\"","v":"= 0 - 0 ="},"= 0 - 0 =","= 0 - 0 =","= 0 - 0 =","= 0 - 0 =","= 0 - 0 =","= 0 - 0 =","= 0 - 0 =","= 0 - 0 =","= 0 - 0 =","= 0 - 0 ="]
[null,40,null,null,null,"Skattegrundlag"]
[null,41,null,null,null,"Skat",{"$f":"\"= (\"&G89&\" - \"&G30&\") (afrundet) * \"&G29&\" / 100 =\"","v":"= (0 - ) (afrundet) *  / 100 ="},{"$f":"\"= (\"&H89&\" - \"&H30&\") (afrundet) * \"&H29&\" / 100 =\"","v":"= (0 - 0) (afrundet) * 0 / 100 ="},"= (0 - 0) (afrundet) * 0 / 100 =","= (0 - 0) (afrundet) * 0 / 100 =","= (0 - 0) (afrundet) * 0 / 100 =","= (0 - 0) (afrundet) * 0 / 100 =","= (0 - 0) (afrundet) * 0 / 100 =","= (0 - 0) (afrundet) * 0 / 100 =","= (0 - 0) (afrundet) * 0 / 100 =","= (0 - 0) (afrundet) * 0 / 100 =","= (0 - 0) (afrundet) * 0 / 100 =","= (0 - 0) (afrundet) * 0 / 100 =",{"$f":"\"= (\"&S89&\" - \"&S30&\") (afrundet) * \"&S29&\" / 100 =\"","v":"= (0 - 0) (afrundet) * 0 / 100 ="},{"$f":"\"= (\"&T89&\" - \"&T30&\") (afrundet) * \"&T29&\" / 100 =\"","v":"= (0 - 0) (afrundet) * 0 / 100 ="},"= (0 - 0) (afrundet) * 0 / 100 =","= (0 - 0) (afrundet) * 0 / 100 =","= (0 - 0) (afrundet) * 0 / 100 =","= (0 - 0) (afrundet) * 0 / 100 =","= (0 - 0) (afrundet) * 0 / 100 =","= (0 - 0) (afrundet) * 0 / 100 =","= (0 - 0) (afrundet) * 0 / 100 =","= (0 - 0) (afrundet) * 0 / 100 =","= (0 - 0) (afrundet) * 0 / 100 =","= (0 - 0) (afrundet) * 0 / 100 ="]
[null,42,null,null,null,"Feriegodtgørelsesgrundlag"]
[null,43,null,null,null,{"$f":"\"Feriegodtgørelsesgrundlag, jan-juli \"&Aar+1","v":"Feriegodtgørelsesgrundlag, jan-juli 1"}]
[null,44,null,null,null,"Egetbidrag til pensionskasse",{"$f":"\"= Lin. 43 =\"","v":"= Lin. 43 ="},{"$f":"\"= Lin. 43 =\"","v":"= Lin. 43 ="},"= Lin. 43 =","= Lin. 43 =","= Lin. 43 =","= Lin. 43 =","= Lin. 43 =","= Lin. 43 =","= Lin. 43 =","= Lin. 43 =","= Lin. 43 =","= Lin. 43 =",{"$f":"\"= Lin. 43 =\"","v":"= Lin. 43 ="},"= Lin. 43 =","= Lin. 43 =","= Lin. 43 =","= Lin. 43 =","= Lin. 43 =","= Lin. 43 =","= Lin. 43 =","= Lin. 43 =","= Lin. 43 =","= Lin. 43 =","= Lin. 43 ="]
[null,45,null,null,null,"Arbejdsgiverbidrag til pensionskasse",{"$f":"\"= Lin. 43 * 2 =\"","v":"= Lin. 43 * 2 ="},{"$f":"\"= Lin. 43 * 2 =\"","v":"= Lin. 43 * 2 ="},"= Lin. 43 * 2 =","= Lin. 43 * 2 =","= Lin. 43 * 2 =","= Lin. 43 * 2 =","= Lin. 43 * 2 =","= Lin. 43 * 2 =","= Lin. 43 * 2 =","= Lin. 43 * 2 =","= Lin. 43 * 2 =","= Lin. 43 * 2 =",{"$f":"\"= Lin. 43 * 2 =\"","v":"= Lin. 43 * 2 ="},"= Lin. 43 * 2 =","= Lin. 43 * 2 =","= Lin. 43 * 2 =","= Lin. 43 * 2 =","= Lin. 43 * 2 =","= Lin. 43 * 2 =","= Lin. 43 * 2 =","= Lin. 43 * 2 =","= Lin. 43 * 2 =","= Lin. 43 * 2 =","= Lin. 43 * 2 ="]
[null,46,null,null,null,"Arbejdsgiverbidrag til ATP",{"$f":"\"= Lin. 44 * 2 =\"","v":"= Lin. 44 * 2 ="},{"$f":"\"= Lin. 44 * 2 =\"","v":"= Lin. 44 * 2 ="},"= Lin. 44 * 2 =","= Lin. 44 * 2 =","= Lin. 44 * 2 =","= Lin. 44 * 2 =","= Lin. 44 * 2 =","= Lin. 44 * 2 =","= Lin. 44 * 2 =","= Lin. 44 * 2 =","= Lin. 44 * 2 =","= Lin. 44 * 2 =",{"$f":"\"= Lin. 44 * 2 =\"","v":"= Lin. 44 * 2 ="},"= Lin. 44 * 2 =","= Lin. 44 * 2 =","= Lin. 44 * 2 =","= Lin. 44 * 2 =","= Lin. 44 * 2 =","= Lin. 44 * 2 =","= Lin. 44 * 2 =","= Lin. 44 * 2 =","= Lin. 44 * 2 =","= Lin. 44 * 2 =","= Lin. 44 * 2 ="]
[null,47,null,null,null,"Skolens samlede indbetaling til pensionskasse",{"$f":"\"= Lin. 51 + Lin. 52 =\"","v":"= Lin. 51 + Lin. 52 ="},{"$f":"\"= Lin. 51 + Lin. 52 =\"","v":"= Lin. 51 + Lin. 52 ="},"= Lin. 51 + Lin. 52 =","= Lin. 51 + Lin. 52 =","= Lin. 51 + Lin. 52 =","= Lin. 51 + Lin. 52 =","= Lin. 51 + Lin. 52 =","= Lin. 51 + Lin. 52 =","= Lin. 51 + Lin. 52 =","= Lin. 51 + Lin. 52 =","= Lin. 51 + Lin. 52 =","= Lin. 51 + Lin. 52 =",{"$f":"\"= Lin. 51 + Lin. 52 =\"","v":"= Lin. 51 + Lin. 52 ="},"= Lin. 51 + Lin. 52 =","= Lin. 51 + Lin. 52 =","= Lin. 51 + Lin. 52 =","= Lin. 51 + Lin. 52 =","= Lin. 51 + Lin. 52 =","= Lin. 51 + Lin. 52 =","= Lin. 51 + Lin. 52 =","= Lin. 51 + Lin. 52 =","= Lin. 51 + Lin. 52 =","= Lin. 51 + Lin. 52 =","= Lin. 51 + Lin. 52 ="]
[null,48,null,null,null,"Skolens samlede indbetaling til ATP",{"$f":"\"= Lin. 44 + Lin. 53 =\"","v":"= Lin. 44 + Lin. 53 ="},{"$f":"\"= Lin. 44 + Lin. 53 =\"","v":"= Lin. 44 + Lin. 53 ="},"= Lin. 44 + Lin. 53 =","= Lin. 44 + Lin. 53 =","= Lin. 44 + Lin. 53 =","= Lin. 44 + Lin. 53 =","= Lin. 44 + Lin. 53 =","= Lin. 44 + Lin. 53 =","= Lin. 44 + Lin. 53 =","= Lin. 44 + Lin. 53 =","= Lin. 44 + Lin. 53 =","= Lin. 44 + Lin. 53 =",{"$f":"\"= Lin. 44 + Lin. 53 =\"","v":"= Lin. 44 + Lin. 53 ="},"= Lin. 44 + Lin. 53 =","= Lin. 44 + Lin. 53 =","= Lin. 44 + Lin. 53 =","= Lin. 44 + Lin. 53 =","= Lin. 44 + Lin. 53 =","= Lin. 44 + Lin. 53 =","= Lin. 44 + Lin. 53 =","= Lin. 44 + Lin. 53 =","= Lin. 44 + Lin. 53 =","= Lin. 44 + Lin. 53 =","= Lin. 44 + Lin. 53 ="]
[null,49,null,null,null,"Indbetaling til Gruppeliv"]
[null,50,null,null,null,"Løn til den ansattes disposition",{"$f":"\"= \"&G70&\" - ( \"&G91&\" + \"&G86&\" + \"&G88&\" + \"&G99&\") - SUM(lin 57 : 59) =\"","v":"= 0 - ( 0 + 0 + 0 + 0) - SUM(lin 57 : 59) ="},{"$f":"\"= \"&H70&\" - ( \"&H91&\" + \"&H86&\" + \"&H88&\" + \"&H99&\") - SUM(lin 57 : 59) =\"","v":"= 0 - ( 0 + 0 + 0 + 0) - SUM(lin 57 : 59) ="},"= 0 - ( 0 + 0 + 0 + 0) - SUM(lin 57 : 59) =","= 0 - ( 0 + 0 + 0 + 0) - SUM(lin 57 : 59) =","= 0 - ( 0 + 0 + 0 + 0) - SUM(lin 57 : 59) =","= 0 - ( 0 + 0 + 0 + 0) - SUM(lin 57 : 59) =","= 0 - ( 0 + 0 + 0 + 0) - SUM(lin 57 : 59) =","= 0 - ( 0 + 0 + 0 + 0) - SUM(lin 57 : 59) =","= 0 - ( 0 + 0 + 0 + 0) - SUM(lin 57 : 59) =","= 0 - ( 0 + 0 + 0 + 0) - SUM(lin 57 : 59) =","= 0 - ( 0 + 0 + 0 + 0) - SUM(lin 57 : 59) =","= 0 - ( 0 + 0 + 0 + 0) - SUM(lin 57 : 59) =",{"$f":"\"= \"&S70&\" - ( \"&S91&\" + \"&S86&\" + \"&S88&\" + \"&S99&\") - SUM(lin 57 : 59) =\"","v":"= 0 - ( 0 + 0 + 0 + 0) - SUM(lin 57 : 59) ="},{"$f":"\"= \"&T70&\" - ( \"&T91&\" + \"&T86&\" + \"&T88&\" + \"&T99&\") - SUM(lin 57 : 59) =\"","v":"= 0 - ( 0 + 0 + 0 + 0) - SUM(lin 57 : 59) ="},"= 0 - ( 0 + 0 + 0 + 0) - SUM(lin 57 : 59) =","= 0 - ( 0 + 0 + 0 + 0) - SUM(lin 57 : 59) =","= 0 - ( 0 + 0 + 0 + 0) - SUM(lin 57 : 59) =","= 0 - ( 0 + 0 + 0 + 0) - SUM(lin 57 : 59) =","= 0 - ( 0 + 0 + 0 + 0) - SUM(lin 57 : 59) =","= 0 - ( 0 + 0 + 0 + 0) - SUM(lin 57 : 59) =","= 0 - ( 0 + 0 + 0 + 0) - SUM(lin 57 : 59) =","= 0 - ( 0 + 0 + 0 + 0) - SUM(lin 57 : 59) =","= 0 - ( 0 + 0 + 0 + 0) - SUM(lin 57 : 59) =","= 0 - ( 0 + 0 + 0 + 0) - SUM(lin 57 : 59) ="]
[null,51,null,null,null,{"$f":"\"Feriepengeberegningsgrundlag, jan-dec \"&Aar","v":"Feriepengeberegningsgrundlag, jan-dec "}]
[null,null,null,null,null,{"$f":"\"Feriepengeberegningsgrundlag, jan-jul \"&Aar+1","v":"Feriepengeberegningsgrundlag, jan-jul 1"}]

{"sheet":"Y","index":16,"n_rows":204,"n_cols":32,"rows_kept":204,"cut":false,"hidden":false,"merged":[[3,0,27,0],[28,0,29,0],[29,2,31,2],[44,2,46,4],[101,6,101,10],[101,18,101,22],[0,2,2,2],[0,3,2,3],[0,4,2,4]]}
["2022-2023",1,"Pensionsg.","BG-afh.","Regu-leret","Lønberegning for: (navn eller initialer)\n - variable løndele i lin. 30-43.","Y",{"$f":"G1","v":"Y"},{"$f":"H1","v":"Y"},"Y","Y","Y","Y","Y","Y","Y","Y","Y","Q",{"$f":"S1","v":"Q"},{"$f":"T1","v":"Q"},"Q","Q","Q","Q","Q","Q","Q","Q","Q","Udfyld gule felter (alle forudfyldte tal i gule felter er eksempler)"]
[null,{"$f":"B1+1","v":2},null,null,null,"Stillingsbetegnelse","Pædagog",{"$f":"G2","v":"Pædagog"},"Pædagog","Pædagog","Pædagog","Pædagog","Pædagog","Pædagog","Pædagog","Pædagog","Pædagog","Pædagog","Stilling",{"$f":"S2","v":"Stilling"},"Stilling","Stilling","Stilling","Stilling","Stilling","Stilling","Stilling","Stilling","Stilling","Stilling"]
[null,{"$f":"B2+1","v":3},null,null,null,"Måned",{"$f":"\"AUG \"&RIGHT(A1,2)+0","v":"AUG 23"},{"$f":"\"SEP \"&RIGHT(A1,2)+0","v":"SEP 23"},{"$f":"\"OKT \"&RIGHT(A1,2)+0","v":"OKT 23"},{"$f":"\"NOV \"&RIGHT(A1,2)+0","v":"NOV 23"},{"$f":"\"DEC \"&RIGHT(A1,2)+0","v":"DEC 23"},{"$f":"\"JAN \"&RIGHT(A1,2)+1","v":"JAN 24"},{"$f":"\"FEB \"&RIGHT(A1,2)+1","v":"FEB 24"},{"$f":"\"MAR \"&RIGHT(A1,2)+1","v":"MAR 24"},{"$f":"\"APR \"&RIGHT(A1,2)+1","v":"APR 24"},{"$f":"\"MAJ \"&RIGHT(A1,2)+1","v":"MAJ 24"},{"$f":"\"JUN \"&RIGHT(A1,2)+1","v":"JUN 24"},{"$f":"\"JUL \"&RIGHT(A1,2)+1","v":"JUL 24"},{"$f":"G3","v":"AUG 23"},{"$f":"H3","v":"SEP 23"},"OKT 23","NOV 23","DEC 23","JAN 24","FEB 24","MAR 24","APR 24","MAJ 24","JUN 24","JUL 24","ansat d. "]
[null,{"$f":"B3+1","v":4},"sæt 'x'","sæt 'x'","sæt 'x'","Del af måned \nantal kalenderdage/månedens kalenderdage",1,{"$f":"G4","v":1},{"$f":"H4","v":1},1,1,1,1,1,1,1,1,1,{"$f":"G4","v":1},1,1,1,1,1,1,1,1,1,1,1,"Hvis ansat 10 oktober: 21/31\nHvis fratrådt 15. april: 15/30",2]
[null,{"$f":"B4+1","v":5},null,null,null,"Pensionsprocent",null,{"$f":"$G5","v":0},0,0,0,0,0,0,0,0,0,0,{"$f":"G5","v":0},0,0,0,0,0,0,0,0,0,0,0,"Skriv ikke procenttegnet, fx 14,7% - skriv 14,70",3]
[null,{"$f":"B5+1","v":6},null,null,null,"Betales hele pensionen af skolen? JA/NEJ","Ja",{"$f":"G6","v":"Ja"},{"$f":"H6","v":"Ja"},"Ja","Ja","Ja","Ja","Ja","Ja","Ja","Ja","Ja",{"$f":"G6","v":"Ja"},"Ja","Ja","Ja","Ja","Ja","Ja","Ja","Ja","Ja","Ja","Ja","Se ansættelsesbrev",4]
[null,null,null,null,null,"Har den ansatte orlov uden løn men med pension?","Nej",{"$f":"G7","v":"Nej"},"Nej","Nej","Nej","Nej","Nej","Nej","Nej","Nej","Nej","Nej"]
[null,{"$f":"B6+1","v":7},null,null,null,"Beregnes feriedifferende mv. efter Ferieaftalen i staten JA, eller efter Ferieloven NEJ","JA",{"$f":"G8","v":"JA"},"JA","JA","JA","JA","JA","JA","JA","JA","JA","JA",{"$f":"G8","v":"JA"},{"$f":"H8","v":"JA"},"JA","JA","JA","JA","JA","JA","JA","JA","JA","JA","Ferieloven: mindst 20% differende, Ferieaftalen: enhver differende",5]
[null,{"$f":"B8+1","v":8},null,null,null,"Procentregulering +1",1.1553389999999999,1.1553389999999999,1.159197,1.159197,{"$f":"J9","v":1.159197},1.159197,1.159197,1.159197,null,{"$f":"O9","v":0},{"$f":"P9","v":0},{"$f":"Q9","v":0},{"$f":"G9","v":1.1553389999999999},1.1553389999999999,1.159197,1.159197,1.159197,1.159197,1.159197,1.159197,0,0,0,0,null,6]
[null,9,null,null,null,"Skolens stedtillægsområde",null,{"$f":"G10","v":0},0,0,0,0,0,0,0,0,0,0,{"$f":"G10","v":0},0,0,0,0,0,0,0,0,0,0,0]
[null,10,null,null,null,"Beskæftigelsesgrad aktuel (Beskæftigelsesgrad løn beregnes ud fra)",null,{"$f":"G11","v":0},0,0,0,0,0,0,0,{"$f":"O11","v":0},0,0,0,0,0,0,0,0,0,0,0,0,0,0]
[null,{"$f":"B11+1","v":11},"x","x","x","Skalatrin",null,{"$f":"G12","v":0},0,0,0,0,0,0,0,0,0,0,0,0,0,0,0,0,0,0,0,0,0,0,"Statens løntabel eller HK-overenskomst-løntrin"]
[null,12,"x","x","x",{"$f":"\"Fast aftalt årlig løn \"&IF(E13<>\"\",\"i grundbeløb pr. 31.03.2012\",\"(ikke reguleret)\")","v":"Fast aftalt årlig løn i grundbeløb pr. 31.03.2012"},null,0,0,0,0,0,0,0,{"$f":"N13","v":0},0,0,0,0,0,0,0,0,0,0,0,0,0,0,0]
[null,13,"x",null,"x","Årligt sousdheftillæg eller lign. i grundbeløb",null,{"$f":"G14","v":0},0,0,0,0,0,0,0,0,0,0,0,0,0,0,0,0,0,0,0,0,0,0]
[null,14,"x",null,"x","Årligt funktionsstillæg i grundbeløb 1",null,{"$f":"G15","v":0},0,0,0,0,0,0,0,0,0,0,0,0,0,0,0,0,0,0,0,0,0,0,null,"Ja"]
[null,15,"x",null,"x","Årligt funktionsstillæg i grundbeløb 2",null,{"$f":"G16","v":0},0,0,0,0,0,0,0,0,0,0,0,0,0,0,0,0,0,0,0,0,0,0,null,"Nej"]
[null,16,"x",null,"x","Årligt funktionsstillæg i grundbeløb 3",null,{"$f":"G17","v":0},0,0,0,0,0,0,0,0,0,0,0,0,0,0,0,0,0,0,0,0,0,0]
[null,17,"x","x","x","Årligt kvalifikationsstillæg i grundbeløb 1",null,0,0,0,0,0,0,0,0,0,0,0,0,0,0,0,0,0,0,0,0,0,0,0]
[null,18,"x","x","x","Årligt kvalifikationsstillæg i grundbeløb 2",null,0,0,0,0,0,0,0,0,0,0,0,0,0,0,0,0,0,0,0,0,0,0,0]
[null,19,"x","x","x","Årligt kvalifikationsstillæg i grundbeløb 3",null,0,0,0,0,0,0,0,0,0,0,0,0,0,0,0,0,0,0,0,0,0,0,0]
[null,20,"x","x","x","Udligningstillæg i årligt grundbeløb v. 100% BG",null,0,0,0,0,0,0,0,0,0,0,0,0,0,0,0,0,0,0,0,0,0,0,0]
[null,21,null,null,null,"Gruppelivsordning betalt af af skolen som et løntillæg. Skriv det månedlige beløb!",null,0,0,0,0,0,0,0,0,0,0,0,0,0,0,0,0,0,0,0,0,0,0,0,"Spedielt ved virksomhedsoverdragelse"]
[null,22,null,null,"x","Lokalaftalt fast ulempegodtgørelse pr. måned. - (pr. 31. marts 2012)",null,{"$f":"G23","v":0},0,0,0,0,0,0,{"$f":"N23","v":0},0,0,0,0,0,0,0,0,0,0,0,0,0,0,0,"I stedet for variable arbejdstidsbestemte tillæg, iflg lokalaftale"]
[null,23,null,null,null,"Planlagte feriedage",null,null,5,null,null,null,5,null,null,null,null,15,{"$f":"G24","v":0},{"$f":"H24","v":0},5,0,0,0,5,0,0,0,0,15,"Normalt 15 dage i sommerhalvåret og 10 dage i vinterhalvåret"]
[null,24,null,null,null,".. heraf antal feriedage,\nhvortil der ikke er optjent ferieret",null,null,null,null,null,null,null,null,null,null,null,0,0,0,0,0,0,0,0,0,0,0,0,0,"Ferieloven: fradrag 4,8% pr. dag, Ferieaftalen: 4,62% pr. dag"]
[null,25,null,null,null,"Feriedifference pensionsgivende(udregnes i særskilt regneark)",null,null,null,null,null,null,null,null,null,null,null,null,0,0,0,0,0,0,0,0,0,0,0,0,"Benyttes ved beregning af feriedifferende."]
[null,26,null,null,null,"Feriedifference IKKE pensionsgivende(udregnes i særskilt regneark)",null,null,null,null,null,null,null,null,null,null,null,null,0,0,0,0,0,0,0,0,0,0,0,0,"Benyttes ved beregning af feriedifference'"]
[null,27,null,null,null,"Egenbetalte fridage",null,null,null,null,null,null,null,null,null,null,null,null,0,0,0,0,0,0,0,0,0,0,0,0,"Løn- og pensionsfradrag beregnes i lin 60 og 75"]
["Skatteop-lysninger",28,null,null,null,"Skatteprocent",null,{"$f":"G29","v":0},0,0,0,0,0,0,0,0,0,0,0,0,0,0,0,0,0,0,0,0,0,0,"Skriv ikke procenttegnet, fx 42% - skriv 42"]
[null,29,"km-\ntak-ster",{"$f":"LEFT($A$1,4)+1","v":2023},{"$f":"LEFT($A$1,4)+2","v":2024},"Månedligt skattefradrag",null,0,0,0,0,0,0,0,0,0,0,0,0,0,0,0,0,0,0,0,0,0,0,0]
[null,30,null,2.19,null,"Km.godtgørelse, lav sats (skattefri), antal km:",null,null,null,null,null,null,null,null,null,null,null,null,0,0,0,0,0,0,0,0,0,0,0,0]
[null,31,null,3.73,null,"Km.godtgørelse, høj sats (skattefri), antal km:",null,null,null,null,null,null,null,null,null,null,null,null,0,0,0,0,0,0,0,0,0,0,0,0]
[null,32,null,null,null,"Timedagpenge (skattefri) - Beregn selv",null,null,null,null,null,null,null,null,null,null,null,null,0,0,0,0,0,0,0,0,0,0,0,0,"Se løntabel"]
[null,33,null,null,null,"Jubilæumsgratiale (skattefri op til 8.000 kr.)",null,null,null,null,null,null,null,null,null,null,null,null,0,0,0,0,0,0,0,0,0,0,0,0,"Se løntabel"]
[null,34,null,null,null,"Arbejds- og arbejdstidsbestemte tillæg. Beregn selv",null,null,null,null,null,null,null,null,null,null,null,null,0,0,0,0,0,0,0,0,0,0,0,0,"”Natpenge” iflg skema, hvis ikke der er lokalaftalt godtgørelse"]
[null,35,"x",null,null,"Merarbejdsbetaling. Beregn selv",null,null,null,null,null,null,null,null,null,null,null,null,0,0,0,0,0,0,0,0,0,0,0,0,"Efter årsopgørelse eller ved fratræden"]
[null,36,null,null,null,"Overtidsbetaling. Beregn selv",null,null,null,null,null,null,null,null,null,null,null,null,0,0,0,0,0,0,0,0,0,0,0,0,"Efter årsopgørelse eller ved fratræden"]
[null,37,null,null,null,"Særlige feriedage til udbetaling. Beregn selv",null,null,null,null,null,null,null,null,null,null,null,null,{"$f":"G38","v":0},0,0,0,0,0,0,0,0,0,0,0,"Efter årsafslutning eller ved fratræden. Se pjeden \"Ferievejledning\""]
[null,38,null,null,null,{"$f":"\"Særlig ferietillæg \"&IF(G8=\"ja\",\"1,5%\",\"1,0%\"&\"\")","v":"Særlig ferietillæg 1,5%"},null,null,null,null,null,null,null,null,null,0,null,null,0,0,0,0,0,0,0,0,0,0,0,0]
[null,39,"x",null,null,"Resultatlønstillæg",null,null,null,null,null,null,null,null,null,null,null,null,0,0,0,0,0,0,0,0,0,0,0,0]
[null,40,"x",null,null,"Engangs nylønstillæg",null,null,null,null,null,null,null,null,null,null,null,null,0,0,0,0,0,0,0,0,0,0,0,0]
[null,41,"x",null,null,"Praktiklærervederlag",null,null,null,null,null,null,null,null,null,null,null,null,0,0,0,0,0,0,0,0,0,0,0,0,{"$f":"45*5*7.4","v":1665}]
[null,42,null,null,null,"andet",null,null,null,null,null,null,null,null,null,null,null,null,0,0,0,0,0,0,0,0,0,0,0,0]
[null,43,null,null,null,"andet",null,null,null,null,null,null,null,null,null,null,null,null,0,0,0,0,0,0,0,0,0,0,0,0]
[null,44,"Disse tre linjer fradrages i den disponible løn",null,null,"gavekasse",null,{"$f":"G45","v":0},{"$f":"H45","v":0},0,0,0,0,0,0,0,0,0,0,0,0,0,0,0,0,0,0,0,0,0,"Fx: 'Kaffekasse'"]
[null,45,null,null,null,"kaffekasse",null,{"$f":"G46","v":0},0,0,0,0,0,0,0,0,0,0,0,0,0,0,0,0,0,0,0,0,0,0,"Fx: 'Gavekasse'"]
[null,46,null,null,null,"Fagforenings-kontingent",null,{"$f":"G47","v":0},0,0,0,0,0,0,0,0,0,0,0,0,0,0,0,0,0,0,0,0,0,0,"FX: 'Fagforeningskontingent'"]
[{"$f":"A3","v":"1904-01-01"},{"$f":"B47+1","v":47},null,null,null,"Måned",{"$f":"G3","v":"AUG 23"},"SEP 23","OKT 23","NOV 23","DEC 23","JAN 24","FEB 24","MAR 24","APR 24","MAJ 24","JUN 24","JUL 24","AUG 23","SEP 23","OKT 23","NOV 23","DEC 23","JAN 24","FEB 24","MAR 24","APR 24","MAJ 24","JUN 24","JUL 24","SUM"]
[null,48,{"$f":"(C12<>\"\")*1","v":1},1,1,{"$f":"IF(ISNUMBER(G12),\"Skalatrinsløn\",\"HK-løn\")","v":"HK-løn"},{"$f":"IF(G7=\"Ja\",0,ROUND(IF(AND(G$11>0,G12>0),ROUND((ROUND(VLOOKUP(G12,Skalalontabel12,G10,0)*G9,0))/12,2),0)*G11*G4,2))","v":0},0,0,0,0,0,0,0,0,0,0,0,{"$f":"ROUND(IF(AND(S$11>0,S12>0),ROUND((ROUND(VLOOKUP(S12,Skalalontabel12,S10,0)*S9,0))/12,2),0)*S11*S4,2)","v":0},0,0,0,0,0,0,0,0,0,0,0,{"$f":"SUM(G49:R49)","v":0}]
[null,49,1,1,1,"Fast løn",{"$f":"IF(G7=\"Ja\",0,ROUND(IF(G13>0,G13/12)*IF($D13<>\"\",G$11,1)*IF($E13<>\"\",G$9,1)*G4,2))","v":0},0,0,0,0,0,0,0,0,0,0,0,{"$f":"ROUND(IF(S13>0,S13/12)*IF($D13<>\"\",S$11,1)*IF($E13<>\"\",S$9,1)*S4,2)","v":0},0,0,0,0,0,0,0,0,0,0,0,0]
[null,50,1,0,1,"Souscheftillæg ell. lign.",{"$f":"IF(G7=\"Ja\",0,ROUND(IF(AND(G$11>0,G14>0),G14/12)*IF($D14<>\"\",G$11,1)*IF($E14<>\"\",G$9,1)*G4,2))","v":0},0,0,0,0,0,0,0,0,0,0,0,{"$f":"ROUND(IF(AND(S$11>0,S14>0),S14/12)*IF($D14<>\"\",S$11,1)*IF($E14<>\"\",S$9,1)*S4,2)","v":0},0,0,0,0,0,0,0,0,0,0,0,0]
[null,51,1,0,1,"Funktionstillæg 1",{"$f":"IF(G7=\"Ja\",0,ROUND(IF(AND(G$11>0,G15>0),G15/12)*IF($D15<>\"\",G$11,1)*IF($E15<>\"\",G$9,1)*G4,2))","v":0},0,0,0,0,0,0,0,0,0,0,0,{"$f":"ROUND(IF(AND(S$11>0,S15>0),S15/12)*IF($D15<>\"\",S$11,1)*IF($E15<>\"\",S$9,1)*S4,2)","v":0},0,0,0,0,0,0,0,0,0,0,0,0]
[null,52,1,0,1,"Funktionstillæg 2",{"$f":"IF(G7=\"Ja\",0,ROUND(IF(AND(G$11>0,G16>0),G16/12)*IF($D16<>\"\",G$11,1)*IF($E16<>\"\",G$9,1)*G4,2))","v":0},0,0,0,0,0,0,0,0,0,0,0,{"$f":"ROUND(IF(AND(S$11>0,S16>0),S16/12)*IF($D16<>\"\",S$11,1)*IF($E16<>\"\",S$9,1)*S4,2)","v":0},0,0,0,0,0,0,0,0,0,0,0,0]
[null,53,1,0,1,"Funktionstillæg 3",{"$f":"IF(G7=\"Ja\",0,ROUND(IF(AND(G$11>0,G17>0),G17/12)*IF($D17<>\"\",G$11,1)*IF($E17<>\"\",G$9,1)*G4,2))","v":0},0,0,0,0,0,0,0,0,0,0,0,{"$f":"ROUND(IF(AND(S$11>0,S17>0),S17/12)*IF($D17<>\"\",S$11,1)*IF($E17<>\"\",S$9,1)*S4,2)","v":0},0,0,0,0,0,0,0,0,0,0,0,0]
[null,54,1,1,1,"Kvalifikationstillæg 1",{"$f":"IF(G7=\"Ja\",0,ROUND(IF(AND(G$11>0,G18>0),G18/12)*IF($D18<>\"\",G$11,1)*IF($E18<>\"\",G$9,1)*G4,2))","v":0},0,0,0,0,0,0,0,0,0,0,0,{"$f":"ROUND(IF(AND(S$11>0,S18>0),S18/12)*IF($D18<>\"\",S$11,1)*IF($E18<>\"\",S$9,1)*S4,2)","v":0},0,0,0,0,0,0,0,0,0,0,0,0]
[null,55,1,1,1,"Kvalifikationstillæg 2",{"$f":"IF(G7=\"Ja\",0,ROUND(IF(AND(G$11>0,G19>0),G19/12)*IF($D19<>\"\",G$11,1)*IF($E19<>\"\",G$9,1)*G4,2))","v":0},0,0,0,0,0,0,0,0,0,0,0,{"$f":"ROUND(IF(AND(S$11>0,S19>0),S19/12)*IF($D19<>\"\",S$11,1)*IF($E19<>\"\",S$9,1)*S4,2)","v":0},0,0,0,0,0,0,0,0,0,0,0,0]
[null,56,1,1,1,"Kvalifikationstillæg 3",{"$f":"IF(G7=\"Ja\",0,ROUND(IF(AND(G$11>0,G20>0),G20/12)*IF($D20<>\"\",G$11,1)*IF($E20<>\"\",G$9,1)*G$4,2))","v":0},0,0,0,0,0,0,0,0,0,0,0,{"$f":"ROUND(IF(AND(S$11>0,S20>0),S20/12)*IF($D20<>\"\",S$11,1)*IF($E20<>\"\",S$9,1)*S$4,2)","v":0},0,0,0,0,0,0,0,0,0,0,0,0]
[null,57,1,1,1,"Udligningstillæg",{"$f":"IF(G7=\"Ja\",0,ROUND(IF(AND(G$11>0,G21>0),G21/12)*IF($D21<>\"\",G$11,1)*IF($E21<>\"\",G$9,1)*G$4,2))","v":0},0,0,0,0,0,0,0,0,0,0,0,0,0,0,0,0,0,0,0,0,0,0,0,0]
[null,58,null,null,null,"Gruppelivstillæg",{"$f":"IF(G7=\"Ja\",0,ROUND(IF(AND(G$11>0,G22>0),G22)*IF($D22<>\"\",G$11,1)*IF($E22<>\"\",G$9,1)*G$4,2))","v":0},0,0,0,0,0,0,0,0,0,0,0,{"$f":"ROUND(IF(AND(S$11>0,S22>0),S22)*IF($D22<>\"\",S$11,1)*IF($E22<>\"\",S$9,1)*S$4,2)","v":0},0,0,0,0,0,0,0,0,0,0,0,0]
[null,59,null,{"$f":"(D23<>\"\")*1","v":0},{"$f":"(E23<>\"\")*1","v":1},"Lokalaftalt ulempegodtgørelse",{"$f":"IF(G7=\"Ja\",0,ROUND(IF(AND(G$11>0,G23>0),G23)*IF($D23<>\"\",G$11,1)*IF($E23<>\"\",G$9,1)*G$4,2))","v":0},0,0,0,0,0,0,0,0,0,0,0,0,0,0,0,0,0,0,0,0,0,0,0,0]
[null,60,1,null,null,"Lønfradrag for ikke optjent ferie mv.",{"$f":"-ROUND((MAX(0,MIN(S24,S25*1))+S28)*IF(S8=\"JA\",4.62%,4.8%)*(S49+S50+S51+S52+S53+S54+S55+S56+S57+S58+S60)*S$4,2)","v":0},0,0,0,0,0,0,0,0,0,0,0,{"$f":"-ROUND((MAX(0,MIN(S24,S25*1))+S28)*IF(S8=\"JA\",4.62%,4.8%)*(S49+S50+S51+S52+S53+S54+S55+S56+S57+S58+S60)*S$4,2)","v":0},0,0,0,0,0,0,0,0,0,0,0,0]
[null,61,1,null,null,"Feriedifference pensionsgivende(udregnes i særskilt fane)",{"$f":"G26","v":0},{"$f":"H26","v":0},0,0,0,0,0,0,0,0,0,0,{"$f":"S26","v":0},{"$f":"T26","v":0},0,0,0,0,0,0,0,0,0,0,0]
[null,62,null,null,null,"Feriedifference IKKE pensionsgivende(udregnes i særskilt fane)",{"$f":"G27","v":0},0,0,0,0,0,0,0,0,0,0,0,{"$f":"S27","v":0},0,0,0,0,0,0,0,0,0,0,0]
[null,63,null,null,null,"Engangsudbetalinger iflg. specifikation",{"$f":"SUM(G35:G44)","v":0},{"$f":"SUM(H35:H44)","v":0},0,0,0,0,0,0,0,0,0,0,{"$f":"SUM(S35:S44)","v":0},{"$f":"SUM(T35:T44)+MAX(T34*T9-8000,0)","v":0},0,0,0,0,0,0,0,0,0,0,0]
[null,64,null,null,null,"Skattefrie km. Godtgørelse lav sats",{"$f":"G31*$D$31","v":0},{"$f":"H31*$D$31","v":0},0,0,0,0,0,0,0,0,0,0,{"$f":"S31*$D$31","v":0},{"$f":"T31*$D$31","v":0},0,0,0,0,0,0,0,0,0,0]
[null,65,null,null,null,"Skattefrie km. Godtgørelse høj sats",{"$f":"G32*$D$32","v":0},{"$f":"H32*$D$32","v":0},0,0,0,0,0,0,0,0,0,0,{"$f":"S32*$D$32","v":0},{"$f":"T32*$D$32","v":0},0,0,0,0,0,0,0,0,0,0]
[null,{"$f":"B64+1","v":64},null,null,null,"Timedagpenge(skattefrie)",{"$f":"IF(G33>0,G33,0)","v":0},{"$f":"IF(H33>0,H33,0)","v":0},0,0,0,0,0,0,0,0,0,0,{"$f":"IF(S33>0,S33,0)","v":0},{"$f":"IF(T33>0,T33,0)","v":0},0,0,0,0,0,0,0,0,0,0,0]
[null,65,null,null,null,"Skattefri jubilæumsgratiale",{"$f":"MIN(8000,G34*G9)","v":0},0,0,0,0,0,0,0,0,0,0,0,0,0,0,0,0,0,0,0,0,0,0,0]
[null,66,null,null,null,"Skattepligtig jubilæumsgratiaale",{"$f":"IF(G34>0,MAX(G34*G9-8000,0),0)","v":0},0,0,0,0,0,0,0,0,0,0,0,0,0,0,0,0,0,0,0,0,0,0,0]
[null,67,null,null,null,"Bruttoløn (ekskl. pensionstillæg og ATP)",{"$f":"SUM(G49:G69)","v":0},{"$f":"SUM(H49:H67)","v":0},0,0,0,0,0,0,0,0,0,0,{"$f":"SUM(S49:S69)","v":0},{"$f":"SUM(T49:T67)","v":0},0,0,0,0,0,0,0,0,0,0,0]
[null,{"$f":"B70+1","v":68},null,null,null,{"$f":"\"Pensionstillæg af pensionsg. \"&IF(ISNUMBER(G12),\"Skalatrinsløn\",\"HK-løn\")","v":"Pensionstillæg af pensionsg. HK-løn"},{"$f":"IF(G7=\"Ja\",0,ROUND(IF(AND(G$11>0,G12>0),ROUND((ROUND(VLOOKUP(G12,Skalalontabel12,7,0)*G9,0))/12,2),0)*G11*G4*G5/100/3,2))","v":0},0,0,0,0,0,0,0,0,0,0,0,{"$f":"ROUND(IF(AND(S$11>0,S12>0),ROUND((ROUND(VLOOKUP(S12,Skalalontabel12,7,0)*S9,0))/12,2),0)*S11*S4*S5/100/3,2)","v":0},0,0,0,0,0,0,0,0,0,0,0,0]
[null,69,null,null,null,"Pensionstillæg fast løn",{"$f":"ROUND(G50*$C50*G$5/100/3,2)","v":0},0,0,0,0,0,0,0,0,0,0,0,0,0,0,0,0,0,0,0,0,0,0,0,0]
[null,70,null,null,null,"Pensionstillæg souscheftillæg",0,0,0,0,0,0,0,0,0,0,0,0,0,0,0,0,0,0,0,0,0,0,0,0,0]
[null,71,null,null,null,"Pensionstillæg Funktionstillæg 1",0,0,0,0,0,0,0,0,0,0,0,0,0,0,0,0,0,0,0,0,0,0,0,0,0]
[null,72,null,null,null,"Pensionstillæg Funktionstillæg 2",0,0,0,0,0,0,0,0,0,0,0,0,0,0,0,0,0,0,0,0,0,0,0,0,0]
[null,73,null,null,null,"Pensionstillæg Funktionstillæg 3",0,0,0,0,0,0,0,0,0,0,0,0,0,0,0,0,0,0,0,0,0,0,0,0,0]
[null,74,null,null,null,"Pensionstillæg Kvalifikationstillæg 1",0,0,0,0,0,0,0,0,0,0,0,0,0,0,0,0,0,0,0,0,0,0,0,0,0]
[null,75,null,null,null,"Pensionstillæg Kvalifikationstillæg 2",0,0,0,0,0,0,0,0,0,0,0,0,0,0,0,0,0,0,0,0,0,0,0,0,0]
[null,76,null,null,null,"Pensionstillæg Kvalifikationstillæg 3",0,0,0,0,0,0,0,0,0,0,0,0,0,0,0,0,0,0,0,0,0,0,0,0,0]
[null,77,null,null,null,"Pensionstillæg af udligningstillæg",0,0,0,0,0,0,0,0,0,0,0,0,0,0,0,0,0,0,0,0,0,0,0,0,0]
[null,78,null,null,null,"Fradrag i pensionstillæg for ikke optjent ferie mv.",{"$f":"ROUND(G61*$C61*G$5/100/3,2)","v":0},0,0,0,0,0,0,0,0,0,0,0,0,0,0,0,0,0,0,0,0,0,0,0,0]
[null,79,null,null,null,"Pensionstillæg af feriedifference",0,0,0,0,0,0,0,0,0,0,0,0,0,0,0,0,0,0,0,0,0,0,0,0,0]
[null,80,null,null,null,"Pensionstillæg af pensiong. engangstillæg",{"$f":"ROUND(G36*G5/100/3+G40*($C40<>\"\")*G5/100/3+G41*($C41<>\"\")*G5/100/3+G42*($C42<>\"\")*G5/100/3+G43*($C43<>\"\")*G5/100/3+G44*($C44<>\"\")*G5/100/3,2)","v":0},0,0,0,0,0,0,0,0,0,0,0,0,0,0,0,0,0,0,0,0,0,0,0,0]
[null,null,null,null,null,"Ekstra pension hvis orlov uden løn",{"$f":"IF(G7=\"Ja\",SUM(S71:S82)-SUM(G71:G83),0)","v":0},{"$f":"IF(H7=\"Ja\",SUM(T71:T83)-SUM(H71:H83),0)","v":0},{"$f":"IF(I7=\"Ja\",SUM(U71:U82)-SUM(I71:I83),0)","v":0},0,0,0,0,0,0,0,0,0]
[null,{"$f":"B83+1","v":81},null,null,null,"Pensionstillæg i alt",{"$f":"SUM(G71:G84)","v":0},{"$f":"SUM(H71:H84)","v":0},0,0,0,0,0,0,0,0,0,0,{"$f":"SUM(S71:S83)","v":0},{"$f":"SUM(T71:T83)","v":0},0,0,0,0,0,0,0,0,0,0,0]
[null,82,null,null,null,"Egetbidrag til ATP",{"$f":"ROUND(G98/3,2)","v":0},{"$f":"ROUND(H98/3,2)","v":0},0,0,0,0,0,0,0,0,0,0,{"$f":"ROUND(S98/3,2)","v":0},{"$f":"ROUND(T98/3,2)","v":0},0,0,0,0,0,0,0,0,0,0,{"$f":"SUM(G86:R86)","v":0}]
[null,83,null,null,null,"AMB-grundlag",{"$f":"IF(G6=\"nej\",G85*-1)+SUM(G49:G64)-G86+G69","v":0},0,0,0,0,0,0,0,0,0,0,0,{"$f":"IF(S6=\"nej\",S85*-1)+SUM(S49:S64)-S86","v":0},0,0,0,0,0,0,0,0,0,0,0,{"$f":"SUM(G87:R87)","v":0}]
[null,84,null,null,null,"AM-bidrag",{"$f":"ROUND(G87*8%,0)","v":0},{"$f":"ROUND(H87*8%,0)","v":0},0,0,0,0,0,0,0,0,0,0,{"$f":"ROUND(S87*8%,0)","v":0},{"$f":"ROUND(T87*8%,0)","v":0},0,0,0,0,0,0,0,0,0,0,0]
[null,85,null,null,null,"A-indkomst",{"$f":"G87-G88","v":0},{"$f":"H87-H88","v":0},0,0,0,0,0,0,0,0,0,0,{"$f":"S87-S88","v":0},{"$f":"T87-T88","v":0},0,0,0,0,0,0,0,0,0,0,0]
[null,86,null,null,null,"Skattegrundlag",{"$f":"FLOOR(G89-G30,10)","v":0},{"$f":"FLOOR(H89-H30,10)","v":0},0,0,0,0,0,0,0,0,0,0,{"$f":"FLOOR(S89-S30,10)","v":0},{"$f":"FLOOR(T89-T30,10)","v":0},0,0,0,0,0,0,0,0,0,0]
[null,87,null,null,null,"Skat",{"$f":"ROUND(G90*G29/100,0)","v":0},0,0,0,0,0,0,0,0,0,0,0,0,0,0,0,0,0,0,0,0,0,0,0,0]
[null,88,null,null,null,"Feriegodtgørelsesgrundlag ",{"$f":"SUM(G49:G64)","v":0},{"$f":"SUM(H49:H64)","v":0},{"$f":"SUM(I49:I64)","v":0},{"$f":"SUM(J49:J64)","v":0},{"$f":"SUM(K49:K64)","v":0},{"$f":"SUM(L49:L64)","v":0},0,0,0,0,0,0,{"$f":"SUM(S49:S64)","v":0},{"$f":"SUM(T49:T64)","v":0},{"$f":"SUM(U49:U64)","v":0},{"$f":"SUM(V49:V64)","v":0},{"$f":"SUM(W49:W64)","v":0},{"$f":"SUM(X49:X64)","v":0},0,0,0,0,0,0,{"$f":"SUM(H92:P92)","v":0}]
[null,89,null,null,null,{"$f":"\"Feriegodtgørelsesgrundlag, juni-juli \"","v":"Feriegodtgørelsesgrundlag, juni-juli "},null,null,null,null,null,null,null,null,null,null,{"$f":"SUM(Q49:Q64)-Q39","v":0},{"$f":"SUM(R49:R64)-R39","v":0},null,null,null,null,null,null,null,null,null,null,{"$f":"SUM(AC49:AC64)-AC39","v":0},{"$f":"SUM(AD49:AD64)-AD39","v":0},{"$f":"SUM(G93:R93)","v":0}]
[null,90,null,null,null,"Egetbidrag til pensionskasse",{"$f":"G85","v":0},{"$f":"H85","v":0},0,0,0,0,0,0,0,0,0,0,{"$f":"S85","v":0},{"$f":"T85","v":0},0,0,0,0,0,0,0,0,0,0,0]
[null,91,null,null,null,"Arbejdsgiverbidrag til pensionskasse",{"$f":"G94*2","v":0},{"$f":"H94*2","v":0},0,0,0,0,0,0,0,0,0,0,{"$f":"S94*2","v":0},{"$f":"T94*2","v":0},0,0,0,0,0,0,0,0,0,0,0]
[null,92,null,null,null,"Arbejdsgiverbidrag til ATP",{"$f":"G98*2/3","v":0},{"$f":"H98*2/3","v":0},0,0,0,0,0,0,0,0,0,0,{"$f":"S98*2/3","v":0},{"$f":"T98*2/3","v":0},0,0,0,0,0,0,0,0,0,0,0]
[null,93,null,null,null,"Skolens samlede indbetaling til pensionskasse",{"$f":"G94+G95","v":0},{"$f":"H94+H95","v":0},0,0,0,0,0,0,0,0,0,0,{"$f":"S94+S95","v":0},{"$f":"T94+T95","v":0},0,0,0,0,0,0,0,0,0,0,0]
[null,{"$f":"B97+1","v":94},null,null,null,"Skolens samlede indbetaling til ATP",{"$f":"284/3*(((G11*G4)>=9/37)+((G11*G4)>=18/37)+((G11*G4)>=27/37))","v":0},0,0,0,0,{"$f":"297/3*(((L11*L4)>=9/37)+((L11*L4)>=18/37)+((L11*L4)>=27/37))","v":0},{"$f":"297/3*(((M11*M4)>=9/37)+((M11*M4)>=18/37)+((M11*M4)>=27/37))","v":0},0,0,0,0,0,0,0,0,0,0,0,0,0,0,0,0,0,0]
[null,95,null,null,null,"Indbetaling til Gruppeliv",{"$f":"G22","v":0},{"$f":"H22","v":0},0,0,0,0,0,0,0,0,0,0,{"$f":"S22","v":0},{"$f":"T22","v":0},0,0,0,0,0,0,0,0,0,0,0]
[null,96,null,null,null,"Løn til den ansattes disposition",{"$f":"IF(G6=\"nej\",G85*-1)+G70-(G91+G86+G88+G99)-G45-G46-G47","v":0},0,0,0,0,0,0,0,0,0,0,0,0,0,0,0,0,0,0,0,0,0,0,0,{"$f":"SUM(G100:R100)","v":0}]
[null,97,null,null,null,{"$f":"\"Feriepengeberegningsgrundlag, jan-dec \"&Aar","v":"Feriepengeberegningsgrundlag, jan-dec "},{"$f":"(SUM(G49:G64)+G85+G86)*(1-12/260*G24)","v":0},{"$f":"(SUM(H49:H64)+H85+H86)*(1-12/260*H24)","v":0},{"$f":"(SUM(I49:I64)+I85+I86)*(1-12/260*I24)","v":0},{"$f":"(SUM(J49:J64)+J85+J86)*(1-12/260*J24)","v":0},{"$f":"(SUM(K49:K64)+K85+K86)*(1-12/260*K24)","v":0},"Kalenderårets sum benyttes ved fratræden og særlige feriedage",null,null,null,null,null,null,{"$f":"(SUM(S49:S64)+S85+S86)*(1-12/260*S24)","v":0},{"$f":"(SUM(T49:T64)+T85+T86)*(1-12/260*T24)","v":0},{"$f":"(SUM(U49:U64)+U85+U86)*(1-12/260*U24)","v":0},{"$f":"(SUM(V49:V64)+V85+V86)*(1-12/260*V24)","v":0},{"$f":"(SUM(W49:W64)+W85+W86)*(1-12/260*W24)","v":0},"Kalenderårets sum benyttes ved fratræden og særlige feriedage",null,null,null,null,null,null,{"$f":"A101+SUM(G101:K101)","v":0}]
[null,{"$f":"B101+1","v":98},null,null,null,{"$f":"\"Feriepengeberegningsgrundlag, jan-jul \"&Aar","v":"Feriepengeberegningsgrundlag, jan-jul "},"Kalenderårets sum benyttes ved fratræden og særlige feriedage",null,null,null,null,{"$f":"(SUM(L$49:L$64)+L$85+L86)*(1-12/260*L$24)","v":0},{"$f":"(SUM(M$49:M$64)+M$85+M86)*(1-12/260*M$24)","v":0},0,0,0,0,0,"Kalenderårets sum benyttes ved fratræden og særlige feriedage",null,null,null,null,{"$f":"(SUM(X$49:X$64)+X$85+X86)*(1-12/260*X$24)","v":0},{"$f":"(SUM(Y$49:Y$64)+Y$85+Y86)*(1-12/260*Y$24)","v":0},0,0,0,0,0,0]
[null,{"$f":"B102+1","v":99},null,null,null,"BG-afhængige løndele",{"$f":"G49*$D49+G50*$D50+G51*$D51+G52*$D52+G53*$D53+G54*$D54+G55*$D55+G56*$D56+G57*$D57+G58*$D58+G60*$D60","v":0},0,0,0,0,0,0,0,0,0,0,0,0,0,0,0,0,0,0,0,0,0,0,0]
[null,{"$f":"B103+1","v":100},null,null,null,"BG-difference >=20%",{"$f":"IF(G11>0,IF(G11>G26,(G11-G26)/G26>=20%,(G11-G26)/G26<=-20%),\"\")","v":""},"","","","","","","","",{"$f":"IF(P11>0,IF(P11>P27,(P11-P27)/P27>=20%,(P11-P27)/P27<=-20%),\"\")","v":""},{"$f":"IF(Q11>0,IF(Q11>Q27,(Q11-Q27)/Q27>=20%,(Q11-Q27)/Q27<=-20%),\"\")","v":""},{"$f":"IF(R11>0,IF(R11>R27,(R11-R27)/R27>=20%,(R11-R27)/R27<=-20%),\"\")","v":""},{"$f":"IF(S11>0,IF(S11>S26,(S11-S26)/S26>=20%,(S11-S26)/S26<=-20%),\"\")","v":""},"","","","","","","","",{"$f":"IF(AB11>0,IF(AB11>AB27,(AB11-AB27)/AB27>=20%,(AB11-AB27)/AB27<=-20%),\"\")","v":""},{"$f":"IF(AC11>0,IF(AC11>AC27,(AC11-AC27)/AC27>=20%,(AC11-AC27)/AC27<=-20%),\"\")","v":""},{"$f":"IF(AD11>0,IF(AD11>AD27,(AD11-AD27)/AD27>=20%,(AD11-AD27)/AD27<=-20%),\"\")","v":""}]
[]
[]
[]
[]
[]
[]
[]
[]
[]
[]
[]
[]
[]
[]
[]
[]
[]
[]
[]
[]
[]
[]
[]
[]
[]
[]
[]
[]
[]
[]
[]
[]
[]
[]
[]
[]
[]
[]
[]
[]
[]
[]
[]
[]
[]
[]
[]
[]
[]
[null,{"$f":"B153+1","v":1}]
[null,2,null,null,null,{"$f":"IF(ISNUMBER(G1),\"Skalatrinsløn\",\"HK-løn\")","v":"HK-løn"},{"$f":"\"= \"&TEXT(ROUND(VLOOKUP(G12,Skalalontabel12,G10,0)*G9,0),\"#.000\")&\" / 12 * \"&TEXT(G11,\"0,0000\")&\" * \"&TEXT(G$4,\"#0/#0\")&\" =\"","v":{"$error":"#N/A"}},{"$error":"#N/A"},{"$error":"#N/A"},{"$error":"#N/A"},{"$error":"#N/A"},{"$error":"#N/A"},{"$error":"#N/A"},{"$error":"#N/A"},{"$error":"#N/A"},{"$error":"#N/A"},{"$error":"#N/A"},{"$error":"#N/A"},{"$error":"#N/A"},{"$error":"#N/A"},{"$error":"#N/A"},{"$error":"#N/A"},{"$error":"#N/A"},{"$error":"#N/A"},{"$error":"#N/A"},{"$error":"#N/A"},{"$error":"#N/A"},{"$error":"#N/A"},{"$error":"#N/A"},{"$error":"#N/A"}]
[null,3,null,null,null,"Fast løn",{"$f":"\"= \"&TEXT(G13,\"#.000,00\")&\" / 12 \"&IF($D50>0,\" * \"&TEXT(G$11,\"0,0000\"),\"\")&IF($E50>0,\" * \"&G$9,\"\")&\" * \"&TEXT(G$4,\"#0/#0\")&\" =\"","v":"= 000,00 / 12  * 0,0000 * 1,155339 * 1/1 ="},"= 000,00 / 12  * 0,0000 * 1,155339 * 1/1 =","= 000,00 / 12  * 0,0000 * 1,159197 * 1/1 =","= 000,00 / 12  * 0,0000 * 1,159197 * 1/1 =","= 000,00 / 12  * 0,0000 * 1,159197 * 1/1 =","= 000,00 / 12  * 0,0000 * 1,159197 * 1/1 =","= 000,00 / 12  * 0,0000 * 1,159197 * 1/1 =","= 000,00 / 12  * 0,0000 * 1,159197 * 1/1 =","= 000,00 / 12  * 0,0000 *  * 1/1 =","= 000,00 / 12  * 0,0000 * 0 * 1/1 =","= 000,00 / 12  * 0,0000 * 0 * 1/1 =","= 000,00 / 12  * 0,0000 * 0 * 1/1 =","= 000,00 / 12  * 0,0000 * 1,155339 * 1/1 =","= 000,00 / 12  * 0,0000 * 1,155339 * 1/1 =","= 000,00 / 12  * 0,0000 * 1,159197 * 1/1 =","= 000,00 / 12  * 0,0000 * 1,159197 * 1/1 =","= 000,00 / 12  * 0,0000 * 1,159197 * 1/1 =","= 000,00 / 12  * 0,0000 * 1,159197 * 1/1 =","= 000,00 / 12  * 0,0000 * 1,159197 * 1/1 =","= 000,00 / 12  * 0,0000 * 1,159197 * 1/1 =","= 000,00 / 12  * 0,0000 * 0 * 1/1 =","= 000,00 / 12  * 0,0000 * 0 * 1/1 =","= 000,00 / 12  * 0,0000 * 0 * 1/1 =","= 000,00 / 12  * 0,0000 * 0 * 1/1 ="]
[null,4,null,null,null,"Sousdheftillæg","= 000,00 / 12  * 1,155339 * 1/1 =","= 000,00 / 12  * 1,155339 * 1/1 =","= 000,00 / 12  * 1,159197 * 1/1 =","= 000,00 / 12  * 1,159197 * 1/1 =","= 000,00 / 12  * 1,159197 * 1/1 =","= 000,00 / 12  * 1,159197 * 1/1 =","= 000,00 / 12  * 1,159197 * 1/1 =","= 000,00 / 12  * 1,159197 * 1/1 =","= 000,00 / 12  *  * 1/1 =","= 000,00 / 12  * 0 * 1/1 =","= 000,00 / 12  * 0 * 1/1 =","= 000,00 / 12  * 0 * 1/1 =","= 000,00 / 12  * 1,155339 * 1/1 =","= 000,00 / 12  * 1,155339 * 1/1 =","= 000,00 / 12  * 1,159197 * 1/1 =","= 000,00 / 12  * 1,159197 * 1/1 =","= 000,00 / 12  * 1,159197 * 1/1 =","= 000,00 / 12  * 1,159197 * 1/1 =","= 000,00 / 12  * 1,159197 * 1/1 =","= 000,00 / 12  * 1,159197 * 1/1 =","= 000,00 / 12  * 0 * 1/1 =","= 000,00 / 12  * 0 * 1/1 =","= 000,00 / 12  * 0 * 1/1 =","= 000,00 / 12  * 0 * 1/1 ="]
[null,5,null,null,null,"Funktionstillæg 1",{"$f":"\"= \"&TEXT(G15,\"#.000,00\")&\" / 12 \"&IF($D52>0,\" * \"&TEXT(G$11,\"0,0000\"),\"\")&IF($E52>0,\" * \"&G$9,\"\")&\" * \"&TEXT(G$4,\"#0/#0\")&\" =\"","v":"= 000,00 / 12  * 1,155339 * 1/1 ="},{"$f":"\"= \"&TEXT(H15,\"#.000,00\")&\" / 12 \"&IF($D52>0,\" * \"&TEXT(H$11,\"0,0000\"),\"\")&IF($E158>0,\" * \"&H$9,\"\")&\" * \"&TEXT(H$4,\"#0/#0\")&\" =\"","v":"= 000,00 / 12  * 1/1 ="},"= 000,00 / 12  * 1/1 =","= 000,00 / 12  * 1/1 =","= 000,00 / 12  * 1/1 =","= 000,00 / 12  * 1/1 =","= 000,00 / 12  * 1/1 =","= 000,00 / 12  * 1/1 =","= 000,00 / 12  * 1/1 =","= 000,00 / 12  * 1/1 =","= 000,00 / 12  * 1/1 =","= 000,00 / 12  * 1/1 =","= 000,00 / 12  * 1/1 =","= 000,00 / 12  * 1/1 =","= 000,00 / 12  * 1/1 =","= 000,00 / 12  * 1/1 =","= 000,00 / 12  * 1/1 =","= 000,00 / 12  * 1/1 =","= 000,00 / 12  * 1/1 =","= 000,00 / 12  * 1/1 =","= 000,00 / 12  * 1/1 =","= 000,00 / 12  * 1/1 =","= 000,00 / 12  * 1/1 =","= 000,00 / 12  * 1/1 ="]
[null,6,null,null,null,"Funktionstillæg 2",{"$f":"\"= \"&TEXT(G16,\"#.000,00\")&\" / 12 \"&IF($D53>0,\" * \"&TEXT(G$11,\"0,0000\"),\"\")&IF($E53>0,\" * \"&G$9,\"\")&\" * \"&TEXT(G$4,\"#0/#0\")&\" =\"","v":"= 000,00 / 12  * 1,155339 * 1/1 ="},"= 000,00 / 12  * 1,155339 * 1/1 =","= 000,00 / 12  * 1,159197 * 1/1 =","= 000,00 / 12  * 1,159197 * 1/1 =","= 000,00 / 12  * 1,159197 * 1/1 =","= 000,00 / 12  * 1,159197 * 1/1 =","= 000,00 / 12  * 1,159197 * 1/1 =","= 000,00 / 12  * 1,159197 * 1/1 =","= 000,00 / 12  *  * 1/1 =","= 000,00 / 12  * 0 * 1/1 =","= 000,00 / 12  * 0 * 1/1 =","= 000,00 / 12  * 0 * 1/1 =","= 000,00 / 12  * 1,155339 * 1/1 =","= 000,00 / 12  * 1,155339 * 1/1 =","= 000,00 / 12  * 1,159197 * 1/1 =","= 000,00 / 12  * 1,159197 * 1/1 =","= 000,00 / 12  * 1,159197 * 1/1 =","= 000,00 / 12  * 1,159197 * 1/1 =","= 000,00 / 12  * 1,159197 * 1/1 =","= 000,00 / 12  * 1,159197 * 1/1 =","= 000,00 / 12  * 0 * 1/1 =","= 000,00 / 12  * 0 * 1/1 =","= 000,00 / 12  * 0 * 1/1 =","= 000,00 / 12  * 0 * 1/1 ="]
[null,7,null,null,null,"Funktionstillæg 3","= 000,00 / 12  * 1,155339 * 1/1 =","= 000,00 / 12  * 1,155339 * 1/1 =","= 000,00 / 12  * 1,159197 * 1/1 =","= 000,00 / 12  * 1,159197 * 1/1 =","= 000,00 / 12  * 1,159197 * 1/1 =","= 000,00 / 12  * 1,159197 * 1/1 =","= 000,00 / 12  * 1,159197 * 1/1 =","= 000,00 / 12  * 1,159197 * 1/1 =","= 000,00 / 12  *  * 1/1 =","= 000,00 / 12  * 0 * 1/1 =","= 000,00 / 12  * 0 * 1/1 =","= 000,00 / 12  * 0 * 1/1 =","= 000,00 / 12  * 1,155339 * 1/1 =","= 000,00 / 12  * 1,155339 * 1/1 =","= 000,00 / 12  * 1,159197 * 1/1 =","= 000,00 / 12  * 1,159197 * 1/1 =","= 000,00 / 12  * 1,159197 * 1/1 =","= 000,00 / 12  * 1,159197 * 1/1 =","= 000,00 / 12  * 1,159197 * 1/1 =","= 000,00 / 12  * 1,159197 * 1/1 =","= 000,00 / 12  * 0 * 1/1 =","= 000,00 / 12  * 0 * 1/1 =","= 000,00 / 12  * 0 * 1/1 =","= 000,00 / 12  * 0 * 1/1 ="]
[null,8,null,null,null,"Kvalifikationstillæg 1","= 000,00 / 12  * 0,0000 * 1,155339 * 1/1 =","= 000,00 / 12  * 0,0000 * 1,155339 * 1/1 =","= 000,00 / 12  * 0,0000 * 1,159197 * 1/1 =","= 000,00 / 12  * 0,0000 * 1,159197 * 1/1 =","= 000,00 / 12  * 0,0000 * 1,159197 * 1/1 =","= 000,00 / 12  * 0,0000 * 1,159197 * 1/1 =","= 000,00 / 12  * 0,0000 * 1,159197 * 1/1 =","= 000,00 / 12  * 0,0000 * 1,159197 * 1/1 =","= 000,00 / 12  * 0,0000 *  * 1/1 =","= 000,00 / 12  * 0,0000 * 0 * 1/1 =","= 000,00 / 12  * 0,0000 * 0 * 1/1 =","= 000,00 / 12  * 0,0000 * 0 * 1/1 =","= 000,00 / 12  * 0,0000 * 1,155339 * 1/1 =","= 000,00 / 12  * 0,0000 * 1,155339 * 1/1 =","= 000,00 / 12  * 0,0000 * 1,159197 * 1/1 =","= 000,00 / 12  * 0,0000 * 1,159197 * 1/1 =","= 000,00 / 12  * 0,0000 * 1,159197 * 1/1 =","= 000,00 / 12  * 0,0000 * 1,159197 * 1/1 =","= 000,00 / 12  * 0,0000 * 1,159197 * 1/1 =","= 000,00 / 12  * 0,0000 * 1,159197 * 1/1 =","= 000,00 / 12  * 0,0000 * 0 * 1/1 =","= 000,00 / 12  * 0,0000 * 0 * 1/1 =","= 000,00 / 12  * 0,0000 * 0 * 1/1 =","= 000,00 / 12  * 0,0000 * 0 * 1/1 ="]
[null,9,null,null,null,"Kvalifikationstillæg 2","= 000,00 / 12  * 0,0000 * 1,155339 * 1/1 =","= 000,00 / 12  * 0,0000 * 1,155339 * 1/1 =","= 000,00 / 12  * 0,0000 * 1,159197 * 1/1 =","= 000,00 / 12  * 0,0000 * 1,159197 * 1/1 =","= 000,00 / 12  * 0,0000 * 1,159197 * 1/1 =","= 000,00 / 12  * 0,0000 * 1,159197 * 1/1 =","= 000,00 / 12  * 0,0000 * 1,159197 * 1/1 =","= 000,00 / 12  * 0,0000 * 1,159197 * 1/1 =","= 000,00 / 12  * 0,0000 *  * 1/1 =","= 000,00 / 12  * 0,0000 * 0 * 1/1 =","= 000,00 / 12  * 0,0000 * 0 * 1/1 =","= 000,00 / 12  * 0,0000 * 0 * 1/1 =","= 000,00 / 12  * 0,0000 * 1,155339 * 1/1 =","= 000,00 / 12  * 0,0000 * 1,155339 * 1/1 =","= 000,00 / 12  * 0,0000 * 1,159197 * 1/1 =","= 000,00 / 12  * 0,0000 * 1,159197 * 1/1 =","= 000,00 / 12  * 0,0000 * 1,159197 * 1/1 =","= 000,00 / 12  * 0,0000 * 1,159197 * 1/1 =","= 000,00 / 12  * 0,0000 * 1,159197 * 1/1 =","= 000,00 / 12  * 0,0000 * 1,159197 * 1/1 =","= 000,00 / 12  * 0,0000 * 0 * 1/1 =","= 000,00 / 12  * 0,0000 * 0 * 1/1 =","= 000,00 / 12  * 0,0000 * 0 * 1/1 =","= 000,00 / 12  * 0,0000 * 0 * 1/1 ="]
[null,10,null,null,null,"Kvalifikationstillæg 3","= 000,00 / 12  * 0,0000 * 1,155339 * 1/1 =","= 000,00 / 12  * 0,0000 * 1,155339 * 1/1 =","= 000,00 / 12  * 0,0000 * 1,159197 * 1/1 =","= 000,00 / 12  * 0,0000 * 1,159197 * 1/1 =","= 000,00 / 12  * 0,0000 * 1,159197 * 1/1 =","= 000,00 / 12  * 0,0000 * 1,159197 * 1/1 =","= 000,00 / 12  * 0,0000 * 1,159197 * 1/1 =","= 000,00 / 12  * 0,0000 * 1,159197 * 1/1 =","= 000,00 / 12  * 0,0000 *  * 1/1 =","= 000,00 / 12  * 0,0000 * 0 * 1/1 =","= 000,00 / 12  * 0,0000 * 0 * 1/1 =","= 000,00 / 12  * 0,0000 * 0 * 1/1 =","= 000,00 / 12  * 0,0000 * 1,155339 * 1/1 =","= 000,00 / 12  * 0,0000 * 1,155339 * 1/1 =","= 000,00 / 12  * 0,0000 * 1,159197 * 1/1 =","= 000,00 / 12  * 0,0000 * 1,159197 * 1/1 =","= 000,00 / 12  * 0,0000 * 1,159197 * 1/1 =","= 000,00 / 12  * 0,0000 * 1,159197 * 1/1 =","= 000,00 / 12  * 0,0000 * 1,159197 * 1/1 =","= 000,00 / 12  * 0,0000 * 1,159197 * 1/1 =","= 000,00 / 12  * 0,0000 * 0 * 1/1 =","= 000,00 / 12  * 0,0000 * 0 * 1/1 =","= 000,00 / 12  * 0,0000 * 0 * 1/1 =","= 000,00 / 12  * 0,0000 * 0 * 1/1 ="]
[null,11,null,null,null,"Udligningstillæg","= 000,00 / 12  * 0,0000 * 1,155339 * 1/1 =","= 000,00 / 12  * 0,0000 * 1,155339 * 1/1 =","= 000,00 / 12  * 0,0000 * 1,159197 * 1/1 =","= 000,00 / 12  * 0,0000 * 1,159197 * 1/1 =","= 000,00 / 12  * 0,0000 * 1,159197 * 1/1 =","= 000,00 / 12  * 0,0000 * 1,159197 * 1/1 =","= 000,00 / 12  * 0,0000 * 1,159197 * 1/1 =","= 000,00 / 12  * 0,0000 * 1,159197 * 1/1 =","= 000,00 / 12  * 0,0000 *  * 1/1 =","= 000,00 / 12  * 0,0000 * 0 * 1/1 =","= 000,00 / 12  * 0,0000 * 0 * 1/1 =","= 000,00 / 12  * 0,0000 * 0 * 1/1 =","= 000,00 / 12  * 0,0000 * 1,155339 * 1/1 =","= 000,00 / 12  * 0,0000 * 1,155339 * 1/1 =","= 000,00 / 12  * 0,0000 * 1,159197 * 1/1 =","= 000,00 / 12  * 0,0000 * 1,159197 * 1/1 =","= 000,00 / 12  * 0,0000 * 1,159197 * 1/1 =","= 000,00 / 12  * 0,0000 * 1,159197 * 1/1 =","= 000,00 / 12  * 0,0000 * 1,159197 * 1/1 =","= 000,00 / 12  * 0,0000 * 1,159197 * 1/1 =","= 000,00 / 12  * 0,0000 * 0 * 1/1 =","= 000,00 / 12  * 0,0000 * 0 * 1/1 =","= 000,00 / 12  * 0,0000 * 0 * 1/1 =","= 000,00 / 12  * 0,0000 * 0 * 1/1 ="]
[null,12,null,null,null,"Gruppelivstillæg",{"$f":"\"= \"&TEXT(G22,\"#.##0,00\")&\" * \"&TEXT(G$4,\"#0/#0\")&\" =\"","v":"= 0,00 * 1/1 ="},{"$f":"\"= \"&TEXT(H22,\"#.##0,00\")&\" * \"&TEXT(H$4,\"#0/#0\")&\" =\"","v":"= 0,00 * 1/1 ="},"= 0,00 * 1/1 =","= 0,00 * 1/1 =","= 0,00 * 1/1 =","= 0,00 * 1/1 =","= 0,00 * 1/1 =","= 0,00 * 1/1 =","= 0,00 * 1/1 =","= 0,00 * 1/1 =","= 0,00 * 1/1 =","= 0,00 * 1/1 =",{"$f":"\"= \"&TEXT(S22,\"#.##0,00\")&\" * \"&TEXT(S$4,\"#0/#0\")&\" =\"","v":"= 0,00 * 1/1 ="},{"$f":"\"= \"&TEXT(T22,\"#.##0,00\")&\" * \"&TEXT(T$4,\"#0/#0\")&\" =\"","v":"= 0,00 * 1/1 ="},"= 0,00 * 1/1 =","= 0,00 * 1/1 =","= 0,00 * 1/1 =","= 0,00 * 1/1 =","= 0,00 * 1/1 =","= 0,00 * 1/1 =","= 0,00 * 1/1 =","= 0,00 * 1/1 =","= 0,00 * 1/1 =","= 0,00 * 1/1 ="]
[null,13,null,null,null,"Lokalaftalt ulempegodtgørelse",{"$f":"\"= \"&TEXT(G23,\"#,00\")&IF($D60>0,\" * \"&TEXT(G$11,\"0,0000\"),\"\")&IF($E60>0,\" * \"&G$9,\"\")&\" * \"&TEXT(G$4,\"#0/#0\")&\" =\"","v":"= ,00 * 1,155339 * 1/1 ="},"= ,00 * 1,155339 * 1/1 =","= ,00 * 1,159197 * 1/1 =","= ,00 * 1,159197 * 1/1 =","= ,00 * 1,159197 * 1/1 =","= ,00 * 1,159197 * 1/1 =","= ,00 * 1,159197 * 1/1 =","= ,00 * 1,159197 * 1/1 =","= ,00 *  * 1/1 =","= ,00 * 0 * 1/1 =","= ,00 * 0 * 1/1 =","= ,00 * 0 * 1/1 =","= ,00 * 1,155339 * 1/1 =","= ,00 * 1,155339 * 1/1 =","= ,00 * 1,159197 * 1/1 =","= ,00 * 1,159197 * 1/1 =","= ,00 * 1,159197 * 1/1 =","= ,00 * 1,159197 * 1/1 =","= ,00 * 1,159197 * 1/1 =","= ,00 * 1,159197 * 1/1 =","= ,00 * 0 * 1/1 =","= ,00 * 0 * 1/1 =","= ,00 * 0 * 1/1 =","= ,00 * 0 * 1/1 ="]
[null,14,null,null,null,"Lønfradrag for ikke optjent ferie mv.",{"$f":"\"= - \"&MAX(0,MIN(G24,G25*1))+G28&\" * \"&IF(G8=\"JA\",\"4,62%\",\"4,8%\")&\" * SUM(Lin. 1 - Lin 12)\"&\" * \"&TEXT(G$4,\"#0/#0\")&\" =\"","v":"= - 0 * 4,62% * SUM(Lin. 1 - Lin 12) * 1/1 ="},{"$f":"\"= - \"&MAX(0,MIN(H24,H25*1))+H28&\" * \"&IF(H8=\"JA\",\"4,62%\",\"4,8%\")&\" * SUM(Lin. 1 - Lin 12) =\"","v":"= - 0 * 4,62% * SUM(Lin. 1 - Lin 12) ="},"= - 0 * 4,62% * SUM(Lin. 1 - Lin 12) =","= - 0 * 4,62% * SUM(Lin. 1 - Lin 12) =","= - 0 * 4,62% * SUM(Lin. 1 - Lin 12) =","= - 0 * 4,62% * SUM(Lin. 1 - Lin 12) =","= - 0 * 4,62% * SUM(Lin. 1 - Lin 12) =","= - 0 * 4,62% * SUM(Lin. 1 - Lin 12) =","= - 0 * 4,62% * SUM(Lin. 1 - Lin 12) =","= - 0 * 4,62% * SUM(Lin. 1 - Lin 12) =","= - 0 * 4,62% * SUM(Lin. 1 - Lin 12) =","= - 0 * 4,62% * SUM(Lin. 1 - Lin 12) =",{"$f":"\"= - \"&MAX(0,MIN(S24,S25*1))+S28&\" * \"&IF(S8=\"JA\",\"4,62%\",\"4,8%\")&\" * SUM(Lin. 1 - Lin 12)\"&\" * \"&TEXT(S$4,\"#0/#0\")&\" =\"","v":"= - 0 * 4,62% * SUM(Lin. 1 - Lin 12) * 1/1 ="},{"$f":"\"= - \"&MAX(0,MIN(T24,T25*1))+T28&\" * \"&IF(T8=\"JA\",\"4,62%\",\"4,8%\")&\" * SUM(Lin. 1 - Lin 12) =\"","v":"= - 0 * 4,62% * SUM(Lin. 1 - Lin 12) ="},"= - 0 * 4,62% * SUM(Lin. 1 - Lin 12) =","= - 0 * 4,62% * SUM(Lin. 1 - Lin 12) =","= - 0 * 4,62% * SUM(Lin. 1 - Lin 12) =","= - 0 * 4,62% * SUM(Lin. 1 - Lin 12) =","= - 0 * 4,62% * SUM(Lin. 1 - Lin 12) =","= - 0 * 4,62% * SUM(Lin. 1 - Lin 12) =","= - 0 * 4,62% * SUM(Lin. 1 - Lin 12) =","= - 0 * 4,62% * SUM(Lin. 1 - Lin 12) =","= - 0 * 4,62% * SUM(Lin. 1 - Lin 12) =","= - 0 * 4,62% * SUM(Lin. 1 - Lin 12) ="]
[null,16,null,null,null,"Feriedifference. Pensionsgivende",null,{"$f":"\"= \"&IF(LEFT(H8)=\"N\",\"( \"&H26&\" - \"&H11&\") * 4,8% * \"&H103&\" * \"&MAX((H24-H25),0)*H104,\"( \"&H26&\" - \"&H11&\") * 4,62% * \"&H103&\" * \"&MAX((H24-H25),0))&\" =\"","v":"= (  - 0) * 4,62% * 0 * 0 ="},"= (  - 0) * 4,62% * 0 * 5 =","= (  - 0) * 4,62% * 0 * 0 =","= (  - 0) * 4,62% * 0 * 0 =","= (  - 0) * 4,62% * 0 * 0 =","= (  - 0) * 4,62% * 0 * 5 =","= (  - 0) * 4,62% * 0 * 0 =","= (  - 0) * 4,62% * 0 * 0 =",{"$f":"\"= \"&IF(LEFT(P8)=\"N\",\"( \"&ROUND(P27,4)&\" - \"&P11&\") * 4,8% * \"&P103&\" * \"&MAX((P24-P25),0)*P104,\"( \"&ROUND(P27,4)&\" - \"&P11&\") * 4,62% * \"&P103&\" * \"&MAX((P24-P25),0))&\" =\"","v":"= ( 0 - 0) * 4,62% * 0 * 0 ="},{"$f":"\"= \"&IF(LEFT(Q8)=\"N\",\"( \"&ROUND(Q27,4)&\" - \"&Q11&\") * 4,8% * \"&Q103&\" * \"&MAX((Q24-Q25),0)*Q104,\"( \"&ROUND(Q27,4)&\" - \"&Q11&\") * 4,62% * \"&Q103&\" * \"&MAX((Q24-Q25),0))&\" =\"","v":"= ( 0 - 0) * 4,62% * 0 * 0 ="},{"$f":"\"= \"&IF(LEFT(R8)=\"N\",\"( \"&ROUND(R27,4)&\" - \"&R11&\") * 4,8% * \"&R103&\" * \"&MAX((R24-R25),0)*R104,\"( \"&ROUND(R27,4)&\" - \"&R11&\") * 4,62% * \"&R103&\" * \"&MAX((R24-R25),0))&\" =\"","v":"= ( 0 - 0) * 4,62% * 0 * 15 ="},null,{"$f":"\"= \"&IF(LEFT(T8)=\"N\",\"( \"&T26&\" - \"&T11&\") * 4,8% * \"&T103&\" * \"&MAX((T24-T25),0)*T104,\"( \"&T26&\" - \"&T11&\") * 4,62% * \"&T103&\" * \"&MAX((T24-T25),0))&\" =\"","v":"= ( 0 - 0) * 4,62% * 0 * 0 ="},"= ( 0 - 0) * 4,62% * 0 * 5 =","= ( 0 - 0) * 4,62% * 0 * 0 =","= ( 0 - 0) * 4,62% * 0 * 0 =","= ( 0 - 0) * 4,62% * 0 * 0 =","= ( 0 - 0) * 4,62% * 0 * 5 =","= ( 0 - 0) * 4,62% * 0 * 0 =","= ( 0 - 0) * 4,62% * 0 * 0 =",{"$f":"\"= \"&IF(LEFT(AB8)=\"N\",\"( \"&ROUND(AB27,4)&\" - \"&AB11&\") * 4,8% * \"&AB103&\" * \"&MAX((AB24-AB25),0)*AB104,\"( \"&ROUND(AB27,4)&\" - \"&AB11&\") * 4,62% * \"&AB103&\" * \"&MAX((AB24-AB25),0))&\" =\"","v":"= ( 0 - 0) * 4,62% * 0 * 0 ="},{"$f":"\"= \"&IF(LEFT(AC8)=\"N\",\"( \"&ROUND(AC27,4)&\" - \"&AC11&\") * 4,8% * \"&AC103&\" * \"&MAX((AC24-AC25),0)*AC104,\"( \"&ROUND(AC27,4)&\" - \"&AC11&\") * 4,62% * \"&AC103&\" * \"&MAX((AC24-AC25),0))&\" =\"","v":"= ( 0 - 0) * 4,62% * 0 * 0 ="},{"$f":"\"= \"&IF(LEFT(AD8)=\"N\",\"( \"&ROUND(AD27,4)&\" - \"&AD11&\") * 4,8% * \"&AD103&\" * \"&MAX((AD24-AD25),0)*AD104,\"( \"&ROUND(AD27,4)&\" - \"&AD11&\") * 4,62% * \"&AD103&\" * \"&MAX((AD24-AD25),0))&\" =\"","v":"= ( 0 - 0) * 4,62% * 0 * 15 ="}]
[null,17,null,null,null,"Feriedifferende. Ikke pensionsgivende"]
[null,18,null,null,null,"Engangsudbetalinger iflg. specifikation",{"$f":"SUBSTITUTE(TRIM(\"=SUM(\"&MAX(G34-8000,0)&\" \"&G35&\" \"&G36&\" \"&G37&\" \"&G38&\" \"&G40&\" \"&G41&\" \"&G42&\" \"&G43&\" \"&G44&\")\"),\" \",\"; \")&\" =\"","v":"=SUM(0; ) ="},{"$f":"SUBSTITUTE(TRIM(\"=SUM(\"&MAX(H34-8000,0)&\" \"&H35&\" \"&H36&\" \"&H37&\" \"&H38&\" \"&H40&\" \"&H41&\" \"&H42&\" \"&H43&\" \"&H44&\")\"),\" \",\"; \")&\" =\"","v":"=SUM(0; ) ="},"=SUM(0; ) =","=SUM(0; ) =","=SUM(0; ) =","=SUM(0; ) =","=SUM(0; ) =","=SUM(0; ) =","=SUM(0; ) =","=SUM(0; ) =","=SUM(0; ) =","=SUM(0; ) =",{"$f":"SUBSTITUTE(TRIM(\"=SUM(\"&MAX(S34-8000,0)&\" \"&S35&\" \"&S36&\" \"&S37&\" \"&S38&\" \"&S40&\" \"&S41&\" \"&S42&\" \"&S43&\" \"&S44&\")\"),\" \",\"; \")&\" =\"","v":"=SUM(0; 0; 0; 0; 0; 0; 0; 0; 0; 0) ="},{"$f":"SUBSTITUTE(TRIM(\"=SUM(\"&MAX(T34-8000,0)&\" \"&T35&\" \"&T36&\" \"&T37&\" \"&T38&\" \"&T40&\" \"&T41&\" \"&T42&\" \"&T43&\" \"&T44&\")\"),\" \",\"; \")&\" =\"","v":"=SUM(0; 0; 0; 0; 0; 0; 0; 0; 0; 0) ="},"=SUM(0; 0; 0; 0; 0; 0; 0; 0; 0; 0) =","=SUM(0; 0; 0; 0; 0; 0; 0; 0; 0; 0) =","=SUM(0; 0; 0; 0; 0; 0; 0; 0; 0; 0) =","=SUM(0; 0; 0; 0; 0; 0; 0; 0; 0; 0) =","=SUM(0; 0; 0; 0; 0; 0; 0; 0; 0; 0) =","=SUM(0; 0; 0; 0; 0; 0; 0; 0; 0; 0) =","=SUM(0; 0; 0; 0; 0; 0; 0; 0; 0; 0) =","=SUM(0; 0; 0; 0; 0; 0; 0; 0; 0; 0) =","=SUM(0; 0; 0; 0; 0; 0; 0; 0; 0; 0) =","=SUM(0; 0; 0; 0; 0; 0; 0; 0; 0; 0) ="]
[null,19,null,null,null,"Skattefri engangsudbetalinger iflg. spec.",{"$f":"SUBSTITUTE(TRIM(\"=SUM(\"&G31&\" * \"&$D31&\" \"&G32&\" * \"&$D32&\" \"&G33&\" \"&MIN(G34,8000)&\")\"),\" \",\"; \")&\" =\"","v":"=SUM(; *; 2,19; *; 3,73; 8000) ="},{"$f":"SUBSTITUTE(TRIM(\"=SUM(\"&H31&\" * \"&$D31&\" \"&H32&\" * \"&$D32&\" \"&H33&\" \"&MIN(H34,8000)&\")\"),\" \",\"; \")&\" =\"","v":"=SUM(; *; 2,19; *; 3,73; 8000) ="},{"$f":"SUBSTITUTE(TRIM(\"=SUM(\"&I31&\" * \"&$D31&\" \"&I32&\" * \"&$D32&\" \"&I33&\" \"&MIN(I34,8000)&\")\"),\" \",\"; \")&\" =\"","v":"=SUM(; *; 2,19; *; 3,73; 8000) ="},{"$f":"SUBSTITUTE(TRIM(\"=SUM(\"&J31&\" * \"&$D31&\" \"&J32&\" * \"&$D32&\" \"&J33&\" \"&MIN(J34,8000)&\")\"),\" \",\"; \")&\" =\"","v":"=SUM(; *; 2,19; *; 3,73; 8000) ="},{"$f":"SUBSTITUTE(TRIM(\"=SUM(\"&K31&\" * \"&$D31&\" \"&K32&\" * \"&$D32&\" \"&K33&\" \"&MIN(K34,8000)&\")\"),\" \",\"; \")&\" =\"","v":"=SUM(; *; 2,19; *; 3,73; 8000) ="},{"$f":"SUBSTITUTE(TRIM(\"=SUM(\"&L31&\" * \"&$E31&\" \"&L32&\" * \"&$E32&\" \"&L33&\" \"&MIN(L34,8000)&\")\"),\" \",\"; \")&\" =\"","v":"=SUM(; *; *; 8000) ="},{"$f":"SUBSTITUTE(TRIM(\"=SUM(\"&M31&\" * \"&$E31&\" \"&M32&\" * \"&$E32&\" \"&M33&\" \"&MIN(M34,8000)&\")\"),\" \",\"; \")&\" =\"","v":"=SUM(; *; *; 8000) ="},"=SUM(; *; *; 8000) =","=SUM(; *; *; 8000) =","=SUM(; *; *; 8000) =","=SUM(; *; *; 8000) =","=SUM(; *; *; 8000) =",{"$f":"SUBSTITUTE(TRIM(\"=SUM(\"&S31&\" * \"&$D31&\" \"&S32&\" * \"&$D32&\" \"&S33&\" \"&MIN(S34,8000)&\")\"),\" \",\"; \")&\" =\"","v":"=SUM(0; *; 2,19; 0; *; 3,73; 0; 0) ="},{"$f":"SUBSTITUTE(TRIM(\"=SUM(\"&T31&\" * \"&$D31&\" \"&T32&\" * \"&$D32&\" \"&T33&\" \"&MIN(T34,8000)&\")\"),\" \",\"; \")&\" =\"","v":"=SUM(0; *; 2,19; 0; *; 3,73; 0; 0) ="},{"$f":"SUBSTITUTE(TRIM(\"=SUM(\"&U31&\" * \"&$D31&\" \"&U32&\" * \"&$D32&\" \"&U33&\" \"&MIN(U34,8000)&\")\"),\" \",\"; \")&\" =\"","v":"=SUM(0; *; 2,19; 0; *; 3,73; 0; 0) ="},{"$f":"SUBSTITUTE(TRIM(\"=SUM(\"&V31&\" * \"&$D31&\" \"&V32&\" * \"&$D32&\" \"&V33&\" \"&MIN(V34,8000)&\")\"),\" \",\"; \")&\" =\"","v":"=SUM(0; *; 2,19; 0; *; 3,73; 0; 0) ="},{"$f":"SUBSTITUTE(TRIM(\"=SUM(\"&W31&\" * \"&$D31&\" \"&W32&\" * \"&$D32&\" \"&W33&\" \"&MIN(W34,8000)&\")\"),\" \",\"; \")&\" =\"","v":"=SUM(0; *; 2,19; 0; *; 3,73; 0; 0) ="},{"$f":"SUBSTITUTE(TRIM(\"=SUM(\"&X31&\" * \"&$E31&\" \"&X32&\" * \"&$E32&\" \"&X33&\" \"&MIN(X34,8000)&\")\"),\" \",\"; \")&\" =\"","v":"=SUM(0; *; 0; *; 0; 0) ="},{"$f":"SUBSTITUTE(TRIM(\"=SUM(\"&Y31&\" * \"&$E31&\" \"&Y32&\" * \"&$E32&\" \"&Y33&\" \"&MIN(Y34,8000)&\")\"),\" \",\"; \")&\" =\"","v":"=SUM(0; *; 0; *; 0; 0) ="},"=SUM(0; *; 0; *; 0; 0) =","=SUM(0; *; 0; *; 0; 0) =","=SUM(0; *; 0; *; 0; 0) =","=SUM(0; *; 0; *; 0; 0) =","=SUM(0; *; 0; *; 0; 0) ="]
[null,20,null,null,null,"Bruttoløn (ekskl. pensionstillæg og ATP)"]
[null,21,null,null,null,"Pensionstillæg skalatrinsløn eller HK-løn",{"$f":"\"= \"&ROUND(VLOOKUP(G12,Skalalontabel12,7,0)*G$9,0)&\" / 12  * \"&TEXT(G$11,\"0,0000\")&\" * \"&G5&\"% / 3 =\"","v":{"$error":"#N/A"}},{"$error":"#N/A"},{"$error":"#N/A"},{"$error":"#N/A"},{"$error":"#N/A"},{"$error":"#N/A"},{"$error":"#N/A"},{"$error":"#N/A"},{"$error":"#N/A"},{"$error":"#N/A"},{"$error":"#N/A"},{"$error":"#N/A"},{"$error":"#N/A"},{"$error":"#N/A"},{"$error":"#N/A"},{"$error":"#N/A"},{"$error":"#N/A"},{"$error":"#N/A"},{"$error":"#N/A"},{"$error":"#N/A"},{"$error":"#N/A"},{"$error":"#N/A"},{"$error":"#N/A"},{"$error":"#N/A"}]
[null,22,null,null,null,"Pensionstillæg fast løn",{"$f":"IF($C50>0,\"= \"&G50&\" * \"&G$5&\"% / 3 =\")","v":"= 0 * % / 3 ="},{"$f":"IF($C50>0,H50&\" * \"&H$5&\"% / 3 =\")","v":"0 * 0% / 3 ="},"0 * 0% / 3 =","0 * 0% / 3 =","0 * 0% / 3 =","0 * 0% / 3 =","0 * 0% / 3 =","0 * 0% / 3 =","0 * 0% / 3 =","0 * 0% / 3 =","0 * 0% / 3 =","0 * 0% / 3 =",{"$f":"IF($C50>0,\"= \"&S50&\" * \"&S$5&\"% / 3 =\")","v":"= 0 * 0% / 3 ="},{"$f":"IF($C50>0,T50&\" * \"&T$5&\"% / 3 =\")","v":"0 * 0% / 3 ="},"0 * 0% / 3 =","0 * 0% / 3 =","0 * 0% / 3 =","0 * 0% / 3 =","0 * 0% / 3 =","0 * 0% / 3 =","0 * 0% / 3 =","0 * 0% / 3 =","0 * 0% / 3 =","0 * 0% / 3 ="]
[null,23,null,null,null,"Pensionstillæg souscheftillæg","= 0 * % / 3 =","0 * 0% / 3 =","0 * 0% / 3 =","0 * 0% / 3 =","0 * 0% / 3 =","0 * 0% / 3 =","0 * 0% / 3 =","0 * 0% / 3 =","0 * 0% / 3 =","0 * 0% / 3 =","0 * 0% / 3 =","0 * 0% / 3 =","= 0 * 0% / 3 =","0 * 0% / 3 =","0 * 0% / 3 =","0 * 0% / 3 =","0 * 0% / 3 =","0 * 0% / 3 =","0 * 0% / 3 =","0 * 0% / 3 =","0 * 0% / 3 =","0 * 0% / 3 =","0 * 0% / 3 =","0 * 0% / 3 ="]
[null,24,null,null,null,"Pensionstillæg Funktionstillæg 1","= 0 * % / 3 =","0 * 0% / 3 =","0 * 0% / 3 =","0 * 0% / 3 =","0 * 0% / 3 =","0 * 0% / 3 =","0 * 0% / 3 =","0 * 0% / 3 =","0 * 0% / 3 =","0 * 0% / 3 =","0 * 0% / 3 =","0 * 0% / 3 =","= 0 * 0% / 3 =","0 * 0% / 3 =","0 * 0% / 3 =","0 * 0% / 3 =","0 * 0% / 3 =","0 * 0% / 3 =","0 * 0% / 3 =","0 * 0% / 3 =","0 * 0% / 3 =","0 * 0% / 3 =","0 * 0% / 3 =","0 * 0% / 3 ="]
[null,25,null,null,null,"Pensionstillæg Funktionstillæg 2","= 0 * % / 3 =","0 * 0% / 3 =","0 * 0% / 3 =","0 * 0% / 3 =","0 * 0% / 3 =","0 * 0% / 3 =","0 * 0% / 3 =","0 * 0% / 3 =","0 * 0% / 3 =","0 * 0% / 3 =","0 * 0% / 3 =","0 * 0% / 3 =","= 0 * 0% / 3 =","0 * 0% / 3 =","0 * 0% / 3 =","0 * 0% / 3 =","0 * 0% / 3 =","0 * 0% / 3 =","0 * 0% / 3 =","0 * 0% / 3 =","0 * 0% / 3 =","0 * 0% / 3 =","0 * 0% / 3 =","0 * 0% / 3 ="]
[null,26,null,null,null,"Pensionstillæg Funktionstillæg 3","= 0 * % / 3 =","0 * 0% / 3 =","0 * 0% / 3 =","0 * 0% / 3 =","0 * 0% / 3 =","0 * 0% / 3 =","0 * 0% / 3 =","0 * 0% / 3 =","0 * 0% / 3 =","0 * 0% / 3 =","0 * 0% / 3 =","0 * 0% / 3 =","= 0 * 0% / 3 =","0 * 0% / 3 =","0 * 0% / 3 =","0 * 0% / 3 =","0 * 0% / 3 =","0 * 0% / 3 =","0 * 0% / 3 =","0 * 0% / 3 =","0 * 0% / 3 =","0 * 0% / 3 =","0 * 0% / 3 =","0 * 0% / 3 ="]
[null,27,null,null,null,"Pensionstillæg Kvalifikationstillæg 1","= 0 * % / 3 =","0 * 0% / 3 =","0 * 0% / 3 =","0 * 0% / 3 =","0 * 0% / 3 =","0 * 0% / 3 =","0 * 0% / 3 =","0 * 0% / 3 =","0 * 0% / 3 =","0 * 0% / 3 =","0 * 0% / 3 =","0 * 0% / 3 =","= 0 * 0% / 3 =","0 * 0% / 3 =","0 * 0% / 3 =","0 * 0% / 3 =","0 * 0% / 3 =","0 * 0% / 3 =","0 * 0% / 3 =","0 * 0% / 3 =","0 * 0% / 3 =","0 * 0% / 3 =","0 * 0% / 3 =","0 * 0% / 3 ="]
[null,28,null,null,null,"Pensionstillæg Kvalifikationstillæg 2","= 0 * % / 3 =","0 * 0% / 3 =","0 * 0% / 3 =","0 * 0% / 3 =","0 * 0% / 3 =","0 * 0% / 3 =","0 * 0% / 3 =","0 * 0% / 3 =","0 * 0% / 3 =","0 * 0% / 3 =","0 * 0% / 3 =","0 * 0% / 3 =","= 0 * 0% / 3 =","0 * 0% / 3 =","0 * 0% / 3 =","0 * 0% / 3 =","0 * 0% / 3 =","0 * 0% / 3 =","0 * 0% / 3 =","0 * 0% / 3 =","0 * 0% / 3 =","0 * 0% / 3 =","0 * 0% / 3 =","0 * 0% / 3 ="]
[null,29,null,null,null,"Pensionstillæg Kvalifikationstillæg 3","= 0 * % / 3 =","0 * 0% / 3 =","0 * 0% / 3 =","0 * 0% / 3 =","0 * 0% / 3 =","0 * 0% / 3 =","0 * 0% / 3 =","0 * 0% / 3 =","0 * 0% / 3 =","0 * 0% / 3 =","0 * 0% / 3 =","0 * 0% / 3 =","= 0 * 0% / 3 =","0 * 0% / 3 =","0 * 0% / 3 =","0 * 0% / 3 =","0 * 0% / 3 =","0 * 0% / 3 =","0 * 0% / 3 =","0 * 0% / 3 =","0 * 0% / 3 =","0 * 0% / 3 =","0 * 0% / 3 =","0 * 0% / 3 ="]
[null,30,null,null,null,"Pensionstillæg af udligningstillæg","= 0 * % / 3 =","0 * 0% / 3 =","0 * 0% / 3 =","0 * 0% / 3 =","0 * 0% / 3 =","0 * 0% / 3 =","0 * 0% / 3 =","0 * 0% / 3 =","0 * 0% / 3 =","0 * 0% / 3 =","0 * 0% / 3 =","0 * 0% / 3 =","= 0 * 0% / 3 =","0 * 0% / 3 =","0 * 0% / 3 =","0 * 0% / 3 =","0 * 0% / 3 =","0 * 0% / 3 =","0 * 0% / 3 =","0 * 0% / 3 =","0 * 0% / 3 =","0 * 0% / 3 =","0 * 0% / 3 =","0 * 0% / 3 ="]
[null,31,null,null,null,"Fradrag i pensionstillæg for ikke optjent ferie mv.",{"$f":"\"= \"&G61&\" * \"&G$5&\"% / 3 =\"","v":"= 0 * % / 3 ="},"= 0 * 0% / 3 =","= 0 * 0% / 3 =","= 0 * 0% / 3 =","= 0 * 0% / 3 =","= 0 * 0% / 3 =","= 0 * 0% / 3 =","= 0 * 0% / 3 =","= 0 * 0% / 3 =","= 0 * 0% / 3 =","= 0 * 0% / 3 =","= 0 * 0% / 3 =","= 0 * 0% / 3 =","= 0 * 0% / 3 =","= 0 * 0% / 3 =","= 0 * 0% / 3 =","= 0 * 0% / 3 =","= 0 * 0% / 3 =","= 0 * 0% / 3 =","= 0 * 0% / 3 =","= 0 * 0% / 3 =","= 0 * 0% / 3 =","= 0 * 0% / 3 =","= 0 * 0% / 3 ="]
[null,32,null,null,null,"Pensionstillæg af feriedifference","= 0 * % / 3 =","= 0 * 0% / 3 =","= 0 * 0% / 3 =","= 0 * 0% / 3 =","= 0 * 0% / 3 =","= 0 * 0% / 3 =","= 0 * 0% / 3 =","= 0 * 0% / 3 =","= 0 * 0% / 3 =","= 0 * 0% / 3 =","= 0 * 0% / 3 =","= 0 * 0% / 3 =","= 0 * 0% / 3 =","= 0 * 0% / 3 =","= 0 * 0% / 3 =","= 0 * 0% / 3 =","= 0 * 0% / 3 =","= 0 * 0% / 3 =","= 0 * 0% / 3 =","= 0 * 0% / 3 =","= 0 * 0% / 3 =","= 0 * 0% / 3 =","= 0 * 0% / 3 =","= 0 * 0% / 3 ="]
[null,33,null,null,null,"Pensionstillæg af pensiong. engangstillæg",{"$f":"SUBSTITUTE(TRIM(\"=SUM(\"&IF($G36>0,G36&\" \",\"\")&IF($C40<>\"\",G40&\" \",\"\")&IF($C41<>\"\",G41&\" \",\"\")&IF($C42<>\"\",G42&\" \",\"\")&IF($C43<>\"\",G43&\" \",\"\")&IF($C44<>\"\",G44,\"\")&\")\"),\" \",\"; \")&\" * \"&G5&\"% / 3 =\"","v":"=SUM(; ) * % / 3 ="},"=SUM(; ) * 0% / 3 =","=SUM(; ) * 0% / 3 =","=SUM(; ) * 0% / 3 =","=SUM(; ) * 0% / 3 =","=SUM(; ) * 0% / 3 =","=SUM(; ) * 0% / 3 =","=SUM(; ) * 0% / 3 =","=SUM(; ) * 0% / 3 =","=SUM(; ) * 0% / 3 =","=SUM(; ) * 0% / 3 =","=SUM(; ) * 0% / 3 =","=SUM(0; 0; 0; ) * 0% / 3 =","=SUM(0; 0; 0; ) * 0% / 3 =","=SUM(0; 0; 0; ) * 0% / 3 =","=SUM(0; 0; 0; ) * 0% / 3 =","=SUM(0; 0; 0; ) * 0% / 3 =","=SUM(0; 0; 0; ) * 0% / 3 =","=SUM(0; 0; 0; ) * 0% / 3 =","=SUM(0; 0; 0; ) * 0% / 3 =","=SUM(0; 0; 0; ) * 0% / 3 =","=SUM(0; 0; 0; ) * 0% / 3 =","=SUM(0; 0; 0; ) * 0% / 3 =","=SUM(0; 0; 0; ) * 0% / 3 ="]
[null,34,null,null,null,"Ekstra pension ved orlov uden løn","Ekstra pension ved orlov uden løn","Ekstra pension ved orlov uden løn","Ekstra pension ved orlov uden løn","Ekstra pension ved orlov uden løn","Ekstra pension ved orlov uden løn","Ekstra pension ved orlov uden løn","Ekstra pension ved orlov uden løn","Ekstra pension ved orlov uden løn","Ekstra pension ved orlov uden løn","Ekstra pension ved orlov uden løn","Ekstra pension ved orlov uden løn","Ekstra pension ved orlov uden løn"]
[null,35,null,null,null,"Pensionstillæg i alt"]
[null,36,null,null,null,"Egetbidrag til ATP"]
[null,37,null,null,null,"AMB-grundlag",{"$f":"\"= SUM(Lin. 1 - Lin. 14) + SUM(Lin 19 - Lin28) - \"&G86&\" =\"","v":"= SUM(Lin. 1 - Lin. 14) + SUM(Lin 19 - Lin28) - 0 ="},{"$f":"\"= SUM(Lin. 1 - Lin. 14) + SUM(Lin 19 - Lin28) - \"&H86&\" =\"","v":"= SUM(Lin. 1 - Lin. 14) + SUM(Lin 19 - Lin28) - 0 ="},"= SUM(Lin. 1 - Lin. 14) + SUM(Lin 19 - Lin28) - 0 =","= SUM(Lin. 1 - Lin. 14) + SUM(Lin 19 - Lin28) - 0 =","= SUM(Lin. 1 - Lin. 14) + SUM(Lin 19 - Lin28) - 0 =","= SUM(Lin. 1 - Lin. 14) + SUM(Lin 19 - Lin28) - 0 =","= SUM(Lin. 1 - Lin. 14) + SUM(Lin 19 - Lin28) - 0 =","= SUM(Lin. 1 - Lin. 14) + SUM(Lin 19 - Lin28) - 0 =","= SUM(Lin. 1 - Lin. 14) + SUM(Lin 19 - Lin28) - 0 =","= SUM(Lin. 1 - Lin. 14) + SUM(Lin 19 - Lin28) - 0 =","= SUM(Lin. 1 - Lin. 14) + SUM(Lin 19 - Lin28) - 0 =","= SUM(Lin. 1 - Lin. 14) + SUM(Lin 19 - Lin28) - 0 =",{"$f":"\"= SUM(Lin. 1 - Lin. 14) + SUM(Lin 19 - Lin28) - \"&S86&\" =\"","v":"= SUM(Lin. 1 - Lin. 14) + SUM(Lin 19 - Lin28) - 0 ="},{"$f":"\"= SUM(Lin. 1 - Lin. 14) + SUM(Lin 19 - Lin28) - \"&T86&\" =\"","v":"= SUM(Lin. 1 - Lin. 14) + SUM(Lin 19 - Lin28) - 0 ="},"= SUM(Lin. 1 - Lin. 14) + SUM(Lin 19 - Lin28) - 0 =","= SUM(Lin. 1 - Lin. 14) + SUM(Lin 19 - Lin28) - 0 =","= SUM(Lin. 1 - Lin. 14) + SUM(Lin 19 - Lin28) - 0 =","= SUM(Lin. 1 - Lin. 14) + SUM(Lin 19 - Lin28) - 0 =","= SUM(Lin. 1 - Lin. 14) + SUM(Lin 19 - Lin28) - 0 =","= SUM(Lin. 1 - Lin. 14) + SUM(Lin 19 - Lin28) - 0 =","= SUM(Lin. 1 - Lin. 14) + SUM(Lin 19 - Lin28) - 0 =","= SUM(Lin. 1 - Lin. 14) + SUM(Lin 19 - Lin28) - 0 =","= SUM(Lin. 1 - Lin. 14) + SUM(Lin 19 - Lin28) - 0 =","= SUM(Lin. 1 - Lin. 14) + SUM(Lin 19 - Lin28) - 0 ="]
[null,38,null,null,null,"AM-bidrag",{"$f":"\"= \"&G87&\" * 8% (afrundet) =\"","v":"= 0 * 8% (afrundet) ="},{"$f":"\"= \"&H87&\" * 8% (afrundet) =\"","v":"= 0 * 8% (afrundet) ="},"= 0 * 8% (afrundet) =","= 0 * 8% (afrundet) =","= 0 * 8% (afrundet) =","= 0 * 8% (afrundet) =","= 0 * 8% (afrundet) =","= 0 * 8% (afrundet) =","= 0 * 8% (afrundet) =","= 0 * 8% (afrundet) =","= 0 * 8% (afrundet) =","= 0 * 8% (afrundet) =",{"$f":"\"= \"&S87&\" * 8% (afrundet) =\"","v":"= 0 * 8% (afrundet) ="},{"$f":"\"= \"&T87&\" * 8% (afrundet) =\"","v":"= 0 * 8% (afrundet) ="},"= 0 * 8% (afrundet) =","= 0 * 8% (afrundet) =","= 0 * 8% (afrundet) =","= 0 * 8% (afrundet) =","= 0 * 8% (afrundet) =","= 0 * 8% (afrundet) =","= 0 * 8% (afrundet) =","= 0 * 8% (afrundet) =","= 0 * 8% (afrundet) =","= 0 * 8% (afrundet) ="]
[null,39,null,null,null,"A-indkomst",{"$f":"\"= \"&G87&\" - \"&G88&\" =\"","v":"= 0 - 0 ="},{"$f":"\"= \"&H87&\" - \"&H88&\" =\"","v":"= 0 - 0 ="},"= 0 - 0 =","= 0 - 0 =","= 0 - 0 =","= 0 - 0 =","= 0 - 0 =","= 0 - 0 =","= 0 - 0 =","= 0 - 0 =","= 0 - 0 =","= 0 - 0 =",{"$f":"\"= \"&S87&\" - \"&S88&\" =\"","v":"= 0 - 0 ="},{"$f":"\"= \"&T87&\" - \"&T88&\" =\"","v":"= 0 - 0 ="},"= 0 - 0 =","= 0 - 0 =","= 0 - 0 =","= 0 - 0 =","= 0 - 0 =","= 0 - 0 =","= 0 - 0 =","= 0 - 0 =","= 0 - 0 =","= 0 - 0 ="]
[null,40,null,null,null,"Skattegrundlag"]
[null,41,null,null,null,"Skat",{"$f":"\"= (\"&G89&\" - \"&G30&\") (afrundet) * \"&G29&\" / 100 =\"","v":"= (0 - ) (afrundet) *  / 100 ="},{"$f":"\"= (\"&H89&\" - \"&H30&\") (afrundet) * \"&H29&\" / 100 =\"","v":"= (0 - 0) (afrundet) * 0 / 100 ="},"= (0 - 0) (afrundet) * 0 / 100 =","= (0 - 0) (afrundet) * 0 / 100 =","= (0 - 0) (afrundet) * 0 / 100 =","= (0 - 0) (afrundet) * 0 / 100 =","= (0 - 0) (afrundet) * 0 / 100 =","= (0 - 0) (afrundet) * 0 / 100 =","= (0 - 0) (afrundet) * 0 / 100 =","= (0 - 0) (afrundet) * 0 / 100 =","= (0 - 0) (afrundet) * 0 / 100 =","= (0 - 0) (afrundet) * 0 / 100 =",{"$f":"\"= (\"&S89&\" - \"&S30&\") (afrundet) * \"&S29&\" / 100 =\"","v":"= (0 - 0) (afrundet) * 0 / 100 ="},{"$f":"\"= (\"&T89&\" - \"&T30&\") (afrundet) * \"&T29&\" / 100 =\"","v":"= (0 - 0) (afrundet) * 0 / 100 ="},"= (0 - 0) (afrundet) * 0 / 100 =","= (0 - 0) (afrundet) * 0 / 100 =","= (0 - 0) (afrundet) * 0 / 100 =","= (0 - 0) (afrundet) * 0 / 100 =","= (0 - 0) (afrundet) * 0 / 100 =","= (0 - 0) (afrundet) * 0 / 100 =","= (0 - 0) (afrundet) * 0 / 100 =","= (0 - 0) (afrundet) * 0 / 100 =","= (0 - 0) (afrundet) * 0 / 100 =","= (0 - 0) (afrundet) * 0 / 100 ="]
[null,42,null,null,null,"Feriegodtgørelsesgrundlag"]
[null,43,null,null,null,{"$f":"\"Feriegodtgørelsesgrundlag, jan-juli \"&Aar+1","v":"Feriegodtgørelsesgrundlag, jan-juli 1"}]
[null,44,null,null,null,"Egetbidrag til pensionskasse",{"$f":"\"= Lin. 43 =\"","v":"= Lin. 43 ="},{"$f":"\"= Lin. 43 =\"","v":"= Lin. 43 ="},"= Lin. 43 =","= Lin. 43 =","= Lin. 43 =","= Lin. 43 =","= Lin. 43 =","= Lin. 43 =","= Lin. 43 =","= Lin. 43 =","= Lin. 43 =","= Lin. 43 =",{"$f":"\"= Lin. 43 =\"","v":"= Lin. 43 ="},"= Lin. 43 =","= Lin. 43 =","= Lin. 43 =","= Lin. 43 =","= Lin. 43 =","= Lin. 43 =","= Lin. 43 =","= Lin. 43 =","= Lin. 43 =","= Lin. 43 =","= Lin. 43 ="]
[null,45,null,null,null,"Arbejdsgiverbidrag til pensionskasse",{"$f":"\"= Lin. 43 * 2 =\"","v":"= Lin. 43 * 2 ="},{"$f":"\"= Lin. 43 * 2 =\"","v":"= Lin. 43 * 2 ="},"= Lin. 43 * 2 =","= Lin. 43 * 2 =","= Lin. 43 * 2 =","= Lin. 43 * 2 =","= Lin. 43 * 2 =","= Lin. 43 * 2 =","= Lin. 43 * 2 =","= Lin. 43 * 2 =","= Lin. 43 * 2 =","= Lin. 43 * 2 =",{"$f":"\"= Lin. 43 * 2 =\"","v":"= Lin. 43 * 2 ="},"= Lin. 43 * 2 =","= Lin. 43 * 2 =","= Lin. 43 * 2 =","= Lin. 43 * 2 =","= Lin. 43 * 2 =","= Lin. 43 * 2 =","= Lin. 43 * 2 =","= Lin. 43 * 2 =","= Lin. 43 * 2 =","= Lin. 43 * 2 =","= Lin. 43 * 2 ="]
[null,46,null,null,null,"Arbejdsgiverbidrag til ATP",{"$f":"\"= Lin. 44 * 2 =\"","v":"= Lin. 44 * 2 ="},{"$f":"\"= Lin. 44 * 2 =\"","v":"= Lin. 44 * 2 ="},"= Lin. 44 * 2 =","= Lin. 44 * 2 =","= Lin. 44 * 2 =","= Lin. 44 * 2 =","= Lin. 44 * 2 =","= Lin. 44 * 2 =","= Lin. 44 * 2 =","= Lin. 44 * 2 =","= Lin. 44 * 2 =","= Lin. 44 * 2 =",{"$f":"\"= Lin. 44 * 2 =\"","v":"= Lin. 44 * 2 ="},"= Lin. 44 * 2 =","= Lin. 44 * 2 =","= Lin. 44 * 2 =","= Lin. 44 * 2 =","= Lin. 44 * 2 =","= Lin. 44 * 2 =","= Lin. 44 * 2 =","= Lin. 44 * 2 =","= Lin. 44 * 2 =","= Lin. 44 * 2 =","= Lin. 44 * 2 ="]
[null,47,null,null,null,"Skolens samlede indbetaling til pensionskasse",{"$f":"\"= Lin. 51 + Lin. 52 =\"","v":"= Lin. 51 + Lin. 52 ="},{"$f":"\"= Lin. 51 + Lin. 52 =\"","v":"= Lin. 51 + Lin. 52 ="},"= Lin. 51 + Lin. 52 =","= Lin. 51 + Lin. 52 =","= Lin. 51 + Lin. 52 =","= Lin. 51 + Lin. 52 =","= Lin. 51 + Lin. 52 =","= Lin. 51 + Lin. 52 =","= Lin. 51 + Lin. 52 =","= Lin. 51 + Lin. 52 =","= Lin. 51 + Lin. 52 =","= Lin. 51 + Lin. 52 =",{"$f":"\"= Lin. 51 + Lin. 52 =\"","v":"= Lin. 51 + Lin. 52 ="},"= Lin. 51 + Lin. 52 =","= Lin. 51 + Lin. 52 =","= Lin. 51 + Lin. 52 =","= Lin. 51 + Lin. 52 =","= Lin. 51 + Lin. 52 =","= Lin. 51 + Lin. 52 =","= Lin. 51 + Lin. 52 =","= Lin. 51 + Lin. 52 =","= Lin. 51 + Lin. 52 =","= Lin. 51 + Lin. 52 =","= Lin. 51 + Lin. 52 ="]
[null,48,null,null,null,"Skolens samlede indbetaling til ATP",{"$f":"\"= Lin. 44 + Lin. 53 =\"","v":"= Lin. 44 + Lin. 53 ="},{"$f":"\"= Lin. 44 + Lin. 53 =\"","v":"= Lin. 44 + Lin. 53 ="},"= Lin. 44 + Lin. 53 =","= Lin. 44 + Lin. 53 =","= Lin. 44 + Lin. 53 =","= Lin. 44 + Lin. 53 =","= Lin. 44 + Lin. 53 =","= Lin. 44 + Lin. 53 =","= Lin. 44 + Lin. 53 =","= Lin. 44 + Lin. 53 =","= Lin. 44 + Lin. 53 =","= Lin. 44 + Lin. 53 =",{"$f":"\"= Lin. 44 + Lin. 53 =\"","v":"= Lin. 44 + Lin. 53 ="},"= Lin. 44 + Lin. 53 =","= Lin. 44 + Lin. 53 =","= Lin. 44 + Lin. 53 =","= Lin. 44 + Lin. 53 =","= Lin. 44 + Lin. 53 =","= Lin. 44 + Lin. 53 =","= Lin. 44 + Lin. 53 =","= Lin. 44 + Lin. 53 =","= Lin. 44 + Lin. 53 =","= Lin. 44 + Lin. 53 =","= Lin. 44 + Lin. 53 ="]
[null,49,null,null,null,"Indbetaling til Gruppeliv"]
[null,50,null,null,null,"Løn til den ansattes disposition",{"$f":"\"= \"&G70&\" - ( \"&G91&\" + \"&G86&\" + \"&G88&\" + \"&G99&\") - SUM(lin 57 : 59) =\"","v":"= 0 - ( 0 + 0 + 0 + 0) - SUM(lin 57 : 59) ="},{"$f":"\"= \"&H70&\" - ( \"&H91&\" + \"&H86&\" + \"&H88&\" + \"&H99&\") - SUM(lin 57 : 59) =\"","v":"= 0 - ( 0 + 0 + 0 + 0) - SUM(lin 57 : 59) ="},"= 0 - ( 0 + 0 + 0 + 0) - SUM(lin 57 : 59) =","= 0 - ( 0 + 0 + 0 + 0) - SUM(lin 57 : 59) =","= 0 - ( 0 + 0 + 0 + 0) - SUM(lin 57 : 59) =","= 0 - ( 0 + 0 + 0 + 0) - SUM(lin 57 : 59) =","= 0 - ( 0 + 0 + 0 + 0) - SUM(lin 57 : 59) =","= 0 - ( 0 + 0 + 0 + 0) - SUM(lin 57 : 59) =","= 0 - ( 0 + 0 + 0 + 0) - SUM(lin 57 : 59) =","= 0 - ( 0 + 0 + 0 + 0) - SUM(lin 57 : 59) =","= 0 - ( 0 + 0 + 0 + 0) - SUM(lin 57 : 59) =","= 0 - ( 0 + 0 + 0 + 0) - SUM(lin 57 : 59) =",{"$f":"\"= \"&S70&\" - ( \"&S91&\" + \"&S86&\" + \"&S88&\" + \"&S99&\") - SUM(lin 57 : 59) =\"","v":"= 0 - ( 0 + 0 + 0 + 0) - SUM(lin 57 : 59) ="},{"$f":"\"= \"&T70&\" - ( \"&T91&\" + \"&T86&\" + \"&T88&\" + \"&T99&\") - SUM(lin 57 : 59) =\"","v":"= 0 - ( 0 + 0 + 0 + 0) - SUM(lin 57 : 59) ="},"= 0 - ( 0 + 0 + 0 + 0) - SUM(lin 57 : 59) =","= 0 - ( 0 + 0 + 0 + 0) - SUM(lin 57 : 59) =","= 0 - ( 0 + 0 + 0 + 0) - SUM(lin 57 : 59) =","= 0 - ( 0 + 0 + 0 + 0) - SUM(lin 57 : 59) =","= 0 - ( 0 + 0 + 0 + 0) - SUM(lin 57 : 59) =","= 0 - ( 0 + 0 + 0 + 0) - SUM(lin 57 : 59) =","= 0 - ( 0 + 0 + 0 + 0) - SUM(lin 57 : 59) =","= 0 - ( 0 + 0 + 0 + 0) - SUM(lin 57 : 59) =","= 0 - ( 0 + 0 + 0 + 0) - SUM(lin 57 : 59) =","= 0 - ( 0 + 0 + 0 + 0) - SUM(lin 57 : 59) ="]
[null,51,null,null,null,{"$f":"\"Feriepengeberegningsgrundlag, jan-dec \"&Aar","v":"Feriepengeberegningsgrundlag, jan-dec "}]
[null,null,null,null,null,{"$f":"\"Feriepengeberegningsgrundlag, jan-jul \"&Aar+1","v":"Feriepengeberegningsgrundlag, jan-jul 1"}]

{"sheet":"Z","index":17,"n_rows":204,"n_cols":32,"rows_kept":204,"cut":false,"hidden":false,"merged":[[3,0,27,0],[28,0,29,0],[29,2,31,2],[44,2,46,4],[101,6,101,10],[101,18,101,22],[0,2,2,2],[0,3,2,3],[0,4,2,4]]}
["2022-2023",1,"Pensionsg.","BG-afh.","Regu-leret","Lønberegning for: (navn eller initialer)\n - variable løndele i lin. 30-43.","Z",{"$f":"G1","v":"Z"},{"$f":"H1","v":"Z"},"Z","Z","Z","Z","Z","Z","Z","Z","Z","Q",{"$f":"S1","v":"Q"},{"$f":"T1","v":"Q"},"Q","Q","Q","Q","Q","Q","Q","Q","Q","Udfyld gule felter (alle forudfyldte tal i gule felter er eksempler)"]
[null,{"$f":"B1+1","v":2},null,null,null,"Stillingsbetegnelse","Pædagog",{"$f":"G2","v":"Pædagog"},"Pædagog","Pædagog","Pædagog","Pædagog","Pædagog","Pædagog","Pædagog","Pædagog","Pædagog","Pædagog","Stilling",{"$f":"S2","v":"Stilling"},"Stilling","Stilling","Stilling","Stilling","Stilling","Stilling","Stilling","Stilling","Stilling","Stilling"]
[null,{"$f":"B2+1","v":3},null,null,null,"Måned",{"$f":"\"AUG \"&RIGHT(A1,2)+0","v":"AUG 23"},{"$f":"\"SEP \"&RIGHT(A1,2)+0","v":"SEP 23"},{"$f":"\"OKT \"&RIGHT(A1,2)+0","v":"OKT 23"},{"$f":"\"NOV \"&RIGHT(A1,2)+0","v":"NOV 23"},{"$f":"\"DEC \"&RIGHT(A1,2)+0","v":"DEC 23"},{"$f":"\"JAN \"&RIGHT(A1,2)+1","v":"JAN 24"},{"$f":"\"FEB \"&RIGHT(A1,2)+1","v":"FEB 24"},{"$f":"\"MAR \"&RIGHT(A1,2)+1","v":"MAR 24"},{"$f":"\"APR \"&RIGHT(A1,2)+1","v":"APR 24"},{"$f":"\"MAJ \"&RIGHT(A1,2)+1","v":"MAJ 24"},{"$f":"\"JUN \"&RIGHT(A1,2)+1","v":"JUN 24"},{"$f":"\"JUL \"&RIGHT(A1,2)+1","v":"JUL 24"},{"$f":"G3","v":"AUG 23"},{"$f":"H3","v":"SEP 23"},"OKT 23","NOV 23","DEC 23","JAN 24","FEB 24","MAR 24","APR 24","MAJ 24","JUN 24","JUL 24","ansat d. "]
[null,{"$f":"B3+1","v":4},"sæt 'x'","sæt 'x'","sæt 'x'","Del af måned \nantal kalenderdage/månedens kalenderdage",1,{"$f":"G4","v":1},{"$f":"H4","v":1},1,1,1,1,1,1,1,1,1,{"$f":"G4","v":1},1,1,1,1,1,1,1,1,1,1,1,"Hvis ansat 10 oktober: 21/31\nHvis fratrådt 15. april: 15/30",2]
[null,{"$f":"B4+1","v":5},null,null,null,"Pensionsprocent",null,{"$f":"$G5","v":0},0,0,0,0,0,0,0,0,0,0,{"$f":"G5","v":0},0,0,0,0,0,0,0,0,0,0,0,"Skriv ikke procenttegnet, fx 14,7% - skriv 14,70",3]
[null,{"$f":"B5+1","v":6},null,null,null,"Betales hele pensionen af skolen? JA/NEJ","Ja",{"$f":"G6","v":"Ja"},{"$f":"H6","v":"Ja"},"Ja","Ja","Ja","Ja","Ja","Ja","Ja","Ja","Ja",{"$f":"G6","v":"Ja"},"Ja","Ja","Ja","Ja","Ja","Ja","Ja","Ja","Ja","Ja","Ja","Se ansættelsesbrev",4]
[null,null,null,null,null,"Har den ansatte orlov uden løn men med pension?","Nej",{"$f":"G7","v":"Nej"},"Nej","Nej","Nej","Nej","Nej","Nej","Nej","Nej","Nej","Nej"]
[null,{"$f":"B6+1","v":7},null,null,null,"Beregnes feriedifferende mv. efter Ferieaftalen i staten JA, eller efter Ferieloven NEJ","JA",{"$f":"G8","v":"JA"},"JA","JA","JA","JA","JA","JA","JA","JA","JA","JA",{"$f":"G8","v":"JA"},{"$f":"H8","v":"JA"},"JA","JA","JA","JA","JA","JA","JA","JA","JA","JA","Ferieloven: mindst 20% differende, Ferieaftalen: enhver differende",5]
[null,{"$f":"B8+1","v":8},null,null,null,"Procentregulering +1",1.1553389999999999,1.1553389999999999,1.159197,1.159197,{"$f":"J9","v":1.159197},1.159197,1.159197,1.159197,null,{"$f":"O9","v":0},{"$f":"P9","v":0},{"$f":"Q9","v":0},{"$f":"G9","v":1.1553389999999999},1.1553389999999999,1.159197,1.159197,1.159197,1.159197,1.159197,1.159197,0,0,0,0,null,6]
[null,9,null,null,null,"Skolens stedtillægsområde",null,{"$f":"G10","v":0},0,0,0,0,0,0,0,0,0,0,{"$f":"G10","v":0},0,0,0,0,0,0,0,0,0,0,0]
[null,10,null,null,null,"Beskæftigelsesgrad aktuel (Beskæftigelsesgrad løn beregnes ud fra)",null,{"$f":"G11","v":0},0,0,0,0,0,0,0,{"$f":"O11","v":0},0,0,0,0,0,0,0,0,0,0,0,0,0,0]
[null,{"$f":"B11+1","v":11},"x","x","x","Skalatrin",null,{"$f":"G12","v":0},0,0,0,0,0,0,0,0,0,0,0,0,0,0,0,0,0,0,0,0,0,0,"Statens løntabel eller HK-overenskomst-løntrin"]
[null,12,"x","x","x",{"$f":"\"Fast aftalt årlig løn \"&IF(E13<>\"\",\"i grundbeløb pr. 31.03.2012\",\"(ikke reguleret)\")","v":"Fast aftalt årlig løn i grundbeløb pr. 31.03.2012"},null,0,0,0,0,0,0,0,{"$f":"N13","v":0},0,0,0,0,0,0,0,0,0,0,0,0,0,0,0]
[null,13,"x",null,"x","Årligt sousdheftillæg eller lign. i grundbeløb",null,{"$f":"G14","v":0},0,0,0,0,0,0,0,0,0,0,0,0,0,0,0,0,0,0,0,0,0,0]
[null,14,"x",null,"x","Årligt funktionsstillæg i grundbeløb 1",null,{"$f":"G15","v":0},0,0,0,0,0,0,0,0,0,0,0,0,0,0,0,0,0,0,0,0,0,0,null,"Ja"]
[null,15,"x",null,"x","Årligt funktionsstillæg i grundbeløb 2",null,{"$f":"G16","v":0},0,0,0,0,0,0,0,0,0,0,0,0,0,0,0,0,0,0,0,0,0,0,null,"Nej"]
[null,16,"x",null,"x","Årligt funktionsstillæg i grundbeløb 3",null,{"$f":"G17","v":0},0,0,0,0,0,0,0,0,0,0,0,0,0,0,0,0,0,0,0,0,0,0]
[null,17,"x","x","x","Årligt kvalifikationsstillæg i grundbeløb 1",null,0,0,0,0,0,0,0,0,0,0,0,0,0,0,0,0,0,0,0,0,0,0,0]
[null,18,"x","x","x","Årligt kvalifikationsstillæg i grundbeløb 2",null,0,0,0,0,0,0,0,0,0,0,0,0,0,0,0,0,0,0,0,0,0,0,0]
[null,19,"x","x","x","Årligt kvalifikationsstillæg i grundbeløb 3",null,0,0,0,0,0,0,0,0,0,0,0,0,0,0,0,0,0,0,0,0,0,0,0]
[null,20,"x","x","x","Udligningstillæg i årligt grundbeløb v. 100% BG",null,0,0,0,0,0,0,0,0,0,0,0,0,0,0,0,0,0,0,0,0,0,0,0]
[null,21,null,null,null,"Gruppelivsordning betalt af af skolen som et løntillæg. Skriv det månedlige beløb!",null,0,0,0,0,0,0,0,0,0,0,0,0,0,0,0,0,0,0,0,0,0,0,0,"Spedielt ved virksomhedsoverdragelse"]
[null,22,null,null,"x","Lokalaftalt fast ulempegodtgørelse pr. måned. - (pr. 31. marts 2012)",null,{"$f":"G23","v":0},0,0,0,0,0,0,{"$f":"N23","v":0},0,0,0,0,0,0,0,0,0,0,0,0,0,0,0,"I stedet for variable arbejdstidsbestemte tillæg, iflg lokalaftale"]
[null,23,null,null,null,"Planlagte feriedage",null,null,5,null,null,null,5,null,null,null,null,15,{"$f":"G24","v":0},{"$f":"H24","v":0},5,0,0,0,5,0,0,0,0,15,"Normalt 15 dage i sommerhalvåret og 10 dage i vinterhalvåret"]
[null,24,null,null,null,".. heraf antal feriedage,\nhvortil der ikke er optjent ferieret",null,null,null,null,null,null,null,null,null,null,null,0,0,0,0,0,0,0,0,0,0,0,0,0,"Ferieloven: fradrag 4,8% pr. dag, Ferieaftalen: 4,62% pr. dag"]
[null,25,null,null,null,"Feriedifference pensionsgivende(udregnes i særskilt regneark)",null,null,null,null,null,null,null,null,null,null,null,null,0,0,0,0,0,0,0,0,0,0,0,0,"Benyttes ved beregning af feriedifferende."]
[null,26,null,null,null,"Feriedifference IKKE pensionsgivende(udregnes i særskilt regneark)",null,null,null,null,null,null,null,null,null,null,null,null,0,0,0,0,0,0,0,0,0,0,0,0,"Benyttes ved beregning af feriedifference'"]
[null,27,null,null,null,"Egenbetalte fridage",null,null,null,null,null,null,null,null,null,null,null,null,0,0,0,0,0,0,0,0,0,0,0,0,"Løn- og pensionsfradrag beregnes i lin 60 og 75"]
["Skatteop-lysninger",28,null,null,null,"Skatteprocent",null,{"$f":"G29","v":0},0,0,0,0,0,0,0,0,0,0,0,0,0,0,0,0,0,0,0,0,0,0,"Skriv ikke procenttegnet, fx 42% - skriv 42"]
[null,29,"km-\ntak-ster",{"$f":"LEFT($A$1,4)+1","v":2023},{"$f":"LEFT($A$1,4)+2","v":2024},"Månedligt skattefradrag",null,0,0,0,0,0,0,0,0,0,0,0,0,0,0,0,0,0,0,0,0,0,0,0]
[null,30,null,2.19,null,"Km.godtgørelse, lav sats (skattefri), antal km:",null,null,null,null,null,null,null,null,null,null,null,null,0,0,0,0,0,0,0,0,0,0,0,0]
[null,31,null,3.73,null,"Km.godtgørelse, høj sats (skattefri), antal km:",null,null,null,null,null,null,null,null,null,null,null,null,0,0,0,0,0,0,0,0,0,0,0,0]
[null,32,null,null,null,"Timedagpenge (skattefri) - Beregn selv",null,null,null,null,null,null,null,null,null,null,null,null,0,0,0,0,0,0,0,0,0,0,0,0,"Se løntabel"]
[null,33,null,null,null,"Jubilæumsgratiale (skattefri op til 8.000 kr.)",null,null,null,null,null,null,null,null,null,null,null,null,0,0,0,0,0,0,0,0,0,0,0,0,"Se løntabel"]
[null,34,null,null,null,"Arbejds- og arbejdstidsbestemte tillæg. Beregn selv",null,null,null,null,null,null,null,null,null,null,null,null,0,0,0,0,0,0,0,0,0,0,0,0,"”Natpenge” iflg skema, hvis ikke der er lokalaftalt godtgørelse"]
[null,35,"x",null,null,"Merarbejdsbetaling. Beregn selv",null,null,null,null,null,null,null,null,null,null,null,null,0,0,0,0,0,0,0,0,0,0,0,0,"Efter årsopgørelse eller ved fratræden"]
[null,36,null,null,null,"Overtidsbetaling. Beregn selv",null,null,null,null,null,null,null,null,null,null,null,null,0,0,0,0,0,0,0,0,0,0,0,0,"Efter årsopgørelse eller ved fratræden"]
[null,37,null,null,null,"Særlige feriedage til udbetaling. Beregn selv",null,null,null,null,null,null,null,null,null,null,null,null,{"$f":"G38","v":0},0,0,0,0,0,0,0,0,0,0,0,"Efter årsafslutning eller ved fratræden. Se pjeden \"Ferievejledning\""]
[null,38,null,null,null,{"$f":"\"Særlig ferietillæg \"&IF(G8=\"ja\",\"1,5%\",\"1,0%\"&\"\")","v":"Særlig ferietillæg 1,5%"},null,null,null,null,null,null,null,null,null,0,null,null,0,0,0,0,0,0,0,0,0,0,0,0]
[null,39,"x",null,null,"Resultatlønstillæg",null,null,null,null,null,null,null,null,null,null,null,null,0,0,0,0,0,0,0,0,0,0,0,0]
[null,40,"x",null,null,"Engangs nylønstillæg",null,null,null,null,null,null,null,null,null,null,null,null,0,0,0,0,0,0,0,0,0,0,0,0]
[null,41,"x",null,null,"Praktiklærervederlag",null,null,null,null,null,null,null,null,null,null,null,null,0,0,0,0,0,0,0,0,0,0,0,0,{"$f":"45*5*7.4","v":1665}]
[null,42,null,null,null,"andet",null,null,null,null,null,null,null,null,null,null,null,null,0,0,0,0,0,0,0,0,0,0,0,0]
[null,43,null,null,null,"andet",null,null,null,null,null,null,null,null,null,null,null,null,0,0,0,0,0,0,0,0,0,0,0,0]
[null,44,"Disse tre linjer fradrages i den disponible løn",null,null,"gavekasse",null,{"$f":"G45","v":0},{"$f":"H45","v":0},0,0,0,0,0,0,0,0,0,0,0,0,0,0,0,0,0,0,0,0,0,"Fx: 'Kaffekasse'"]
[null,45,null,null,null,"kaffekasse",null,{"$f":"G46","v":0},0,0,0,0,0,0,0,0,0,0,0,0,0,0,0,0,0,0,0,0,0,0,"Fx: 'Gavekasse'"]
[null,46,null,null,null,"Fagforenings-kontingent",null,{"$f":"G47","v":0},0,0,0,0,0,0,0,0,0,0,0,0,0,0,0,0,0,0,0,0,0,0,"FX: 'Fagforeningskontingent'"]
[{"$f":"A3","v":"1904-01-01"},{"$f":"B47+1","v":47},null,null,null,"Måned",{"$f":"G3","v":"AUG 23"},"SEP 23","OKT 23","NOV 23","DEC 23","JAN 24","FEB 24","MAR 24","APR 24","MAJ 24","JUN 24","JUL 24","AUG 23","SEP 23","OKT 23","NOV 23","DEC 23","JAN 24","FEB 24","MAR 24","APR 24","MAJ 24","JUN 24","JUL 24","SUM"]
[null,48,{"$f":"(C12<>\"\")*1","v":1},1,1,{"$f":"IF(ISNUMBER(G12),\"Skalatrinsløn\",\"HK-løn\")","v":"HK-løn"},{"$f":"IF(G7=\"Ja\",0,ROUND(IF(AND(G$11>0,G12>0),ROUND((ROUND(VLOOKUP(G12,Skalalontabel12,G10,0)*G9,0))/12,2),0)*G11*G4,2))","v":0},0,0,0,0,0,0,0,0,0,0,0,{"$f":"ROUND(IF(AND(S$11>0,S12>0),ROUND((ROUND(VLOOKUP(S12,Skalalontabel12,S10,0)*S9,0))/12,2),0)*S11*S4,2)","v":0},0,0,0,0,0,0,0,0,0,0,0,{"$f":"SUM(G49:R49)","v":0}]
[null,49,1,1,1,"Fast løn",{"$f":"IF(G7=\"Ja\",0,ROUND(IF(G13>0,G13/12)*IF($D13<>\"\",G$11,1)*IF($E13<>\"\",G$9,1)*G4,2))","v":0},0,0,0,0,0,0,0,0,0,0,0,{"$f":"ROUND(IF(S13>0,S13/12)*IF($D13<>\"\",S$11,1)*IF($E13<>\"\",S$9,1)*S4,2)","v":0},0,0,0,0,0,0,0,0,0,0,0,0]
[null,50,1,0,1,"Souscheftillæg ell. lign.",{"$f":"IF(G7=\"Ja\",0,ROUND(IF(AND(G$11>0,G14>0),G14/12)*IF($D14<>\"\",G$11,1)*IF($E14<>\"\",G$9,1)*G4,2))","v":0},0,0,0,0,0,0,0,0,0,0,0,{"$f":"ROUND(IF(AND(S$11>0,S14>0),S14/12)*IF($D14<>\"\",S$11,1)*IF($E14<>\"\",S$9,1)*S4,2)","v":0},0,0,0,0,0,0,0,0,0,0,0,0]
[null,51,1,0,1,"Funktionstillæg 1",{"$f":"IF(G7=\"Ja\",0,ROUND(IF(AND(G$11>0,G15>0),G15/12)*IF($D15<>\"\",G$11,1)*IF($E15<>\"\",G$9,1)*G4,2))","v":0},0,0,0,0,0,0,0,0,0,0,0,{"$f":"ROUND(IF(AND(S$11>0,S15>0),S15/12)*IF($D15<>\"\",S$11,1)*IF($E15<>\"\",S$9,1)*S4,2)","v":0},0,0,0,0,0,0,0,0,0,0,0,0]
[null,52,1,0,1,"Funktionstillæg 2",{"$f":"IF(G7=\"Ja\",0,ROUND(IF(AND(G$11>0,G16>0),G16/12)*IF($D16<>\"\",G$11,1)*IF($E16<>\"\",G$9,1)*G4,2))","v":0},0,0,0,0,0,0,0,0,0,0,0,{"$f":"ROUND(IF(AND(S$11>0,S16>0),S16/12)*IF($D16<>\"\",S$11,1)*IF($E16<>\"\",S$9,1)*S4,2)","v":0},0,0,0,0,0,0,0,0,0,0,0,0]
[null,53,1,0,1,"Funktionstillæg 3",{"$f":"IF(G7=\"Ja\",0,ROUND(IF(AND(G$11>0,G17>0),G17/12)*IF($D17<>\"\",G$11,1)*IF($E17<>\"\",G$9,1)*G4,2))","v":0},0,0,0,0,0,0,0,0,0,0,0,{"$f":"ROUND(IF(AND(S$11>0,S17>0),S17/12)*IF($D17<>\"\",S$11,1)*IF($E17<>\"\",S$9,1)*S4,2)","v":0},0,0,0,0,0,0,0,0,0,0,0,0]
[null,54,1,1,1,"Kvalifikationstillæg 1",{"$f":"IF(G7=\"Ja\",0,ROUND(IF(AND(G$11>0,G18>0),G18/12)*IF($D18<>\"\",G$11,1)*IF($E18<>\"\",G$9,1)*G4,2))","v":0},0,0,0,0,0,0,0,0,0,0,0,{"$f":"ROUND(IF(AND(S$11>0,S18>0),S18/12)*IF($D18<>\"\",S$11,1)*IF($E18<>\"\",S$9,1)*S4,2)","v":0},0,0,0,0,0,0,0,0,0,0,0,0]
[null,55,1,1,1,"Kvalifikationstillæg 2",{"$f":"IF(G7=\"Ja\",0,ROUND(IF(AND(G$11>0,G19>0),G19/12)*IF($D19<>\"\",G$11,1)*IF($E19<>\"\",G$9,1)*G4,2))","v":0},0,0,0,0,0,0,0,0,0,0,0,{"$f":"ROUND(IF(AND(S$11>0,S19>0),S19/12)*IF($D19<>\"\",S$11,1)*IF($E19<>\"\",S$9,1)*S4,2)","v":0},0,0,0,0,0,0,0,0,0,0,0,0]
[null,56,1,1,1,"Kvalifikationstillæg 3",{"$f":"IF(G7=\"Ja\",0,ROUND(IF(AND(G$11>0,G20>0),G20/12)*IF($D20<>\"\",G$11,1)*IF($E20<>\"\",G$9,1)*G$4,2))","v":0},0,0,0,0,0,0,0,0,0,0,0,{"$f":"ROUND(IF(AND(S$11>0,S20>0),S20/12)*IF($D20<>\"\",S$11,1)*IF($E20<>\"\",S$9,1)*S$4,2)","v":0},0,0,0,0,0,0,0,0,0,0,0,0]
[null,57,1,1,1,"Udligningstillæg",{"$f":"IF(G7=\"Ja\",0,ROUND(IF(AND(G$11>0,G21>0),G21/12)*IF($D21<>\"\",G$11,1)*IF($E21<>\"\",G$9,1)*G$4,2))","v":0},0,0,0,0,0,0,0,0,0,0,0,0,0,0,0,0,0,0,0,0,0,0,0,0]
[null,58,null,null,null,"Gruppelivstillæg",{"$f":"IF(G7=\"Ja\",0,ROUND(IF(AND(G$11>0,G22>0),G22)*IF($D22<>\"\",G$11,1)*IF($E22<>\"\",G$9,1)*G$4,2))","v":0},0,0,0,0,0,0,0,0,0,0,0,{"$f":"ROUND(IF(AND(S$11>0,S22>0),S22)*IF($D22<>\"\",S$11,1)*IF($E22<>\"\",S$9,1)*S$4,2)","v":0},0,0,0,0,0,0,0,0,0,0,0,0]
[null,59,null,{"$f":"(D23<>\"\")*1","v":0},{"$f":"(E23<>\"\")*1","v":1},"Lokalaftalt ulempegodtgørelse",{"$f":"IF(G7=\"Ja\",0,ROUND(IF(AND(G$11>0,G23>0),G23)*IF($D23<>\"\",G$11,1)*IF($E23<>\"\",G$9,1)*G$4,2))","v":0},0,0,0,0,0,0,0,0,0,0,0,0,0,0,0,0,0,0,0,0,0,0,0,0]
[null,60,1,null,null,"Lønfradrag for ikke optjent ferie mv.",{"$f":"-ROUND((MAX(0,MIN(S24,S25*1))+S28)*IF(S8=\"JA\",4.62%,4.8%)*(S49+S50+S51+S52+S53+S54+S55+S56+S57+S58+S60)*S$4,2)","v":0},0,0,0,0,0,0,0,0,0,0,0,{"$f":"-ROUND((MAX(0,MIN(S24,S25*1))+S28)*IF(S8=\"JA\",4.62%,4.8%)*(S49+S50+S51+S52+S53+S54+S55+S56+S57+S58+S60)*S$4,2)","v":0},0,0,0,0,0,0,0,0,0,0,0,0]
[null,61,1,null,null,"Feriedifference pensionsgivende(udregnes i særskilt fane)",{"$f":"G26","v":0},{"$f":"H26","v":0},0,0,0,0,0,0,0,0,0,0,{"$f":"S26","v":0},{"$f":"T26","v":0},0,0,0,0,0,0,0,0,0,0,0]
[null,62,null,null,null,"Feriedifference IKKE pensionsgivende(udregnes i særskilt fane)",{"$f":"G27","v":0},0,0,0,0,0,0,0,0,0,0,0,{"$f":"S27","v":0},0,0,0,0,0,0,0,0,0,0,0]
[null,63,null,null,null,"Engangsudbetalinger iflg. specifikation",{"$f":"SUM(G35:G44)","v":0},{"$f":"SUM(H35:H44)","v":0},0,0,0,0,0,0,0,0,0,0,{"$f":"SUM(S35:S44)","v":0},{"$f":"SUM(T35:T44)+MAX(T34*T9-8000,0)","v":0},0,0,0,0,0,0,0,0,0,0,0]
[null,64,null,null,null,"Skattefrie km. Godtgørelse lav sats",{"$f":"G31*$D$31","v":0},{"$f":"H31*$D$31","v":0},0,0,0,0,0,0,0,0,0,0,{"$f":"S31*$D$31","v":0},{"$f":"T31*$D$31","v":0},0,0,0,0,0,0,0,0,0,0]
[null,65,null,null,null,"Skattefrie km. Godtgørelse høj sats",{"$f":"G32*$D$32","v":0},{"$f":"H32*$D$32","v":0},0,0,0,0,0,0,0,0,0,0,{"$f":"S32*$D$32","v":0},{"$f":"T32*$D$32","v":0},0,0,0,0,0,0,0,0,0,0]
[null,{"$f":"B64+1","v":64},null,null,null,"Timedagpenge(skattefrie)",{"$f":"IF(G33>0,G33,0)","v":0},{"$f":"IF(H33>0,H33,0)","v":0},0,0,0,0,0,0,0,0,0,0,{"$f":"IF(S33>0,S33,0)","v":0},{"$f":"IF(T33>0,T33,0)","v":0},0,0,0,0,0,0,0,0,0,0,0]
[null,65,null,null,null,"Skattefri jubilæumsgratiale",{"$f":"MIN(8000,G34*G9)","v":0},0,0,0,0,0,0,0,0,0,0,0,0,0,0,0,0,0,0,0,0,0,0,0]
[null,66,null,null,null,"Skattepligtig jubilæumsgratiaale",{"$f":"IF(G34>0,MAX(G34*G9-8000,0),0)","v":0},0,0,0,0,0,0,0,0,0,0,0,0,0,0,0,0,0,0,0,0,0,0,0]
[null,67,null,null,null,"Bruttoløn (ekskl. pensionstillæg og ATP)",{"$f":"SUM(G49:G69)","v":0},{"$f":"SUM(H49:H67)","v":0},0,0,0,0,0,0,0,0,0,0,{"$f":"SUM(S49:S69)","v":0},{"$f":"SUM(T49:T67)","v":0},0,0,0,0,0,0,0,0,0,0,0]
[null,{"$f":"B70+1","v":68},null,null,null,{"$f":"\"Pensionstillæg af pensionsg. \"&IF(ISNUMBER(G12),\"Skalatrinsløn\",\"HK-løn\")","v":"Pensionstillæg af pensionsg. HK-løn"},{"$f":"IF(G7=\"Ja\",0,ROUND(IF(AND(G$11>0,G12>0),ROUND((ROUND(VLOOKUP(G12,Skalalontabel12,7,0)*G9,0))/12,2),0)*G11*G4*G5/100/3,2))","v":0},0,0,0,0,0,0,0,0,0,0,0,{"$f":"ROUND(IF(AND(S$11>0,S12>0),ROUND((ROUND(VLOOKUP(S12,Skalalontabel12,7,0)*S9,0))/12,2),0)*S11*S4*S5/100/3,2)","v":0},0,0,0,0,0,0,0,0,0,0,0,0]
[null,69,null,null,null,"Pensionstillæg fast løn",{"$f":"ROUND(G50*$C50*G$5/100/3,2)","v":0},0,0,0,0,0,0,0,0,0,0,0,0,0,0,0,0,0,0,0,0,0,0,0,0]
[null,70,null,null,null,"Pensionstillæg souscheftillæg",0,0,0,0,0,0,0,0,0,0,0,0,0,0,0,0,0,0,0,0,0,0,0,0,0]
[null,71,null,null,null,"Pensionstillæg Funktionstillæg 1",0,0,0,0,0,0,0,0,0,0,0,0,0,0,0,0,0,0,0,0,0,0,0,0,0]
[null,72,null,null,null,"Pensionstillæg Funktionstillæg 2",0,0,0,0,0,0,0,0,0,0,0,0,0,0,0,0,0,0,0,0,0,0,0,0,0]
[null,73,null,null,null,"Pensionstillæg Funktionstillæg 3",0,0,0,0,0,0,0,0,0,0,0,0,0,0,0,0,0,0,0,0,0,0,0,0,0]
[null,74,null,null,null,"Pensionstillæg Kvalifikationstillæg 1",0,0,0,0,0,0,0,0,0,0,0,0,0,0,0,0,0,0,0,0,0,0,0,0,0]
[null,75,null,null,null,"Pensionstillæg Kvalifikationstillæg 2",0,0,0,0,0,0,0,0,0,0,0,0,0,0,0,0,0,0,0,0,0,0,0,0,0]
[null,76,null,null,null,"Pensionstillæg Kvalifikationstillæg 3",0,0,0,0,0,0,0,0,0,0,0,0,0,0,0,0,0,0,0,0,0,0,0,0,0]
[null,77,null,null,null,"Pensionstillæg af udligningstillæg",0,0,0,0,0,0,0,0,0,0,0,0,0,0,0,0,0,0,0,0,0,0,0,0,0]
[null,78,null,null,null,"Fradrag i pensionstillæg for ikke optjent ferie mv.",{"$f":"ROUND(G61*$C61*G$5/100/3,2)","v":0},0,0,0,0,0,0,0,0,0,0,0,0,0,0,0,0,0,0,0,0,0,0,0,0]
[null,79,null,null,null,"Pensionstillæg af feriedifference",0,0,0,0,0,0,0,0,0,0,0,0,0,0,0,0,0,0,0,0,0,0,0,0,0]
[null,80,null,null,null,"Pensionstillæg af pensiong. engangstillæg",{"$f":"ROUND(G36*G5/100/3+G40*($C40<>\"\")*G5/100/3+G41*($C41<>\"\")*G5/100/3+G42*($C42<>\"\")*G5/100/3+G43*($C43<>\"\")*G5/100/3+G44*($C44<>\"\")*G5/100/3,2)","v":0},0,0,0,0,0,0,0,0,0,0,0,0,0,0,0,0,0,0,0,0,0,0,0,0]
[null,null,null,null,null,"Ekstra pension hvis orlov uden løn",{"$f":"IF(G7=\"Ja\",SUM(S71:S82)-SUM(G71:G83),0)","v":0},{"$f":"IF(H7=\"Ja\",SUM(T71:T83)-SUM(H71:H83),0)","v":0},{"$f":"IF(I7=\"Ja\",SUM(U71:U82)-SUM(I71:I83),0)","v":0},0,0,0,0,0,0,0,0,0]
[null,{"$f":"B83+1","v":81},null,null,null,"Pensionstillæg i alt",{"$f":"SUM(G71:G84)","v":0},{"$f":"SUM(H71:H84)","v":0},0,0,0,0,0,0,0,0,0,0,{"$f":"SUM(S71:S83)","v":0},{"$f":"SUM(T71:T83)","v":0},0,0,0,0,0,0,0,0,0,0,0]
[null,82,null,null,null,"Egetbidrag til ATP",{"$f":"ROUND(G98/3,2)","v":0},{"$f":"ROUND(H98/3,2)","v":0},0,0,0,0,0,0,0,0,0,0,{"$f":"ROUND(S98/3,2)","v":0},{"$f":"ROUND(T98/3,2)","v":0},0,0,0,0,0,0,0,0,0,0,{"$f":"SUM(G86:R86)","v":0}]
[null,83,null,null,null,"AMB-grundlag",{"$f":"IF(G6=\"nej\",G85*-1)+SUM(G49:G64)-G86+G69","v":0},0,0,0,0,0,0,0,0,0,0,0,{"$f":"IF(S6=\"nej\",S85*-1)+SUM(S49:S64)-S86","v":0},0,0,0,0,0,0,0,0,0,0,0,{"$f":"SUM(G87:R87)","v":0}]
[null,84,null,null,null,"AM-bidrag",{"$f":"ROUND(G87*8%,0)","v":0},{"$f":"ROUND(H87*8%,0)","v":0},0,0,0,0,0,0,0,0,0,0,{"$f":"ROUND(S87*8%,0)","v":0},{"$f":"ROUND(T87*8%,0)","v":0},0,0,0,0,0,0,0,0,0,0,0]
[null,85,null,null,null,"A-indkomst",{"$f":"G87-G88","v":0},{"$f":"H87-H88","v":0},0,0,0,0,0,0,0,0,0,0,{"$f":"S87-S88","v":0},{"$f":"T87-T88","v":0},0,0,0,0,0,0,0,0,0,0,0]
[null,86,null,null,null,"Skattegrundlag",{"$f":"FLOOR(G89-G30,10)","v":0},{"$f":"FLOOR(H89-H30,10)","v":0},0,0,0,0,0,0,0,0,0,0,{"$f":"FLOOR(S89-S30,10)","v":0},{"$f":"FLOOR(T89-T30,10)","v":0},0,0,0,0,0,0,0,0,0,0]
[null,87,null,null,null,"Skat",{"$f":"ROUND(G90*G29/100,0)","v":0},0,0,0,0,0,0,0,0,0,0,0,0,0,0,0,0,0,0,0,0,0,0,0,0]
[null,88,null,null,null,"Feriegodtgørelsesgrundlag ",{"$f":"SUM(G49:G64)","v":0},{"$f":"SUM(H49:H64)","v":0},{"$f":"SUM(I49:I64)","v":0},{"$f":"SUM(J49:J64)","v":0},{"$f":"SUM(K49:K64)","v":0},{"$f":"SUM(L49:L64)","v":0},0,0,0,0,0,0,{"$f":"SUM(S49:S64)","v":0},{"$f":"SUM(T49:T64)","v":0},{"$f":"SUM(U49:U64)","v":0},{"$f":"SUM(V49:V64)","v":0},{"$f":"SUM(W49:W64)","v":0},{"$f":"SUM(X49:X64)","v":0},0,0,0,0,0,0,{"$f":"SUM(H92:P92)","v":0}]
[null,89,null,null,null,{"$f":"\"Feriegodtgørelsesgrundlag, juni-juli \"","v":"Feriegodtgørelsesgrundlag, juni-juli "},null,null,null,null,null,null,null,null,null,null,{"$f":"SUM(Q49:Q64)-Q39","v":0},{"$f":"SUM(R49:R64)-R39","v":0},null,null,null,null,null,null,null,null,null,null,{"$f":"SUM(AC49:AC64)-AC39","v":0},{"$f":"SUM(AD49:AD64)-AD39","v":0},{"$f":"SUM(G93:R93)","v":0}]
[null,90,null,null,null,"Egetbidrag til pensionskasse",{"$f":"G85","v":0},{"$f":"H85","v":0},0,0,0,0,0,0,0,0,0,0,{"$f":"S85","v":0},{"$f":"T85","v":0},0,0,0,0,0,0,0,0,0,0,0]
[null,91,null,null,null,"Arbejdsgiverbidrag til pensionskasse",{"$f":"G94*2","v":0},{"$f":"H94*2","v":0},0,0,0,0,0,0,0,0,0,0,{"$f":"S94*2","v":0},{"$f":"T94*2","v":0},0,0,0,0,0,0,0,0,0,0,0]
[null,92,null,null,null,"Arbejdsgiverbidrag til ATP",{"$f":"G98*2/3","v":0},{"$f":"H98*2/3","v":0},0,0,0,0,0,0,0,0,0,0,{"$f":"S98*2/3","v":0},{"$f":"T98*2/3","v":0},0,0,0,0,0,0,0,0,0,0,0]
[null,93,null,null,null,"Skolens samlede indbetaling til pensionskasse",{"$f":"G94+G95","v":0},{"$f":"H94+H95","v":0},0,0,0,0,0,0,0,0,0,0,{"$f":"S94+S95","v":0},{"$f":"T94+T95","v":0},0,0,0,0,0,0,0,0,0,0,0]
[null,{"$f":"B97+1","v":94},null,null,null,"Skolens samlede indbetaling til ATP",{"$f":"284/3*(((G11*G4)>=9/37)+((G11*G4)>=18/37)+((G11*G4)>=27/37))","v":0},0,0,0,0,{"$f":"297/3*(((L11*L4)>=9/37)+((L11*L4)>=18/37)+((L11*L4)>=27/37))","v":0},{"$f":"297/3*(((M11*M4)>=9/37)+((M11*M4)>=18/37)+((M11*M4)>=27/37))","v":0},0,0,0,0,0,0,0,0,0,0,0,0,0,0,0,0,0,0]
[null,95,null,null,null,"Indbetaling til Gruppeliv",{"$f":"G22","v":0},{"$f":"H22","v":0},0,0,0,0,0,0,0,0,0,0,{"$f":"S22","v":0},{"$f":"T22","v":0},0,0,0,0,0,0,0,0,0,0,0]
[null,96,null,null,null,"Løn til den ansattes disposition",{"$f":"IF(G6=\"nej\",G85*-1)+G70-(G91+G86+G88+G99)-G45-G46-G47","v":0},0,0,0,0,0,0,0,0,0,0,0,0,0,0,0,0,0,0,0,0,0,0,0,{"$f":"SUM(G100:R100)","v":0}]
[null,97,null,null,null,{"$f":"\"Feriepengeberegningsgrundlag, jan-dec \"&Aar","v":"Feriepengeberegningsgrundlag, jan-dec "},{"$f":"(SUM(G49:G64)+G85+G86)*(1-12/260*G24)","v":0},{"$f":"(SUM(H49:H64)+H85+H86)*(1-12/260*H24)","v":0},{"$f":"(SUM(I49:I64)+I85+I86)*(1-12/260*I24)","v":0},{"$f":"(SUM(J49:J64)+J85+J86)*(1-12/260*J24)","v":0},{"$f":"(SUM(K49:K64)+K85+K86)*(1-12/260*K24)","v":0},"Kalenderårets sum benyttes ved fratræden og særlige feriedage",null,null,null,null,null,null,{"$f":"(SUM(S49:S64)+S85+S86)*(1-12/260*S24)","v":0},{"$f":"(SUM(T49:T64)+T85+T86)*(1-12/260*T24)","v":0},{"$f":"(SUM(U49:U64)+U85+U86)*(1-12/260*U24)","v":0},{"$f":"(SUM(V49:V64)+V85+V86)*(1-12/260*V24)","v":0},{"$f":"(SUM(W49:W64)+W85+W86)*(1-12/260*W24)","v":0},"Kalenderårets sum benyttes ved fratræden og særlige feriedage",null,null,null,null,null,null,{"$f":"A101+SUM(G101:K101)","v":0}]
[null,{"$f":"B101+1","v":98},null,null,null,{"$f":"\"Feriepengeberegningsgrundlag, jan-jul \"&Aar","v":"Feriepengeberegningsgrundlag, jan-jul "},"Kalenderårets sum benyttes ved fratræden og særlige feriedage",null,null,null,null,{"$f":"(SUM(L$49:L$64)+L$85+L86)*(1-12/260*L$24)","v":0},{"$f":"(SUM(M$49:M$64)+M$85+M86)*(1-12/260*M$24)","v":0},0,0,0,0,0,"Kalenderårets sum benyttes ved fratræden og særlige feriedage",null,null,null,null,{"$f":"(SUM(X$49:X$64)+X$85+X86)*(1-12/260*X$24)","v":0},{"$f":"(SUM(Y$49:Y$64)+Y$85+Y86)*(1-12/260*Y$24)","v":0},0,0,0,0,0,0]
[null,{"$f":"B102+1","v":99},null,null,null,"BG-afhængige løndele",{"$f":"G49*$D49+G50*$D50+G51*$D51+G52*$D52+G53*$D53+G54*$D54+G55*$D55+G56*$D56+G57*$D57+G58*$D58+G60*$D60","v":0},0,0,0,0,0,0,0,0,0,0,0,0,0,0,0,0,0,0,0,0,0,0,0]
[null,{"$f":"B103+1","v":100},null,null,null,"BG-difference >=20%",{"$f":"IF(G11>0,IF(G11>G26,(G11-G26)/G26>=20%,(G11-G26)/G26<=-20%),\"\")","v":""},"","","","","","","","",{"$f":"IF(P11>0,IF(P11>P27,(P11-P27)/P27>=20%,(P11-P27)/P27<=-20%),\"\")","v":""},{"$f":"IF(Q11>0,IF(Q11>Q27,(Q11-Q27)/Q27>=20%,(Q11-Q27)/Q27<=-20%),\"\")","v":""},{"$f":"IF(R11>0,IF(R11>R27,(R11-R27)/R27>=20%,(R11-R27)/R27<=-20%),\"\")","v":""},{"$f":"IF(S11>0,IF(S11>S26,(S11-S26)/S26>=20%,(S11-S26)/S26<=-20%),\"\")","v":""},"","","","","","","","",{"$f":"IF(AB11>0,IF(AB11>AB27,(AB11-AB27)/AB27>=20%,(AB11-AB27)/AB27<=-20%),\"\")","v":""},{"$f":"IF(AC11>0,IF(AC11>AC27,(AC11-AC27)/AC27>=20%,(AC11-AC27)/AC27<=-20%),\"\")","v":""},{"$f":"IF(AD11>0,IF(AD11>AD27,(AD11-AD27)/AD27>=20%,(AD11-AD27)/AD27<=-20%),\"\")","v":""}]
[]
[]
[]
[]
[]
[]
[]
[]
[]
[]
[]
[]
[]
[]
[]
[]
[]
[]
[]
[]
[]
[]
[]
[]
[]
[]
[]
[]
[]
[]
[]
[]
[]
[]
[]
[]
[]
[]
[]
[]
[]
[]
[]
[]
[]
[]
[]
[]
[]
[null,{"$f":"B153+1","v":1}]
[null,2,null,null,null,{"$f":"IF(ISNUMBER(G1),\"Skalatrinsløn\",\"HK-løn\")","v":"HK-løn"},{"$f":"\"= \"&TEXT(ROUND(VLOOKUP(G12,Skalalontabel12,G10,0)*G9,0),\"#.000\")&\" / 12 * \"&TEXT(G11,\"0,0000\")&\" * \"&TEXT(G$4,\"#0/#0\")&\" =\"","v":{"$error":"#N/A"}},{"$error":"#N/A"},{"$error":"#N/A"},{"$error":"#N/A"},{"$error":"#N/A"},{"$error":"#N/A"},{"$error":"#N/A"},{"$error":"#N/A"},{"$error":"#N/A"},{"$error":"#N/A"},{"$error":"#N/A"},{"$error":"#N/A"},{"$error":"#N/A"},{"$error":"#N/A"},{"$error":"#N/A"},{"$error":"#N/A"},{"$error":"#N/A"},{"$error":"#N/A"},{"$error":"#N/A"},{"$error":"#N/A"},{"$error":"#N/A"},{"$error":"#N/A"},{"$error":"#N/A"},{"$error":"#N/A"}]
[null,3,null,null,null,"Fast løn",{"$f":"\"= \"&TEXT(G13,\"#.000,00\")&\" / 12 \"&IF($D50>0,\" * \"&TEXT(G$11,\"0,0000\"),\"\")&IF($E50>0,\" * \"&G$9,\"\")&\" * \"&TEXT(G$4,\"#0/#0\")&\" =\"","v":"= 000,00 / 12  * 0,0000 * 1,155339 * 1/1 ="},"= 000,00 / 12  * 0,0000 * 1,155339 * 1/1 =","= 000,00 / 12  * 0,0000 * 1,159197 * 1/1 =","= 000,00 / 12  * 0,0000 * 1,159197 * 1/1 =","= 000,00 / 12  * 0,0000 * 1,159197 * 1/1 =","= 000,00 / 12  * 0,0000 * 1,159197 * 1/1 =","= 000,00 / 12  * 0,0000 * 1,159197 * 1/1 =","= 000,00 / 12  * 0,0000 * 1,159197 * 1/1 =","= 000,00 / 12  * 0,0000 *  * 1/1 =","= 000,00 / 12  * 0,0000 * 0 * 1/1 =","= 000,00 / 12  * 0,0000 * 0 * 1/1 =","= 000,00 / 12  * 0,0000 * 0 * 1/1 =","= 000,00 / 12  * 0,0000 * 1,155339 * 1/1 =","= 000,00 / 12  * 0,0000 * 1,155339 * 1/1 =","= 000,00 / 12  * 0,0000 * 1,159197 * 1/1 =","= 000,00 / 12  * 0,0000 * 1,159197 * 1/1 =","= 000,00 / 12  * 0,0000 * 1,159197 * 1/1 =","= 000,00 / 12  * 0,0000 * 1,159197 * 1/1 =","= 000,00 / 12  * 0,0000 * 1,159197 * 1/1 =","= 000,00 / 12  * 0,0000 * 1,159197 * 1/1 =","= 000,00 / 12  * 0,0000 * 0 * 1/1 =","= 000,00 / 12  * 0,0000 * 0 * 1/1 =","= 000,00 / 12  * 0,0000 * 0 * 1/1 =","= 000,00 / 12  * 0,0000 * 0 * 1/1 ="]
[null,4,null,null,null,"Sousdheftillæg","= 000,00 / 12  * 1,155339 * 1/1 =","= 000,00 / 12  * 1,155339 * 1/1 =","= 000,00 / 12  * 1,159197 * 1/1 =","= 000,00 / 12  * 1,159197 * 1/1 =","= 000,00 / 12  * 1,159197 * 1/1 =","= 000,00 / 12  * 1,159197 * 1/1 =","= 000,00 / 12  * 1,159197 * 1/1 =","= 000,00 / 12  * 1,159197 * 1/1 =","= 000,00 / 12  *  * 1/1 =","= 000,00 / 12  * 0 * 1/1 =","= 000,00 / 12  * 0 * 1/1 =","= 000,00 / 12  * 0 * 1/1 =","= 000,00 / 12  * 1,155339 * 1/1 =","= 000,00 / 12  * 1,155339 * 1/1 =","= 000,00 / 12  * 1,159197 * 1/1 =","= 000,00 / 12  * 1,159197 * 1/1 =","= 000,00 / 12  * 1,159197 * 1/1 =","= 000,00 / 12  * 1,159197 * 1/1 =","= 000,00 / 12  * 1,159197 * 1/1 =","= 000,00 / 12  * 1,159197 * 1/1 =","= 000,00 / 12  * 0 * 1/1 =","= 000,00 / 12  * 0 * 1/1 =","= 000,00 / 12  * 0 * 1/1 =","= 000,00 / 12  * 0 * 1/1 ="]
[null,5,null,null,null,"Funktionstillæg 1",{"$f":"\"= \"&TEXT(G15,\"#.000,00\")&\" / 12 \"&IF($D52>0,\" * \"&TEXT(G$11,\"0,0000\"),\"\")&IF($E52>0,\" * \"&G$9,\"\")&\" * \"&TEXT(G$4,\"#0/#0\")&\" =\"","v":"= 000,00 / 12  * 1,155339 * 1/1 ="},{"$f":"\"= \"&TEXT(H15,\"#.000,00\")&\" / 12 \"&IF($D52>0,\" * \"&TEXT(H$11,\"0,0000\"),\"\")&IF($E158>0,\" * \"&H$9,\"\")&\" * \"&TEXT(H$4,\"#0/#0\")&\" =\"","v":"= 000,00 / 12  * 1/1 ="},"= 000,00 / 12  * 1/1 =","= 000,00 / 12  * 1/1 =","= 000,00 / 12  * 1/1 =","= 000,00 / 12  * 1/1 =","= 000,00 / 12  * 1/1 =","= 000,00 / 12  * 1/1 =","= 000,00 / 12  * 1/1 =","= 000,00 / 12  * 1/1 =","= 000,00 / 12  * 1/1 =","= 000,00 / 12  * 1/1 =","= 000,00 / 12  * 1/1 =","= 000,00 / 12  * 1/1 =","= 000,00 / 12  * 1/1 =","= 000,00 / 12  * 1/1 =","= 000,00 / 12  * 1/1 =","= 000,00 / 12  * 1/1 =","= 000,00 / 12  * 1/1 =","= 000,00 / 12  * 1/1 =","= 000,00 / 12  * 1/1 =","= 000,00 / 12  * 1/1 =","= 000,00 / 12  * 1/1 =","= 000,00 / 12  * 1/1 ="]
[null,6,null,null,null,"Funktionstillæg 2",{"$f":"\"= \"&TEXT(G16,\"#.000,00\")&\" / 12 \"&IF($D53>0,\" * \"&TEXT(G$11,\"0,0000\"),\"\")&IF($E53>0,\" * \"&G$9,\"\")&\" * \"&TEXT(G$4,\"#0/#0\")&\" =\"","v":"= 000,00 / 12  * 1,155339 * 1/1 ="},"= 000,00 / 12  * 1,155339 * 1/1 =","= 000,00 / 12  * 1,159197 * 1/1 =","= 000,00 / 12  * 1,159197 * 1/1 =","= 000,00 / 12  * 1,159197 * 1/1 =","= 000,00 / 12  * 1,159197 * 1/1 =","= 000,00 / 12  * 1,159197 * 1/1 =","= 000,00 / 12  * 1,159197 * 1/1 =","= 000,00 / 12  *  * 1/1 =","= 000,00 / 12  * 0 * 1/1 =","= 000,00 / 12  * 0 * 1/1 =","= 000,00 / 12  * 0 * 1/1 =","= 000,00 / 12  * 1,155339 * 1/1 =","= 000,00 / 12  * 1,155339 * 1/1 =","= 000,00 / 12  * 1,159197 * 1/1 =","= 000,00 / 12  * 1,159197 * 1/1 =","= 000,00 / 12  * 1,159197 * 1/1 =","= 000,00 / 12  * 1,159197 * 1/1 =","= 000,00 / 12  * 1,159197 * 1/1 =","= 000,00 / 12  * 1,159197 * 1/1 =","= 000,00 / 12  * 0 * 1/1 =","= 000,00 / 12  * 0 * 1/1 =","= 000,00 / 12  * 0 * 1/1 =","= 000,00 / 12  * 0 * 1/1 ="]
[null,7,null,null,null,"Funktionstillæg 3","= 000,00 / 12  * 1,155339 * 1/1 =","= 000,00 / 12  * 1,155339 * 1/1 =","= 000,00 / 12  * 1,159197 * 1/1 =","= 000,00 / 12  * 1,159197 * 1/1 =","= 000,00 / 12  * 1,159197 * 1/1 =","= 000,00 / 12  * 1,159197 * 1/1 =","= 000,00 / 12  * 1,159197 * 1/1 =","= 000,00 / 12  * 1,159197 * 1/1 =","= 000,00 / 12  *  * 1/1 =","= 000,00 / 12  * 0 * 1/1 =","= 000,00 / 12  * 0 * 1/1 =","= 000,00 / 12  * 0 * 1/1 =","= 000,00 / 12  * 1,155339 * 1/1 =","= 000,00 / 12  * 1,155339 * 1/1 =","= 000,00 / 12  * 1,159197 * 1/1 =","= 000,00 / 12  * 1,159197 * 1/1 =","= 000,00 / 12  * 1,159197 * 1/1 =","= 000,00 / 12  * 1,159197 * 1/1 =","= 000,00 / 12  * 1,159197 * 1/1 =","= 000,00 / 12  * 1,159197 * 1/1 =","= 000,00 / 12  * 0 * 1/1 =","= 000,00 / 12  * 0 * 1/1 =","= 000,00 / 12  * 0 * 1/1 =","= 000,00 / 12  * 0 * 1/1 ="]
[null,8,null,null,null,"Kvalifikationstillæg 1","= 000,00 / 12  * 0,0000 * 1,155339 * 1/1 =","= 000,00 / 12  * 0,0000 * 1,155339 * 1/1 =","= 000,00 / 12  * 0,0000 * 1,159197 * 1/1 =","= 000,00 / 12  * 0,0000 * 1,159197 * 1/1 =","= 000,00 / 12  * 0,0000 * 1,159197 * 1/1 =","= 000,00 / 12  * 0,0000 * 1,159197 * 1/1 =","= 000,00 / 12  * 0,0000 * 1,159197 * 1/1 =","= 000,00 / 12  * 0,0000 * 1,159197 * 1/1 =","= 000,00 / 12  * 0,0000 *  * 1/1 =","= 000,00 / 12  * 0,0000 * 0 * 1/1 =","= 000,00 / 12  * 0,0000 * 0 * 1/1 =","= 000,00 / 12  * 0,0000 * 0 * 1/1 =","= 000,00 / 12  * 0,0000 * 1,155339 * 1/1 =","= 000,00 / 12  * 0,0000 * 1,155339 * 1/1 =","= 000,00 / 12  * 0,0000 * 1,159197 * 1/1 =","= 000,00 / 12  * 0,0000 * 1,159197 * 1/1 =","= 000,00 / 12  * 0,0000 * 1,159197 * 1/1 =","= 000,00 / 12  * 0,0000 * 1,159197 * 1/1 =","= 000,00 / 12  * 0,0000 * 1,159197 * 1/1 =","= 000,00 / 12  * 0,0000 * 1,159197 * 1/1 =","= 000,00 / 12  * 0,0000 * 0 * 1/1 =","= 000,00 / 12  * 0,0000 * 0 * 1/1 =","= 000,00 / 12  * 0,0000 * 0 * 1/1 =","= 000,00 / 12  * 0,0000 * 0 * 1/1 ="]
[null,9,null,null,null,"Kvalifikationstillæg 2","= 000,00 / 12  * 0,0000 * 1,155339 * 1/1 =","= 000,00 / 12  * 0,0000 * 1,155339 * 1/1 =","= 000,00 / 12  * 0,0000 * 1,159197 * 1/1 =","= 000,00 / 12  * 0,0000 * 1,159197 * 1/1 =","= 000,00 / 12  * 0,0000 * 1,159197 * 1/1 =","= 000,00 / 12  * 0,0000 * 1,159197 * 1/1 =","= 000,00 / 12  * 0,0000 * 1,159197 * 1/1 =","= 000,00 / 12  * 0,0000 * 1,159197 * 1/1 =","= 000,00 / 12  * 0,0000 *  * 1/1 =","= 000,00 / 12  * 0,0000 * 0 * 1/1 =","= 000,00 / 12  * 0,0000 * 0 * 1/1 =","= 000,00 / 12  * 0,0000 * 0 * 1/1 =","= 000,00 / 12  * 0,0000 * 1,155339 * 1/1 =","= 000,00 / 12  * 0,0000 * 1,155339 * 1/1 =","= 000,00 / 12  * 0,0000 * 1,159197 * 1/1 =","= 000,00 / 12  * 0,0000 * 1,159197 * 1/1 =","= 000,00 / 12  * 0,0000 * 1,159197 * 1/1 =","= 000,00 / 12  * 0,0000 * 1,159197 * 1/1 =","= 000,00 / 12  * 0,0000 * 1,159197 * 1/1 =","= 000,00 / 12  * 0,0000 * 1,159197 * 1/1 =","= 000,00 / 12  * 0,0000 * 0 * 1/1 =","= 000,00 / 12  * 0,0000 * 0 * 1/1 =","= 000,00 / 12  * 0,0000 * 0 * 1/1 =","= 000,00 / 12  * 0,0000 * 0 * 1/1 ="]
[null,10,null,null,null,"Kvalifikationstillæg 3","= 000,00 / 12  * 0,0000 * 1,155339 * 1/1 =","= 000,00 / 12  * 0,0000 * 1,155339 * 1/1 =","= 000,00 / 12  * 0,0000 * 1,159197 * 1/1 =","= 000,00 / 12  * 0,0000 * 1,159197 * 1/1 =","= 000,00 / 12  * 0,0000 * 1,159197 * 1/1 =","= 000,00 / 12  * 0,0000 * 1,159197 * 1/1 =","= 000,00 / 12  * 0,0000 * 1,159197 * 1/1 =","= 000,00 / 12  * 0,0000 * 1,159197 * 1/1 =","= 000,00 / 12  * 0,0000 *  * 1/1 =","= 000,00 / 12  * 0,0000 * 0 * 1/1 =","= 000,00 / 12  * 0,0000 * 0 * 1/1 =","= 000,00 / 12  * 0,0000 * 0 * 1/1 =","= 000,00 / 12  * 0,0000 * 1,155339 * 1/1 =","= 000,00 / 12  * 0,0000 * 1,155339 * 1/1 =","= 000,00 / 12  * 0,0000 * 1,159197 * 1/1 =","= 000,00 / 12  * 0,0000 * 1,159197 * 1/1 =","= 000,00 / 12  * 0,0000 * 1,159197 * 1/1 =","= 000,00 / 12  * 0,0000 * 1,159197 * 1/1 =","= 000,00 / 12  * 0,0000 * 1,159197 * 1/1 =","= 000,00 / 12  * 0,0000 * 1,159197 * 1/1 =","= 000,00 / 12  * 0,0000 * 0 * 1/1 =","= 000,00 / 12  * 0,0000 * 0 * 1/1 =","= 000,00 / 12  * 0,0000 * 0 * 1/1 =","= 000,00 / 12  * 0,0000 * 0 * 1/1 ="]
[null,11,null,null,null,"Udligningstillæg","= 000,00 / 12  * 0,0000 * 1,155339 * 1/1 =","= 000,00 / 12  * 0,0000 * 1,155339 * 1/1 =","= 000,00 / 12  * 0,0000 * 1,159197 * 1/1 =","= 000,00 / 12  * 0,0000 * 1,159197 * 1/1 =","= 000,00 / 12  * 0,0000 * 1,159197 * 1/1 =","= 000,00 / 12  * 0,0000 * 1,159197 * 1/1 =","= 000,00 / 12  * 0,0000 * 1,159197 * 1/1 =","= 000,00 / 12  * 0,0000 * 1,159197 * 1/1 =","= 000,00 / 12  * 0,0000 *  * 1/1 =","= 000,00 / 12  * 0,0000 * 0 * 1/1 =","= 000,00 / 12  * 0,0000 * 0 * 1/1 =","= 000,00 / 12  * 0,0000 * 0 * 1/1 =","= 000,00 / 12  * 0,0000 * 1,155339 * 1/1 =","= 000,00 / 12  * 0,0000 * 1,155339 * 1/1 =","= 000,00 / 12  * 0,0000 * 1,159197 * 1/1 =","= 000,00 / 12  * 0,0000 * 1,159197 * 1/1 =","= 000,00 / 12  * 0,0000 * 1,159197 * 1/1 =","= 000,00 / 12  * 0,0000 * 1,159197 * 1/1 =","= 000,00 / 12  * 0,0000 * 1,159197 * 1/1 =","= 000,00 / 12  * 0,0000 * 1,159197 * 1/1 =","= 000,00 / 12  * 0,0000 * 0 * 1/1 =","= 000,00 / 12  * 0,0000 * 0 * 1/1 =","= 000,00 / 12  * 0,0000 * 0 * 1/1 =","= 000,00 / 12  * 0,0000 * 0 * 1/1 ="]
[null,12,null,null,null,"Gruppelivstillæg",{"$f":"\"= \"&TEXT(G22,\"#.##0,00\")&\" * \"&TEXT(G$4,\"#0/#0\")&\" =\"","v":"= 0,00 * 1/1 ="},{"$f":"\"= \"&TEXT(H22,\"#.##0,00\")&\" * \"&TEXT(H$4,\"#0/#0\")&\" =\"","v":"= 0,00 * 1/1 ="},"= 0,00 * 1/1 =","= 0,00 * 1/1 =","= 0,00 * 1/1 =","= 0,00 * 1/1 =","= 0,00 * 1/1 =","= 0,00 * 1/1 =","= 0,00 * 1/1 =","= 0,00 * 1/1 =","= 0,00 * 1/1 =","= 0,00 * 1/1 =",{"$f":"\"= \"&TEXT(S22,\"#.##0,00\")&\" * \"&TEXT(S$4,\"#0/#0\")&\" =\"","v":"= 0,00 * 1/1 ="},{"$f":"\"= \"&TEXT(T22,\"#.##0,00\")&\" * \"&TEXT(T$4,\"#0/#0\")&\" =\"","v":"= 0,00 * 1/1 ="},"= 0,00 * 1/1 =","= 0,00 * 1/1 =","= 0,00 * 1/1 =","= 0,00 * 1/1 =","= 0,00 * 1/1 =","= 0,00 * 1/1 =","= 0,00 * 1/1 =","= 0,00 * 1/1 =","= 0,00 * 1/1 =","= 0,00 * 1/1 ="]
[null,13,null,null,null,"Lokalaftalt ulempegodtgørelse",{"$f":"\"= \"&TEXT(G23,\"#,00\")&IF($D60>0,\" * \"&TEXT(G$11,\"0,0000\"),\"\")&IF($E60>0,\" * \"&G$9,\"\")&\" * \"&TEXT(G$4,\"#0/#0\")&\" =\"","v":"= ,00 * 1,155339 * 1/1 ="},"= ,00 * 1,155339 * 1/1 =","= ,00 * 1,159197 * 1/1 =","= ,00 * 1,159197 * 1/1 =","= ,00 * 1,159197 * 1/1 =","= ,00 * 1,159197 * 1/1 =","= ,00 * 1,159197 * 1/1 =","= ,00 * 1,159197 * 1/1 =","= ,00 *  * 1/1 =","= ,00 * 0 * 1/1 =","= ,00 * 0 * 1/1 =","= ,00 * 0 * 1/1 =","= ,00 * 1,155339 * 1/1 =","= ,00 * 1,155339 * 1/1 =","= ,00 * 1,159197 * 1/1 =","= ,00 * 1,159197 * 1/1 =","= ,00 * 1,159197 * 1/1 =","= ,00 * 1,159197 * 1/1 =","= ,00 * 1,159197 * 1/1 =","= ,00 * 1,159197 * 1/1 =","= ,00 * 0 * 1/1 =","= ,00 * 0 * 1/1 =","= ,00 * 0 * 1/1 =","= ,00 * 0 * 1/1 ="]
[null,14,null,null,null,"Lønfradrag for ikke optjent ferie mv.",{"$f":"\"= - \"&MAX(0,MIN(G24,G25*1))+G28&\" * \"&IF(G8=\"JA\",\"4,62%\",\"4,8%\")&\" * SUM(Lin. 1 - Lin 12)\"&\" * \"&TEXT(G$4,\"#0/#0\")&\" =\"","v":"= - 0 * 4,62% * SUM(Lin. 1 - Lin 12) * 1/1 ="},{"$f":"\"= - \"&MAX(0,MIN(H24,H25*1))+H28&\" * \"&IF(H8=\"JA\",\"4,62%\",\"4,8%\")&\" * SUM(Lin. 1 - Lin 12) =\"","v":"= - 0 * 4,62% * SUM(Lin. 1 - Lin 12) ="},"= - 0 * 4,62% * SUM(Lin. 1 - Lin 12) =","= - 0 * 4,62% * SUM(Lin. 1 - Lin 12) =","= - 0 * 4,62% * SUM(Lin. 1 - Lin 12) =","= - 0 * 4,62% * SUM(Lin. 1 - Lin 12) =","= - 0 * 4,62% * SUM(Lin. 1 - Lin 12) =","= - 0 * 4,62% * SUM(Lin. 1 - Lin 12) =","= - 0 * 4,62% * SUM(Lin. 1 - Lin 12) =","= - 0 * 4,62% * SUM(Lin. 1 - Lin 12) =","= - 0 * 4,62% * SUM(Lin. 1 - Lin 12) =","= - 0 * 4,62% * SUM(Lin. 1 - Lin 12) =",{"$f":"\"= - \"&MAX(0,MIN(S24,S25*1))+S28&\" * \"&IF(S8=\"JA\",\"4,62%\",\"4,8%\")&\" * SUM(Lin. 1 - Lin 12)\"&\" * \"&TEXT(S$4,\"#0/#0\")&\" =\"","v":"= - 0 * 4,62% * SUM(Lin. 1 - Lin 12) * 1/1 ="},{"$f":"\"= - \"&MAX(0,MIN(T24,T25*1))+T28&\" * \"&IF(T8=\"JA\",\"4,62%\",\"4,8%\")&\" * SUM(Lin. 1 - Lin 12) =\"","v":"= - 0 * 4,62% * SUM(Lin. 1 - Lin 12) ="},"= - 0 * 4,62% * SUM(Lin. 1 - Lin 12) =","= - 0 * 4,62% * SUM(Lin. 1 - Lin 12) =","= - 0 * 4,62% * SUM(Lin. 1 - Lin 12) =","= - 0 * 4,62% * SUM(Lin. 1 - Lin 12) =","= - 0 * 4,62% * SUM(Lin. 1 - Lin 12) =","= - 0 * 4,62% * SUM(Lin. 1 - Lin 12) =","= - 0 * 4,62% * SUM(Lin. 1 - Lin 12) =","= - 0 * 4,62% * SUM(Lin. 1 - Lin 12) =","= - 0 * 4,62% * SUM(Lin. 1 - Lin 12) =","= - 0 * 4,62% * SUM(Lin. 1 - Lin 12) ="]
[null,16,null,null,null,"Feriedifference. Pensionsgivende",null,{"$f":"\"= \"&IF(LEFT(H8)=\"N\",\"( \"&H26&\" - \"&H11&\") * 4,8% * \"&H103&\" * \"&MAX((H24-H25),0)*H104,\"( \"&H26&\" - \"&H11&\") * 4,62% * \"&H103&\" * \"&MAX((H24-H25),0))&\" =\"","v":"= (  - 0) * 4,62% * 0 * 0 ="},"= (  - 0) * 4,62% * 0 * 5 =","= (  - 0) * 4,62% * 0 * 0 =","= (  - 0) * 4,62% * 0 * 0 =","= (  - 0) * 4,62% * 0 * 0 =","= (  - 0) * 4,62% * 0 * 5 =","= (  - 0) * 4,62% * 0 * 0 =","= (  - 0) * 4,62% * 0 * 0 =",{"$f":"\"= \"&IF(LEFT(P8)=\"N\",\"( \"&ROUND(P27,4)&\" - \"&P11&\") * 4,8% * \"&P103&\" * \"&MAX((P24-P25),0)*P104,\"( \"&ROUND(P27,4)&\" - \"&P11&\") * 4,62% * \"&P103&\" * \"&MAX((P24-P25),0))&\" =\"","v":"= ( 0 - 0) * 4,62% * 0 * 0 ="},{"$f":"\"= \"&IF(LEFT(Q8)=\"N\",\"( \"&ROUND(Q27,4)&\" - \"&Q11&\") * 4,8% * \"&Q103&\" * \"&MAX((Q24-Q25),0)*Q104,\"( \"&ROUND(Q27,4)&\" - \"&Q11&\") * 4,62% * \"&Q103&\" * \"&MAX((Q24-Q25),0))&\" =\"","v":"= ( 0 - 0) * 4,62% * 0 * 0 ="},{"$f":"\"= \"&IF(LEFT(R8)=\"N\",\"( \"&ROUND(R27,4)&\" - \"&R11&\") * 4,8% * \"&R103&\" * \"&MAX((R24-R25),0)*R104,\"( \"&ROUND(R27,4)&\" - \"&R11&\") * 4,62% * \"&R103&\" * \"&MAX((R24-R25),0))&\" =\"","v":"= ( 0 - 0) * 4,62% * 0 * 15 ="},null,{"$f":"\"= \"&IF(LEFT(T8)=\"N\",\"( \"&T26&\" - \"&T11&\") * 4,8% * \"&T103&\" * \"&MAX((T24-T25),0)*T104,\"( \"&T26&\" - \"&T11&\") * 4,62% * \"&T103&\" * \"&MAX((T24-T25),0))&\" =\"","v":"= ( 0 - 0) * 4,62% * 0 * 0 ="},"= ( 0 - 0) * 4,62% * 0 * 5 =","= ( 0 - 0) * 4,62% * 0 * 0 =","= ( 0 - 0) * 4,62% * 0 * 0 =","= ( 0 - 0) * 4,62% * 0 * 0 =","= ( 0 - 0) * 4,62% * 0 * 5 =","= ( 0 - 0) * 4,62% * 0 * 0 =","= ( 0 - 0) * 4,62% * 0 * 0 =",{"$f":"\"= \"&IF(LEFT(AB8)=\"N\",\"( \"&ROUND(AB27,4)&\" - \"&AB11&\") * 4,8% * \"&AB103&\" * \"&MAX((AB24-AB25),0)*AB104,\"( \"&ROUND(AB27,4)&\" - \"&AB11&\") * 4,62% * \"&AB103&\" * \"&MAX((AB24-AB25),0))&\" =\"","v":"= ( 0 - 0) * 4,62% * 0 * 0 ="},{"$f":"\"= \"&IF(LEFT(AC8)=\"N\",\"( \"&ROUND(AC27,4)&\" - \"&AC11&\") * 4,8% * \"&AC103&\" * \"&MAX((AC24-AC25),0)*AC104,\"( \"&ROUND(AC27,4)&\" - \"&AC11&\") * 4,62% * \"&AC103&\" * \"&MAX((AC24-AC25),0))&\" =\"","v":"= ( 0 - 0) * 4,62% * 0 * 0 ="},{"$f":"\"= \"&IF(LEFT(AD8)=\"N\",\"( \"&ROUND(AD27,4)&\" - \"&AD11&\") * 4,8% * \"&AD103&\" * \"&MAX((AD24-AD25),0)*AD104,\"( \"&ROUND(AD27,4)&\" - \"&AD11&\") * 4,62% * \"&AD103&\" * \"&MAX((AD24-AD25),0))&\" =\"","v":"= ( 0 - 0) * 4,62% * 0 * 15 ="}]
[null,17,null,null,null,"Feriedifferende. Ikke pensionsgivende"]
[null,18,null,null,null,"Engangsudbetalinger iflg. specifikation",{"$f":"SUBSTITUTE(TRIM(\"=SUM(\"&MAX(G34-8000,0)&\" \"&G35&\" \"&G36&\" \"&G37&\" \"&G38&\" \"&G40&\" \"&G41&\" \"&G42&\" \"&G43&\" \"&G44&\")\"),\" \",\"; \")&\" =\"","v":"=SUM(0; ) ="},{"$f":"SUBSTITUTE(TRIM(\"=SUM(\"&MAX(H34-8000,0)&\" \"&H35&\" \"&H36&\" \"&H37&\" \"&H38&\" \"&H40&\" \"&H41&\" \"&H42&\" \"&H43&\" \"&H44&\")\"),\" \",\"; \")&\" =\"","v":"=SUM(0; ) ="},"=SUM(0; ) =","=SUM(0; ) =","=SUM(0; ) =","=SUM(0; ) =","=SUM(0; ) =","=SUM(0; ) =","=SUM(0; ) =","=SUM(0; ) =","=SUM(0; ) =","=SUM(0; ) =",{"$f":"SUBSTITUTE(TRIM(\"=SUM(\"&MAX(S34-8000,0)&\" \"&S35&\" \"&S36&\" \"&S37&\" \"&S38&\" \"&S40&\" \"&S41&\" \"&S42&\" \"&S43&\" \"&S44&\")\"),\" \",\"; \")&\" =\"","v":"=SUM(0; 0; 0; 0; 0; 0; 0; 0; 0; 0) ="},{"$f":"SUBSTITUTE(TRIM(\"=SUM(\"&MAX(T34-8000,0)&\" \"&T35&\" \"&T36&\" \"&T37&\" \"&T38&\" \"&T40&\" \"&T41&\" \"&T42&\" \"&T43&\" \"&T44&\")\"),\" \",\"; \")&\" =\"","v":"=SUM(0; 0; 0; 0; 0; 0; 0; 0; 0; 0) ="},"=SUM(0; 0; 0; 0; 0; 0; 0; 0; 0; 0) =","=SUM(0; 0; 0; 0; 0; 0; 0; 0; 0; 0) =","=SUM(0; 0; 0; 0; 0; 0; 0; 0; 0; 0) =","=SUM(0; 0; 0; 0; 0; 0; 0; 0; 0; 0) =","=SUM(0; 0; 0; 0; 0; 0; 0; 0; 0; 0) =","=SUM(0; 0; 0; 0; 0; 0; 0; 0; 0; 0) =","=SUM(0; 0; 0; 0; 0; 0; 0; 0; 0; 0) =","=SUM(0; 0; 0; 0; 0; 0; 0; 0; 0; 0) =","=SUM(0; 0; 0; 0; 0; 0; 0; 0; 0; 0) =","=SUM(0; 0; 0; 0; 0; 0; 0; 0; 0; 0) ="]
[null,19,null,null,null,"Skattefri engangsudbetalinger iflg. spec.",{"$f":"SUBSTITUTE(TRIM(\"=SUM(\"&G31&\" * \"&$D31&\" \"&G32&\" * \"&$D32&\" \"&G33&\" \"&MIN(G34,8000)&\")\"),\" \",\"; \")&\" =\"","v":"=SUM(; *; 2,19; *; 3,73; 8000) ="},{"$f":"SUBSTITUTE(TRIM(\"=SUM(\"&H31&\" * \"&$D31&\" \"&H32&\" * \"&$D32&\" \"&H33&\" \"&MIN(H34,8000)&\")\"),\" \",\"; \")&\" =\"","v":"=SUM(; *; 2,19; *; 3,73; 8000) ="},{"$f":"SUBSTITUTE(TRIM(\"=SUM(\"&I31&\" * \"&$D31&\" \"&I32&\" * \"&$D32&\" \"&I33&\" \"&MIN(I34,8000)&\")\"),\" \",\"; \")&\" =\"","v":"=SUM(; *; 2,19; *; 3,73; 8000) ="},{"$f":"SUBSTITUTE(TRIM(\"=SUM(\"&J31&\" * \"&$D31&\" \"&J32&\" * \"&$D32&\" \"&J33&\" \"&MIN(J34,8000)&\")\"),\" \",\"; \")&\" =\"","v":"=SUM(; *; 2,19; *; 3,73; 8000) ="},{"$f":"SUBSTITUTE(TRIM(\"=SUM(\"&K31&\" * \"&$D31&\" \"&K32&\" * \"&$D32&\" \"&K33&\" \"&MIN(K34,8000)&\")\"),\" \",\"; \")&\" =\"","v":"=SUM(; *; 2,19; *; 3,73; 8000) ="},{"$f":"SUBSTITUTE(TRIM(\"=SUM(\"&L31&\" * \"&$E31&\" \"&L32&\" * \"&$E32&\" \"&L33&\" \"&MIN(L34,8000)&\")\"),\" \",\"; \")&\" =\"","v":"=SUM(; *; *; 8000) ="},{"$f":"SUBSTITUTE(TRIM(\"=SUM(\"&M31&\" * \"&$E31&\" \"&M32&\" * \"&$E32&\" \"&M33&\" \"&MIN(M34,8000)&\")\"),\" \",\"; \")&\" =\"","v":"=SUM(; *; *; 8000) ="},"=SUM(; *; *; 8000) =","=SUM(; *; *; 8000) =","=SUM(; *; *; 8000) =","=SUM(; *; *; 8000) =","=SUM(; *; *; 8000) =",{"$f":"SUBSTITUTE(TRIM(\"=SUM(\"&S31&\" * \"&$D31&\" \"&S32&\" * \"&$D32&\" \"&S33&\" \"&MIN(S34,8000)&\")\"),\" \",\"; \")&\" =\"","v":"=SUM(0; *; 2,19; 0; *; 3,73; 0; 0) ="},{"$f":"SUBSTITUTE(TRIM(\"=SUM(\"&T31&\" * \"&$D31&\" \"&T32&\" * \"&$D32&\" \"&T33&\" \"&MIN(T34,8000)&\")\"),\" \",\"; \")&\" =\"","v":"=SUM(0; *; 2,19; 0; *; 3,73; 0; 0) ="},{"$f":"SUBSTITUTE(TRIM(\"=SUM(\"&U31&\" * \"&$D31&\" \"&U32&\" * \"&$D32&\" \"&U33&\" \"&MIN(U34,8000)&\")\"),\" \",\"; \")&\" =\"","v":"=SUM(0; *; 2,19; 0; *; 3,73; 0; 0) ="},{"$f":"SUBSTITUTE(TRIM(\"=SUM(\"&V31&\" * \"&$D31&\" \"&V32&\" * \"&$D32&\" \"&V33&\" \"&MIN(V34,8000)&\")\"),\" \",\"; \")&\" =\"","v":"=SUM(0; *; 2,19; 0; *; 3,73; 0; 0) ="},{"$f":"SUBSTITUTE(TRIM(\"=SUM(\"&W31&\" * \"&$D31&\" \"&W32&\" * \"&$D32&\" \"&W33&\" \"&MIN(W34,8000)&\")\"),\" \",\"; \")&\" =\"","v":"=SUM(0; *; 2,19; 0; *; 3,73; 0; 0) ="},{"$f":"SUBSTITUTE(TRIM(\"=SUM(\"&X31&\" * \"&$E31&\" \"&X32&\" * \"&$E32&\" \"&X33&\" \"&MIN(X34,8000)&\")\"),\" \",\"; \")&\" =\"","v":"=SUM(0; *; 0; *; 0; 0) ="},{"$f":"SUBSTITUTE(TRIM(\"=SUM(\"&Y31&\" * \"&$E31&\" \"&Y32&\" * \"&$E32&\" \"&Y33&\" \"&MIN(Y34,8000)&\")\"),\" \",\"; \")&\" =\"","v":"=SUM(0; *; 0; *; 0; 0) ="},"=SUM(0; *; 0; *; 0; 0) =","=SUM(0; *; 0; *; 0; 0) =","=SUM(0; *; 0; *; 0; 0) =","=SUM(0; *; 0; *; 0; 0) =","=SUM(0; *; 0; *; 0; 0) ="]
[null,20,null,null,null,"Bruttoløn (ekskl. pensionstillæg og ATP)"]
[null,21,null,null,null,"Pensionstillæg skalatrinsløn eller HK-løn",{"$f":"\"= \"&ROUND(VLOOKUP(G12,Skalalontabel12,7,0)*G$9,0)&\" / 12  * \"&TEXT(G$11,\"0,0000\")&\" * \"&G5&\"% / 3 =\"","v":{"$error":"#N/A"}},{"$error":"#N/A"},{"$error":"#N/A"},{"$error":"#N/A"},{"$error":"#N/A"},{"$error":"#N/A"},{"$error":"#N/A"},{"$error":"#N/A"},{"$error":"#N/A"},{"$error":"#N/A"},{"$error":"#N/A"},{"$error":"#N/A"},{"$error":"#N/A"},{"$error":"#N/A"},{"$error":"#N/A"},{"$error":"#N/A"},{"$error":"#N/A"},{"$error":"#N/A"},{"$error":"#N/A"},{"$error":"#N/A"},{"$error":"#N/A"},{"$error":"#N/A"},{"$error":"#N/A"},{"$error":"#N/A"}]
[null,22,null,null,null,"Pensionstillæg fast løn",{"$f":"IF($C50>0,\"= \"&G50&\" * \"&G$5&\"% / 3 =\")","v":"= 0 * % / 3 ="},{"$f":"IF($C50>0,H50&\" * \"&H$5&\"% / 3 =\")","v":"0 * 0% / 3 ="},"0 * 0% / 3 =","0 * 0% / 3 =","0 * 0% / 3 =","0 * 0% / 3 =","0 * 0% / 3 =","0 * 0% / 3 =","0 * 0% / 3 =","0 * 0% / 3 =","0 * 0% / 3 =","0 * 0% / 3 =",{"$f":"IF($C50>0,\"= \"&S50&\" * \"&S$5&\"% / 3 =\")","v":"= 0 * 0% / 3 ="},{"$f":"IF($C50>0,T50&\" * \"&T$5&\"% / 3 =\")","v":"0 * 0% / 3 ="},"0 * 0% / 3 =","0 * 0% / 3 =","0 * 0% / 3 =","0 * 0% / 3 =","0 * 0% / 3 =","0 * 0% / 3 =","0 * 0% / 3 =","0 * 0% / 3 =","0 * 0% / 3 =","0 * 0% / 3 ="]
[null,23,null,null,null,"Pensionstillæg souscheftillæg","= 0 * % / 3 =","0 * 0% / 3 =","0 * 0% / 3 =","0 * 0% / 3 =","0 * 0% / 3 =","0 * 0% / 3 =","0 * 0% / 3 =","0 * 0% / 3 =","0 * 0% / 3 =","0 * 0% / 3 =","0 * 0% / 3 =","0 * 0% / 3 =","= 0 * 0% / 3 =","0 * 0% / 3 =","0 * 0% / 3 =","0 * 0% / 3 =","0 * 0% / 3 =","0 * 0% / 3 =","0 * 0% / 3 =","0 * 0% / 3 =","0 * 0% / 3 =","0 * 0% / 3 =","0 * 0% / 3 =","0 * 0% / 3 ="]
[null,24,null,null,null,"Pensionstillæg Funktionstillæg 1","= 0 * % / 3 =","0 * 0% / 3 =","0 * 0% / 3 =","0 * 0% / 3 =","0 * 0% / 3 =","0 * 0% / 3 =","0 * 0% / 3 =","0 * 0% / 3 =","0 * 0% / 3 =","0 * 0% / 3 =","0 * 0% / 3 =","0 * 0% / 3 =","= 0 * 0% / 3 =","0 * 0% / 3 =","0 * 0% / 3 =","0 * 0% / 3 =","0 * 0% / 3 =","0 * 0% / 3 =","0 * 0% / 3 =","0 * 0% / 3 =","0 * 0% / 3 =","0 * 0% / 3 =","0 * 0% / 3 =","0 * 0% / 3 ="]
[null,25,null,null,null,"Pensionstillæg Funktionstillæg 2","= 0 * % / 3 =","0 * 0% / 3 =","0 * 0% / 3 =","0 * 0% / 3 =","0 * 0% / 3 =","0 * 0% / 3 =","0 * 0% / 3 =","0 * 0% / 3 =","0 * 0% / 3 =","0 * 0% / 3 =","0 * 0% / 3 =","0 * 0% / 3 =","= 0 * 0% / 3 =","0 * 0% / 3 =","0 * 0% / 3 =","0 * 0% / 3 =","0 * 0% / 3 =","0 * 0% / 3 =","0 * 0% / 3 =","0 * 0% / 3 =","0 * 0% / 3 =","0 * 0% / 3 =","0 * 0% / 3 =","0 * 0% / 3 ="]
[null,26,null,null,null,"Pensionstillæg Funktionstillæg 3","= 0 * % / 3 =","0 * 0% / 3 =","0 * 0% / 3 =","0 * 0% / 3 =","0 * 0% / 3 =","0 * 0% / 3 =","0 * 0% / 3 =","0 * 0% / 3 =","0 * 0% / 3 =","0 * 0% / 3 =","0 * 0% / 3 =","0 * 0% / 3 =","= 0 * 0% / 3 =","0 * 0% / 3 =","0 * 0% / 3 =","0 * 0% / 3 =","0 * 0% / 3 =","0 * 0% / 3 =","0 * 0% / 3 =","0 * 0% / 3 =","0 * 0% / 3 =","0 * 0% / 3 =","0 * 0% / 3 =","0 * 0% / 3 ="]
[null,27,null,null,null,"Pensionstillæg Kvalifikationstillæg 1","= 0 * % / 3 =","0 * 0% / 3 =","0 * 0% / 3 =","0 * 0% / 3 =","0 * 0% / 3 =","0 * 0% / 3 =","0 * 0% / 3 =","0 * 0% / 3 =","0 * 0% / 3 =","0 * 0% / 3 =","0 * 0% / 3 =","0 * 0% / 3 =","= 0 * 0% / 3 =","0 * 0% / 3 =","0 * 0% / 3 =","0 * 0% / 3 =","0 * 0% / 3 =","0 * 0% / 3 =","0 * 0% / 3 =","0 * 0% / 3 =","0 * 0% / 3 =","0 * 0% / 3 =","0 * 0% / 3 =","0 * 0% / 3 ="]
[null,28,null,null,null,"Pensionstillæg Kvalifikationstillæg 2","= 0 * % / 3 =","0 * 0% / 3 =","0 * 0% / 3 =","0 * 0% / 3 =","0 * 0% / 3 =","0 * 0% / 3 =","0 * 0% / 3 =","0 * 0% / 3 =","0 * 0% / 3 =","0 * 0% / 3 =","0 * 0% / 3 =","0 * 0% / 3 =","= 0 * 0% / 3 =","0 * 0% / 3 =","0 * 0% / 3 =","0 * 0% / 3 =","0 * 0% / 3 =","0 * 0% / 3 =","0 * 0% / 3 =","0 * 0% / 3 =","0 * 0% / 3 =","0 * 0% / 3 =","0 * 0% / 3 =","0 * 0% / 3 ="]
[null,29,null,null,null,"Pensionstillæg Kvalifikationstillæg 3","= 0 * % / 3 =","0 * 0% / 3 =","0 * 0% / 3 =","0 * 0% / 3 =","0 * 0% / 3 =","0 * 0% / 3 =","0 * 0% / 3 =","0 * 0% / 3 =","0 * 0% / 3 =","0 * 0% / 3 =","0 * 0% / 3 =","0 * 0% / 3 =","= 0 * 0% / 3 =","0 * 0% / 3 =","0 * 0% / 3 =","0 * 0% / 3 =","0 * 0% / 3 =","0 * 0% / 3 =","0 * 0% / 3 =","0 * 0% / 3 =","0 * 0% / 3 =","0 * 0% / 3 =","0 * 0% / 3 =","0 * 0% / 3 ="]
[null,30,null,null,null,"Pensionstillæg af udligningstillæg","= 0 * % / 3 =","0 * 0% / 3 =","0 * 0% / 3 =","0 * 0% / 3 =","0 * 0% / 3 =","0 * 0% / 3 =","0 * 0% / 3 =","0 * 0% / 3 =","0 * 0% / 3 =","0 * 0% / 3 =","0 * 0% / 3 =","0 * 0% / 3 =","= 0 * 0% / 3 =","0 * 0% / 3 =","0 * 0% / 3 =","0 * 0% / 3 =","0 * 0% / 3 =","0 * 0% / 3 =","0 * 0% / 3 =","0 * 0% / 3 =","0 * 0% / 3 =","0 * 0% / 3 =","0 * 0% / 3 =","0 * 0% / 3 ="]
[null,31,null,null,null,"Fradrag i pensionstillæg for ikke optjent ferie mv.",{"$f":"\"= \"&G61&\" * \"&G$5&\"% / 3 =\"","v":"= 0 * % / 3 ="},"= 0 * 0% / 3 =","= 0 * 0% / 3 =","= 0 * 0% / 3 =","= 0 * 0% / 3 =","= 0 * 0% / 3 =","= 0 * 0% / 3 =","= 0 * 0% / 3 =","= 0 * 0% / 3 =","= 0 * 0% / 3 =","= 0 * 0% / 3 =","= 0 * 0% / 3 =","= 0 * 0% / 3 =","= 0 * 0% / 3 =","= 0 * 0% / 3 =","= 0 * 0% / 3 =","= 0 * 0% / 3 =","= 0 * 0% / 3 =","= 0 * 0% / 3 =","= 0 * 0% / 3 =","= 0 * 0% / 3 =","= 0 * 0% / 3 =","= 0 * 0% / 3 =","= 0 * 0% / 3 ="]
[null,32,null,null,null,"Pensionstillæg af feriedifference","= 0 * % / 3 =","= 0 * 0% / 3 =","= 0 * 0% / 3 =","= 0 * 0% / 3 =","= 0 * 0% / 3 =","= 0 * 0% / 3 =","= 0 * 0% / 3 =","= 0 * 0% / 3 =","= 0 * 0% / 3 =","= 0 * 0% / 3 =","= 0 * 0% / 3 =","= 0 * 0% / 3 =","= 0 * 0% / 3 =","= 0 * 0% / 3 =","= 0 * 0% / 3 =","= 0 * 0% / 3 =","= 0 * 0% / 3 =","= 0 * 0% / 3 =","= 0 * 0% / 3 =","= 0 * 0% / 3 =","= 0 * 0% / 3 =","= 0 * 0% / 3 =","= 0 * 0% / 3 =","= 0 * 0% / 3 ="]
[null,33,null,null,null,"Pensionstillæg af pensiong. engangstillæg",{"$f":"SUBSTITUTE(TRIM(\"=SUM(\"&IF($G36>0,G36&\" \",\"\")&IF($C40<>\"\",G40&\" \",\"\")&IF($C41<>\"\",G41&\" \",\"\")&IF($C42<>\"\",G42&\" \",\"\")&IF($C43<>\"\",G43&\" \",\"\")&IF($C44<>\"\",G44,\"\")&\")\"),\" \",\"; \")&\" * \"&G5&\"% / 3 =\"","v":"=SUM(; ) * % / 3 ="},"=SUM(; ) * 0% / 3 =","=SUM(; ) * 0% / 3 =","=SUM(; ) * 0% / 3 =","=SUM(; ) * 0% / 3 =","=SUM(; ) * 0% / 3 =","=SUM(; ) * 0% / 3 =","=SUM(; ) * 0% / 3 =","=SUM(; ) * 0% / 3 =","=SUM(; ) * 0% / 3 =","=SUM(; ) * 0% / 3 =","=SUM(; ) * 0% / 3 =","=SUM(0; 0; 0; ) * 0% / 3 =","=SUM(0; 0; 0; ) * 0% / 3 =","=SUM(0; 0; 0; ) * 0% / 3 =","=SUM(0; 0; 0; ) * 0% / 3 =","=SUM(0; 0; 0; ) * 0% / 3 =","=SUM(0; 0; 0; ) * 0% / 3 =","=SUM(0; 0; 0; ) * 0% / 3 =","=SUM(0; 0; 0; ) * 0% / 3 =","=SUM(0; 0; 0; ) * 0% / 3 =","=SUM(0; 0; 0; ) * 0% / 3 =","=SUM(0; 0; 0; ) * 0% / 3 =","=SUM(0; 0; 0; ) * 0% / 3 ="]
[null,34,null,null,null,"Ekstra pension ved orlov uden løn","Ekstra pension ved orlov uden løn","Ekstra pension ved orlov uden løn","Ekstra pension ved orlov uden løn","Ekstra pension ved orlov uden løn","Ekstra pension ved orlov uden løn","Ekstra pension ved orlov uden løn","Ekstra pension ved orlov uden løn","Ekstra pension ved orlov uden løn","Ekstra pension ved orlov uden løn","Ekstra pension ved orlov uden løn","Ekstra pension ved orlov uden løn","Ekstra pension ved orlov uden løn"]
[null,35,null,null,null,"Pensionstillæg i alt"]
[null,36,null,null,null,"Egetbidrag til ATP"]
[null,37,null,null,null,"AMB-grundlag",{"$f":"\"= SUM(Lin. 1 - Lin. 14) + SUM(Lin 19 - Lin28) - \"&G86&\" =\"","v":"= SUM(Lin. 1 - Lin. 14) + SUM(Lin 19 - Lin28) - 0 ="},{"$f":"\"= SUM(Lin. 1 - Lin. 14) + SUM(Lin 19 - Lin28) - \"&H86&\" =\"","v":"= SUM(Lin. 1 - Lin. 14) + SUM(Lin 19 - Lin28) - 0 ="},"= SUM(Lin. 1 - Lin. 14) + SUM(Lin 19 - Lin28) - 0 =","= SUM(Lin. 1 - Lin. 14) + SUM(Lin 19 - Lin28) - 0 =","= SUM(Lin. 1 - Lin. 14) + SUM(Lin 19 - Lin28) - 0 =","= SUM(Lin. 1 - Lin. 14) + SUM(Lin 19 - Lin28) - 0 =","= SUM(Lin. 1 - Lin. 14) + SUM(Lin 19 - Lin28) - 0 =","= SUM(Lin. 1 - Lin. 14) + SUM(Lin 19 - Lin28) - 0 =","= SUM(Lin. 1 - Lin. 14) + SUM(Lin 19 - Lin28) - 0 =","= SUM(Lin. 1 - Lin. 14) + SUM(Lin 19 - Lin28) - 0 =","= SUM(Lin. 1 - Lin. 14) + SUM(Lin 19 - Lin28) - 0 =","= SUM(Lin. 1 - Lin. 14) + SUM(Lin 19 - Lin28) - 0 =",{"$f":"\"= SUM(Lin. 1 - Lin. 14) + SUM(Lin 19 - Lin28) - \"&S86&\" =\"","v":"= SUM(Lin. 1 - Lin. 14) + SUM(Lin 19 - Lin28) - 0 ="},{"$f":"\"= SUM(Lin. 1 - Lin. 14) + SUM(Lin 19 - Lin28) - \"&T86&\" =\"","v":"= SUM(Lin. 1 - Lin. 14) + SUM(Lin 19 - Lin28) - 0 ="},"= SUM(Lin. 1 - Lin. 14) + SUM(Lin 19 - Lin28) - 0 =","= SUM(Lin. 1 - Lin. 14) + SUM(Lin 19 - Lin28) - 0 =","= SUM(Lin. 1 - Lin. 14) + SUM(Lin 19 - Lin28) - 0 =","= SUM(Lin. 1 - Lin. 14) + SUM(Lin 19 - Lin28) - 0 =","= SUM(Lin. 1 - Lin. 14) + SUM(Lin 19 - Lin28) - 0 =","= SUM(Lin. 1 - Lin. 14) + SUM(Lin 19 - Lin28) - 0 =","= SUM(Lin. 1 - Lin. 14) + SUM(Lin 19 - Lin28) - 0 =","= SUM(Lin. 1 - Lin. 14) + SUM(Lin 19 - Lin28) - 0 =","= SUM(Lin. 1 - Lin. 14) + SUM(Lin 19 - Lin28) - 0 =","= SUM(Lin. 1 - Lin. 14) + SUM(Lin 19 - Lin28) - 0 ="]
[null,38,null,null,null,"AM-bidrag",{"$f":"\"= \"&G87&\" * 8% (afrundet) =\"","v":"= 0 * 8% (afrundet) ="},{"$f":"\"= \"&H87&\" * 8% (afrundet) =\"","v":"= 0 * 8% (afrundet) ="},"= 0 * 8% (afrundet) =","= 0 * 8% (afrundet) =","= 0 * 8% (afrundet) =","= 0 * 8% (afrundet) =","= 0 * 8% (afrundet) =","= 0 * 8% (afrundet) =","= 0 * 8% (afrundet) =","= 0 * 8% (afrundet) =","= 0 * 8% (afrundet) =","= 0 * 8% (afrundet) =",{"$f":"\"= \"&S87&\" * 8% (afrundet) =\"","v":"= 0 * 8% (afrundet) ="},{"$f":"\"= \"&T87&\" * 8% (afrundet) =\"","v":"= 0 * 8% (afrundet) ="},"= 0 * 8% (afrundet) =","= 0 * 8% (afrundet) =","= 0 * 8% (afrundet) =","= 0 * 8% (afrundet) =","= 0 * 8% (afrundet) =","= 0 * 8% (afrundet) =","= 0 * 8% (afrundet) =","= 0 * 8% (afrundet) =","= 0 * 8% (afrundet) =","= 0 * 8% (afrundet) ="]
[null,39,null,null,null,"A-indkomst",{"$f":"\"= \"&G87&\" - \"&G88&\" =\"","v":"= 0 - 0 ="},{"$f":"\"= \"&H87&\" - \"&H88&\" =\"","v":"= 0 - 0 ="},"= 0 - 0 =","= 0 - 0 =","= 0 - 0 =","= 0 - 0 =","= 0 - 0 =","= 0 - 0 =","= 0 - 0 =","= 0 - 0 =","= 0 - 0 =","= 0 - 0 =",{"$f":"\"= \"&S87&\" - \"&S88&\" =\"","v":"= 0 - 0 ="},{"$f":"\"= \"&T87&\" - \"&T88&\" =\"","v":"= 0 - 0 ="},"= 0 - 0 =","= 0 - 0 =","= 0 - 0 =","= 0 - 0 =","= 0 - 0 =","= 0 - 0 =","= 0 - 0 =","= 0 - 0 =","= 0 - 0 =","= 0 - 0 ="]
[null,40,null,null,null,"Skattegrundlag"]
[null,41,null,null,null,"Skat",{"$f":"\"= (\"&G89&\" - \"&G30&\") (afrundet) * \"&G29&\" / 100 =\"","v":"= (0 - ) (afrundet) *  / 100 ="},{"$f":"\"= (\"&H89&\" - \"&H30&\") (afrundet) * \"&H29&\" / 100 =\"","v":"= (0 - 0) (afrundet) * 0 / 100 ="},"= (0 - 0) (afrundet) * 0 / 100 =","= (0 - 0) (afrundet) * 0 / 100 =","= (0 - 0) (afrundet) * 0 / 100 =","= (0 - 0) (afrundet) * 0 / 100 =","= (0 - 0) (afrundet) * 0 / 100 =","= (0 - 0) (afrundet) * 0 / 100 =","= (0 - 0) (afrundet) * 0 / 100 =","= (0 - 0) (afrundet) * 0 / 100 =","= (0 - 0) (afrundet) * 0 / 100 =","= (0 - 0) (afrundet) * 0 / 100 =",{"$f":"\"= (\"&S89&\" - \"&S30&\") (afrundet) * \"&S29&\" / 100 =\"","v":"= (0 - 0) (afrundet) * 0 / 100 ="},{"$f":"\"= (\"&T89&\" - \"&T30&\") (afrundet) * \"&T29&\" / 100 =\"","v":"= (0 - 0) (afrundet) * 0 / 100 ="},"= (0 - 0) (afrundet) * 0 / 100 =","= (0 - 0) (afrundet) * 0 / 100 =","= (0 - 0) (afrundet) * 0 / 100 =","= (0 - 0) (afrundet) * 0 / 100 =","= (0 - 0) (afrundet) * 0 / 100 =","= (0 - 0) (afrundet) * 0 / 100 =","= (0 - 0) (afrundet) * 0 / 100 =","= (0 - 0) (afrundet) * 0 / 100 =","= (0 - 0) (afrundet) * 0 / 100 =","= (0 - 0) (afrundet) * 0 / 100 ="]
[null,42,null,null,null,"Feriegodtgørelsesgrundlag"]
[null,43,null,null,null,{"$f":"\"Feriegodtgørelsesgrundlag, jan-juli \"&Aar+1","v":"Feriegodtgørelsesgrundlag, jan-juli 1"}]
[null,44,null,null,null,"Egetbidrag til pensionskasse",{"$f":"\"= Lin. 43 =\"","v":"= Lin. 43 ="},{"$f":"\"= Lin. 43 =\"","v":"= Lin. 43 ="},"= Lin. 43 =","= Lin. 43 =","= Lin. 43 =","= Lin. 43 =","= Lin. 43 =","= Lin. 43 =","= Lin. 43 =","= Lin. 43 =","= Lin. 43 =","= Lin. 43 =",{"$f":"\"= Lin. 43 =\"","v":"= Lin. 43 ="},"= Lin. 43 =","= Lin. 43 =","= Lin. 43 =","= Lin. 43 =","= Lin. 43 =","= Lin. 43 =","= Lin. 43 =","= Lin. 43 =","= Lin. 43 =","= Lin. 43 =","= Lin. 43 ="]
[null,45,null,null,null,"Arbejdsgiverbidrag til pensionskasse",{"$f":"\"= Lin. 43 * 2 =\"","v":"= Lin. 43 * 2 ="},{"$f":"\"= Lin. 43 * 2 =\"","v":"= Lin. 43 * 2 ="},"= Lin. 43 * 2 =","= Lin. 43 * 2 =","= Lin. 43 * 2 =","= Lin. 43 * 2 =","= Lin. 43 * 2 =","= Lin. 43 * 2 =","= Lin. 43 * 2 =","= Lin. 43 * 2 =","= Lin. 43 * 2 =","= Lin. 43 * 2 =",{"$f":"\"= Lin. 43 * 2 =\"","v":"= Lin. 43 * 2 ="},"= Lin. 43 * 2 =","= Lin. 43 * 2 =","= Lin. 43 * 2 =","= Lin. 43 * 2 =","= Lin. 43 * 2 =","= Lin. 43 * 2 =","= Lin. 43 * 2 =","= Lin. 43 * 2 =","= Lin. 43 * 2 =","= Lin. 43 * 2 =","= Lin. 43 * 2 ="]
[null,46,null,null,null,"Arbejdsgiverbidrag til ATP",{"$f":"\"= Lin. 44 * 2 =\"","v":"= Lin. 44 * 2 ="},{"$f":"\"= Lin. 44 * 2 =\"","v":"= Lin. 44 * 2 ="},"= Lin. 44 * 2 =","= Lin. 44 * 2 =","= Lin. 44 * 2 =","= Lin. 44 * 2 =","= Lin. 44 * 2 =","= Lin. 44 * 2 =","= Lin. 44 * 2 =","= Lin. 44 * 2 =","= Lin. 44 * 2 =","= Lin. 44 * 2 =",{"$f":"\"= Lin. 44 * 2 =\"","v":"= Lin. 44 * 2 ="},"= Lin. 44 * 2 =","= Lin. 44 * 2 =","= Lin. 44 * 2 =","= Lin. 44 * 2 =","= Lin. 44 * 2 =","= Lin. 44 * 2 =","= Lin. 44 * 2 =","= Lin. 44 * 2 =","= Lin. 44 * 2 =","= Lin. 44 * 2 =","= Lin. 44 * 2 ="]
[null,47,null,null,null,"Skolens samlede indbetaling til pensionskasse",{"$f":"\"= Lin. 51 + Lin. 52 =\"","v":"= Lin. 51 + Lin. 52 ="},{"$f":"\"= Lin. 51 + Lin. 52 =\"","v":"= Lin. 51 + Lin. 52 ="},"= Lin. 51 + Lin. 52 =","= Lin. 51 + Lin. 52 =","= Lin. 51 + Lin. 52 =","= Lin. 51 + Lin. 52 =","= Lin. 51 + Lin. 52 =","= Lin. 51 + Lin. 52 =","= Lin. 51 + Lin. 52 =","= Lin. 51 + Lin. 52 =","= Lin. 51 + Lin. 52 =","= Lin. 51 + Lin. 52 =",{"$f":"\"= Lin. 51 + Lin. 52 =\"","v":"= Lin. 51 + Lin. 52 ="},"= Lin. 51 + Lin. 52 =","= Lin. 51 + Lin. 52 =","= Lin. 51 + Lin. 52 =","= Lin. 51 + Lin. 52 =","= Lin. 51 + Lin. 52 =","= Lin. 51 + Lin. 52 =","= Lin. 51 + Lin. 52 =","= Lin. 51 + Lin. 52 =","= Lin. 51 + Lin. 52 =","= Lin. 51 + Lin. 52 =","= Lin. 51 + Lin. 52 ="]
[null,48,null,null,null,"Skolens samlede indbetaling til ATP",{"$f":"\"= Lin. 44 + Lin. 53 =\"","v":"= Lin. 44 + Lin. 53 ="},{"$f":"\"= Lin. 44 + Lin. 53 =\"","v":"= Lin. 44 + Lin. 53 ="},"= Lin. 44 + Lin. 53 =","= Lin. 44 + Lin. 53 =","= Lin. 44 + Lin. 53 =","= Lin. 44 + Lin. 53 =","= Lin. 44 + Lin. 53 =","= Lin. 44 + Lin. 53 =","= Lin. 44 + Lin. 53 =","= Lin. 44 + Lin. 53 =","= Lin. 44 + Lin. 53 =","= Lin. 44 + Lin. 53 =",{"$f":"\"= Lin. 44 + Lin. 53 =\"","v":"= Lin. 44 + Lin. 53 ="},"= Lin. 44 + Lin. 53 =","= Lin. 44 + Lin. 53 =","= Lin. 44 + Lin. 53 =","= Lin. 44 + Lin. 53 =","= Lin. 44 + Lin. 53 =","= Lin. 44 + Lin. 53 =","= Lin. 44 + Lin. 53 =","= Lin. 44 + Lin. 53 =","= Lin. 44 + Lin. 53 =","= Lin. 44 + Lin. 53 =","= Lin. 44 + Lin. 53 ="]
[null,49,null,null,null,"Indbetaling til Gruppeliv"]
[null,50,null,null,null,"Løn til den ansattes disposition",{"$f":"\"= \"&G70&\" - ( \"&G91&\" + \"&G86&\" + \"&G88&\" + \"&G99&\") - SUM(lin 57 : 59) =\"","v":"= 0 - ( 0 + 0 + 0 + 0) - SUM(lin 57 : 59) ="},{"$f":"\"= \"&H70&\" - ( \"&H91&\" + \"&H86&\" + \"&H88&\" + \"&H99&\") - SUM(lin 57 : 59) =\"","v":"= 0 - ( 0 + 0 + 0 + 0) - SUM(lin 57 : 59) ="},"= 0 - ( 0 + 0 + 0 + 0) - SUM(lin 57 : 59) =","= 0 - ( 0 + 0 + 0 + 0) - SUM(lin 57 : 59) =","= 0 - ( 0 + 0 + 0 + 0) - SUM(lin 57 : 59) =","= 0 - ( 0 + 0 + 0 + 0) - SUM(lin 57 : 59) =","= 0 - ( 0 + 0 + 0 + 0) - SUM(lin 57 : 59) =","= 0 - ( 0 + 0 + 0 + 0) - SUM(lin 57 : 59) =","= 0 - ( 0 + 0 + 0 + 0) - SUM(lin 57 : 59) =","= 0 - ( 0 + 0 + 0 + 0) - SUM(lin 57 : 59) =","= 0 - ( 0 + 0 + 0 + 0) - SUM(lin 57 : 59) =","= 0 - ( 0 + 0 + 0 + 0) - SUM(lin 57 : 59) =",{"$f":"\"= \"&S70&\" - ( \"&S91&\" + \"&S86&\" + \"&S88&\" + \"&S99&\") - SUM(lin 57 : 59) =\"","v":"= 0 - ( 0 + 0 + 0 + 0) - SUM(lin 57 : 59) ="},{"$f":"\"= \"&T70&\" - ( \"&T91&\" + \"&T86&\" + \"&T88&\" + \"&T99&\") - SUM(lin 57 : 59) =\"","v":"= 0 - ( 0 + 0 + 0 + 0) - SUM(lin 57 : 59) ="},"= 0 - ( 0 + 0 + 0 + 0) - SUM(lin 57 : 59) =","= 0 - ( 0 + 0 + 0 + 0) - SUM(lin 57 : 59) =","= 0 - ( 0 + 0 + 0 + 0) - SUM(lin 57 : 59) =","= 0 - ( 0 + 0 + 0 + 0) - SUM(lin 57 : 59) =","= 0 - ( 0 + 0 + 0 + 0) - SUM(lin 57 : 59) =","= 0 - ( 0 + 0 + 0 + 0) - SUM(lin 57 : 59) =","= 0 - ( 0 + 0 + 0 + 0) - SUM(lin 57 : 59) =","= 0 - ( 0 + 0 + 0 + 0) - SUM(lin 57 : 59) =","= 0 - ( 0 + 0 + 0 + 0) - SUM(lin 57 : 59) =","= 0 - ( 0 + 0 + 0 + 0) - SUM(lin 57 : 59) ="]
[null,51,null,null,null,{"$f":"\"Feriepengeberegningsgrundlag, jan-dec \"&Aar","v":"Feriepengeberegningsgrundlag, jan-dec "}]
[null,null,null,null,null,{"$f":"\"Feriepengeberegningsgrundlag, jan-jul \"&Aar+1","v":"Feriepengeberegningsgrundlag, jan-jul 1"}]

{"sheet":"Grundlon12","index":18,"n_rows":108,"n_cols":7,"rows_kept":108,"cut":false,"hidden":false,"merged":[[91,1,91,4],[100,1,100,4]]}
["STATENS LØNTABEL GRUNDBELØB PR. 31. marts 2012"]
["Skalatrin",null,null,"Stedtillægsområde"]
[null,"II","III","IV","V","VI","Pensionsg.løn"]
[1,184817,188265,190650,194098,196484,171917.38]
[2,187655,191187,193632,197161,199607,174577.34]
[3,190571,194187,196692,200308,202814,177309.48]
[4,193567,197274,199840,203545,206110,180117.41]
[5,196645,200442,203072,206869,209497,183001.14]
[6,199810,203700,206395,210285,212978,185966.06]
[7,203058,207045,209805,213792,216551,189010.4]
[8,206396,210482,213311,217397,220226,192139.54]
[9,209829,214015,216916,221102,224002,195355.31]
[10,213353,217646,220617,224909,227882,198659.5]
[11,216134,220533,223579,227978,231023,202053.93]
[12,219855,224365,227489,231997,235119,205542.18]
[13,223681,228304,231504,236129,239328,209126.09]
[14,227611,232351,235632,240371,243652,212809.24]
[15,231649,236507,239870,244730,248094,216591.65]
[16,234743,239725,243175,248156,251606,220480.52]
[17,239005,244114,247651,252759,256294,224474.06]
[18,243387,248626,252252,257490,261115,228579.5]
[19,246657,252029,255746,261119,264839,232796.81]
[20,250053,255560,259374,264882,268694,237129.61]
[21,254192,259841,263752,269401,273312,241583.32]
[22,258027,263676,267587,273236,277147,246033.33]
[23,262137,267629,271434,276928,280730,250472.55]
[24,266372,271710,275406,280745,284441,255037.97]
[25,270701,275873,279454,284626,288206,259721.7]
[26,275131,280123,283580,288573,292029,264528.59000000003]
[27,279656,284456,287782,292583,295908,269459.90000000002]
[28,284283,288881,292064,296661,299845,274522.23]
[29,289014,293394,296427,300807,303839,279714.99]
[30,293853,298001,300872,305018,307890,285044.74]
[31,298795,302696,305398,309299,312000,290512.64000000001]
[32,303852,307490,310009,313649,316167,296125.21000000002]
[33,309016,312375,314703,318063,320390,301881.8]
[34,314298,317363,319485,322548,324670,307790.62]
[35,319697,322450,324354,327107,329011,313854.56]
[36,325214,327634,329310,331731,333406,320074.68]
[37,330853,332923,334355,336425,337859,326457.34000000003]
[38,336808,338540,339739,341471,342672,333128.88]
[39,342821,344156,345080,346413,347337,339989.41]
[40,348966,349878,350510,351422,352054,347027.46]
[41,355245,355712,356037,356505,356828,354249.23]
[42,361660,361660,361660,361660,361660,361659.2]
[43,369689,369689,369689,369689,369689,369688.53]
[44,377937,377937,377937,377937,377937,377937.3]
[45,386414,386414,386414,386414,386414,386414.29]
[46,395125,395125,395125,395125,395125,395124.74]
[47,413269,413269,413269,413269,413269,413268.87]
[48,441027,441027,441027,441027,441027,441025.75]
[49,471781,471781,471781,471781,471781,471780.9]
[50,521094,521094,521094,521094,521094,521094.47]
[51,592911,592911,592911,592911,592911,592911.94999999995]
[52,650993,650993,650993,650993,650993,650993.51]
[53,728408,728408,728408,728408,728408,728409.39]
[54,821385,821385,821385,821385,821385,821385.31]
[55,925652,925652,925652,925652,925652,925652.26]
["HK1",272040,272040,272040,272040,272040,272040]
["HK2",303600,303600,303600,303600,303600,303600]
["HK3",335040,335040,335040,335040,335040,335040]
["HK4",352800,{"$f":"B62","v":352800},{"$f":"C62","v":352800},352800,352800,352800]
["Læ1",279695,279695,279695,279695,279695,279695]
["Læ2",298044,298044,298044,298044,298044,298044]
["Læ3",325699,325699,325699,325699,325699,325699]
["Læ4",351388,351388,351388,351388,351388,351388]
["Bh1",266588,266588,266588,266588,266588,266588]
["Bh2",279695,279695,279695,279695,279695,279695]
["Bh3",290311,290311,290311,290311,290311,290311]
["Bh4",309054,309054,309054,309054,309054,309054]
[]
["Områdetillæg",null,"ikke reguleret-  ikke pensionsgivende"]
[null,null,null,"Stedtillægsområde"]
["Basistrin","II","III","IV","V","VI"]
["Læ1",0,3900,6900,10800,13800]
["Læ2",0,3300,5700,9000,11400]
["Læ3",0,2100,3900,6000,7500]
["Læ4",0,2100,3900,6000,7500]
["Bh1",0,4500,7500,12000,15000]
["Bh2",0,3900,6900,10800,13800]
["Bh3",0,3600,6300,9900,12600]
["Bh4",0,3600,6300,9900,12600]
[]
[]
[null,{"$f":"B76/B64","v":0},{"$f":"C76/C64","v":1.1072190683254822E-2},{"$f":"D76/D64","v":1.9124692998349235E-2},{"$f":"E76/E64","v":3.0196883681604059E-2},{"$f":"F76/F64","v":3.8249385996698471E-2}]
[null,0,1.5,2.5,4,5]
[]
["Basislønsatserne er rettet til pr. 1. okt 2006 og igen 30. maj 2013"]
[]
["Midlertidigt områdetillæg 2007:"]
[]
["årligt","Stedtillægsområde",null,null,null,null,"JubGrat"]
["Basistrin","II til III","III til IV","IV til V","V til VI",null,6000]
["Læ1",{"$f":"(C75-B75)/3","v":1300},1000,1300,1000,null,7600]
["Læ2",1100,800,1100,800,null,9000]
["Læ3",{"$f":"(C79-B79)/3","v":1500},1000,1500,1000,null,0]
["Bh1",1300,1000,1300,1000]
["Bh2",1200,900,1200,900]
["Bh3",1200,900,1200,900]
[]
["månedligt","Stedtillægsområde"]
["Basistrin","II til III","III til IV","IV til V","V til VI"]
["Læ1",{"$f":"B94/12","v":108.33333333333333},83.333333333333329,108.33333333333333,83.333333333333329]
["Læ2",91.666666666666671,66.666666666666671,91.666666666666671,66.666666666666671]
["Læ3",125,83.333333333333329,125,83.333333333333329]
["Bh1",108.33333333333333,83.333333333333329,108.33333333333333,83.333333333333329]
["Bh2",100,75,100,75]
["Bh3",100,75,100,75]